{"text_format":"1","workbook":"xlsx","n_sheets":12,"sheets":["Inicio","Matemática","Lenguaje","Sociales","Ciencias","Resultados MAT","Resultados LL","Resultados CCNN","Resultados ES","Generador V_2","Generador","Herramientas"],"not_rendered":{"charts":4,"images":4,"macros":1,"external_links":0,"defined_names":0,"comments":0,"pivot_tables":0},"unopened":[],"bounds":{"document_bytes":16777216,"sheet_cells":100000,"rows_first":2000,"rows_last":500,"rows_between":2000,"halvings":0,"cell_chars":16384,"cell_head_chars":4096},"cells_cut":0,"cells_raw":0,"read":"whole","date_system":"1900"}

{"sheet":"Inicio","index":0,"n_rows":0,"n_cols":0,"rows_kept":0,"cut":false,"hidden":false,"merged":[]}

{"sheet":"Matemática","index":1,"n_rows":57,"n_cols":115,"rows_kept":57,"cut":false,"hidden":false,"merged":[[13,90,13,92],[13,93,13,95],[13,96,13,98],[13,99,13,101],[0,0,0,27],[12,1,12,2],[3,3,3,27],[1,3,1,27],[2,3,2,27],[5,3,5,27],[2,0,2,2],[3,0,3,2],[5,0,6,0],[5,1,6,2],[7,1,7,2],[8,1,8,2],[9,1,9,2],[10,1,10,2],[11,1,11,2],[17,1,17,2],[18,1,18,2],[31,1,31,2],[25,1,25,2],[33,1,33,2],[26,1,26,2],[27,1,27,2],[28,1,28,2],[29,1,29,2],[42,1,42,2],[35,1,35,2],[36,1,36,2],[37,1,37,2],[40,1,40,2],[41,1,41,2],[4,0,4,27],[38,1,38,2],[32,1,32,2],[30,1,30,2],[39,1,39,2],[34,1,34,2],[13,1,13,2],[14,1,14,2],[15,1,15,2],[16,1,16,2],[19,1,19,2],[20,1,20,2],[21,1,21,2],[22,1,22,2],[23,1,23,2],[24,1,24,2],[53,1,53,2],[54,1,54,2],[55,1,55,2],[56,1,56,2],[48,1,48,2],[49,1,49,2],[50,1,50,2],[51,1,51,2],[52,1,52,2],[43,1,43,2],[44,1,44,2],[45,1,45,2],[46,1,46,2],[47,1,47,2]]}
["Hoja de registro de respuestas de Matemática"]
["Grado","5.°"]
["Código de infraestructura",null,null,20556]
["Nombre de Institución",null,null,{"$f":"IFERROR((VLOOKUP(D3,Herramientas!$S$3:$T$5816,2,0)),\"CÓDIGO NO ENCONTRADO\")","v":"CÓDIGO NO ENCONTRADO"}]
[]
["N.°","Nombre",null,"Preguntas",null,null,null,null,null,null,null,null,null,null,null,null,null,null,null,null,null,null,null,null,null,null,null,null,null,null,null,null,null,null,null,null,null,null,null,null,null,null,null,null,null,null,null,null,null,null,null,null,null,null,null,null,null,null,null,null,null,null,null,null,null,null,null,null,null,null,null,null,null,null,null,null,null,null,null,null,null,null,null,null,null,"Aciertos","Fallos","Participan",null,"ítem",1,2,3,4,5,6,7,8,9,10,11,12,13,14,15,16,17,18,19,20,21,22,23,24,25]
[null,null,null,1,2,3,4,5,6,7,8,9,10,11,12,13,14,15,16,17,18,19,20,21,22,23,24,25,null,"IT1","IT2","IT3","IT4","IT5","IT6","IT7","IT8","IT9","IT10","IT11","IT12","IT13","IT14","IT15","IT16","IT17","IT18","IT19","IT20","IT21","IT22","IT23","IT24","IT25",null,"IT1","IT2","IT3","IT4","IT5","IT6","IT7","IT8","IT9","IT10","IT11","IT12","IT13","IT14","IT15","IT16","IT17","IT18","IT19","IT20","IT21","IT22","IT23","IT24","IT25",null,"Aciertos","Nota",null,"SUMIT1",{"$f":"SUM(BD$8:BD$57)","v":0},{"$f":"COUNTIF(BD8:BD57,0)","v":0},{"$f":"SUM(CH7:CI7)","v":0},null,"a",{"$f":"COUNTIF(D8:D107,\"A\")","v":0},{"$f":"COUNTIF(E8:E107,\"A\")","v":0},{"$f":"COUNTIF(F8:F107,\"A\")","v":0},0,0,0,0,0,0,0,0,0,0,0,0,0,0,0,0,0,0,0,0,0,0]
[1,null,null,null,null,null,null,null,null,null,null,null,null,null,null,null,null,null,null,null,null,null,null,null,null,null,null,null,null,{"$f":"CONCATENATE($B$2,\"-\",D$7)","v":"5.°-1"},{"$f":"CONCATENATE($B$2,\"-\",E$7)","v":"5.°-2"},{"$f":"CONCATENATE($B$2,\"-\",F$7)","v":"5.°-3"},"5.°-4","5.°-5","5.°-6","5.°-7","5.°-8","5.°-9","5.°-10","5.°-11","5.°-12","5.°-13","5.°-14","5.°-15","5.°-16","5.°-17","5.°-18","5.°-19","5.°-20","5.°-21","5.°-22","5.°-23","5.°-24","5.°-25",null,{"$f":"IFERROR(IF(D8=\"\",\"\",IF((VLOOKUP(AD8,Herramientas!$D$3:$E$227,2,0))=D8,1,0)),\"\")","v":""},{"$f":"IFERROR(IF(E8=\"\",\"\",IF((VLOOKUP(AE8,Herramientas!$D$3:$E$227,2,0))=E8,1,0)),\"\")","v":""},{"$f":"IFERROR(IF(F8=\"\",\"\",IF((VLOOKUP(AF8,Herramientas!$D$3:$E$227,2,0))=F8,1,0)),\"\")","v":""},{"$f":"IFERROR(IF(G8=\"\",\"\",IF((VLOOKUP(AG8,Herramientas!$D$3:$E$227,2,0))=G8,1,0)),\"\")","v":""},{"$f":"IFERROR(IF(H8=\"\",\"\",IF((VLOOKUP(AH8,Herramientas!$D$3:$E$227,2,0))=H8,1,0)),\"\")","v":""},{"$f":"IFERROR(IF(I8=\"\",\"\",IF((VLOOKUP(AI8,Herramientas!$D$3:$E$227,2,0))=I8,1,0)),\"\")","v":""},{"$f":"IFERROR(IF(J8=\"\",\"\",IF((VLOOKUP(AJ8,Herramientas!$D$3:$E$227,2,0))=J8,1,0)),\"\")","v":""},{"$f":"IFERROR(IF(K8=\"\",\"\",IF((VLOOKUP(AK8,Herramientas!$D$3:$E$227,2,0))=K8,1,0)),\"\")","v":""},{"$f":"IFERROR(IF(L8=\"\",\"\",IF((VLOOKUP(AL8,Herramientas!$D$3:$E$227,2,0))=L8,1,0)),\"\")","v":""},{"$f":"IFERROR(IF(M8=\"\",\"\",IF((VLOOKUP(AM8,Herramientas!$D$3:$E$227,2,0))=M8,1,0)),\"\")","v":""},{"$f":"IFERROR(IF(N8=\"\",\"\",IF((VLOOKUP(AN8,Herramientas!$D$3:$E$227,2,0))=N8,1,0)),\"\")","v":""},{"$f":"IFERROR(IF(O8=\"\",\"\",IF((VLOOKUP(AO8,Herramientas!$D$3:$E$227,2,0))=O8,1,0)),\"\")","v":""},{"$f":"IFERROR(IF(P8=\"\",\"\",IF((VLOOKUP(AP8,Herramientas!$D$3:$E$227,2,0))=P8,1,0)),\"\")","v":""},{"$f":"IFERROR(IF(Q8=\"\",\"\",IF((VLOOKUP(AQ8,Herramientas!$D$3:$E$227,2,0))=Q8,1,0)),\"\")","v":""},{"$f":"IFERROR(IF(R8=\"\",\"\",IF((VLOOKUP(AR8,Herramientas!$D$3:$E$227,2,0))=R8,1,0)),\"\")","v":""},{"$f":"IFERROR(IF(S8=\"\",\"\",IF((VLOOKUP(AS8,Herramientas!$D$3:$E$227,2,0))=S8,1,0)),\"\")","v":""},{"$f":"IFERROR(IF(T8=\"\",\"\",IF((VLOOKUP(AT8,Herramientas!$D$3:$E$227,2,0))=T8,1,0)),\"\")","v":""},{"$f":"IFERROR(IF(U8=\"\",\"\",IF((VLOOKUP(AU8,Herramientas!$D$3:$E$227,2,0))=U8,1,0)),\"\")","v":""},{"$f":"IFERROR(IF(V8=\"\",\"\",IF((VLOOKUP(AV8,Herramientas!$D$3:$E$227,2,0))=V8,1,0)),\"\")","v":""},{"$f":"IFERROR(IF(W8=\"\",\"\",IF((VLOOKUP(AW8,Herramientas!$D$3:$E$227,2,0))=W8,1,0)),\"\")","v":""},{"$f":"IFERROR(IF(X8=\"\",\"\",IF((VLOOKUP(AX8,Herramientas!$D$3:$E$227,2,0))=X8,1,0)),\"\")","v":""},{"$f":"IFERROR(IF(Y8=\"\",\"\",IF((VLOOKUP(AY8,Herramientas!$D$3:$E$227,2,0))=Y8,1,0)),\"\")","v":""},{"$f":"IFERROR(IF(Z8=\"\",\"\",IF((VLOOKUP(AZ8,Herramientas!$D$3:$E$227,2,0))=Z8,1,0)),\"\")","v":""},{"$f":"IFERROR(IF(AA8=\"\",\"\",IF((VLOOKUP(BA8,Herramientas!$D$3:$E$227,2,0))=AA8,1,0)),\"\")","v":""},{"$f":"IFERROR(IF(AB8=\"\",\"\",IF((VLOOKUP(BB8,Herramientas!$D$3:$E$227,2,0))=AB8,1,0)),\"\")","v":""},null,{"$f":"SUM(BD8:CB8)","v":0},{"$f":"CD8/25*10","v":0},null,"SUMIT2",{"$f":"SUM(BE$8:BE$57)","v":0},{"$f":"COUNTIF(BE8:BE58,0)","v":0},{"$f":"SUM(CH8:CI8)","v":0},null,"b",{"$f":"COUNTIF(D8:D107,\"B\")","v":0},{"$f":"COUNTIF(E8:E107,\"B\")","v":0},0,0,0,0,0,0,0,0,0,0,0,0,0,0,0,0,0,0,0,0,0,0,0]
[2,null,null,null,null,null,null,null,null,null,null,null,null,null,null,null,null,null,null,null,null,null,null,null,null,null,null,null,null,{"$f":"CONCATENATE($B$2,\"-\",D$7)","v":"5.°-1"},{"$f":"CONCATENATE($B$2,\"-\",E$7)","v":"5.°-2"},"5.°-3",{"$f":"CONCATENATE($B$2,\"-\",G$7)","v":"5.°-4"},{"$f":"CONCATENATE($B$2,\"-\",H$7)","v":"5.°-5"},{"$f":"CONCATENATE($B$2,\"-\",I$7)","v":"5.°-6"},{"$f":"CONCATENATE($B$2,\"-\",J$7)","v":"5.°-7"},{"$f":"CONCATENATE($B$2,\"-\",K$7)","v":"5.°-8"},{"$f":"CONCATENATE($B$2,\"-\",L$7)","v":"5.°-9"},"5.°-10","5.°-11","5.°-12","5.°-13","5.°-14","5.°-15","5.°-16","5.°-17","5.°-18","5.°-19","5.°-20","5.°-21","5.°-22","5.°-23","5.°-24","5.°-25",null,{"$f":"IFERROR(IF(D9=\"\",\"\",IF((VLOOKUP(AD9,Herramientas!$D$3:$E$227,2,0))=D9,1,0)),\"\")","v":""},{"$f":"IFERROR(IF(E9=\"\",\"\",IF((VLOOKUP(AE9,Herramientas!$D$3:$E$227,2,0))=E9,1,0)),\"\")","v":""},{"$f":"IFERROR(IF(F9=\"\",\"\",IF((VLOOKUP(AF9,Herramientas!$D$3:$E$227,2,0))=F9,1,0)),\"\")","v":""},{"$f":"IFERROR(IF(G9=\"\",\"\",IF((VLOOKUP(AG9,Herramientas!$D$3:$E$227,2,0))=G9,1,0)),\"\")","v":""},{"$f":"IFERROR(IF(H9=\"\",\"\",IF((VLOOKUP(AH9,Herramientas!$D$3:$E$227,2,0))=H9,1,0)),\"\")","v":""},{"$f":"IFERROR(IF(I9=\"\",\"\",IF((VLOOKUP(AI9,Herramientas!$D$3:$E$227,2,0))=I9,1,0)),\"\")","v":""},{"$f":"IFERROR(IF(J9=\"\",\"\",IF((VLOOKUP(AJ9,Herramientas!$D$3:$E$227,2,0))=J9,1,0)),\"\")","v":""},{"$f":"IFERROR(IF(K9=\"\",\"\",IF((VLOOKUP(AK9,Herramientas!$D$3:$E$227,2,0))=K9,1,0)),\"\")","v":""},{"$f":"IFERROR(IF(L9=\"\",\"\",IF((VLOOKUP(AL9,Herramientas!$D$3:$E$227,2,0))=L9,1,0)),\"\")","v":""},{"$f":"IFERROR(IF(M9=\"\",\"\",IF((VLOOKUP(AM9,Herramientas!$D$3:$E$227,2,0))=M9,1,0)),\"\")","v":""},{"$f":"IFERROR(IF(N9=\"\",\"\",IF((VLOOKUP(AN9,Herramientas!$D$3:$E$227,2,0))=N9,1,0)),\"\")","v":""},{"$f":"IFERROR(IF(O9=\"\",\"\",IF((VLOOKUP(AO9,Herramientas!$D$3:$E$227,2,0))=O9,1,0)),\"\")","v":""},{"$f":"IFERROR(IF(P9=\"\",\"\",IF((VLOOKUP(AP9,Herramientas!$D$3:$E$227,2,0))=P9,1,0)),\"\")","v":""},{"$f":"IFERROR(IF(Q9=\"\",\"\",IF((VLOOKUP(AQ9,Herramientas!$D$3:$E$227,2,0))=Q9,1,0)),\"\")","v":""},{"$f":"IFERROR(IF(R9=\"\",\"\",IF((VLOOKUP(AR9,Herramientas!$D$3:$E$227,2,0))=R9,1,0)),\"\")","v":""},{"$f":"IFERROR(IF(S9=\"\",\"\",IF((VLOOKUP(AS9,Herramientas!$D$3:$E$227,2,0))=S9,1,0)),\"\")","v":""},{"$f":"IFERROR(IF(T9=\"\",\"\",IF((VLOOKUP(AT9,Herramientas!$D$3:$E$227,2,0))=T9,1,0)),\"\")","v":""},{"$f":"IFERROR(IF(U9=\"\",\"\",IF((VLOOKUP(AU9,Herramientas!$D$3:$E$227,2,0))=U9,1,0)),\"\")","v":""},{"$f":"IFERROR(IF(V9=\"\",\"\",IF((VLOOKUP(AV9,Herramientas!$D$3:$E$227,2,0))=V9,1,0)),\"\")","v":""},{"$f":"IFERROR(IF(W9=\"\",\"\",IF((VLOOKUP(AW9,Herramientas!$D$3:$E$227,2,0))=W9,1,0)),\"\")","v":""},{"$f":"IFERROR(IF(X9=\"\",\"\",IF((VLOOKUP(AX9,Herramientas!$D$3:$E$227,2,0))=X9,1,0)),\"\")","v":""},{"$f":"IFERROR(IF(Y9=\"\",\"\",IF((VLOOKUP(AY9,Herramientas!$D$3:$E$227,2,0))=Y9,1,0)),\"\")","v":""},{"$f":"IFERROR(IF(Z9=\"\",\"\",IF((VLOOKUP(AZ9,Herramientas!$D$3:$E$227,2,0))=Z9,1,0)),\"\")","v":""},{"$f":"IFERROR(IF(AA9=\"\",\"\",IF((VLOOKUP(BA9,Herramientas!$D$3:$E$227,2,0))=AA9,1,0)),\"\")","v":""},{"$f":"IFERROR(IF(AB9=\"\",\"\",IF((VLOOKUP(BB9,Herramientas!$D$3:$E$227,2,0))=AB9,1,0)),\"\")","v":""},null,{"$f":"SUM(BD9:CB9)","v":0},{"$f":"CD9/25*10","v":0},null,"SUMIT3",{"$f":"SUM(BF$8:BF$57)","v":0},{"$f":"COUNTIF(BF8:BF59,0)","v":0},0,null,"c",{"$f":"COUNTIF(D8:D107,\"c\")","v":0},{"$f":"COUNTIF(E8:E107,\"c\")","v":0},0,0,0,0,0,0,0,0,0,0,0,0,0,0,0,0,0,0,0,0,0,0,0]
[3,null,null,null,null,null,null,null,null,null,null,null,null,null,null,null,null,null,null,null,null,null,null,null,null,null,null,null,null,"5.°-1","5.°-2","5.°-3","5.°-4","5.°-5","5.°-6","5.°-7","5.°-8","5.°-9","5.°-10","5.°-11","5.°-12","5.°-13","5.°-14","5.°-15","5.°-16","5.°-17","5.°-18","5.°-19","5.°-20","5.°-21","5.°-22","5.°-23","5.°-24","5.°-25",null,{"$f":"IFERROR(IF(D10=\"\",\"\",IF((VLOOKUP(AD10,Herramientas!$D$3:$E$227,2,0))=D10,1,0)),\"\")","v":""},{"$f":"IFERROR(IF(E10=\"\",\"\",IF((VLOOKUP(AE10,Herramientas!$D$3:$E$227,2,0))=E10,1,0)),\"\")","v":""},{"$f":"IFERROR(IF(F10=\"\",\"\",IF((VLOOKUP(AF10,Herramientas!$D$3:$E$227,2,0))=F10,1,0)),\"\")","v":""},{"$f":"IFERROR(IF(G10=\"\",\"\",IF((VLOOKUP(AG10,Herramientas!$D$3:$E$227,2,0))=G10,1,0)),\"\")","v":""},{"$f":"IFERROR(IF(H10=\"\",\"\",IF((VLOOKUP(AH10,Herramientas!$D$3:$E$227,2,0))=H10,1,0)),\"\")","v":""},{"$f":"IFERROR(IF(I10=\"\",\"\",IF((VLOOKUP(AI10,Herramientas!$D$3:$E$227,2,0))=I10,1,0)),\"\")","v":""},{"$f":"IFERROR(IF(J10=\"\",\"\",IF((VLOOKUP(AJ10,Herramientas!$D$3:$E$227,2,0))=J10,1,0)),\"\")","v":""},{"$f":"IFERROR(IF(K10=\"\",\"\",IF((VLOOKUP(AK10,Herramientas!$D$3:$E$227,2,0))=K10,1,0)),\"\")","v":""},{"$f":"IFERROR(IF(L10=\"\",\"\",IF((VLOOKUP(AL10,Herramientas!$D$3:$E$227,2,0))=L10,1,0)),\"\")","v":""},{"$f":"IFERROR(IF(M10=\"\",\"\",IF((VLOOKUP(AM10,Herramientas!$D$3:$E$227,2,0))=M10,1,0)),\"\")","v":""},{"$f":"IFERROR(IF(N10=\"\",\"\",IF((VLOOKUP(AN10,Herramientas!$D$3:$E$227,2,0))=N10,1,0)),\"\")","v":""},{"$f":"IFERROR(IF(O10=\"\",\"\",IF((VLOOKUP(AO10,Herramientas!$D$3:$E$227,2,0))=O10,1,0)),\"\")","v":""},{"$f":"IFERROR(IF(P10=\"\",\"\",IF((VLOOKUP(AP10,Herramientas!$D$3:$E$227,2,0))=P10,1,0)),\"\")","v":""},{"$f":"IFERROR(IF(Q10=\"\",\"\",IF((VLOOKUP(AQ10,Herramientas!$D$3:$E$227,2,0))=Q10,1,0)),\"\")","v":""},{"$f":"IFERROR(IF(R10=\"\",\"\",IF((VLOOKUP(AR10,Herramientas!$D$3:$E$227,2,0))=R10,1,0)),\"\")","v":""},{"$f":"IFERROR(IF(S10=\"\",\"\",IF((VLOOKUP(AS10,Herramientas!$D$3:$E$227,2,0))=S10,1,0)),\"\")","v":""},{"$f":"IFERROR(IF(T10=\"\",\"\",IF((VLOOKUP(AT10,Herramientas!$D$3:$E$227,2,0))=T10,1,0)),\"\")","v":""},{"$f":"IFERROR(IF(U10=\"\",\"\",IF((VLOOKUP(AU10,Herramientas!$D$3:$E$227,2,0))=U10,1,0)),\"\")","v":""},{"$f":"IFERROR(IF(V10=\"\",\"\",IF((VLOOKUP(AV10,Herramientas!$D$3:$E$227,2,0))=V10,1,0)),\"\")","v":""},{"$f":"IFERROR(IF(W10=\"\",\"\",IF((VLOOKUP(AW10,Herramientas!$D$3:$E$227,2,0))=W10,1,0)),\"\")","v":""},{"$f":"IFERROR(IF(X10=\"\",\"\",IF((VLOOKUP(AX10,Herramientas!$D$3:$E$227,2,0))=X10,1,0)),\"\")","v":""},{"$f":"IFERROR(IF(Y10=\"\",\"\",IF((VLOOKUP(AY10,Herramientas!$D$3:$E$227,2,0))=Y10,1,0)),\"\")","v":""},{"$f":"IFERROR(IF(Z10=\"\",\"\",IF((VLOOKUP(AZ10,Herramientas!$D$3:$E$227,2,0))=Z10,1,0)),\"\")","v":""},{"$f":"IFERROR(IF(AA10=\"\",\"\",IF((VLOOKUP(BA10,Herramientas!$D$3:$E$227,2,0))=AA10,1,0)),\"\")","v":""},{"$f":"IFERROR(IF(AB10=\"\",\"\",IF((VLOOKUP(BB10,Herramientas!$D$3:$E$227,2,0))=AB10,1,0)),\"\")","v":""},null,0,0,null,"SUMIT4",{"$f":"SUM(BG$8:BG$57)","v":0},{"$f":"COUNTIF(BG8:BG59,0)","v":0},0,null,"d",{"$f":"COUNTIF(D8:D107,\"d\")","v":0},{"$f":"COUNTIF(E8:E107,\"d\")","v":0},0,0,0,0,0,0,0,0,0,0,0,0,0,0,0,0,0,0,0,0,0,0,0]
[4,null,null,null,null,null,null,null,null,null,null,null,null,null,null,null,null,null,null,null,null,null,null,null,null,null,null,null,null,"5.°-1","5.°-2","5.°-3","5.°-4","5.°-5","5.°-6","5.°-7","5.°-8","5.°-9","5.°-10","5.°-11","5.°-12","5.°-13","5.°-14","5.°-15","5.°-16","5.°-17","5.°-18","5.°-19","5.°-20","5.°-21","5.°-22","5.°-23","5.°-24","5.°-25",null,{"$f":"IFERROR(IF(D11=\"\",\"\",IF((VLOOKUP(AD11,Herramientas!$D$3:$E$227,2,0))=D11,1,0)),\"\")","v":""},{"$f":"IFERROR(IF(E11=\"\",\"\",IF((VLOOKUP(AE11,Herramientas!$D$3:$E$227,2,0))=E11,1,0)),\"\")","v":""},{"$f":"IFERROR(IF(F11=\"\",\"\",IF((VLOOKUP(AF11,Herramientas!$D$3:$E$227,2,0))=F11,1,0)),\"\")","v":""},{"$f":"IFERROR(IF(G11=\"\",\"\",IF((VLOOKUP(AG11,Herramientas!$D$3:$E$227,2,0))=G11,1,0)),\"\")","v":""},{"$f":"IFERROR(IF(H11=\"\",\"\",IF((VLOOKUP(AH11,Herramientas!$D$3:$E$227,2,0))=H11,1,0)),\"\")","v":""},{"$f":"IFERROR(IF(I11=\"\",\"\",IF((VLOOKUP(AI11,Herramientas!$D$3:$E$227,2,0))=I11,1,0)),\"\")","v":""},{"$f":"IFERROR(IF(J11=\"\",\"\",IF((VLOOKUP(AJ11,Herramientas!$D$3:$E$227,2,0))=J11,1,0)),\"\")","v":""},{"$f":"IFERROR(IF(K11=\"\",\"\",IF((VLOOKUP(AK11,Herramientas!$D$3:$E$227,2,0))=K11,1,0)),\"\")","v":""},{"$f":"IFERROR(IF(L11=\"\",\"\",IF((VLOOKUP(AL11,Herramientas!$D$3:$E$227,2,0))=L11,1,0)),\"\")","v":""},{"$f":"IFERROR(IF(M11=\"\",\"\",IF((VLOOKUP(AM11,Herramientas!$D$3:$E$227,2,0))=M11,1,0)),\"\")","v":""},{"$f":"IFERROR(IF(N11=\"\",\"\",IF((VLOOKUP(AN11,Herramientas!$D$3:$E$227,2,0))=N11,1,0)),\"\")","v":""},{"$f":"IFERROR(IF(O11=\"\",\"\",IF((VLOOKUP(AO11,Herramientas!$D$3:$E$227,2,0))=O11,1,0)),\"\")","v":""},{"$f":"IFERROR(IF(P11=\"\",\"\",IF((VLOOKUP(AP11,Herramientas!$D$3:$E$227,2,0))=P11,1,0)),\"\")","v":""},{"$f":"IFERROR(IF(Q11=\"\",\"\",IF((VLOOKUP(AQ11,Herramientas!$D$3:$E$227,2,0))=Q11,1,0)),\"\")","v":""},{"$f":"IFERROR(IF(R11=\"\",\"\",IF((VLOOKUP(AR11,Herramientas!$D$3:$E$227,2,0))=R11,1,0)),\"\")","v":""},{"$f":"IFERROR(IF(S11=\"\",\"\",IF((VLOOKUP(AS11,Herramientas!$D$3:$E$227,2,0))=S11,1,0)),\"\")","v":""},{"$f":"IFERROR(IF(T11=\"\",\"\",IF((VLOOKUP(AT11,Herramientas!$D$3:$E$227,2,0))=T11,1,0)),\"\")","v":""},{"$f":"IFERROR(IF(U11=\"\",\"\",IF((VLOOKUP(AU11,Herramientas!$D$3:$E$227,2,0))=U11,1,0)),\"\")","v":""},{"$f":"IFERROR(IF(V11=\"\",\"\",IF((VLOOKUP(AV11,Herramientas!$D$3:$E$227,2,0))=V11,1,0)),\"\")","v":""},{"$f":"IFERROR(IF(W11=\"\",\"\",IF((VLOOKUP(AW11,Herramientas!$D$3:$E$227,2,0))=W11,1,0)),\"\")","v":""},{"$f":"IFERROR(IF(X11=\"\",\"\",IF((VLOOKUP(AX11,Herramientas!$D$3:$E$227,2,0))=X11,1,0)),\"\")","v":""},{"$f":"IFERROR(IF(Y11=\"\",\"\",IF((VLOOKUP(AY11,Herramientas!$D$3:$E$227,2,0))=Y11,1,0)),\"\")","v":""},{"$f":"IFERROR(IF(Z11=\"\",\"\",IF((VLOOKUP(AZ11,Herramientas!$D$3:$E$227,2,0))=Z11,1,0)),\"\")","v":""},{"$f":"IFERROR(IF(AA11=\"\",\"\",IF((VLOOKUP(BA11,Herramientas!$D$3:$E$227,2,0))=AA11,1,0)),\"\")","v":""},{"$f":"IFERROR(IF(AB11=\"\",\"\",IF((VLOOKUP(BB11,Herramientas!$D$3:$E$227,2,0))=AB11,1,0)),\"\")","v":""},null,0,0,null,"SUMIT5",{"$f":"SUM(BH$8:BH$57)","v":0},{"$f":"COUNTIF(BH8:BH60,0)","v":0},0]
[5,null,null,null,null,null,null,null,null,null,null,null,null,null,null,null,null,null,null,null,null,null,null,null,null,null,null,null,null,"5.°-1","5.°-2","5.°-3","5.°-4","5.°-5","5.°-6","5.°-7","5.°-8","5.°-9","5.°-10","5.°-11","5.°-12","5.°-13","5.°-14","5.°-15","5.°-16","5.°-17","5.°-18","5.°-19","5.°-20","5.°-21","5.°-22","5.°-23","5.°-24","5.°-25",null,{"$f":"IFERROR(IF(D12=\"\",\"\",IF((VLOOKUP(AD12,Herramientas!$D$3:$E$227,2,0))=D12,1,0)),\"\")","v":""},{"$f":"IFERROR(IF(E12=\"\",\"\",IF((VLOOKUP(AE12,Herramientas!$D$3:$E$227,2,0))=E12,1,0)),\"\")","v":""},{"$f":"IFERROR(IF(F12=\"\",\"\",IF((VLOOKUP(AF12,Herramientas!$D$3:$E$227,2,0))=F12,1,0)),\"\")","v":""},{"$f":"IFERROR(IF(G12=\"\",\"\",IF((VLOOKUP(AG12,Herramientas!$D$3:$E$227,2,0))=G12,1,0)),\"\")","v":""},{"$f":"IFERROR(IF(H12=\"\",\"\",IF((VLOOKUP(AH12,Herramientas!$D$3:$E$227,2,0))=H12,1,0)),\"\")","v":""},{"$f":"IFERROR(IF(I12=\"\",\"\",IF((VLOOKUP(AI12,Herramientas!$D$3:$E$227,2,0))=I12,1,0)),\"\")","v":""},{"$f":"IFERROR(IF(J12=\"\",\"\",IF((VLOOKUP(AJ12,Herramientas!$D$3:$E$227,2,0))=J12,1,0)),\"\")","v":""},{"$f":"IFERROR(IF(K12=\"\",\"\",IF((VLOOKUP(AK12,Herramientas!$D$3:$E$227,2,0))=K12,1,0)),\"\")","v":""},{"$f":"IFERROR(IF(L12=\"\",\"\",IF((VLOOKUP(AL12,Herramientas!$D$3:$E$227,2,0))=L12,1,0)),\"\")","v":""},{"$f":"IFERROR(IF(M12=\"\",\"\",IF((VLOOKUP(AM12,Herramientas!$D$3:$E$227,2,0))=M12,1,0)),\"\")","v":""},{"$f":"IFERROR(IF(N12=\"\",\"\",IF((VLOOKUP(AN12,Herramientas!$D$3:$E$227,2,0))=N12,1,0)),\"\")","v":""},{"$f":"IFERROR(IF(O12=\"\",\"\",IF((VLOOKUP(AO12,Herramientas!$D$3:$E$227,2,0))=O12,1,0)),\"\")","v":""},{"$f":"IFERROR(IF(P12=\"\",\"\",IF((VLOOKUP(AP12,Herramientas!$D$3:$E$227,2,0))=P12,1,0)),\"\")","v":""},{"$f":"IFERROR(IF(Q12=\"\",\"\",IF((VLOOKUP(AQ12,Herramientas!$D$3:$E$227,2,0))=Q12,1,0)),\"\")","v":""},{"$f":"IFERROR(IF(R12=\"\",\"\",IF((VLOOKUP(AR12,Herramientas!$D$3:$E$227,2,0))=R12,1,0)),\"\")","v":""},{"$f":"IFERROR(IF(S12=\"\",\"\",IF((VLOOKUP(AS12,Herramientas!$D$3:$E$227,2,0))=S12,1,0)),\"\")","v":""},{"$f":"IFERROR(IF(T12=\"\",\"\",IF((VLOOKUP(AT12,Herramientas!$D$3:$E$227,2,0))=T12,1,0)),\"\")","v":""},{"$f":"IFERROR(IF(U12=\"\",\"\",IF((VLOOKUP(AU12,Herramientas!$D$3:$E$227,2,0))=U12,1,0)),\"\")","v":""},{"$f":"IFERROR(IF(V12=\"\",\"\",IF((VLOOKUP(AV12,Herramientas!$D$3:$E$227,2,0))=V12,1,0)),\"\")","v":""},{"$f":"IFERROR(IF(W12=\"\",\"\",IF((VLOOKUP(AW12,Herramientas!$D$3:$E$227,2,0))=W12,1,0)),\"\")","v":""},{"$f":"IFERROR(IF(X12=\"\",\"\",IF((VLOOKUP(AX12,Herramientas!$D$3:$E$227,2,0))=X12,1,0)),\"\")","v":""},{"$f":"IFERROR(IF(Y12=\"\",\"\",IF((VLOOKUP(AY12,Herramientas!$D$3:$E$227,2,0))=Y12,1,0)),\"\")","v":""},{"$f":"IFERROR(IF(Z12=\"\",\"\",IF((VLOOKUP(AZ12,Herramientas!$D$3:$E$227,2,0))=Z12,1,0)),\"\")","v":""},{"$f":"IFERROR(IF(AA12=\"\",\"\",IF((VLOOKUP(BA12,Herramientas!$D$3:$E$227,2,0))=AA12,1,0)),\"\")","v":""},{"$f":"IFERROR(IF(AB12=\"\",\"\",IF((VLOOKUP(BB12,Herramientas!$D$3:$E$227,2,0))=AB12,1,0)),\"\")","v":""},null,0,0,null,"SUMIT6",{"$f":"SUM(BI$8:BI$57)","v":0},{"$f":"COUNTIF(BI$8:BI$57,0)","v":0},0,null,null,{"$f":"SUM(CM7:CM10)","v":0},{"$f":"SUM(CN7:CN10)","v":0},0,0,0,0,0,0,0,0,0,0,0,0,0,0,0,0,0,0,0,0,0,0,0]
[6,null,null,null,null,null,null,null,null,null,null,null,null,null,null,null,null,null,null,null,null,null,null,null,null,null,null,null,null,"5.°-1","5.°-2","5.°-3","5.°-4","5.°-5","5.°-6","5.°-7","5.°-8","5.°-9","5.°-10","5.°-11","5.°-12","5.°-13","5.°-14","5.°-15","5.°-16","5.°-17","5.°-18","5.°-19","5.°-20","5.°-21","5.°-22","5.°-23","5.°-24","5.°-25",null,{"$f":"IFERROR(IF(D13=\"\",\"\",IF((VLOOKUP(AD13,Herramientas!$D$3:$E$227,2,0))=D13,1,0)),\"\")","v":""},{"$f":"IFERROR(IF(E13=\"\",\"\",IF((VLOOKUP(AE13,Herramientas!$D$3:$E$227,2,0))=E13,1,0)),\"\")","v":""},{"$f":"IFERROR(IF(F13=\"\",\"\",IF((VLOOKUP(AF13,Herramientas!$D$3:$E$227,2,0))=F13,1,0)),\"\")","v":""},{"$f":"IFERROR(IF(G13=\"\",\"\",IF((VLOOKUP(AG13,Herramientas!$D$3:$E$227,2,0))=G13,1,0)),\"\")","v":""},{"$f":"IFERROR(IF(H13=\"\",\"\",IF((VLOOKUP(AH13,Herramientas!$D$3:$E$227,2,0))=H13,1,0)),\"\")","v":""},{"$f":"IFERROR(IF(I13=\"\",\"\",IF((VLOOKUP(AI13,Herramientas!$D$3:$E$227,2,0))=I13,1,0)),\"\")","v":""},{"$f":"IFERROR(IF(J13=\"\",\"\",IF((VLOOKUP(AJ13,Herramientas!$D$3:$E$227,2,0))=J13,1,0)),\"\")","v":""},{"$f":"IFERROR(IF(K13=\"\",\"\",IF((VLOOKUP(AK13,Herramientas!$D$3:$E$227,2,0))=K13,1,0)),\"\")","v":""},{"$f":"IFERROR(IF(L13=\"\",\"\",IF((VLOOKUP(AL13,Herramientas!$D$3:$E$227,2,0))=L13,1,0)),\"\")","v":""},{"$f":"IFERROR(IF(M13=\"\",\"\",IF((VLOOKUP(AM13,Herramientas!$D$3:$E$227,2,0))=M13,1,0)),\"\")","v":""},{"$f":"IFERROR(IF(N13=\"\",\"\",IF((VLOOKUP(AN13,Herramientas!$D$3:$E$227,2,0))=N13,1,0)),\"\")","v":""},{"$f":"IFERROR(IF(O13=\"\",\"\",IF((VLOOKUP(AO13,Herramientas!$D$3:$E$227,2,0))=O13,1,0)),\"\")","v":""},{"$f":"IFERROR(IF(P13=\"\",\"\",IF((VLOOKUP(AP13,Herramientas!$D$3:$E$227,2,0))=P13,1,0)),\"\")","v":""},{"$f":"IFERROR(IF(Q13=\"\",\"\",IF((VLOOKUP(AQ13,Herramientas!$D$3:$E$227,2,0))=Q13,1,0)),\"\")","v":""},{"$f":"IFERROR(IF(R13=\"\",\"\",IF((VLOOKUP(AR13,Herramientas!$D$3:$E$227,2,0))=R13,1,0)),\"\")","v":""},{"$f":"IFERROR(IF(S13=\"\",\"\",IF((VLOOKUP(AS13,Herramientas!$D$3:$E$227,2,0))=S13,1,0)),\"\")","v":""},{"$f":"IFERROR(IF(T13=\"\",\"\",IF((VLOOKUP(AT13,Herramientas!$D$3:$E$227,2,0))=T13,1,0)),\"\")","v":""},{"$f":"IFERROR(IF(U13=\"\",\"\",IF((VLOOKUP(AU13,Herramientas!$D$3:$E$227,2,0))=U13,1,0)),\"\")","v":""},{"$f":"IFERROR(IF(V13=\"\",\"\",IF((VLOOKUP(AV13,Herramientas!$D$3:$E$227,2,0))=V13,1,0)),\"\")","v":""},{"$f":"IFERROR(IF(W13=\"\",\"\",IF((VLOOKUP(AW13,Herramientas!$D$3:$E$227,2,0))=W13,1,0)),\"\")","v":""},{"$f":"IFERROR(IF(X13=\"\",\"\",IF((VLOOKUP(AX13,Herramientas!$D$3:$E$227,2,0))=X13,1,0)),\"\")","v":""},{"$f":"IFERROR(IF(Y13=\"\",\"\",IF((VLOOKUP(AY13,Herramientas!$D$3:$E$227,2,0))=Y13,1,0)),\"\")","v":""},{"$f":"IFERROR(IF(Z13=\"\",\"\",IF((VLOOKUP(AZ13,Herramientas!$D$3:$E$227,2,0))=Z13,1,0)),\"\")","v":""},{"$f":"IFERROR(IF(AA13=\"\",\"\",IF((VLOOKUP(BA13,Herramientas!$D$3:$E$227,2,0))=AA13,1,0)),\"\")","v":""},{"$f":"IFERROR(IF(AB13=\"\",\"\",IF((VLOOKUP(BB13,Herramientas!$D$3:$E$227,2,0))=AB13,1,0)),\"\")","v":""},null,0,0,null,"SUMIT7",{"$f":"SUM(BJ$8:BJ$57)","v":0},{"$f":"COUNTIF(BJ$8:BJ$57,0)","v":0},0]
[7,null,null,null,null,null,null,null,null,null,null,null,null,null,null,null,null,null,null,null,null,null,null,null,null,null,null,null,null,"5.°-1","5.°-2","5.°-3","5.°-4","5.°-5","5.°-6","5.°-7","5.°-8","5.°-9","5.°-10","5.°-11","5.°-12","5.°-13","5.°-14","5.°-15","5.°-16","5.°-17","5.°-18","5.°-19","5.°-20","5.°-21","5.°-22","5.°-23","5.°-24","5.°-25",null,{"$f":"IFERROR(IF(D14=\"\",\"\",IF((VLOOKUP(AD14,Herramientas!$D$3:$E$227,2,0))=D14,1,0)),\"\")","v":""},{"$f":"IFERROR(IF(E14=\"\",\"\",IF((VLOOKUP(AE14,Herramientas!$D$3:$E$227,2,0))=E14,1,0)),\"\")","v":""},{"$f":"IFERROR(IF(F14=\"\",\"\",IF((VLOOKUP(AF14,Herramientas!$D$3:$E$227,2,0))=F14,1,0)),\"\")","v":""},{"$f":"IFERROR(IF(G14=\"\",\"\",IF((VLOOKUP(AG14,Herramientas!$D$3:$E$227,2,0))=G14,1,0)),\"\")","v":""},{"$f":"IFERROR(IF(H14=\"\",\"\",IF((VLOOKUP(AH14,Herramientas!$D$3:$E$227,2,0))=H14,1,0)),\"\")","v":""},{"$f":"IFERROR(IF(I14=\"\",\"\",IF((VLOOKUP(AI14,Herramientas!$D$3:$E$227,2,0))=I14,1,0)),\"\")","v":""},{"$f":"IFERROR(IF(J14=\"\",\"\",IF((VLOOKUP(AJ14,Herramientas!$D$3:$E$227,2,0))=J14,1,0)),\"\")","v":""},{"$f":"IFERROR(IF(K14=\"\",\"\",IF((VLOOKUP(AK14,Herramientas!$D$3:$E$227,2,0))=K14,1,0)),\"\")","v":""},{"$f":"IFERROR(IF(L14=\"\",\"\",IF((VLOOKUP(AL14,Herramientas!$D$3:$E$227,2,0))=L14,1,0)),\"\")","v":""},{"$f":"IFERROR(IF(M14=\"\",\"\",IF((VLOOKUP(AM14,Herramientas!$D$3:$E$227,2,0))=M14,1,0)),\"\")","v":""},{"$f":"IFERROR(IF(N14=\"\",\"\",IF((VLOOKUP(AN14,Herramientas!$D$3:$E$227,2,0))=N14,1,0)),\"\")","v":""},{"$f":"IFERROR(IF(O14=\"\",\"\",IF((VLOOKUP(AO14,Herramientas!$D$3:$E$227,2,0))=O14,1,0)),\"\")","v":""},{"$f":"IFERROR(IF(P14=\"\",\"\",IF((VLOOKUP(AP14,Herramientas!$D$3:$E$227,2,0))=P14,1,0)),\"\")","v":""},{"$f":"IFERROR(IF(Q14=\"\",\"\",IF((VLOOKUP(AQ14,Herramientas!$D$3:$E$227,2,0))=Q14,1,0)),\"\")","v":""},{"$f":"IFERROR(IF(R14=\"\",\"\",IF((VLOOKUP(AR14,Herramientas!$D$3:$E$227,2,0))=R14,1,0)),\"\")","v":""},{"$f":"IFERROR(IF(S14=\"\",\"\",IF((VLOOKUP(AS14,Herramientas!$D$3:$E$227,2,0))=S14,1,0)),\"\")","v":""},{"$f":"IFERROR(IF(T14=\"\",\"\",IF((VLOOKUP(AT14,Herramientas!$D$3:$E$227,2,0))=T14,1,0)),\"\")","v":""},{"$f":"IFERROR(IF(U14=\"\",\"\",IF((VLOOKUP(AU14,Herramientas!$D$3:$E$227,2,0))=U14,1,0)),\"\")","v":""},{"$f":"IFERROR(IF(V14=\"\",\"\",IF((VLOOKUP(AV14,Herramientas!$D$3:$E$227,2,0))=V14,1,0)),\"\")","v":""},{"$f":"IFERROR(IF(W14=\"\",\"\",IF((VLOOKUP(AW14,Herramientas!$D$3:$E$227,2,0))=W14,1,0)),\"\")","v":""},{"$f":"IFERROR(IF(X14=\"\",\"\",IF((VLOOKUP(AX14,Herramientas!$D$3:$E$227,2,0))=X14,1,0)),\"\")","v":""},{"$f":"IFERROR(IF(Y14=\"\",\"\",IF((VLOOKUP(AY14,Herramientas!$D$3:$E$227,2,0))=Y14,1,0)),\"\")","v":""},{"$f":"IFERROR(IF(Z14=\"\",\"\",IF((VLOOKUP(AZ14,Herramientas!$D$3:$E$227,2,0))=Z14,1,0)),\"\")","v":""},{"$f":"IFERROR(IF(AA14=\"\",\"\",IF((VLOOKUP(BA14,Herramientas!$D$3:$E$227,2,0))=AA14,1,0)),\"\")","v":""},{"$f":"IFERROR(IF(AB14=\"\",\"\",IF((VLOOKUP(BB14,Herramientas!$D$3:$E$227,2,0))=AB14,1,0)),\"\")","v":""},null,0,0,null,"SUMIT8",{"$f":"SUM(BK$8:BK$57)","v":0},{"$f":"COUNTIF(BK$8:BK$57,0)","v":0},0,null,null,"a",null,null,"b",null,null,"c",null,null,"d"]
[8,null,null,null,null,null,null,null,null,null,null,null,null,null,null,null,null,null,null,null,null,null,null,null,null,null,null,null,null,"5.°-1","5.°-2","5.°-3","5.°-4","5.°-5","5.°-6","5.°-7","5.°-8","5.°-9","5.°-10","5.°-11","5.°-12","5.°-13","5.°-14","5.°-15","5.°-16","5.°-17","5.°-18","5.°-19","5.°-20","5.°-21","5.°-22","5.°-23","5.°-24","5.°-25",null,{"$f":"IFERROR(IF(D15=\"\",\"\",IF((VLOOKUP(AD15,Herramientas!$D$3:$E$227,2,0))=D15,1,0)),\"\")","v":""},{"$f":"IFERROR(IF(E15=\"\",\"\",IF((VLOOKUP(AE15,Herramientas!$D$3:$E$227,2,0))=E15,1,0)),\"\")","v":""},{"$f":"IFERROR(IF(F15=\"\",\"\",IF((VLOOKUP(AF15,Herramientas!$D$3:$E$227,2,0))=F15,1,0)),\"\")","v":""},{"$f":"IFERROR(IF(G15=\"\",\"\",IF((VLOOKUP(AG15,Herramientas!$D$3:$E$227,2,0))=G15,1,0)),\"\")","v":""},{"$f":"IFERROR(IF(H15=\"\",\"\",IF((VLOOKUP(AH15,Herramientas!$D$3:$E$227,2,0))=H15,1,0)),\"\")","v":""},{"$f":"IFERROR(IF(I15=\"\",\"\",IF((VLOOKUP(AI15,Herramientas!$D$3:$E$227,2,0))=I15,1,0)),\"\")","v":""},{"$f":"IFERROR(IF(J15=\"\",\"\",IF((VLOOKUP(AJ15,Herramientas!$D$3:$E$227,2,0))=J15,1,0)),\"\")","v":""},{"$f":"IFERROR(IF(K15=\"\",\"\",IF((VLOOKUP(AK15,Herramientas!$D$3:$E$227,2,0))=K15,1,0)),\"\")","v":""},{"$f":"IFERROR(IF(L15=\"\",\"\",IF((VLOOKUP(AL15,Herramientas!$D$3:$E$227,2,0))=L15,1,0)),\"\")","v":""},{"$f":"IFERROR(IF(M15=\"\",\"\",IF((VLOOKUP(AM15,Herramientas!$D$3:$E$227,2,0))=M15,1,0)),\"\")","v":""},{"$f":"IFERROR(IF(N15=\"\",\"\",IF((VLOOKUP(AN15,Herramientas!$D$3:$E$227,2,0))=N15,1,0)),\"\")","v":""},{"$f":"IFERROR(IF(O15=\"\",\"\",IF((VLOOKUP(AO15,Herramientas!$D$3:$E$227,2,0))=O15,1,0)),\"\")","v":""},{"$f":"IFERROR(IF(P15=\"\",\"\",IF((VLOOKUP(AP15,Herramientas!$D$3:$E$227,2,0))=P15,1,0)),\"\")","v":""},{"$f":"IFERROR(IF(Q15=\"\",\"\",IF((VLOOKUP(AQ15,Herramientas!$D$3:$E$227,2,0))=Q15,1,0)),\"\")","v":""},{"$f":"IFERROR(IF(R15=\"\",\"\",IF((VLOOKUP(AR15,Herramientas!$D$3:$E$227,2,0))=R15,1,0)),\"\")","v":""},{"$f":"IFERROR(IF(S15=\"\",\"\",IF((VLOOKUP(AS15,Herramientas!$D$3:$E$227,2,0))=S15,1,0)),\"\")","v":""},{"$f":"IFERROR(IF(T15=\"\",\"\",IF((VLOOKUP(AT15,Herramientas!$D$3:$E$227,2,0))=T15,1,0)),\"\")","v":""},{"$f":"IFERROR(IF(U15=\"\",\"\",IF((VLOOKUP(AU15,Herramientas!$D$3:$E$227,2,0))=U15,1,0)),\"\")","v":""},{"$f":"IFERROR(IF(V15=\"\",\"\",IF((VLOOKUP(AV15,Herramientas!$D$3:$E$227,2,0))=V15,1,0)),\"\")","v":""},{"$f":"IFERROR(IF(W15=\"\",\"\",IF((VLOOKUP(AW15,Herramientas!$D$3:$E$227,2,0))=W15,1,0)),\"\")","v":""},{"$f":"IFERROR(IF(X15=\"\",\"\",IF((VLOOKUP(AX15,Herramientas!$D$3:$E$227,2,0))=X15,1,0)),\"\")","v":""},{"$f":"IFERROR(IF(Y15=\"\",\"\",IF((VLOOKUP(AY15,Herramientas!$D$3:$E$227,2,0))=Y15,1,0)),\"\")","v":""},{"$f":"IFERROR(IF(Z15=\"\",\"\",IF((VLOOKUP(AZ15,Herramientas!$D$3:$E$227,2,0))=Z15,1,0)),\"\")","v":""},{"$f":"IFERROR(IF(AA15=\"\",\"\",IF((VLOOKUP(BA15,Herramientas!$D$3:$E$227,2,0))=AA15,1,0)),\"\")","v":""},{"$f":"IFERROR(IF(AB15=\"\",\"\",IF((VLOOKUP(BB15,Herramientas!$D$3:$E$227,2,0))=AB15,1,0)),\"\")","v":""},null,0,0,null,"SUMIT9",{"$f":"SUM(BL$8:BL$57)","v":0},{"$f":"COUNTIF(BL$8:BL$57,0)","v":0},0,null,"it1",{"$f":"CM7","v":0},{"$f":"CM12","v":0},{"$f":"IF(CN15=0,\"\",CM15/CN15*100)","v":""},{"$f":"CM8","v":0},{"$f":"CN15","v":0},{"$f":"IF(CQ15=0,\"\",CP15/CQ15*100)","v":""},{"$f":"CM9","v":0},{"$f":"CQ15","v":0},{"$f":"IF(CT15=0,\"\",CS15/CT15*100)","v":""},{"$f":"CM10","v":0},{"$f":"CT15","v":0},{"$f":"IF(CW15=0,\"\",CV15/CW15*100)","v":""}]
[9,null,null,null,null,null,null,null,null,null,null,null,null,null,null,null,null,null,null,null,null,null,null,null,null,null,null,null,null,"5.°-1","5.°-2","5.°-3","5.°-4","5.°-5","5.°-6","5.°-7","5.°-8","5.°-9",{"$f":"CONCATENATE($B$2,\"-\",M$7)","v":"5.°-10"},"5.°-11","5.°-12","5.°-13","5.°-14","5.°-15","5.°-16","5.°-17","5.°-18","5.°-19","5.°-20","5.°-21","5.°-22","5.°-23","5.°-24","5.°-25",null,{"$f":"IFERROR(IF(D16=\"\",\"\",IF((VLOOKUP(AD16,Herramientas!$D$3:$E$227,2,0))=D16,1,0)),\"\")","v":""},{"$f":"IFERROR(IF(E16=\"\",\"\",IF((VLOOKUP(AE16,Herramientas!$D$3:$E$227,2,0))=E16,1,0)),\"\")","v":""},{"$f":"IFERROR(IF(F16=\"\",\"\",IF((VLOOKUP(AF16,Herramientas!$D$3:$E$227,2,0))=F16,1,0)),\"\")","v":""},{"$f":"IFERROR(IF(G16=\"\",\"\",IF((VLOOKUP(AG16,Herramientas!$D$3:$E$227,2,0))=G16,1,0)),\"\")","v":""},{"$f":"IFERROR(IF(H16=\"\",\"\",IF((VLOOKUP(AH16,Herramientas!$D$3:$E$227,2,0))=H16,1,0)),\"\")","v":""},{"$f":"IFERROR(IF(I16=\"\",\"\",IF((VLOOKUP(AI16,Herramientas!$D$3:$E$227,2,0))=I16,1,0)),\"\")","v":""},{"$f":"IFERROR(IF(J16=\"\",\"\",IF((VLOOKUP(AJ16,Herramientas!$D$3:$E$227,2,0))=J16,1,0)),\"\")","v":""},{"$f":"IFERROR(IF(K16=\"\",\"\",IF((VLOOKUP(AK16,Herramientas!$D$3:$E$227,2,0))=K16,1,0)),\"\")","v":""},{"$f":"IFERROR(IF(L16=\"\",\"\",IF((VLOOKUP(AL16,Herramientas!$D$3:$E$227,2,0))=L16,1,0)),\"\")","v":""},{"$f":"IFERROR(IF(M16=\"\",\"\",IF((VLOOKUP(AM16,Herramientas!$D$3:$E$227,2,0))=M16,1,0)),\"\")","v":""},{"$f":"IFERROR(IF(N16=\"\",\"\",IF((VLOOKUP(AN16,Herramientas!$D$3:$E$227,2,0))=N16,1,0)),\"\")","v":""},{"$f":"IFERROR(IF(O16=\"\",\"\",IF((VLOOKUP(AO16,Herramientas!$D$3:$E$227,2,0))=O16,1,0)),\"\")","v":""},{"$f":"IFERROR(IF(P16=\"\",\"\",IF((VLOOKUP(AP16,Herramientas!$D$3:$E$227,2,0))=P16,1,0)),\"\")","v":""},{"$f":"IFERROR(IF(Q16=\"\",\"\",IF((VLOOKUP(AQ16,Herramientas!$D$3:$E$227,2,0))=Q16,1,0)),\"\")","v":""},{"$f":"IFERROR(IF(R16=\"\",\"\",IF((VLOOKUP(AR16,Herramientas!$D$3:$E$227,2,0))=R16,1,0)),\"\")","v":""},{"$f":"IFERROR(IF(S16=\"\",\"\",IF((VLOOKUP(AS16,Herramientas!$D$3:$E$227,2,0))=S16,1,0)),\"\")","v":""},{"$f":"IFERROR(IF(T16=\"\",\"\",IF((VLOOKUP(AT16,Herramientas!$D$3:$E$227,2,0))=T16,1,0)),\"\")","v":""},{"$f":"IFERROR(IF(U16=\"\",\"\",IF((VLOOKUP(AU16,Herramientas!$D$3:$E$227,2,0))=U16,1,0)),\"\")","v":""},{"$f":"IFERROR(IF(V16=\"\",\"\",IF((VLOOKUP(AV16,Herramientas!$D$3:$E$227,2,0))=V16,1,0)),\"\")","v":""},{"$f":"IFERROR(IF(W16=\"\",\"\",IF((VLOOKUP(AW16,Herramientas!$D$3:$E$227,2,0))=W16,1,0)),\"\")","v":""},{"$f":"IFERROR(IF(X16=\"\",\"\",IF((VLOOKUP(AX16,Herramientas!$D$3:$E$227,2,0))=X16,1,0)),\"\")","v":""},{"$f":"IFERROR(IF(Y16=\"\",\"\",IF((VLOOKUP(AY16,Herramientas!$D$3:$E$227,2,0))=Y16,1,0)),\"\")","v":""},{"$f":"IFERROR(IF(Z16=\"\",\"\",IF((VLOOKUP(AZ16,Herramientas!$D$3:$E$227,2,0))=Z16,1,0)),\"\")","v":""},{"$f":"IFERROR(IF(AA16=\"\",\"\",IF((VLOOKUP(BA16,Herramientas!$D$3:$E$227,2,0))=AA16,1,0)),\"\")","v":""},{"$f":"IFERROR(IF(AB16=\"\",\"\",IF((VLOOKUP(BB16,Herramientas!$D$3:$E$227,2,0))=AB16,1,0)),\"\")","v":""},null,0,0,null,"SUMIT10",{"$f":"SUM(BM$8:BM$57)","v":0},{"$f":"COUNTIF(BM$8:BM$57,0)","v":0},0,null,"it2",{"$f":"CN7","v":0},{"$f":"CN12","v":0},{"$f":"IF(CN16=0,\"\",CM16/CN16*100)","v":""},{"$f":"CN8","v":0},{"$f":"CN16","v":0},{"$f":"IF(CQ16=0,\"\",CP16/CQ16*100)","v":""},{"$f":"CN9","v":0},{"$f":"CQ16","v":0},{"$f":"IF(CT16=0,\"\",CS16/CT16*100)","v":""},{"$f":"CN10","v":0},{"$f":"CT16","v":0},{"$f":"IF(CW16=0,\"\",CV16/CW16*100)","v":""}]
[10,null,null,null,null,null,null,null,null,null,null,null,null,null,null,null,null,null,null,null,null,null,null,null,null,null,null,null,null,"5.°-1","5.°-2","5.°-3","5.°-4","5.°-5","5.°-6","5.°-7","5.°-8","5.°-9","5.°-10","5.°-11","5.°-12","5.°-13","5.°-14","5.°-15","5.°-16","5.°-17","5.°-18","5.°-19","5.°-20","5.°-21","5.°-22","5.°-23","5.°-24","5.°-25",null,{"$f":"IFERROR(IF(D17=\"\",\"\",IF((VLOOKUP(AD17,Herramientas!$D$3:$E$227,2,0))=D17,1,0)),\"\")","v":""},{"$f":"IFERROR(IF(E17=\"\",\"\",IF((VLOOKUP(AE17,Herramientas!$D$3:$E$227,2,0))=E17,1,0)),\"\")","v":""},{"$f":"IFERROR(IF(F17=\"\",\"\",IF((VLOOKUP(AF17,Herramientas!$D$3:$E$227,2,0))=F17,1,0)),\"\")","v":""},{"$f":"IFERROR(IF(G17=\"\",\"\",IF((VLOOKUP(AG17,Herramientas!$D$3:$E$227,2,0))=G17,1,0)),\"\")","v":""},{"$f":"IFERROR(IF(H17=\"\",\"\",IF((VLOOKUP(AH17,Herramientas!$D$3:$E$227,2,0))=H17,1,0)),\"\")","v":""},{"$f":"IFERROR(IF(I17=\"\",\"\",IF((VLOOKUP(AI17,Herramientas!$D$3:$E$227,2,0))=I17,1,0)),\"\")","v":""},{"$f":"IFERROR(IF(J17=\"\",\"\",IF((VLOOKUP(AJ17,Herramientas!$D$3:$E$227,2,0))=J17,1,0)),\"\")","v":""},{"$f":"IFERROR(IF(K17=\"\",\"\",IF((VLOOKUP(AK17,Herramientas!$D$3:$E$227,2,0))=K17,1,0)),\"\")","v":""},{"$f":"IFERROR(IF(L17=\"\",\"\",IF((VLOOKUP(AL17,Herramientas!$D$3:$E$227,2,0))=L17,1,0)),\"\")","v":""},{"$f":"IFERROR(IF(M17=\"\",\"\",IF((VLOOKUP(AM17,Herramientas!$D$3:$E$227,2,0))=M17,1,0)),\"\")","v":""},{"$f":"IFERROR(IF(N17=\"\",\"\",IF((VLOOKUP(AN17,Herramientas!$D$3:$E$227,2,0))=N17,1,0)),\"\")","v":""},{"$f":"IFERROR(IF(O17=\"\",\"\",IF((VLOOKUP(AO17,Herramientas!$D$3:$E$227,2,0))=O17,1,0)),\"\")","v":""},{"$f":"IFERROR(IF(P17=\"\",\"\",IF((VLOOKUP(AP17,Herramientas!$D$3:$E$227,2,0))=P17,1,0)),\"\")","v":""},{"$f":"IFERROR(IF(Q17=\"\",\"\",IF((VLOOKUP(AQ17,Herramientas!$D$3:$E$227,2,0))=Q17,1,0)),\"\")","v":""},{"$f":"IFERROR(IF(R17=\"\",\"\",IF((VLOOKUP(AR17,Herramientas!$D$3:$E$227,2,0))=R17,1,0)),\"\")","v":""},{"$f":"IFERROR(IF(S17=\"\",\"\",IF((VLOOKUP(AS17,Herramientas!$D$3:$E$227,2,0))=S17,1,0)),\"\")","v":""},{"$f":"IFERROR(IF(T17=\"\",\"\",IF((VLOOKUP(AT17,Herramientas!$D$3:$E$227,2,0))=T17,1,0)),\"\")","v":""},{"$f":"IFERROR(IF(U17=\"\",\"\",IF((VLOOKUP(AU17,Herramientas!$D$3:$E$227,2,0))=U17,1,0)),\"\")","v":""},{"$f":"IFERROR(IF(V17=\"\",\"\",IF((VLOOKUP(AV17,Herramientas!$D$3:$E$227,2,0))=V17,1,0)),\"\")","v":""},{"$f":"IFERROR(IF(W17=\"\",\"\",IF((VLOOKUP(AW17,Herramientas!$D$3:$E$227,2,0))=W17,1,0)),\"\")","v":""},{"$f":"IFERROR(IF(X17=\"\",\"\",IF((VLOOKUP(AX17,Herramientas!$D$3:$E$227,2,0))=X17,1,0)),\"\")","v":""},{"$f":"IFERROR(IF(Y17=\"\",\"\",IF((VLOOKUP(AY17,Herramientas!$D$3:$E$227,2,0))=Y17,1,0)),\"\")","v":""},{"$f":"IFERROR(IF(Z17=\"\",\"\",IF((VLOOKUP(AZ17,Herramientas!$D$3:$E$227,2,0))=Z17,1,0)),\"\")","v":""},{"$f":"IFERROR(IF(AA17=\"\",\"\",IF((VLOOKUP(BA17,Herramientas!$D$3:$E$227,2,0))=AA17,1,0)),\"\")","v":""},{"$f":"IFERROR(IF(AB17=\"\",\"\",IF((VLOOKUP(BB17,Herramientas!$D$3:$E$227,2,0))=AB17,1,0)),\"\")","v":""},null,0,0,null,"SUMIT11",{"$f":"SUM(BN$8:BN$57)","v":0},{"$f":"COUNTIF(BN$8:BN$57,0)","v":0},0,null,"it3",{"$f":"CO7","v":0},{"$f":"CO12","v":0},"",{"$f":"CO8","v":0},{"$f":"CN17","v":0},{"$f":"IF(CQ17=0,\"\",CP17/CQ17*100)","v":""},{"$f":"CO9","v":0},{"$f":"CQ17","v":0},"",{"$f":"CO10","v":0},{"$f":"CT17","v":0},""]
[11,null,null,null,null,null,null,null,null,null,null,null,null,null,null,null,null,null,null,null,null,null,null,null,null,null,null,null,null,"5.°-1","5.°-2","5.°-3","5.°-4","5.°-5","5.°-6","5.°-7","5.°-8","5.°-9","5.°-10","5.°-11","5.°-12","5.°-13","5.°-14","5.°-15","5.°-16","5.°-17","5.°-18","5.°-19","5.°-20","5.°-21","5.°-22","5.°-23","5.°-24","5.°-25",null,{"$f":"IFERROR(IF(D18=\"\",\"\",IF((VLOOKUP(AD18,Herramientas!$D$3:$E$227,2,0))=D18,1,0)),\"\")","v":""},{"$f":"IFERROR(IF(E18=\"\",\"\",IF((VLOOKUP(AE18,Herramientas!$D$3:$E$227,2,0))=E18,1,0)),\"\")","v":""},{"$f":"IFERROR(IF(F18=\"\",\"\",IF((VLOOKUP(AF18,Herramientas!$D$3:$E$227,2,0))=F18,1,0)),\"\")","v":""},{"$f":"IFERROR(IF(G18=\"\",\"\",IF((VLOOKUP(AG18,Herramientas!$D$3:$E$227,2,0))=G18,1,0)),\"\")","v":""},{"$f":"IFERROR(IF(H18=\"\",\"\",IF((VLOOKUP(AH18,Herramientas!$D$3:$E$227,2,0))=H18,1,0)),\"\")","v":""},{"$f":"IFERROR(IF(I18=\"\",\"\",IF((VLOOKUP(AI18,Herramientas!$D$3:$E$227,2,0))=I18,1,0)),\"\")","v":""},{"$f":"IFERROR(IF(J18=\"\",\"\",IF((VLOOKUP(AJ18,Herramientas!$D$3:$E$227,2,0))=J18,1,0)),\"\")","v":""},{"$f":"IFERROR(IF(K18=\"\",\"\",IF((VLOOKUP(AK18,Herramientas!$D$3:$E$227,2,0))=K18,1,0)),\"\")","v":""},{"$f":"IFERROR(IF(L18=\"\",\"\",IF((VLOOKUP(AL18,Herramientas!$D$3:$E$227,2,0))=L18,1,0)),\"\")","v":""},{"$f":"IFERROR(IF(M18=\"\",\"\",IF((VLOOKUP(AM18,Herramientas!$D$3:$E$227,2,0))=M18,1,0)),\"\")","v":""},{"$f":"IFERROR(IF(N18=\"\",\"\",IF((VLOOKUP(AN18,Herramientas!$D$3:$E$227,2,0))=N18,1,0)),\"\")","v":""},{"$f":"IFERROR(IF(O18=\"\",\"\",IF((VLOOKUP(AO18,Herramientas!$D$3:$E$227,2,0))=O18,1,0)),\"\")","v":""},{"$f":"IFERROR(IF(P18=\"\",\"\",IF((VLOOKUP(AP18,Herramientas!$D$3:$E$227,2,0))=P18,1,0)),\"\")","v":""},{"$f":"IFERROR(IF(Q18=\"\",\"\",IF((VLOOKUP(AQ18,Herramientas!$D$3:$E$227,2,0))=Q18,1,0)),\"\")","v":""},{"$f":"IFERROR(IF(R18=\"\",\"\",IF((VLOOKUP(AR18,Herramientas!$D$3:$E$227,2,0))=R18,1,0)),\"\")","v":""},{"$f":"IFERROR(IF(S18=\"\",\"\",IF((VLOOKUP(AS18,Herramientas!$D$3:$E$227,2,0))=S18,1,0)),\"\")","v":""},{"$f":"IFERROR(IF(T18=\"\",\"\",IF((VLOOKUP(AT18,Herramientas!$D$3:$E$227,2,0))=T18,1,0)),\"\")","v":""},{"$f":"IFERROR(IF(U18=\"\",\"\",IF((VLOOKUP(AU18,Herramientas!$D$3:$E$227,2,0))=U18,1,0)),\"\")","v":""},{"$f":"IFERROR(IF(V18=\"\",\"\",IF((VLOOKUP(AV18,Herramientas!$D$3:$E$227,2,0))=V18,1,0)),\"\")","v":""},{"$f":"IFERROR(IF(W18=\"\",\"\",IF((VLOOKUP(AW18,Herramientas!$D$3:$E$227,2,0))=W18,1,0)),\"\")","v":""},{"$f":"IFERROR(IF(X18=\"\",\"\",IF((VLOOKUP(AX18,Herramientas!$D$3:$E$227,2,0))=X18,1,0)),\"\")","v":""},{"$f":"IFERROR(IF(Y18=\"\",\"\",IF((VLOOKUP(AY18,Herramientas!$D$3:$E$227,2,0))=Y18,1,0)),\"\")","v":""},{"$f":"IFERROR(IF(Z18=\"\",\"\",IF((VLOOKUP(AZ18,Herramientas!$D$3:$E$227,2,0))=Z18,1,0)),\"\")","v":""},{"$f":"IFERROR(IF(AA18=\"\",\"\",IF((VLOOKUP(BA18,Herramientas!$D$3:$E$227,2,0))=AA18,1,0)),\"\")","v":""},{"$f":"IFERROR(IF(AB18=\"\",\"\",IF((VLOOKUP(BB18,Herramientas!$D$3:$E$227,2,0))=AB18,1,0)),\"\")","v":""},null,0,0,null,"SUMIT12",{"$f":"SUM(BO$8:BO$57)","v":0},{"$f":"COUNTIF(BO$8:BO$57,0)","v":0},0,null,"it4",{"$f":"CP7","v":0},{"$f":"CP12","v":0},"",{"$f":"CP8","v":0},{"$f":"CN18","v":0},"",{"$f":"CP9","v":0},0,"",{"$f":"CP10","v":0},{"$f":"CT18","v":0},""]
[12,null,null,null,null,null,null,null,null,null,null,null,null,null,null,null,null,null,null,null,null,null,null,null,null,null,null,null,null,"5.°-1","5.°-2","5.°-3","5.°-4","5.°-5","5.°-6","5.°-7","5.°-8","5.°-9","5.°-10","5.°-11","5.°-12","5.°-13","5.°-14","5.°-15","5.°-16","5.°-17","5.°-18","5.°-19","5.°-20","5.°-21","5.°-22","5.°-23","5.°-24","5.°-25",null,{"$f":"IFERROR(IF(D19=\"\",\"\",IF((VLOOKUP(AD19,Herramientas!$D$3:$E$227,2,0))=D19,1,0)),\"\")","v":""},{"$f":"IFERROR(IF(E19=\"\",\"\",IF((VLOOKUP(AE19,Herramientas!$D$3:$E$227,2,0))=E19,1,0)),\"\")","v":""},{"$f":"IFERROR(IF(F19=\"\",\"\",IF((VLOOKUP(AF19,Herramientas!$D$3:$E$227,2,0))=F19,1,0)),\"\")","v":""},{"$f":"IFERROR(IF(G19=\"\",\"\",IF((VLOOKUP(AG19,Herramientas!$D$3:$E$227,2,0))=G19,1,0)),\"\")","v":""},{"$f":"IFERROR(IF(H19=\"\",\"\",IF((VLOOKUP(AH19,Herramientas!$D$3:$E$227,2,0))=H19,1,0)),\"\")","v":""},{"$f":"IFERROR(IF(I19=\"\",\"\",IF((VLOOKUP(AI19,Herramientas!$D$3:$E$227,2,0))=I19,1,0)),\"\")","v":""},{"$f":"IFERROR(IF(J19=\"\",\"\",IF((VLOOKUP(AJ19,Herramientas!$D$3:$E$227,2,0))=J19,1,0)),\"\")","v":""},{"$f":"IFERROR(IF(K19=\"\",\"\",IF((VLOOKUP(AK19,Herramientas!$D$3:$E$227,2,0))=K19,1,0)),\"\")","v":""},{"$f":"IFERROR(IF(L19=\"\",\"\",IF((VLOOKUP(AL19,Herramientas!$D$3:$E$227,2,0))=L19,1,0)),\"\")","v":""},{"$f":"IFERROR(IF(M19=\"\",\"\",IF((VLOOKUP(AM19,Herramientas!$D$3:$E$227,2,0))=M19,1,0)),\"\")","v":""},{"$f":"IFERROR(IF(N19=\"\",\"\",IF((VLOOKUP(AN19,Herramientas!$D$3:$E$227,2,0))=N19,1,0)),\"\")","v":""},{"$f":"IFERROR(IF(O19=\"\",\"\",IF((VLOOKUP(AO19,Herramientas!$D$3:$E$227,2,0))=O19,1,0)),\"\")","v":""},{"$f":"IFERROR(IF(P19=\"\",\"\",IF((VLOOKUP(AP19,Herramientas!$D$3:$E$227,2,0))=P19,1,0)),\"\")","v":""},{"$f":"IFERROR(IF(Q19=\"\",\"\",IF((VLOOKUP(AQ19,Herramientas!$D$3:$E$227,2,0))=Q19,1,0)),\"\")","v":""},{"$f":"IFERROR(IF(R19=\"\",\"\",IF((VLOOKUP(AR19,Herramientas!$D$3:$E$227,2,0))=R19,1,0)),\"\")","v":""},{"$f":"IFERROR(IF(S19=\"\",\"\",IF((VLOOKUP(AS19,Herramientas!$D$3:$E$227,2,0))=S19,1,0)),\"\")","v":""},{"$f":"IFERROR(IF(T19=\"\",\"\",IF((VLOOKUP(AT19,Herramientas!$D$3:$E$227,2,0))=T19,1,0)),\"\")","v":""},{"$f":"IFERROR(IF(U19=\"\",\"\",IF((VLOOKUP(AU19,Herramientas!$D$3:$E$227,2,0))=U19,1,0)),\"\")","v":""},{"$f":"IFERROR(IF(V19=\"\",\"\",IF((VLOOKUP(AV19,Herramientas!$D$3:$E$227,2,0))=V19,1,0)),\"\")","v":""},{"$f":"IFERROR(IF(W19=\"\",\"\",IF((VLOOKUP(AW19,Herramientas!$D$3:$E$227,2,0))=W19,1,0)),\"\")","v":""},{"$f":"IFERROR(IF(X19=\"\",\"\",IF((VLOOKUP(AX19,Herramientas!$D$3:$E$227,2,0))=X19,1,0)),\"\")","v":""},{"$f":"IFERROR(IF(Y19=\"\",\"\",IF((VLOOKUP(AY19,Herramientas!$D$3:$E$227,2,0))=Y19,1,0)),\"\")","v":""},{"$f":"IFERROR(IF(Z19=\"\",\"\",IF((VLOOKUP(AZ19,Herramientas!$D$3:$E$227,2,0))=Z19,1,0)),\"\")","v":""},{"$f":"IFERROR(IF(AA19=\"\",\"\",IF((VLOOKUP(BA19,Herramientas!$D$3:$E$227,2,0))=AA19,1,0)),\"\")","v":""},{"$f":"IFERROR(IF(AB19=\"\",\"\",IF((VLOOKUP(BB19,Herramientas!$D$3:$E$227,2,0))=AB19,1,0)),\"\")","v":""},null,0,0,null,"SUMIT13",{"$f":"SUM(BP$8:BP$57)","v":0},{"$f":"COUNTIF(BP$8:BP$57,0)","v":0},0,null,"it5",{"$f":"CQ7","v":0},{"$f":"CQ12","v":0},"",{"$f":"CQ8","v":0},0,"",{"$f":"CQ9","v":0},0,"",{"$f":"CQ10","v":0},0,""]
[13,null,null,null,null,null,null,null,null,null,null,null,null,null,null,null,null,null,null,null,null,null,null,null,null,null,null,null,null,"5.°-1","5.°-2","5.°-3","5.°-4","5.°-5","5.°-6","5.°-7","5.°-8","5.°-9","5.°-10","5.°-11","5.°-12","5.°-13","5.°-14","5.°-15","5.°-16","5.°-17","5.°-18","5.°-19","5.°-20","5.°-21","5.°-22","5.°-23","5.°-24","5.°-25",null,{"$f":"IFERROR(IF(D20=\"\",\"\",IF((VLOOKUP(AD20,Herramientas!$D$3:$E$227,2,0))=D20,1,0)),\"\")","v":""},{"$f":"IFERROR(IF(E20=\"\",\"\",IF((VLOOKUP(AE20,Herramientas!$D$3:$E$227,2,0))=E20,1,0)),\"\")","v":""},{"$f":"IFERROR(IF(F20=\"\",\"\",IF((VLOOKUP(AF20,Herramientas!$D$3:$E$227,2,0))=F20,1,0)),\"\")","v":""},{"$f":"IFERROR(IF(G20=\"\",\"\",IF((VLOOKUP(AG20,Herramientas!$D$3:$E$227,2,0))=G20,1,0)),\"\")","v":""},{"$f":"IFERROR(IF(H20=\"\",\"\",IF((VLOOKUP(AH20,Herramientas!$D$3:$E$227,2,0))=H20,1,0)),\"\")","v":""},{"$f":"IFERROR(IF(I20=\"\",\"\",IF((VLOOKUP(AI20,Herramientas!$D$3:$E$227,2,0))=I20,1,0)),\"\")","v":""},{"$f":"IFERROR(IF(J20=\"\",\"\",IF((VLOOKUP(AJ20,Herramientas!$D$3:$E$227,2,0))=J20,1,0)),\"\")","v":""},{"$f":"IFERROR(IF(K20=\"\",\"\",IF((VLOOKUP(AK20,Herramientas!$D$3:$E$227,2,0))=K20,1,0)),\"\")","v":""},{"$f":"IFERROR(IF(L20=\"\",\"\",IF((VLOOKUP(AL20,Herramientas!$D$3:$E$227,2,0))=L20,1,0)),\"\")","v":""},{"$f":"IFERROR(IF(M20=\"\",\"\",IF((VLOOKUP(AM20,Herramientas!$D$3:$E$227,2,0))=M20,1,0)),\"\")","v":""},{"$f":"IFERROR(IF(N20=\"\",\"\",IF((VLOOKUP(AN20,Herramientas!$D$3:$E$227,2,0))=N20,1,0)),\"\")","v":""},{"$f":"IFERROR(IF(O20=\"\",\"\",IF((VLOOKUP(AO20,Herramientas!$D$3:$E$227,2,0))=O20,1,0)),\"\")","v":""},{"$f":"IFERROR(IF(P20=\"\",\"\",IF((VLOOKUP(AP20,Herramientas!$D$3:$E$227,2,0))=P20,1,0)),\"\")","v":""},{"$f":"IFERROR(IF(Q20=\"\",\"\",IF((VLOOKUP(AQ20,Herramientas!$D$3:$E$227,2,0))=Q20,1,0)),\"\")","v":""},{"$f":"IFERROR(IF(R20=\"\",\"\",IF((VLOOKUP(AR20,Herramientas!$D$3:$E$227,2,0))=R20,1,0)),\"\")","v":""},{"$f":"IFERROR(IF(S20=\"\",\"\",IF((VLOOKUP(AS20,Herramientas!$D$3:$E$227,2,0))=S20,1,0)),\"\")","v":""},{"$f":"IFERROR(IF(T20=\"\",\"\",IF((VLOOKUP(AT20,Herramientas!$D$3:$E$227,2,0))=T20,1,0)),\"\")","v":""},{"$f":"IFERROR(IF(U20=\"\",\"\",IF((VLOOKUP(AU20,Herramientas!$D$3:$E$227,2,0))=U20,1,0)),\"\")","v":""},{"$f":"IFERROR(IF(V20=\"\",\"\",IF((VLOOKUP(AV20,Herramientas!$D$3:$E$227,2,0))=V20,1,0)),\"\")","v":""},{"$f":"IFERROR(IF(W20=\"\",\"\",IF((VLOOKUP(AW20,Herramientas!$D$3:$E$227,2,0))=W20,1,0)),\"\")","v":""},{"$f":"IFERROR(IF(X20=\"\",\"\",IF((VLOOKUP(AX20,Herramientas!$D$3:$E$227,2,0))=X20,1,0)),\"\")","v":""},{"$f":"IFERROR(IF(Y20=\"\",\"\",IF((VLOOKUP(AY20,Herramientas!$D$3:$E$227,2,0))=Y20,1,0)),\"\")","v":""},{"$f":"IFERROR(IF(Z20=\"\",\"\",IF((VLOOKUP(AZ20,Herramientas!$D$3:$E$227,2,0))=Z20,1,0)),\"\")","v":""},{"$f":"IFERROR(IF(AA20=\"\",\"\",IF((VLOOKUP(BA20,Herramientas!$D$3:$E$227,2,0))=AA20,1,0)),\"\")","v":""},{"$f":"IFERROR(IF(AB20=\"\",\"\",IF((VLOOKUP(BB20,Herramientas!$D$3:$E$227,2,0))=AB20,1,0)),\"\")","v":""},null,0,0,null,"SUMIT14",{"$f":"SUM(BQ$8:BQ$57)","v":0},{"$f":"COUNTIF(BQ$8:BQ$57,0)","v":0},0,null,"it6",{"$f":"CR7","v":0},{"$f":"CR12","v":0},"",{"$f":"CR8","v":0},0,"",{"$f":"CR9","v":0},0,"",{"$f":"CR10","v":0},0,""]
[14,null,null,null,null,null,null,null,null,null,null,null,null,null,null,null,null,null,null,null,null,null,null,null,null,null,null,null,null,"5.°-1","5.°-2","5.°-3","5.°-4","5.°-5","5.°-6","5.°-7","5.°-8","5.°-9","5.°-10","5.°-11","5.°-12","5.°-13","5.°-14","5.°-15","5.°-16","5.°-17","5.°-18","5.°-19","5.°-20","5.°-21","5.°-22","5.°-23","5.°-24","5.°-25",null,{"$f":"IFERROR(IF(D21=\"\",\"\",IF((VLOOKUP(AD21,Herramientas!$D$3:$E$227,2,0))=D21,1,0)),\"\")","v":""},{"$f":"IFERROR(IF(E21=\"\",\"\",IF((VLOOKUP(AE21,Herramientas!$D$3:$E$227,2,0))=E21,1,0)),\"\")","v":""},{"$f":"IFERROR(IF(F21=\"\",\"\",IF((VLOOKUP(AF21,Herramientas!$D$3:$E$227,2,0))=F21,1,0)),\"\")","v":""},{"$f":"IFERROR(IF(G21=\"\",\"\",IF((VLOOKUP(AG21,Herramientas!$D$3:$E$227,2,0))=G21,1,0)),\"\")","v":""},{"$f":"IFERROR(IF(H21=\"\",\"\",IF((VLOOKUP(AH21,Herramientas!$D$3:$E$227,2,0))=H21,1,0)),\"\")","v":""},{"$f":"IFERROR(IF(I21=\"\",\"\",IF((VLOOKUP(AI21,Herramientas!$D$3:$E$227,2,0))=I21,1,0)),\"\")","v":""},{"$f":"IFERROR(IF(J21=\"\",\"\",IF((VLOOKUP(AJ21,Herramientas!$D$3:$E$227,2,0))=J21,1,0)),\"\")","v":""},{"$f":"IFERROR(IF(K21=\"\",\"\",IF((VLOOKUP(AK21,Herramientas!$D$3:$E$227,2,0))=K21,1,0)),\"\")","v":""},{"$f":"IFERROR(IF(L21=\"\",\"\",IF((VLOOKUP(AL21,Herramientas!$D$3:$E$227,2,0))=L21,1,0)),\"\")","v":""},{"$f":"IFERROR(IF(M21=\"\",\"\",IF((VLOOKUP(AM21,Herramientas!$D$3:$E$227,2,0))=M21,1,0)),\"\")","v":""},{"$f":"IFERROR(IF(N21=\"\",\"\",IF((VLOOKUP(AN21,Herramientas!$D$3:$E$227,2,0))=N21,1,0)),\"\")","v":""},{"$f":"IFERROR(IF(O21=\"\",\"\",IF((VLOOKUP(AO21,Herramientas!$D$3:$E$227,2,0))=O21,1,0)),\"\")","v":""},{"$f":"IFERROR(IF(P21=\"\",\"\",IF((VLOOKUP(AP21,Herramientas!$D$3:$E$227,2,0))=P21,1,0)),\"\")","v":""},{"$f":"IFERROR(IF(Q21=\"\",\"\",IF((VLOOKUP(AQ21,Herramientas!$D$3:$E$227,2,0))=Q21,1,0)),\"\")","v":""},{"$f":"IFERROR(IF(R21=\"\",\"\",IF((VLOOKUP(AR21,Herramientas!$D$3:$E$227,2,0))=R21,1,0)),\"\")","v":""},{"$f":"IFERROR(IF(S21=\"\",\"\",IF((VLOOKUP(AS21,Herramientas!$D$3:$E$227,2,0))=S21,1,0)),\"\")","v":""},{"$f":"IFERROR(IF(T21=\"\",\"\",IF((VLOOKUP(AT21,Herramientas!$D$3:$E$227,2,0))=T21,1,0)),\"\")","v":""},{"$f":"IFERROR(IF(U21=\"\",\"\",IF((VLOOKUP(AU21,Herramientas!$D$3:$E$227,2,0))=U21,1,0)),\"\")","v":""},{"$f":"IFERROR(IF(V21=\"\",\"\",IF((VLOOKUP(AV21,Herramientas!$D$3:$E$227,2,0))=V21,1,0)),\"\")","v":""},{"$f":"IFERROR(IF(W21=\"\",\"\",IF((VLOOKUP(AW21,Herramientas!$D$3:$E$227,2,0))=W21,1,0)),\"\")","v":""},{"$f":"IFERROR(IF(X21=\"\",\"\",IF((VLOOKUP(AX21,Herramientas!$D$3:$E$227,2,0))=X21,1,0)),\"\")","v":""},{"$f":"IFERROR(IF(Y21=\"\",\"\",IF((VLOOKUP(AY21,Herramientas!$D$3:$E$227,2,0))=Y21,1,0)),\"\")","v":""},{"$f":"IFERROR(IF(Z21=\"\",\"\",IF((VLOOKUP(AZ21,Herramientas!$D$3:$E$227,2,0))=Z21,1,0)),\"\")","v":""},{"$f":"IFERROR(IF(AA21=\"\",\"\",IF((VLOOKUP(BA21,Herramientas!$D$3:$E$227,2,0))=AA21,1,0)),\"\")","v":""},{"$f":"IFERROR(IF(AB21=\"\",\"\",IF((VLOOKUP(BB21,Herramientas!$D$3:$E$227,2,0))=AB21,1,0)),\"\")","v":""},null,0,0,null,"SUMIT15",{"$f":"SUM(BR$8:BR$57)","v":0},{"$f":"COUNTIF(BR$8:BR$57,0)","v":0},0,null,"it7",{"$f":"CS7","v":0},{"$f":"CS12","v":0},"",{"$f":"CS8","v":0},0,"",{"$f":"CS9","v":0},0,"",{"$f":"CS10","v":0},0,""]
[15,null,null,null,null,null,null,null,null,null,null,null,null,null,null,null,null,null,null,null,null,null,null,null,null,null,null,null,null,"5.°-1","5.°-2","5.°-3","5.°-4","5.°-5","5.°-6","5.°-7","5.°-8","5.°-9","5.°-10","5.°-11","5.°-12","5.°-13","5.°-14","5.°-15","5.°-16","5.°-17","5.°-18","5.°-19","5.°-20","5.°-21","5.°-22","5.°-23","5.°-24","5.°-25",null,{"$f":"IFERROR(IF(D22=\"\",\"\",IF((VLOOKUP(AD22,Herramientas!$D$3:$E$227,2,0))=D22,1,0)),\"\")","v":""},{"$f":"IFERROR(IF(E22=\"\",\"\",IF((VLOOKUP(AE22,Herramientas!$D$3:$E$227,2,0))=E22,1,0)),\"\")","v":""},{"$f":"IFERROR(IF(F22=\"\",\"\",IF((VLOOKUP(AF22,Herramientas!$D$3:$E$227,2,0))=F22,1,0)),\"\")","v":""},{"$f":"IFERROR(IF(G22=\"\",\"\",IF((VLOOKUP(AG22,Herramientas!$D$3:$E$227,2,0))=G22,1,0)),\"\")","v":""},{"$f":"IFERROR(IF(H22=\"\",\"\",IF((VLOOKUP(AH22,Herramientas!$D$3:$E$227,2,0))=H22,1,0)),\"\")","v":""},{"$f":"IFERROR(IF(I22=\"\",\"\",IF((VLOOKUP(AI22,Herramientas!$D$3:$E$227,2,0))=I22,1,0)),\"\")","v":""},{"$f":"IFERROR(IF(J22=\"\",\"\",IF((VLOOKUP(AJ22,Herramientas!$D$3:$E$227,2,0))=J22,1,0)),\"\")","v":""},{"$f":"IFERROR(IF(K22=\"\",\"\",IF((VLOOKUP(AK22,Herramientas!$D$3:$E$227,2,0))=K22,1,0)),\"\")","v":""},{"$f":"IFERROR(IF(L22=\"\",\"\",IF((VLOOKUP(AL22,Herramientas!$D$3:$E$227,2,0))=L22,1,0)),\"\")","v":""},{"$f":"IFERROR(IF(M22=\"\",\"\",IF((VLOOKUP(AM22,Herramientas!$D$3:$E$227,2,0))=M22,1,0)),\"\")","v":""},{"$f":"IFERROR(IF(N22=\"\",\"\",IF((VLOOKUP(AN22,Herramientas!$D$3:$E$227,2,0))=N22,1,0)),\"\")","v":""},{"$f":"IFERROR(IF(O22=\"\",\"\",IF((VLOOKUP(AO22,Herramientas!$D$3:$E$227,2,0))=O22,1,0)),\"\")","v":""},{"$f":"IFERROR(IF(P22=\"\",\"\",IF((VLOOKUP(AP22,Herramientas!$D$3:$E$227,2,0))=P22,1,0)),\"\")","v":""},{"$f":"IFERROR(IF(Q22=\"\",\"\",IF((VLOOKUP(AQ22,Herramientas!$D$3:$E$227,2,0))=Q22,1,0)),\"\")","v":""},{"$f":"IFERROR(IF(R22=\"\",\"\",IF((VLOOKUP(AR22,Herramientas!$D$3:$E$227,2,0))=R22,1,0)),\"\")","v":""},{"$f":"IFERROR(IF(S22=\"\",\"\",IF((VLOOKUP(AS22,Herramientas!$D$3:$E$227,2,0))=S22,1,0)),\"\")","v":""},{"$f":"IFERROR(IF(T22=\"\",\"\",IF((VLOOKUP(AT22,Herramientas!$D$3:$E$227,2,0))=T22,1,0)),\"\")","v":""},{"$f":"IFERROR(IF(U22=\"\",\"\",IF((VLOOKUP(AU22,Herramientas!$D$3:$E$227,2,0))=U22,1,0)),\"\")","v":""},{"$f":"IFERROR(IF(V22=\"\",\"\",IF((VLOOKUP(AV22,Herramientas!$D$3:$E$227,2,0))=V22,1,0)),\"\")","v":""},{"$f":"IFERROR(IF(W22=\"\",\"\",IF((VLOOKUP(AW22,Herramientas!$D$3:$E$227,2,0))=W22,1,0)),\"\")","v":""},{"$f":"IFERROR(IF(X22=\"\",\"\",IF((VLOOKUP(AX22,Herramientas!$D$3:$E$227,2,0))=X22,1,0)),\"\")","v":""},{"$f":"IFERROR(IF(Y22=\"\",\"\",IF((VLOOKUP(AY22,Herramientas!$D$3:$E$227,2,0))=Y22,1,0)),\"\")","v":""},{"$f":"IFERROR(IF(Z22=\"\",\"\",IF((VLOOKUP(AZ22,Herramientas!$D$3:$E$227,2,0))=Z22,1,0)),\"\")","v":""},{"$f":"IFERROR(IF(AA22=\"\",\"\",IF((VLOOKUP(BA22,Herramientas!$D$3:$E$227,2,0))=AA22,1,0)),\"\")","v":""},{"$f":"IFERROR(IF(AB22=\"\",\"\",IF((VLOOKUP(BB22,Herramientas!$D$3:$E$227,2,0))=AB22,1,0)),\"\")","v":""},null,0,0,null,"SUMIT16",{"$f":"SUM(BS$8:BS$57)","v":0},{"$f":"COUNTIF(BS$8:BS$57,0)","v":0},0,null,"it8",{"$f":"CT7","v":0},{"$f":"CT12","v":0},"",{"$f":"CT8","v":0},0,"",{"$f":"CT9","v":0},0,"",{"$f":"CT10","v":0},0,""]
[16,null,null,null,null,null,null,null,null,null,null,null,null,null,null,null,null,null,null,null,null,null,null,null,null,null,null,null,null,"5.°-1","5.°-2","5.°-3","5.°-4","5.°-5","5.°-6","5.°-7","5.°-8","5.°-9","5.°-10","5.°-11","5.°-12","5.°-13","5.°-14","5.°-15","5.°-16","5.°-17","5.°-18","5.°-19","5.°-20","5.°-21","5.°-22","5.°-23","5.°-24","5.°-25",null,{"$f":"IFERROR(IF(D23=\"\",\"\",IF((VLOOKUP(AD23,Herramientas!$D$3:$E$227,2,0))=D23,1,0)),\"\")","v":""},{"$f":"IFERROR(IF(E23=\"\",\"\",IF((VLOOKUP(AE23,Herramientas!$D$3:$E$227,2,0))=E23,1,0)),\"\")","v":""},{"$f":"IFERROR(IF(F23=\"\",\"\",IF((VLOOKUP(AF23,Herramientas!$D$3:$E$227,2,0))=F23,1,0)),\"\")","v":""},{"$f":"IFERROR(IF(G23=\"\",\"\",IF((VLOOKUP(AG23,Herramientas!$D$3:$E$227,2,0))=G23,1,0)),\"\")","v":""},{"$f":"IFERROR(IF(H23=\"\",\"\",IF((VLOOKUP(AH23,Herramientas!$D$3:$E$227,2,0))=H23,1,0)),\"\")","v":""},{"$f":"IFERROR(IF(I23=\"\",\"\",IF((VLOOKUP(AI23,Herramientas!$D$3:$E$227,2,0))=I23,1,0)),\"\")","v":""},{"$f":"IFERROR(IF(J23=\"\",\"\",IF((VLOOKUP(AJ23,Herramientas!$D$3:$E$227,2,0))=J23,1,0)),\"\")","v":""},{"$f":"IFERROR(IF(K23=\"\",\"\",IF((VLOOKUP(AK23,Herramientas!$D$3:$E$227,2,0))=K23,1,0)),\"\")","v":""},{"$f":"IFERROR(IF(L23=\"\",\"\",IF((VLOOKUP(AL23,Herramientas!$D$3:$E$227,2,0))=L23,1,0)),\"\")","v":""},{"$f":"IFERROR(IF(M23=\"\",\"\",IF((VLOOKUP(AM23,Herramientas!$D$3:$E$227,2,0))=M23,1,0)),\"\")","v":""},{"$f":"IFERROR(IF(N23=\"\",\"\",IF((VLOOKUP(AN23,Herramientas!$D$3:$E$227,2,0))=N23,1,0)),\"\")","v":""},{"$f":"IFERROR(IF(O23=\"\",\"\",IF((VLOOKUP(AO23,Herramientas!$D$3:$E$227,2,0))=O23,1,0)),\"\")","v":""},{"$f":"IFERROR(IF(P23=\"\",\"\",IF((VLOOKUP(AP23,Herramientas!$D$3:$E$227,2,0))=P23,1,0)),\"\")","v":""},{"$f":"IFERROR(IF(Q23=\"\",\"\",IF((VLOOKUP(AQ23,Herramientas!$D$3:$E$227,2,0))=Q23,1,0)),\"\")","v":""},{"$f":"IFERROR(IF(R23=\"\",\"\",IF((VLOOKUP(AR23,Herramientas!$D$3:$E$227,2,0))=R23,1,0)),\"\")","v":""},{"$f":"IFERROR(IF(S23=\"\",\"\",IF((VLOOKUP(AS23,Herramientas!$D$3:$E$227,2,0))=S23,1,0)),\"\")","v":""},{"$f":"IFERROR(IF(T23=\"\",\"\",IF((VLOOKUP(AT23,Herramientas!$D$3:$E$227,2,0))=T23,1,0)),\"\")","v":""},{"$f":"IFERROR(IF(U23=\"\",\"\",IF((VLOOKUP(AU23,Herramientas!$D$3:$E$227,2,0))=U23,1,0)),\"\")","v":""},{"$f":"IFERROR(IF(V23=\"\",\"\",IF((VLOOKUP(AV23,Herramientas!$D$3:$E$227,2,0))=V23,1,0)),\"\")","v":""},{"$f":"IFERROR(IF(W23=\"\",\"\",IF((VLOOKUP(AW23,Herramientas!$D$3:$E$227,2,0))=W23,1,0)),\"\")","v":""},{"$f":"IFERROR(IF(X23=\"\",\"\",IF((VLOOKUP(AX23,Herramientas!$D$3:$E$227,2,0))=X23,1,0)),\"\")","v":""},{"$f":"IFERROR(IF(Y23=\"\",\"\",IF((VLOOKUP(AY23,Herramientas!$D$3:$E$227,2,0))=Y23,1,0)),\"\")","v":""},{"$f":"IFERROR(IF(Z23=\"\",\"\",IF((VLOOKUP(AZ23,Herramientas!$D$3:$E$227,2,0))=Z23,1,0)),\"\")","v":""},{"$f":"IFERROR(IF(AA23=\"\",\"\",IF((VLOOKUP(BA23,Herramientas!$D$3:$E$227,2,0))=AA23,1,0)),\"\")","v":""},{"$f":"IFERROR(IF(AB23=\"\",\"\",IF((VLOOKUP(BB23,Herramientas!$D$3:$E$227,2,0))=AB23,1,0)),\"\")","v":""},null,0,0,null,"SUMIT17",{"$f":"SUM(BT$8:BT$57)","v":0},{"$f":"COUNTIF(BT$8:BT$57,0)","v":0},0,null,"it9",{"$f":"CU7","v":0},{"$f":"CU12","v":0},"",{"$f":"CU8","v":0},0,"",{"$f":"CU9","v":0},0,"",{"$f":"CU10","v":0},0,""]
[17,null,null,null,null,null,null,null,null,null,null,null,null,null,null,null,null,null,null,null,null,null,null,null,null,null,null,null,null,"5.°-1","5.°-2","5.°-3","5.°-4","5.°-5","5.°-6","5.°-7","5.°-8","5.°-9","5.°-10",{"$f":"CONCATENATE($B$2,\"-\",N$7)","v":"5.°-11"},{"$f":"CONCATENATE($B$2,\"-\",O$7)","v":"5.°-12"},{"$f":"CONCATENATE($B$2,\"-\",P$7)","v":"5.°-13"},{"$f":"CONCATENATE($B$2,\"-\",Q$7)","v":"5.°-14"},{"$f":"CONCATENATE($B$2,\"-\",R$7)","v":"5.°-15"},{"$f":"CONCATENATE($B$2,\"-\",S$7)","v":"5.°-16"},{"$f":"CONCATENATE($B$2,\"-\",T$7)","v":"5.°-17"},{"$f":"CONCATENATE($B$2,\"-\",U$7)","v":"5.°-18"},{"$f":"CONCATENATE($B$2,\"-\",V$7)","v":"5.°-19"},{"$f":"CONCATENATE($B$2,\"-\",W$7)","v":"5.°-20"},{"$f":"CONCATENATE($B$2,\"-\",X$7)","v":"5.°-21"},{"$f":"CONCATENATE($B$2,\"-\",Y$7)","v":"5.°-22"},{"$f":"CONCATENATE($B$2,\"-\",Z$7)","v":"5.°-23"},{"$f":"CONCATENATE($B$2,\"-\",AA$7)","v":"5.°-24"},{"$f":"CONCATENATE($B$2,\"-\",AB$7)","v":"5.°-25"},null,{"$f":"IFERROR(IF(D24=\"\",\"\",IF((VLOOKUP(AD24,Herramientas!$D$3:$E$227,2,0))=D24,1,0)),\"\")","v":""},{"$f":"IFERROR(IF(E24=\"\",\"\",IF((VLOOKUP(AE24,Herramientas!$D$3:$E$227,2,0))=E24,1,0)),\"\")","v":""},{"$f":"IFERROR(IF(F24=\"\",\"\",IF((VLOOKUP(AF24,Herramientas!$D$3:$E$227,2,0))=F24,1,0)),\"\")","v":""},{"$f":"IFERROR(IF(G24=\"\",\"\",IF((VLOOKUP(AG24,Herramientas!$D$3:$E$227,2,0))=G24,1,0)),\"\")","v":""},{"$f":"IFERROR(IF(H24=\"\",\"\",IF((VLOOKUP(AH24,Herramientas!$D$3:$E$227,2,0))=H24,1,0)),\"\")","v":""},{"$f":"IFERROR(IF(I24=\"\",\"\",IF((VLOOKUP(AI24,Herramientas!$D$3:$E$227,2,0))=I24,1,0)),\"\")","v":""},{"$f":"IFERROR(IF(J24=\"\",\"\",IF((VLOOKUP(AJ24,Herramientas!$D$3:$E$227,2,0))=J24,1,0)),\"\")","v":""},{"$f":"IFERROR(IF(K24=\"\",\"\",IF((VLOOKUP(AK24,Herramientas!$D$3:$E$227,2,0))=K24,1,0)),\"\")","v":""},{"$f":"IFERROR(IF(L24=\"\",\"\",IF((VLOOKUP(AL24,Herramientas!$D$3:$E$227,2,0))=L24,1,0)),\"\")","v":""},{"$f":"IFERROR(IF(M24=\"\",\"\",IF((VLOOKUP(AM24,Herramientas!$D$3:$E$227,2,0))=M24,1,0)),\"\")","v":""},{"$f":"IFERROR(IF(N24=\"\",\"\",IF((VLOOKUP(AN24,Herramientas!$D$3:$E$227,2,0))=N24,1,0)),\"\")","v":""},{"$f":"IFERROR(IF(O24=\"\",\"\",IF((VLOOKUP(AO24,Herramientas!$D$3:$E$227,2,0))=O24,1,0)),\"\")","v":""},{"$f":"IFERROR(IF(P24=\"\",\"\",IF((VLOOKUP(AP24,Herramientas!$D$3:$E$227,2,0))=P24,1,0)),\"\")","v":""},{"$f":"IFERROR(IF(Q24=\"\",\"\",IF((VLOOKUP(AQ24,Herramientas!$D$3:$E$227,2,0))=Q24,1,0)),\"\")","v":""},{"$f":"IFERROR(IF(R24=\"\",\"\",IF((VLOOKUP(AR24,Herramientas!$D$3:$E$227,2,0))=R24,1,0)),\"\")","v":""},{"$f":"IFERROR(IF(S24=\"\",\"\",IF((VLOOKUP(AS24,Herramientas!$D$3:$E$227,2,0))=S24,1,0)),\"\")","v":""},{"$f":"IFERROR(IF(T24=\"\",\"\",IF((VLOOKUP(AT24,Herramientas!$D$3:$E$227,2,0))=T24,1,0)),\"\")","v":""},{"$f":"IFERROR(IF(U24=\"\",\"\",IF((VLOOKUP(AU24,Herramientas!$D$3:$E$227,2,0))=U24,1,0)),\"\")","v":""},{"$f":"IFERROR(IF(V24=\"\",\"\",IF((VLOOKUP(AV24,Herramientas!$D$3:$E$227,2,0))=V24,1,0)),\"\")","v":""},{"$f":"IFERROR(IF(W24=\"\",\"\",IF((VLOOKUP(AW24,Herramientas!$D$3:$E$227,2,0))=W24,1,0)),\"\")","v":""},{"$f":"IFERROR(IF(X24=\"\",\"\",IF((VLOOKUP(AX24,Herramientas!$D$3:$E$227,2,0))=X24,1,0)),\"\")","v":""},{"$f":"IFERROR(IF(Y24=\"\",\"\",IF((VLOOKUP(AY24,Herramientas!$D$3:$E$227,2,0))=Y24,1,0)),\"\")","v":""},{"$f":"IFERROR(IF(Z24=\"\",\"\",IF((VLOOKUP(AZ24,Herramientas!$D$3:$E$227,2,0))=Z24,1,0)),\"\")","v":""},{"$f":"IFERROR(IF(AA24=\"\",\"\",IF((VLOOKUP(BA24,Herramientas!$D$3:$E$227,2,0))=AA24,1,0)),\"\")","v":""},{"$f":"IFERROR(IF(AB24=\"\",\"\",IF((VLOOKUP(BB24,Herramientas!$D$3:$E$227,2,0))=AB24,1,0)),\"\")","v":""},null,0,0,null,"SUMIT18",{"$f":"SUM(BU$8:BU$57)","v":0},{"$f":"COUNTIF(BU$8:BU$57,0)","v":0},0,null,"it10",{"$f":"CV7","v":0},{"$f":"CV12","v":0},"",{"$f":"CV8","v":0},0,"",{"$f":"CV9","v":0},0,"",{"$f":"CV10","v":0},0,""]
[18,null,null,null,null,null,null,null,null,null,null,null,null,null,null,null,null,null,null,null,null,null,null,null,null,null,null,null,null,"5.°-1","5.°-2","5.°-3","5.°-4","5.°-5","5.°-6","5.°-7","5.°-8","5.°-9","5.°-10","5.°-11","5.°-12","5.°-13","5.°-14","5.°-15","5.°-16","5.°-17","5.°-18","5.°-19","5.°-20","5.°-21","5.°-22","5.°-23","5.°-24","5.°-25",null,{"$f":"IFERROR(IF(D25=\"\",\"\",IF((VLOOKUP(AD25,Herramientas!$D$3:$E$227,2,0))=D25,1,0)),\"\")","v":""},{"$f":"IFERROR(IF(E25=\"\",\"\",IF((VLOOKUP(AE25,Herramientas!$D$3:$E$227,2,0))=E25,1,0)),\"\")","v":""},{"$f":"IFERROR(IF(F25=\"\",\"\",IF((VLOOKUP(AF25,Herramientas!$D$3:$E$227,2,0))=F25,1,0)),\"\")","v":""},{"$f":"IFERROR(IF(G25=\"\",\"\",IF((VLOOKUP(AG25,Herramientas!$D$3:$E$227,2,0))=G25,1,0)),\"\")","v":""},{"$f":"IFERROR(IF(H25=\"\",\"\",IF((VLOOKUP(AH25,Herramientas!$D$3:$E$227,2,0))=H25,1,0)),\"\")","v":""},{"$f":"IFERROR(IF(I25=\"\",\"\",IF((VLOOKUP(AI25,Herramientas!$D$3:$E$227,2,0))=I25,1,0)),\"\")","v":""},{"$f":"IFERROR(IF(J25=\"\",\"\",IF((VLOOKUP(AJ25,Herramientas!$D$3:$E$227,2,0))=J25,1,0)),\"\")","v":""},{"$f":"IFERROR(IF(K25=\"\",\"\",IF((VLOOKUP(AK25,Herramientas!$D$3:$E$227,2,0))=K25,1,0)),\"\")","v":""},{"$f":"IFERROR(IF(L25=\"\",\"\",IF((VLOOKUP(AL25,Herramientas!$D$3:$E$227,2,0))=L25,1,0)),\"\")","v":""},{"$f":"IFERROR(IF(M25=\"\",\"\",IF((VLOOKUP(AM25,Herramientas!$D$3:$E$227,2,0))=M25,1,0)),\"\")","v":""},{"$f":"IFERROR(IF(N25=\"\",\"\",IF((VLOOKUP(AN25,Herramientas!$D$3:$E$227,2,0))=N25,1,0)),\"\")","v":""},{"$f":"IFERROR(IF(O25=\"\",\"\",IF((VLOOKUP(AO25,Herramientas!$D$3:$E$227,2,0))=O25,1,0)),\"\")","v":""},{"$f":"IFERROR(IF(P25=\"\",\"\",IF((VLOOKUP(AP25,Herramientas!$D$3:$E$227,2,0))=P25,1,0)),\"\")","v":""},{"$f":"IFERROR(IF(Q25=\"\",\"\",IF((VLOOKUP(AQ25,Herramientas!$D$3:$E$227,2,0))=Q25,1,0)),\"\")","v":""},{"$f":"IFERROR(IF(R25=\"\",\"\",IF((VLOOKUP(AR25,Herramientas!$D$3:$E$227,2,0))=R25,1,0)),\"\")","v":""},{"$f":"IFERROR(IF(S25=\"\",\"\",IF((VLOOKUP(AS25,Herramientas!$D$3:$E$227,2,0))=S25,1,0)),\"\")","v":""},{"$f":"IFERROR(IF(T25=\"\",\"\",IF((VLOOKUP(AT25,Herramientas!$D$3:$E$227,2,0))=T25,1,0)),\"\")","v":""},{"$f":"IFERROR(IF(U25=\"\",\"\",IF((VLOOKUP(AU25,Herramientas!$D$3:$E$227,2,0))=U25,1,0)),\"\")","v":""},{"$f":"IFERROR(IF(V25=\"\",\"\",IF((VLOOKUP(AV25,Herramientas!$D$3:$E$227,2,0))=V25,1,0)),\"\")","v":""},{"$f":"IFERROR(IF(W25=\"\",\"\",IF((VLOOKUP(AW25,Herramientas!$D$3:$E$227,2,0))=W25,1,0)),\"\")","v":""},{"$f":"IFERROR(IF(X25=\"\",\"\",IF((VLOOKUP(AX25,Herramientas!$D$3:$E$227,2,0))=X25,1,0)),\"\")","v":""},{"$f":"IFERROR(IF(Y25=\"\",\"\",IF((VLOOKUP(AY25,Herramientas!$D$3:$E$227,2,0))=Y25,1,0)),\"\")","v":""},{"$f":"IFERROR(IF(Z25=\"\",\"\",IF((VLOOKUP(AZ25,Herramientas!$D$3:$E$227,2,0))=Z25,1,0)),\"\")","v":""},{"$f":"IFERROR(IF(AA25=\"\",\"\",IF((VLOOKUP(BA25,Herramientas!$D$3:$E$227,2,0))=AA25,1,0)),\"\")","v":""},{"$f":"IFERROR(IF(AB25=\"\",\"\",IF((VLOOKUP(BB25,Herramientas!$D$3:$E$227,2,0))=AB25,1,0)),\"\")","v":""},null,0,0,null,"SUMIT19",{"$f":"SUM(BV$8:BV$57)","v":0},{"$f":"COUNTIF(BV$8:BV$57,0)","v":0},0,null,"it11",{"$f":"CW7","v":0},{"$f":"CW12","v":0},"",{"$f":"CW8","v":0},0,"",{"$f":"CW9","v":0},0,"",{"$f":"CW10","v":0},0,""]
[19,null,null,null,null,null,null,null,null,null,null,null,null,null,null,null,null,null,null,null,null,null,null,null,null,null,null,null,null,"5.°-1","5.°-2","5.°-3","5.°-4","5.°-5","5.°-6","5.°-7","5.°-8","5.°-9","5.°-10","5.°-11","5.°-12","5.°-13","5.°-14","5.°-15","5.°-16","5.°-17","5.°-18","5.°-19","5.°-20","5.°-21","5.°-22","5.°-23","5.°-24","5.°-25",null,{"$f":"IFERROR(IF(D26=\"\",\"\",IF((VLOOKUP(AD26,Herramientas!$D$3:$E$227,2,0))=D26,1,0)),\"\")","v":""},{"$f":"IFERROR(IF(E26=\"\",\"\",IF((VLOOKUP(AE26,Herramientas!$D$3:$E$227,2,0))=E26,1,0)),\"\")","v":""},{"$f":"IFERROR(IF(F26=\"\",\"\",IF((VLOOKUP(AF26,Herramientas!$D$3:$E$227,2,0))=F26,1,0)),\"\")","v":""},{"$f":"IFERROR(IF(G26=\"\",\"\",IF((VLOOKUP(AG26,Herramientas!$D$3:$E$227,2,0))=G26,1,0)),\"\")","v":""},{"$f":"IFERROR(IF(H26=\"\",\"\",IF((VLOOKUP(AH26,Herramientas!$D$3:$E$227,2,0))=H26,1,0)),\"\")","v":""},{"$f":"IFERROR(IF(I26=\"\",\"\",IF((VLOOKUP(AI26,Herramientas!$D$3:$E$227,2,0))=I26,1,0)),\"\")","v":""},{"$f":"IFERROR(IF(J26=\"\",\"\",IF((VLOOKUP(AJ26,Herramientas!$D$3:$E$227,2,0))=J26,1,0)),\"\")","v":""},{"$f":"IFERROR(IF(K26=\"\",\"\",IF((VLOOKUP(AK26,Herramientas!$D$3:$E$227,2,0))=K26,1,0)),\"\")","v":""},{"$f":"IFERROR(IF(L26=\"\",\"\",IF((VLOOKUP(AL26,Herramientas!$D$3:$E$227,2,0))=L26,1,0)),\"\")","v":""},{"$f":"IFERROR(IF(M26=\"\",\"\",IF((VLOOKUP(AM26,Herramientas!$D$3:$E$227,2,0))=M26,1,0)),\"\")","v":""},{"$f":"IFERROR(IF(N26=\"\",\"\",IF((VLOOKUP(AN26,Herramientas!$D$3:$E$227,2,0))=N26,1,0)),\"\")","v":""},{"$f":"IFERROR(IF(O26=\"\",\"\",IF((VLOOKUP(AO26,Herramientas!$D$3:$E$227,2,0))=O26,1,0)),\"\")","v":""},{"$f":"IFERROR(IF(P26=\"\",\"\",IF((VLOOKUP(AP26,Herramientas!$D$3:$E$227,2,0))=P26,1,0)),\"\")","v":""},{"$f":"IFERROR(IF(Q26=\"\",\"\",IF((VLOOKUP(AQ26,Herramientas!$D$3:$E$227,2,0))=Q26,1,0)),\"\")","v":""},{"$f":"IFERROR(IF(R26=\"\",\"\",IF((VLOOKUP(AR26,Herramientas!$D$3:$E$227,2,0))=R26,1,0)),\"\")","v":""},{"$f":"IFERROR(IF(S26=\"\",\"\",IF((VLOOKUP(AS26,Herramientas!$D$3:$E$227,2,0))=S26,1,0)),\"\")","v":""},{"$f":"IFERROR(IF(T26=\"\",\"\",IF((VLOOKUP(AT26,Herramientas!$D$3:$E$227,2,0))=T26,1,0)),\"\")","v":""},{"$f":"IFERROR(IF(U26=\"\",\"\",IF((VLOOKUP(AU26,Herramientas!$D$3:$E$227,2,0))=U26,1,0)),\"\")","v":""},{"$f":"IFERROR(IF(V26=\"\",\"\",IF((VLOOKUP(AV26,Herramientas!$D$3:$E$227,2,0))=V26,1,0)),\"\")","v":""},{"$f":"IFERROR(IF(W26=\"\",\"\",IF((VLOOKUP(AW26,Herramientas!$D$3:$E$227,2,0))=W26,1,0)),\"\")","v":""},{"$f":"IFERROR(IF(X26=\"\",\"\",IF((VLOOKUP(AX26,Herramientas!$D$3:$E$227,2,0))=X26,1,0)),\"\")","v":""},{"$f":"IFERROR(IF(Y26=\"\",\"\",IF((VLOOKUP(AY26,Herramientas!$D$3:$E$227,2,0))=Y26,1,0)),\"\")","v":""},{"$f":"IFERROR(IF(Z26=\"\",\"\",IF((VLOOKUP(AZ26,Herramientas!$D$3:$E$227,2,0))=Z26,1,0)),\"\")","v":""},{"$f":"IFERROR(IF(AA26=\"\",\"\",IF((VLOOKUP(BA26,Herramientas!$D$3:$E$227,2,0))=AA26,1,0)),\"\")","v":""},{"$f":"IFERROR(IF(AB26=\"\",\"\",IF((VLOOKUP(BB26,Herramientas!$D$3:$E$227,2,0))=AB26,1,0)),\"\")","v":""},null,0,0,null,"SUMIT20",{"$f":"SUM(BW$8:BW$57)","v":0},{"$f":"COUNTIF(BW$8:BW$57,0)","v":0},0,null,"it12",{"$f":"CX7","v":0},{"$f":"CX12","v":0},"",{"$f":"CX8","v":0},0,"",{"$f":"CX9","v":0},0,"",{"$f":"CX10","v":0},0,""]
[20,null,null,null,null,null,null,null,null,null,null,null,null,null,null,null,null,null,null,null,null,null,null,null,null,null,null,null,null,{"$f":"CONCATENATE($B$2,\"-\",D$7)","v":"5.°-1"},"5.°-2","5.°-3","5.°-4","5.°-5","5.°-6","5.°-7","5.°-8","5.°-9","5.°-10","5.°-11","5.°-12","5.°-13","5.°-14","5.°-15","5.°-16","5.°-17","5.°-18","5.°-19","5.°-20","5.°-21","5.°-22","5.°-23","5.°-24","5.°-25",null,{"$f":"IFERROR(IF(D27=\"\",\"\",IF((VLOOKUP(AD27,Herramientas!$D$3:$E$227,2,0))=D27,1,0)),\"\")","v":""},{"$f":"IFERROR(IF(E27=\"\",\"\",IF((VLOOKUP(AE27,Herramientas!$D$3:$E$227,2,0))=E27,1,0)),\"\")","v":""},{"$f":"IFERROR(IF(F27=\"\",\"\",IF((VLOOKUP(AF27,Herramientas!$D$3:$E$227,2,0))=F27,1,0)),\"\")","v":""},{"$f":"IFERROR(IF(G27=\"\",\"\",IF((VLOOKUP(AG27,Herramientas!$D$3:$E$227,2,0))=G27,1,0)),\"\")","v":""},{"$f":"IFERROR(IF(H27=\"\",\"\",IF((VLOOKUP(AH27,Herramientas!$D$3:$E$227,2,0))=H27,1,0)),\"\")","v":""},{"$f":"IFERROR(IF(I27=\"\",\"\",IF((VLOOKUP(AI27,Herramientas!$D$3:$E$227,2,0))=I27,1,0)),\"\")","v":""},{"$f":"IFERROR(IF(J27=\"\",\"\",IF((VLOOKUP(AJ27,Herramientas!$D$3:$E$227,2,0))=J27,1,0)),\"\")","v":""},{"$f":"IFERROR(IF(K27=\"\",\"\",IF((VLOOKUP(AK27,Herramientas!$D$3:$E$227,2,0))=K27,1,0)),\"\")","v":""},{"$f":"IFERROR(IF(L27=\"\",\"\",IF((VLOOKUP(AL27,Herramientas!$D$3:$E$227,2,0))=L27,1,0)),\"\")","v":""},{"$f":"IFERROR(IF(M27=\"\",\"\",IF((VLOOKUP(AM27,Herramientas!$D$3:$E$227,2,0))=M27,1,0)),\"\")","v":""},{"$f":"IFERROR(IF(N27=\"\",\"\",IF((VLOOKUP(AN27,Herramientas!$D$3:$E$227,2,0))=N27,1,0)),\"\")","v":""},{"$f":"IFERROR(IF(O27=\"\",\"\",IF((VLOOKUP(AO27,Herramientas!$D$3:$E$227,2,0))=O27,1,0)),\"\")","v":""},{"$f":"IFERROR(IF(P27=\"\",\"\",IF((VLOOKUP(AP27,Herramientas!$D$3:$E$227,2,0))=P27,1,0)),\"\")","v":""},{"$f":"IFERROR(IF(Q27=\"\",\"\",IF((VLOOKUP(AQ27,Herramientas!$D$3:$E$227,2,0))=Q27,1,0)),\"\")","v":""},{"$f":"IFERROR(IF(R27=\"\",\"\",IF((VLOOKUP(AR27,Herramientas!$D$3:$E$227,2,0))=R27,1,0)),\"\")","v":""},{"$f":"IFERROR(IF(S27=\"\",\"\",IF((VLOOKUP(AS27,Herramientas!$D$3:$E$227,2,0))=S27,1,0)),\"\")","v":""},{"$f":"IFERROR(IF(T27=\"\",\"\",IF((VLOOKUP(AT27,Herramientas!$D$3:$E$227,2,0))=T27,1,0)),\"\")","v":""},{"$f":"IFERROR(IF(U27=\"\",\"\",IF((VLOOKUP(AU27,Herramientas!$D$3:$E$227,2,0))=U27,1,0)),\"\")","v":""},{"$f":"IFERROR(IF(V27=\"\",\"\",IF((VLOOKUP(AV27,Herramientas!$D$3:$E$227,2,0))=V27,1,0)),\"\")","v":""},{"$f":"IFERROR(IF(W27=\"\",\"\",IF((VLOOKUP(AW27,Herramientas!$D$3:$E$227,2,0))=W27,1,0)),\"\")","v":""},{"$f":"IFERROR(IF(X27=\"\",\"\",IF((VLOOKUP(AX27,Herramientas!$D$3:$E$227,2,0))=X27,1,0)),\"\")","v":""},{"$f":"IFERROR(IF(Y27=\"\",\"\",IF((VLOOKUP(AY27,Herramientas!$D$3:$E$227,2,0))=Y27,1,0)),\"\")","v":""},{"$f":"IFERROR(IF(Z27=\"\",\"\",IF((VLOOKUP(AZ27,Herramientas!$D$3:$E$227,2,0))=Z27,1,0)),\"\")","v":""},{"$f":"IFERROR(IF(AA27=\"\",\"\",IF((VLOOKUP(BA27,Herramientas!$D$3:$E$227,2,0))=AA27,1,0)),\"\")","v":""},{"$f":"IFERROR(IF(AB27=\"\",\"\",IF((VLOOKUP(BB27,Herramientas!$D$3:$E$227,2,0))=AB27,1,0)),\"\")","v":""},null,0,0,null,"SUMIT21",{"$f":"SUM(BX$8:BX$57)","v":0},{"$f":"COUNTIF(BX$8:BX$57,0)","v":0},0,null,"it13",{"$f":"CY7","v":0},{"$f":"CY12","v":0},"",{"$f":"CY8","v":0},0,"",{"$f":"CY9","v":0},0,"",{"$f":"CY10","v":0},0,""]
[21,null,null,null,null,null,null,null,null,null,null,null,null,null,null,null,null,null,null,null,null,null,null,null,null,null,null,null,null,"5.°-1","5.°-2","5.°-3","5.°-4","5.°-5","5.°-6","5.°-7","5.°-8","5.°-9","5.°-10","5.°-11","5.°-12","5.°-13","5.°-14","5.°-15","5.°-16","5.°-17","5.°-18","5.°-19","5.°-20","5.°-21","5.°-22","5.°-23","5.°-24","5.°-25",null,{"$f":"IFERROR(IF(D28=\"\",\"\",IF((VLOOKUP(AD28,Herramientas!$D$3:$E$227,2,0))=D28,1,0)),\"\")","v":""},{"$f":"IFERROR(IF(E28=\"\",\"\",IF((VLOOKUP(AE28,Herramientas!$D$3:$E$227,2,0))=E28,1,0)),\"\")","v":""},{"$f":"IFERROR(IF(F28=\"\",\"\",IF((VLOOKUP(AF28,Herramientas!$D$3:$E$227,2,0))=F28,1,0)),\"\")","v":""},{"$f":"IFERROR(IF(G28=\"\",\"\",IF((VLOOKUP(AG28,Herramientas!$D$3:$E$227,2,0))=G28,1,0)),\"\")","v":""},{"$f":"IFERROR(IF(H28=\"\",\"\",IF((VLOOKUP(AH28,Herramientas!$D$3:$E$227,2,0))=H28,1,0)),\"\")","v":""},{"$f":"IFERROR(IF(I28=\"\",\"\",IF((VLOOKUP(AI28,Herramientas!$D$3:$E$227,2,0))=I28,1,0)),\"\")","v":""},{"$f":"IFERROR(IF(J28=\"\",\"\",IF((VLOOKUP(AJ28,Herramientas!$D$3:$E$227,2,0))=J28,1,0)),\"\")","v":""},{"$f":"IFERROR(IF(K28=\"\",\"\",IF((VLOOKUP(AK28,Herramientas!$D$3:$E$227,2,0))=K28,1,0)),\"\")","v":""},{"$f":"IFERROR(IF(L28=\"\",\"\",IF((VLOOKUP(AL28,Herramientas!$D$3:$E$227,2,0))=L28,1,0)),\"\")","v":""},{"$f":"IFERROR(IF(M28=\"\",\"\",IF((VLOOKUP(AM28,Herramientas!$D$3:$E$227,2,0))=M28,1,0)),\"\")","v":""},{"$f":"IFERROR(IF(N28=\"\",\"\",IF((VLOOKUP(AN28,Herramientas!$D$3:$E$227,2,0))=N28,1,0)),\"\")","v":""},{"$f":"IFERROR(IF(O28=\"\",\"\",IF((VLOOKUP(AO28,Herramientas!$D$3:$E$227,2,0))=O28,1,0)),\"\")","v":""},{"$f":"IFERROR(IF(P28=\"\",\"\",IF((VLOOKUP(AP28,Herramientas!$D$3:$E$227,2,0))=P28,1,0)),\"\")","v":""},{"$f":"IFERROR(IF(Q28=\"\",\"\",IF((VLOOKUP(AQ28,Herramientas!$D$3:$E$227,2,0))=Q28,1,0)),\"\")","v":""},{"$f":"IFERROR(IF(R28=\"\",\"\",IF((VLOOKUP(AR28,Herramientas!$D$3:$E$227,2,0))=R28,1,0)),\"\")","v":""},{"$f":"IFERROR(IF(S28=\"\",\"\",IF((VLOOKUP(AS28,Herramientas!$D$3:$E$227,2,0))=S28,1,0)),\"\")","v":""},{"$f":"IFERROR(IF(T28=\"\",\"\",IF((VLOOKUP(AT28,Herramientas!$D$3:$E$227,2,0))=T28,1,0)),\"\")","v":""},{"$f":"IFERROR(IF(U28=\"\",\"\",IF((VLOOKUP(AU28,Herramientas!$D$3:$E$227,2,0))=U28,1,0)),\"\")","v":""},{"$f":"IFERROR(IF(V28=\"\",\"\",IF((VLOOKUP(AV28,Herramientas!$D$3:$E$227,2,0))=V28,1,0)),\"\")","v":""},{"$f":"IFERROR(IF(W28=\"\",\"\",IF((VLOOKUP(AW28,Herramientas!$D$3:$E$227,2,0))=W28,1,0)),\"\")","v":""},{"$f":"IFERROR(IF(X28=\"\",\"\",IF((VLOOKUP(AX28,Herramientas!$D$3:$E$227,2,0))=X28,1,0)),\"\")","v":""},{"$f":"IFERROR(IF(Y28=\"\",\"\",IF((VLOOKUP(AY28,Herramientas!$D$3:$E$227,2,0))=Y28,1,0)),\"\")","v":""},{"$f":"IFERROR(IF(Z28=\"\",\"\",IF((VLOOKUP(AZ28,Herramientas!$D$3:$E$227,2,0))=Z28,1,0)),\"\")","v":""},{"$f":"IFERROR(IF(AA28=\"\",\"\",IF((VLOOKUP(BA28,Herramientas!$D$3:$E$227,2,0))=AA28,1,0)),\"\")","v":""},{"$f":"IFERROR(IF(AB28=\"\",\"\",IF((VLOOKUP(BB28,Herramientas!$D$3:$E$227,2,0))=AB28,1,0)),\"\")","v":""},null,0,0,null,"SUMIT22",{"$f":"SUM(BY$8:BY$57)","v":0},{"$f":"COUNTIF(BY$8:BY$57,0)","v":0},0,null,"it14",{"$f":"CZ7","v":0},{"$f":"CZ12","v":0},"",{"$f":"CZ8","v":0},0,"",{"$f":"CZ9","v":0},0,"",{"$f":"CZ10","v":0},0,""]
[22,null,null,null,null,null,null,null,null,null,null,null,null,null,null,null,null,null,null,null,null,null,null,null,null,null,null,null,null,"5.°-1","5.°-2","5.°-3","5.°-4","5.°-5","5.°-6","5.°-7","5.°-8","5.°-9","5.°-10","5.°-11","5.°-12","5.°-13","5.°-14","5.°-15","5.°-16","5.°-17","5.°-18","5.°-19","5.°-20","5.°-21","5.°-22","5.°-23","5.°-24","5.°-25",null,{"$f":"IFERROR(IF(D29=\"\",\"\",IF((VLOOKUP(AD29,Herramientas!$D$3:$E$227,2,0))=D29,1,0)),\"\")","v":""},{"$f":"IFERROR(IF(E29=\"\",\"\",IF((VLOOKUP(AE29,Herramientas!$D$3:$E$227,2,0))=E29,1,0)),\"\")","v":""},{"$f":"IFERROR(IF(F29=\"\",\"\",IF((VLOOKUP(AF29,Herramientas!$D$3:$E$227,2,0))=F29,1,0)),\"\")","v":""},{"$f":"IFERROR(IF(G29=\"\",\"\",IF((VLOOKUP(AG29,Herramientas!$D$3:$E$227,2,0))=G29,1,0)),\"\")","v":""},{"$f":"IFERROR(IF(H29=\"\",\"\",IF((VLOOKUP(AH29,Herramientas!$D$3:$E$227,2,0))=H29,1,0)),\"\")","v":""},{"$f":"IFERROR(IF(I29=\"\",\"\",IF((VLOOKUP(AI29,Herramientas!$D$3:$E$227,2,0))=I29,1,0)),\"\")","v":""},{"$f":"IFERROR(IF(J29=\"\",\"\",IF((VLOOKUP(AJ29,Herramientas!$D$3:$E$227,2,0))=J29,1,0)),\"\")","v":""},{"$f":"IFERROR(IF(K29=\"\",\"\",IF((VLOOKUP(AK29,Herramientas!$D$3:$E$227,2,0))=K29,1,0)),\"\")","v":""},{"$f":"IFERROR(IF(L29=\"\",\"\",IF((VLOOKUP(AL29,Herramientas!$D$3:$E$227,2,0))=L29,1,0)),\"\")","v":""},{"$f":"IFERROR(IF(M29=\"\",\"\",IF((VLOOKUP(AM29,Herramientas!$D$3:$E$227,2,0))=M29,1,0)),\"\")","v":""},{"$f":"IFERROR(IF(N29=\"\",\"\",IF((VLOOKUP(AN29,Herramientas!$D$3:$E$227,2,0))=N29,1,0)),\"\")","v":""},{"$f":"IFERROR(IF(O29=\"\",\"\",IF((VLOOKUP(AO29,Herramientas!$D$3:$E$227,2,0))=O29,1,0)),\"\")","v":""},{"$f":"IFERROR(IF(P29=\"\",\"\",IF((VLOOKUP(AP29,Herramientas!$D$3:$E$227,2,0))=P29,1,0)),\"\")","v":""},{"$f":"IFERROR(IF(Q29=\"\",\"\",IF((VLOOKUP(AQ29,Herramientas!$D$3:$E$227,2,0))=Q29,1,0)),\"\")","v":""},{"$f":"IFERROR(IF(R29=\"\",\"\",IF((VLOOKUP(AR29,Herramientas!$D$3:$E$227,2,0))=R29,1,0)),\"\")","v":""},{"$f":"IFERROR(IF(S29=\"\",\"\",IF((VLOOKUP(AS29,Herramientas!$D$3:$E$227,2,0))=S29,1,0)),\"\")","v":""},{"$f":"IFERROR(IF(T29=\"\",\"\",IF((VLOOKUP(AT29,Herramientas!$D$3:$E$227,2,0))=T29,1,0)),\"\")","v":""},{"$f":"IFERROR(IF(U29=\"\",\"\",IF((VLOOKUP(AU29,Herramientas!$D$3:$E$227,2,0))=U29,1,0)),\"\")","v":""},{"$f":"IFERROR(IF(V29=\"\",\"\",IF((VLOOKUP(AV29,Herramientas!$D$3:$E$227,2,0))=V29,1,0)),\"\")","v":""},{"$f":"IFERROR(IF(W29=\"\",\"\",IF((VLOOKUP(AW29,Herramientas!$D$3:$E$227,2,0))=W29,1,0)),\"\")","v":""},{"$f":"IFERROR(IF(X29=\"\",\"\",IF((VLOOKUP(AX29,Herramientas!$D$3:$E$227,2,0))=X29,1,0)),\"\")","v":""},{"$f":"IFERROR(IF(Y29=\"\",\"\",IF((VLOOKUP(AY29,Herramientas!$D$3:$E$227,2,0))=Y29,1,0)),\"\")","v":""},{"$f":"IFERROR(IF(Z29=\"\",\"\",IF((VLOOKUP(AZ29,Herramientas!$D$3:$E$227,2,0))=Z29,1,0)),\"\")","v":""},{"$f":"IFERROR(IF(AA29=\"\",\"\",IF((VLOOKUP(BA29,Herramientas!$D$3:$E$227,2,0))=AA29,1,0)),\"\")","v":""},{"$f":"IFERROR(IF(AB29=\"\",\"\",IF((VLOOKUP(BB29,Herramientas!$D$3:$E$227,2,0))=AB29,1,0)),\"\")","v":""},null,0,0,null,"SUMIT23",{"$f":"SUM(BZ$8:BZ$57)","v":0},{"$f":"COUNTIF(BZ$8:BZ$57,0)","v":0},0,null,"it15",{"$f":"DA7","v":0},{"$f":"DA12","v":0},"",{"$f":"DA8","v":0},0,"",{"$f":"DA9","v":0},0,"",{"$f":"DA10","v":0},0,""]
[23,null,null,null,null,null,null,null,null,null,null,null,null,null,null,null,null,null,null,null,null,null,null,null,null,null,null,null,null,"5.°-1","5.°-2","5.°-3","5.°-4","5.°-5","5.°-6","5.°-7","5.°-8","5.°-9","5.°-10","5.°-11","5.°-12","5.°-13","5.°-14","5.°-15","5.°-16","5.°-17","5.°-18","5.°-19","5.°-20","5.°-21","5.°-22","5.°-23","5.°-24","5.°-25",null,{"$f":"IFERROR(IF(D30=\"\",\"\",IF((VLOOKUP(AD30,Herramientas!$D$3:$E$227,2,0))=D30,1,0)),\"\")","v":""},{"$f":"IFERROR(IF(E30=\"\",\"\",IF((VLOOKUP(AE30,Herramientas!$D$3:$E$227,2,0))=E30,1,0)),\"\")","v":""},{"$f":"IFERROR(IF(F30=\"\",\"\",IF((VLOOKUP(AF30,Herramientas!$D$3:$E$227,2,0))=F30,1,0)),\"\")","v":""},{"$f":"IFERROR(IF(G30=\"\",\"\",IF((VLOOKUP(AG30,Herramientas!$D$3:$E$227,2,0))=G30,1,0)),\"\")","v":""},{"$f":"IFERROR(IF(H30=\"\",\"\",IF((VLOOKUP(AH30,Herramientas!$D$3:$E$227,2,0))=H30,1,0)),\"\")","v":""},{"$f":"IFERROR(IF(I30=\"\",\"\",IF((VLOOKUP(AI30,Herramientas!$D$3:$E$227,2,0))=I30,1,0)),\"\")","v":""},{"$f":"IFERROR(IF(J30=\"\",\"\",IF((VLOOKUP(AJ30,Herramientas!$D$3:$E$227,2,0))=J30,1,0)),\"\")","v":""},{"$f":"IFERROR(IF(K30=\"\",\"\",IF((VLOOKUP(AK30,Herramientas!$D$3:$E$227,2,0))=K30,1,0)),\"\")","v":""},{"$f":"IFERROR(IF(L30=\"\",\"\",IF((VLOOKUP(AL30,Herramientas!$D$3:$E$227,2,0))=L30,1,0)),\"\")","v":""},{"$f":"IFERROR(IF(M30=\"\",\"\",IF((VLOOKUP(AM30,Herramientas!$D$3:$E$227,2,0))=M30,1,0)),\"\")","v":""},{"$f":"IFERROR(IF(N30=\"\",\"\",IF((VLOOKUP(AN30,Herramientas!$D$3:$E$227,2,0))=N30,1,0)),\"\")","v":""},{"$f":"IFERROR(IF(O30=\"\",\"\",IF((VLOOKUP(AO30,Herramientas!$D$3:$E$227,2,0))=O30,1,0)),\"\")","v":""},{"$f":"IFERROR(IF(P30=\"\",\"\",IF((VLOOKUP(AP30,Herramientas!$D$3:$E$227,2,0))=P30,1,0)),\"\")","v":""},{"$f":"IFERROR(IF(Q30=\"\",\"\",IF((VLOOKUP(AQ30,Herramientas!$D$3:$E$227,2,0))=Q30,1,0)),\"\")","v":""},{"$f":"IFERROR(IF(R30=\"\",\"\",IF((VLOOKUP(AR30,Herramientas!$D$3:$E$227,2,0))=R30,1,0)),\"\")","v":""},{"$f":"IFERROR(IF(S30=\"\",\"\",IF((VLOOKUP(AS30,Herramientas!$D$3:$E$227,2,0))=S30,1,0)),\"\")","v":""},{"$f":"IFERROR(IF(T30=\"\",\"\",IF((VLOOKUP(AT30,Herramientas!$D$3:$E$227,2,0))=T30,1,0)),\"\")","v":""},{"$f":"IFERROR(IF(U30=\"\",\"\",IF((VLOOKUP(AU30,Herramientas!$D$3:$E$227,2,0))=U30,1,0)),\"\")","v":""},{"$f":"IFERROR(IF(V30=\"\",\"\",IF((VLOOKUP(AV30,Herramientas!$D$3:$E$227,2,0))=V30,1,0)),\"\")","v":""},{"$f":"IFERROR(IF(W30=\"\",\"\",IF((VLOOKUP(AW30,Herramientas!$D$3:$E$227,2,0))=W30,1,0)),\"\")","v":""},{"$f":"IFERROR(IF(X30=\"\",\"\",IF((VLOOKUP(AX30,Herramientas!$D$3:$E$227,2,0))=X30,1,0)),\"\")","v":""},{"$f":"IFERROR(IF(Y30=\"\",\"\",IF((VLOOKUP(AY30,Herramientas!$D$3:$E$227,2,0))=Y30,1,0)),\"\")","v":""},{"$f":"IFERROR(IF(Z30=\"\",\"\",IF((VLOOKUP(AZ30,Herramientas!$D$3:$E$227,2,0))=Z30,1,0)),\"\")","v":""},{"$f":"IFERROR(IF(AA30=\"\",\"\",IF((VLOOKUP(BA30,Herramientas!$D$3:$E$227,2,0))=AA30,1,0)),\"\")","v":""},{"$f":"IFERROR(IF(AB30=\"\",\"\",IF((VLOOKUP(BB30,Herramientas!$D$3:$E$227,2,0))=AB30,1,0)),\"\")","v":""},null,0,0,null,"SUMIT24",{"$f":"SUM(CA$8:CA$57)","v":0},{"$f":"COUNTIF(CA$8:CA$57,0)","v":0},0,null,"it16",{"$f":"DB7","v":0},{"$f":"DB12","v":0},"",{"$f":"DB8","v":0},0,"",{"$f":"DB9","v":0},0,"",{"$f":"DB10","v":0},0,""]
[24,null,null,null,null,null,null,null,null,null,null,null,null,null,null,null,null,null,null,null,null,null,null,null,null,null,null,null,null,"5.°-1","5.°-2","5.°-3","5.°-4","5.°-5","5.°-6","5.°-7","5.°-8","5.°-9","5.°-10","5.°-11","5.°-12","5.°-13","5.°-14","5.°-15","5.°-16","5.°-17","5.°-18","5.°-19","5.°-20","5.°-21","5.°-22","5.°-23","5.°-24","5.°-25",null,{"$f":"IFERROR(IF(D31=\"\",\"\",IF((VLOOKUP(AD31,Herramientas!$D$3:$E$227,2,0))=D31,1,0)),\"\")","v":""},{"$f":"IFERROR(IF(E31=\"\",\"\",IF((VLOOKUP(AE31,Herramientas!$D$3:$E$227,2,0))=E31,1,0)),\"\")","v":""},{"$f":"IFERROR(IF(F31=\"\",\"\",IF((VLOOKUP(AF31,Herramientas!$D$3:$E$227,2,0))=F31,1,0)),\"\")","v":""},{"$f":"IFERROR(IF(G31=\"\",\"\",IF((VLOOKUP(AG31,Herramientas!$D$3:$E$227,2,0))=G31,1,0)),\"\")","v":""},{"$f":"IFERROR(IF(H31=\"\",\"\",IF((VLOOKUP(AH31,Herramientas!$D$3:$E$227,2,0))=H31,1,0)),\"\")","v":""},{"$f":"IFERROR(IF(I31=\"\",\"\",IF((VLOOKUP(AI31,Herramientas!$D$3:$E$227,2,0))=I31,1,0)),\"\")","v":""},{"$f":"IFERROR(IF(J31=\"\",\"\",IF((VLOOKUP(AJ31,Herramientas!$D$3:$E$227,2,0))=J31,1,0)),\"\")","v":""},{"$f":"IFERROR(IF(K31=\"\",\"\",IF((VLOOKUP(AK31,Herramientas!$D$3:$E$227,2,0))=K31,1,0)),\"\")","v":""},{"$f":"IFERROR(IF(L31=\"\",\"\",IF((VLOOKUP(AL31,Herramientas!$D$3:$E$227,2,0))=L31,1,0)),\"\")","v":""},{"$f":"IFERROR(IF(M31=\"\",\"\",IF((VLOOKUP(AM31,Herramientas!$D$3:$E$227,2,0))=M31,1,0)),\"\")","v":""},{"$f":"IFERROR(IF(N31=\"\",\"\",IF((VLOOKUP(AN31,Herramientas!$D$3:$E$227,2,0))=N31,1,0)),\"\")","v":""},{"$f":"IFERROR(IF(O31=\"\",\"\",IF((VLOOKUP(AO31,Herramientas!$D$3:$E$227,2,0))=O31,1,0)),\"\")","v":""},{"$f":"IFERROR(IF(P31=\"\",\"\",IF((VLOOKUP(AP31,Herramientas!$D$3:$E$227,2,0))=P31,1,0)),\"\")","v":""},{"$f":"IFERROR(IF(Q31=\"\",\"\",IF((VLOOKUP(AQ31,Herramientas!$D$3:$E$227,2,0))=Q31,1,0)),\"\")","v":""},{"$f":"IFERROR(IF(R31=\"\",\"\",IF((VLOOKUP(AR31,Herramientas!$D$3:$E$227,2,0))=R31,1,0)),\"\")","v":""},{"$f":"IFERROR(IF(S31=\"\",\"\",IF((VLOOKUP(AS31,Herramientas!$D$3:$E$227,2,0))=S31,1,0)),\"\")","v":""},{"$f":"IFERROR(IF(T31=\"\",\"\",IF((VLOOKUP(AT31,Herramientas!$D$3:$E$227,2,0))=T31,1,0)),\"\")","v":""},{"$f":"IFERROR(IF(U31=\"\",\"\",IF((VLOOKUP(AU31,Herramientas!$D$3:$E$227,2,0))=U31,1,0)),\"\")","v":""},{"$f":"IFERROR(IF(V31=\"\",\"\",IF((VLOOKUP(AV31,Herramientas!$D$3:$E$227,2,0))=V31,1,0)),\"\")","v":""},{"$f":"IFERROR(IF(W31=\"\",\"\",IF((VLOOKUP(AW31,Herramientas!$D$3:$E$227,2,0))=W31,1,0)),\"\")","v":""},{"$f":"IFERROR(IF(X31=\"\",\"\",IF((VLOOKUP(AX31,Herramientas!$D$3:$E$227,2,0))=X31,1,0)),\"\")","v":""},{"$f":"IFERROR(IF(Y31=\"\",\"\",IF((VLOOKUP(AY31,Herramientas!$D$3:$E$227,2,0))=Y31,1,0)),\"\")","v":""},{"$f":"IFERROR(IF(Z31=\"\",\"\",IF((VLOOKUP(AZ31,Herramientas!$D$3:$E$227,2,0))=Z31,1,0)),\"\")","v":""},{"$f":"IFERROR(IF(AA31=\"\",\"\",IF((VLOOKUP(BA31,Herramientas!$D$3:$E$227,2,0))=AA31,1,0)),\"\")","v":""},{"$f":"IFERROR(IF(AB31=\"\",\"\",IF((VLOOKUP(BB31,Herramientas!$D$3:$E$227,2,0))=AB31,1,0)),\"\")","v":""},null,0,0,null,"SUMIT25",{"$f":"SUM(CB$8:CB$57)","v":0},{"$f":"COUNTIF(CB$8:CB$57,0)","v":0},0,null,"it17",{"$f":"DC7","v":0},{"$f":"DC12","v":0},"",{"$f":"DC8","v":0},0,"",{"$f":"DC9","v":0},0,"",{"$f":"DC10","v":0},0,""]
[25,null,null,null,null,null,null,null,null,null,null,null,null,null,null,null,null,null,null,null,null,null,null,null,null,null,null,null,null,"5.°-1","5.°-2","5.°-3","5.°-4","5.°-5","5.°-6","5.°-7","5.°-8","5.°-9","5.°-10","5.°-11","5.°-12","5.°-13","5.°-14","5.°-15","5.°-16","5.°-17","5.°-18","5.°-19","5.°-20","5.°-21","5.°-22","5.°-23","5.°-24","5.°-25",null,{"$f":"IFERROR(IF(D32=\"\",\"\",IF((VLOOKUP(AD32,Herramientas!$D$3:$E$227,2,0))=D32,1,0)),\"\")","v":""},{"$f":"IFERROR(IF(E32=\"\",\"\",IF((VLOOKUP(AE32,Herramientas!$D$3:$E$227,2,0))=E32,1,0)),\"\")","v":""},{"$f":"IFERROR(IF(F32=\"\",\"\",IF((VLOOKUP(AF32,Herramientas!$D$3:$E$227,2,0))=F32,1,0)),\"\")","v":""},{"$f":"IFERROR(IF(G32=\"\",\"\",IF((VLOOKUP(AG32,Herramientas!$D$3:$E$227,2,0))=G32,1,0)),\"\")","v":""},{"$f":"IFERROR(IF(H32=\"\",\"\",IF((VLOOKUP(AH32,Herramientas!$D$3:$E$227,2,0))=H32,1,0)),\"\")","v":""},{"$f":"IFERROR(IF(I32=\"\",\"\",IF((VLOOKUP(AI32,Herramientas!$D$3:$E$227,2,0))=I32,1,0)),\"\")","v":""},{"$f":"IFERROR(IF(J32=\"\",\"\",IF((VLOOKUP(AJ32,Herramientas!$D$3:$E$227,2,0))=J32,1,0)),\"\")","v":""},{"$f":"IFERROR(IF(K32=\"\",\"\",IF((VLOOKUP(AK32,Herramientas!$D$3:$E$227,2,0))=K32,1,0)),\"\")","v":""},{"$f":"IFERROR(IF(L32=\"\",\"\",IF((VLOOKUP(AL32,Herramientas!$D$3:$E$227,2,0))=L32,1,0)),\"\")","v":""},{"$f":"IFERROR(IF(M32=\"\",\"\",IF((VLOOKUP(AM32,Herramientas!$D$3:$E$227,2,0))=M32,1,0)),\"\")","v":""},{"$f":"IFERROR(IF(N32=\"\",\"\",IF((VLOOKUP(AN32,Herramientas!$D$3:$E$227,2,0))=N32,1,0)),\"\")","v":""},{"$f":"IFERROR(IF(O32=\"\",\"\",IF((VLOOKUP(AO32,Herramientas!$D$3:$E$227,2,0))=O32,1,0)),\"\")","v":""},{"$f":"IFERROR(IF(P32=\"\",\"\",IF((VLOOKUP(AP32,Herramientas!$D$3:$E$227,2,0))=P32,1,0)),\"\")","v":""},{"$f":"IFERROR(IF(Q32=\"\",\"\",IF((VLOOKUP(AQ32,Herramientas!$D$3:$E$227,2,0))=Q32,1,0)),\"\")","v":""},{"$f":"IFERROR(IF(R32=\"\",\"\",IF((VLOOKUP(AR32,Herramientas!$D$3:$E$227,2,0))=R32,1,0)),\"\")","v":""},{"$f":"IFERROR(IF(S32=\"\",\"\",IF((VLOOKUP(AS32,Herramientas!$D$3:$E$227,2,0))=S32,1,0)),\"\")","v":""},{"$f":"IFERROR(IF(T32=\"\",\"\",IF((VLOOKUP(AT32,Herramientas!$D$3:$E$227,2,0))=T32,1,0)),\"\")","v":""},{"$f":"IFERROR(IF(U32=\"\",\"\",IF((VLOOKUP(AU32,Herramientas!$D$3:$E$227,2,0))=U32,1,0)),\"\")","v":""},{"$f":"IFERROR(IF(V32=\"\",\"\",IF((VLOOKUP(AV32,Herramientas!$D$3:$E$227,2,0))=V32,1,0)),\"\")","v":""},{"$f":"IFERROR(IF(W32=\"\",\"\",IF((VLOOKUP(AW32,Herramientas!$D$3:$E$227,2,0))=W32,1,0)),\"\")","v":""},{"$f":"IFERROR(IF(X32=\"\",\"\",IF((VLOOKUP(AX32,Herramientas!$D$3:$E$227,2,0))=X32,1,0)),\"\")","v":""},{"$f":"IFERROR(IF(Y32=\"\",\"\",IF((VLOOKUP(AY32,Herramientas!$D$3:$E$227,2,0))=Y32,1,0)),\"\")","v":""},{"$f":"IFERROR(IF(Z32=\"\",\"\",IF((VLOOKUP(AZ32,Herramientas!$D$3:$E$227,2,0))=Z32,1,0)),\"\")","v":""},{"$f":"IFERROR(IF(AA32=\"\",\"\",IF((VLOOKUP(BA32,Herramientas!$D$3:$E$227,2,0))=AA32,1,0)),\"\")","v":""},{"$f":"IFERROR(IF(AB32=\"\",\"\",IF((VLOOKUP(BB32,Herramientas!$D$3:$E$227,2,0))=AB32,1,0)),\"\")","v":""},null,0,0,null,null,null,null,null,null,"it18",{"$f":"DD7","v":0},{"$f":"DD12","v":0},"",{"$f":"DD8","v":0},0,"",{"$f":"DD9","v":0},0,"",{"$f":"DD10","v":0},0,""]
[26,null,null,null,null,null,null,null,null,null,null,null,null,null,null,null,null,null,null,null,null,null,null,null,null,null,null,null,null,"5.°-1","5.°-2","5.°-3","5.°-4","5.°-5","5.°-6","5.°-7","5.°-8","5.°-9","5.°-10","5.°-11","5.°-12","5.°-13","5.°-14","5.°-15","5.°-16","5.°-17","5.°-18","5.°-19","5.°-20","5.°-21","5.°-22","5.°-23","5.°-24","5.°-25",null,{"$f":"IFERROR(IF(D33=\"\",\"\",IF((VLOOKUP(AD33,Herramientas!$D$3:$E$227,2,0))=D33,1,0)),\"\")","v":""},{"$f":"IFERROR(IF(E33=\"\",\"\",IF((VLOOKUP(AE33,Herramientas!$D$3:$E$227,2,0))=E33,1,0)),\"\")","v":""},{"$f":"IFERROR(IF(F33=\"\",\"\",IF((VLOOKUP(AF33,Herramientas!$D$3:$E$227,2,0))=F33,1,0)),\"\")","v":""},{"$f":"IFERROR(IF(G33=\"\",\"\",IF((VLOOKUP(AG33,Herramientas!$D$3:$E$227,2,0))=G33,1,0)),\"\")","v":""},{"$f":"IFERROR(IF(H33=\"\",\"\",IF((VLOOKUP(AH33,Herramientas!$D$3:$E$227,2,0))=H33,1,0)),\"\")","v":""},{"$f":"IFERROR(IF(I33=\"\",\"\",IF((VLOOKUP(AI33,Herramientas!$D$3:$E$227,2,0))=I33,1,0)),\"\")","v":""},{"$f":"IFERROR(IF(J33=\"\",\"\",IF((VLOOKUP(AJ33,Herramientas!$D$3:$E$227,2,0))=J33,1,0)),\"\")","v":""},{"$f":"IFERROR(IF(K33=\"\",\"\",IF((VLOOKUP(AK33,Herramientas!$D$3:$E$227,2,0))=K33,1,0)),\"\")","v":""},{"$f":"IFERROR(IF(L33=\"\",\"\",IF((VLOOKUP(AL33,Herramientas!$D$3:$E$227,2,0))=L33,1,0)),\"\")","v":""},{"$f":"IFERROR(IF(M33=\"\",\"\",IF((VLOOKUP(AM33,Herramientas!$D$3:$E$227,2,0))=M33,1,0)),\"\")","v":""},{"$f":"IFERROR(IF(N33=\"\",\"\",IF((VLOOKUP(AN33,Herramientas!$D$3:$E$227,2,0))=N33,1,0)),\"\")","v":""},{"$f":"IFERROR(IF(O33=\"\",\"\",IF((VLOOKUP(AO33,Herramientas!$D$3:$E$227,2,0))=O33,1,0)),\"\")","v":""},{"$f":"IFERROR(IF(P33=\"\",\"\",IF((VLOOKUP(AP33,Herramientas!$D$3:$E$227,2,0))=P33,1,0)),\"\")","v":""},{"$f":"IFERROR(IF(Q33=\"\",\"\",IF((VLOOKUP(AQ33,Herramientas!$D$3:$E$227,2,0))=Q33,1,0)),\"\")","v":""},{"$f":"IFERROR(IF(R33=\"\",\"\",IF((VLOOKUP(AR33,Herramientas!$D$3:$E$227,2,0))=R33,1,0)),\"\")","v":""},{"$f":"IFERROR(IF(S33=\"\",\"\",IF((VLOOKUP(AS33,Herramientas!$D$3:$E$227,2,0))=S33,1,0)),\"\")","v":""},{"$f":"IFERROR(IF(T33=\"\",\"\",IF((VLOOKUP(AT33,Herramientas!$D$3:$E$227,2,0))=T33,1,0)),\"\")","v":""},{"$f":"IFERROR(IF(U33=\"\",\"\",IF((VLOOKUP(AU33,Herramientas!$D$3:$E$227,2,0))=U33,1,0)),\"\")","v":""},{"$f":"IFERROR(IF(V33=\"\",\"\",IF((VLOOKUP(AV33,Herramientas!$D$3:$E$227,2,0))=V33,1,0)),\"\")","v":""},{"$f":"IFERROR(IF(W33=\"\",\"\",IF((VLOOKUP(AW33,Herramientas!$D$3:$E$227,2,0))=W33,1,0)),\"\")","v":""},{"$f":"IFERROR(IF(X33=\"\",\"\",IF((VLOOKUP(AX33,Herramientas!$D$3:$E$227,2,0))=X33,1,0)),\"\")","v":""},{"$f":"IFERROR(IF(Y33=\"\",\"\",IF((VLOOKUP(AY33,Herramientas!$D$3:$E$227,2,0))=Y33,1,0)),\"\")","v":""},{"$f":"IFERROR(IF(Z33=\"\",\"\",IF((VLOOKUP(AZ33,Herramientas!$D$3:$E$227,2,0))=Z33,1,0)),\"\")","v":""},{"$f":"IFERROR(IF(AA33=\"\",\"\",IF((VLOOKUP(BA33,Herramientas!$D$3:$E$227,2,0))=AA33,1,0)),\"\")","v":""},{"$f":"IFERROR(IF(AB33=\"\",\"\",IF((VLOOKUP(BB33,Herramientas!$D$3:$E$227,2,0))=AB33,1,0)),\"\")","v":""},null,0,0,null,null,null,null,null,null,"it19",{"$f":"DE7","v":0},{"$f":"DE12","v":0},"",{"$f":"DE8","v":0},0,"",{"$f":"DE9","v":0},0,"",{"$f":"DE10","v":0},0,""]
[27,null,null,null,null,null,null,null,null,null,null,null,null,null,null,null,null,null,null,null,null,null,null,null,null,null,null,null,null,"5.°-1","5.°-2","5.°-3","5.°-4","5.°-5","5.°-6","5.°-7","5.°-8","5.°-9","5.°-10","5.°-11","5.°-12","5.°-13","5.°-14","5.°-15","5.°-16","5.°-17","5.°-18","5.°-19","5.°-20","5.°-21","5.°-22","5.°-23","5.°-24","5.°-25",null,{"$f":"IFERROR(IF(D34=\"\",\"\",IF((VLOOKUP(AD34,Herramientas!$D$3:$E$227,2,0))=D34,1,0)),\"\")","v":""},{"$f":"IFERROR(IF(E34=\"\",\"\",IF((VLOOKUP(AE34,Herramientas!$D$3:$E$227,2,0))=E34,1,0)),\"\")","v":""},{"$f":"IFERROR(IF(F34=\"\",\"\",IF((VLOOKUP(AF34,Herramientas!$D$3:$E$227,2,0))=F34,1,0)),\"\")","v":""},{"$f":"IFERROR(IF(G34=\"\",\"\",IF((VLOOKUP(AG34,Herramientas!$D$3:$E$227,2,0))=G34,1,0)),\"\")","v":""},{"$f":"IFERROR(IF(H34=\"\",\"\",IF((VLOOKUP(AH34,Herramientas!$D$3:$E$227,2,0))=H34,1,0)),\"\")","v":""},{"$f":"IFERROR(IF(I34=\"\",\"\",IF((VLOOKUP(AI34,Herramientas!$D$3:$E$227,2,0))=I34,1,0)),\"\")","v":""},{"$f":"IFERROR(IF(J34=\"\",\"\",IF((VLOOKUP(AJ34,Herramientas!$D$3:$E$227,2,0))=J34,1,0)),\"\")","v":""},{"$f":"IFERROR(IF(K34=\"\",\"\",IF((VLOOKUP(AK34,Herramientas!$D$3:$E$227,2,0))=K34,1,0)),\"\")","v":""},{"$f":"IFERROR(IF(L34=\"\",\"\",IF((VLOOKUP(AL34,Herramientas!$D$3:$E$227,2,0))=L34,1,0)),\"\")","v":""},{"$f":"IFERROR(IF(M34=\"\",\"\",IF((VLOOKUP(AM34,Herramientas!$D$3:$E$227,2,0))=M34,1,0)),\"\")","v":""},{"$f":"IFERROR(IF(N34=\"\",\"\",IF((VLOOKUP(AN34,Herramientas!$D$3:$E$227,2,0))=N34,1,0)),\"\")","v":""},{"$f":"IFERROR(IF(O34=\"\",\"\",IF((VLOOKUP(AO34,Herramientas!$D$3:$E$227,2,0))=O34,1,0)),\"\")","v":""},{"$f":"IFERROR(IF(P34=\"\",\"\",IF((VLOOKUP(AP34,Herramientas!$D$3:$E$227,2,0))=P34,1,0)),\"\")","v":""},{"$f":"IFERROR(IF(Q34=\"\",\"\",IF((VLOOKUP(AQ34,Herramientas!$D$3:$E$227,2,0))=Q34,1,0)),\"\")","v":""},{"$f":"IFERROR(IF(R34=\"\",\"\",IF((VLOOKUP(AR34,Herramientas!$D$3:$E$227,2,0))=R34,1,0)),\"\")","v":""},{"$f":"IFERROR(IF(S34=\"\",\"\",IF((VLOOKUP(AS34,Herramientas!$D$3:$E$227,2,0))=S34,1,0)),\"\")","v":""},{"$f":"IFERROR(IF(T34=\"\",\"\",IF((VLOOKUP(AT34,Herramientas!$D$3:$E$227,2,0))=T34,1,0)),\"\")","v":""},{"$f":"IFERROR(IF(U34=\"\",\"\",IF((VLOOKUP(AU34,Herramientas!$D$3:$E$227,2,0))=U34,1,0)),\"\")","v":""},{"$f":"IFERROR(IF(V34=\"\",\"\",IF((VLOOKUP(AV34,Herramientas!$D$3:$E$227,2,0))=V34,1,0)),\"\")","v":""},{"$f":"IFERROR(IF(W34=\"\",\"\",IF((VLOOKUP(AW34,Herramientas!$D$3:$E$227,2,0))=W34,1,0)),\"\")","v":""},{"$f":"IFERROR(IF(X34=\"\",\"\",IF((VLOOKUP(AX34,Herramientas!$D$3:$E$227,2,0))=X34,1,0)),\"\")","v":""},{"$f":"IFERROR(IF(Y34=\"\",\"\",IF((VLOOKUP(AY34,Herramientas!$D$3:$E$227,2,0))=Y34,1,0)),\"\")","v":""},{"$f":"IFERROR(IF(Z34=\"\",\"\",IF((VLOOKUP(AZ34,Herramientas!$D$3:$E$227,2,0))=Z34,1,0)),\"\")","v":""},{"$f":"IFERROR(IF(AA34=\"\",\"\",IF((VLOOKUP(BA34,Herramientas!$D$3:$E$227,2,0))=AA34,1,0)),\"\")","v":""},{"$f":"IFERROR(IF(AB34=\"\",\"\",IF((VLOOKUP(BB34,Herramientas!$D$3:$E$227,2,0))=AB34,1,0)),\"\")","v":""},null,0,0,null,null,null,null,null,null,"it20",{"$f":"DF7","v":0},{"$f":"DF12","v":0},"",{"$f":"DF8","v":0},0,"",{"$f":"DF9","v":0},0,"",{"$f":"DF10","v":0},0,""]
[28,null,null,null,null,null,null,null,null,null,null,null,null,null,null,null,null,null,null,null,null,null,null,null,null,null,null,null,null,{"$f":"CONCATENATE($B$2,\"-\",D$7)","v":"5.°-1"},{"$f":"CONCATENATE($B$2,\"-\",E$7)","v":"5.°-2"},{"$f":"CONCATENATE($B$2,\"-\",F$7)","v":"5.°-3"},{"$f":"CONCATENATE($B$2,\"-\",G$7)","v":"5.°-4"},{"$f":"CONCATENATE($B$2,\"-\",H$7)","v":"5.°-5"},{"$f":"CONCATENATE($B$2,\"-\",I$7)","v":"5.°-6"},{"$f":"CONCATENATE($B$2,\"-\",J$7)","v":"5.°-7"},{"$f":"CONCATENATE($B$2,\"-\",K$7)","v":"5.°-8"},{"$f":"CONCATENATE($B$2,\"-\",L$7)","v":"5.°-9"},{"$f":"CONCATENATE($B$2,\"-\",M$7)","v":"5.°-10"},{"$f":"CONCATENATE($B$2,\"-\",N$7)","v":"5.°-11"},{"$f":"CONCATENATE($B$2,\"-\",O$7)","v":"5.°-12"},{"$f":"CONCATENATE($B$2,\"-\",P$7)","v":"5.°-13"},{"$f":"CONCATENATE($B$2,\"-\",Q$7)","v":"5.°-14"},{"$f":"CONCATENATE($B$2,\"-\",R$7)","v":"5.°-15"},{"$f":"CONCATENATE($B$2,\"-\",S$7)","v":"5.°-16"},{"$f":"CONCATENATE($B$2,\"-\",T$7)","v":"5.°-17"},{"$f":"CONCATENATE($B$2,\"-\",U$7)","v":"5.°-18"},{"$f":"CONCATENATE($B$2,\"-\",V$7)","v":"5.°-19"},{"$f":"CONCATENATE($B$2,\"-\",W$7)","v":"5.°-20"},{"$f":"CONCATENATE($B$2,\"-\",X$7)","v":"5.°-21"},{"$f":"CONCATENATE($B$2,\"-\",Y$7)","v":"5.°-22"},{"$f":"CONCATENATE($B$2,\"-\",Z$7)","v":"5.°-23"},{"$f":"CONCATENATE($B$2,\"-\",AA$7)","v":"5.°-24"},{"$f":"CONCATENATE($B$2,\"-\",AB$7)","v":"5.°-25"},null,{"$f":"IFERROR(IF(D35=\"\",\"\",IF((VLOOKUP(AD35,Herramientas!$D$3:$E$227,2,0))=D35,1,0)),\"\")","v":""},{"$f":"IFERROR(IF(E35=\"\",\"\",IF((VLOOKUP(AE35,Herramientas!$D$3:$E$227,2,0))=E35,1,0)),\"\")","v":""},{"$f":"IFERROR(IF(F35=\"\",\"\",IF((VLOOKUP(AF35,Herramientas!$D$3:$E$227,2,0))=F35,1,0)),\"\")","v":""},{"$f":"IFERROR(IF(G35=\"\",\"\",IF((VLOOKUP(AG35,Herramientas!$D$3:$E$227,2,0))=G35,1,0)),\"\")","v":""},{"$f":"IFERROR(IF(H35=\"\",\"\",IF((VLOOKUP(AH35,Herramientas!$D$3:$E$227,2,0))=H35,1,0)),\"\")","v":""},{"$f":"IFERROR(IF(I35=\"\",\"\",IF((VLOOKUP(AI35,Herramientas!$D$3:$E$227,2,0))=I35,1,0)),\"\")","v":""},{"$f":"IFERROR(IF(J35=\"\",\"\",IF((VLOOKUP(AJ35,Herramientas!$D$3:$E$227,2,0))=J35,1,0)),\"\")","v":""},{"$f":"IFERROR(IF(K35=\"\",\"\",IF((VLOOKUP(AK35,Herramientas!$D$3:$E$227,2,0))=K35,1,0)),\"\")","v":""},{"$f":"IFERROR(IF(L35=\"\",\"\",IF((VLOOKUP(AL35,Herramientas!$D$3:$E$227,2,0))=L35,1,0)),\"\")","v":""},{"$f":"IFERROR(IF(M35=\"\",\"\",IF((VLOOKUP(AM35,Herramientas!$D$3:$E$227,2,0))=M35,1,0)),\"\")","v":""},{"$f":"IFERROR(IF(N35=\"\",\"\",IF((VLOOKUP(AN35,Herramientas!$D$3:$E$227,2,0))=N35,1,0)),\"\")","v":""},{"$f":"IFERROR(IF(O35=\"\",\"\",IF((VLOOKUP(AO35,Herramientas!$D$3:$E$227,2,0))=O35,1,0)),\"\")","v":""},{"$f":"IFERROR(IF(P35=\"\",\"\",IF((VLOOKUP(AP35,Herramientas!$D$3:$E$227,2,0))=P35,1,0)),\"\")","v":""},{"$f":"IFERROR(IF(Q35=\"\",\"\",IF((VLOOKUP(AQ35,Herramientas!$D$3:$E$227,2,0))=Q35,1,0)),\"\")","v":""},{"$f":"IFERROR(IF(R35=\"\",\"\",IF((VLOOKUP(AR35,Herramientas!$D$3:$E$227,2,0))=R35,1,0)),\"\")","v":""},{"$f":"IFERROR(IF(S35=\"\",\"\",IF((VLOOKUP(AS35,Herramientas!$D$3:$E$227,2,0))=S35,1,0)),\"\")","v":""},{"$f":"IFERROR(IF(T35=\"\",\"\",IF((VLOOKUP(AT35,Herramientas!$D$3:$E$227,2,0))=T35,1,0)),\"\")","v":""},{"$f":"IFERROR(IF(U35=\"\",\"\",IF((VLOOKUP(AU35,Herramientas!$D$3:$E$227,2,0))=U35,1,0)),\"\")","v":""},{"$f":"IFERROR(IF(V35=\"\",\"\",IF((VLOOKUP(AV35,Herramientas!$D$3:$E$227,2,0))=V35,1,0)),\"\")","v":""},{"$f":"IFERROR(IF(W35=\"\",\"\",IF((VLOOKUP(AW35,Herramientas!$D$3:$E$227,2,0))=W35,1,0)),\"\")","v":""},{"$f":"IFERROR(IF(X35=\"\",\"\",IF((VLOOKUP(AX35,Herramientas!$D$3:$E$227,2,0))=X35,1,0)),\"\")","v":""},{"$f":"IFERROR(IF(Y35=\"\",\"\",IF((VLOOKUP(AY35,Herramientas!$D$3:$E$227,2,0))=Y35,1,0)),\"\")","v":""},{"$f":"IFERROR(IF(Z35=\"\",\"\",IF((VLOOKUP(AZ35,Herramientas!$D$3:$E$227,2,0))=Z35,1,0)),\"\")","v":""},{"$f":"IFERROR(IF(AA35=\"\",\"\",IF((VLOOKUP(BA35,Herramientas!$D$3:$E$227,2,0))=AA35,1,0)),\"\")","v":""},{"$f":"IFERROR(IF(AB35=\"\",\"\",IF((VLOOKUP(BB35,Herramientas!$D$3:$E$227,2,0))=AB35,1,0)),\"\")","v":""},null,{"$f":"SUM(BD35:CB35)","v":0},{"$f":"CD35/25*10","v":0},null,null,null,null,null,null,"it21",{"$f":"DG7","v":0},{"$f":"DG12","v":0},"",{"$f":"DG8","v":0},0,"",{"$f":"DG9","v":0},0,"",{"$f":"DG10","v":0},0,""]
[29,null,null,null,null,null,null,null,null,null,null,null,null,null,null,null,null,null,null,null,null,null,null,null,null,null,null,null,null,{"$f":"CONCATENATE($B$2,\"-\",D$7)","v":"5.°-1"},"5.°-2","5.°-3","5.°-4","5.°-5","5.°-6","5.°-7","5.°-8","5.°-9","5.°-10","5.°-11","5.°-12","5.°-13","5.°-14","5.°-15","5.°-16","5.°-17","5.°-18","5.°-19","5.°-20","5.°-21","5.°-22","5.°-23","5.°-24","5.°-25",null,{"$f":"IFERROR(IF(D36=\"\",\"\",IF((VLOOKUP(AD36,Herramientas!$D$3:$E$227,2,0))=D36,1,0)),\"\")","v":""},{"$f":"IFERROR(IF(E36=\"\",\"\",IF((VLOOKUP(AE36,Herramientas!$D$3:$E$227,2,0))=E36,1,0)),\"\")","v":""},{"$f":"IFERROR(IF(F36=\"\",\"\",IF((VLOOKUP(AF36,Herramientas!$D$3:$E$227,2,0))=F36,1,0)),\"\")","v":""},{"$f":"IFERROR(IF(G36=\"\",\"\",IF((VLOOKUP(AG36,Herramientas!$D$3:$E$227,2,0))=G36,1,0)),\"\")","v":""},{"$f":"IFERROR(IF(H36=\"\",\"\",IF((VLOOKUP(AH36,Herramientas!$D$3:$E$227,2,0))=H36,1,0)),\"\")","v":""},{"$f":"IFERROR(IF(I36=\"\",\"\",IF((VLOOKUP(AI36,Herramientas!$D$3:$E$227,2,0))=I36,1,0)),\"\")","v":""},{"$f":"IFERROR(IF(J36=\"\",\"\",IF((VLOOKUP(AJ36,Herramientas!$D$3:$E$227,2,0))=J36,1,0)),\"\")","v":""},{"$f":"IFERROR(IF(K36=\"\",\"\",IF((VLOOKUP(AK36,Herramientas!$D$3:$E$227,2,0))=K36,1,0)),\"\")","v":""},{"$f":"IFERROR(IF(L36=\"\",\"\",IF((VLOOKUP(AL36,Herramientas!$D$3:$E$227,2,0))=L36,1,0)),\"\")","v":""},{"$f":"IFERROR(IF(M36=\"\",\"\",IF((VLOOKUP(AM36,Herramientas!$D$3:$E$227,2,0))=M36,1,0)),\"\")","v":""},{"$f":"IFERROR(IF(N36=\"\",\"\",IF((VLOOKUP(AN36,Herramientas!$D$3:$E$227,2,0))=N36,1,0)),\"\")","v":""},{"$f":"IFERROR(IF(O36=\"\",\"\",IF((VLOOKUP(AO36,Herramientas!$D$3:$E$227,2,0))=O36,1,0)),\"\")","v":""},{"$f":"IFERROR(IF(P36=\"\",\"\",IF((VLOOKUP(AP36,Herramientas!$D$3:$E$227,2,0))=P36,1,0)),\"\")","v":""},{"$f":"IFERROR(IF(Q36=\"\",\"\",IF((VLOOKUP(AQ36,Herramientas!$D$3:$E$227,2,0))=Q36,1,0)),\"\")","v":""},{"$f":"IFERROR(IF(R36=\"\",\"\",IF((VLOOKUP(AR36,Herramientas!$D$3:$E$227,2,0))=R36,1,0)),\"\")","v":""},{"$f":"IFERROR(IF(S36=\"\",\"\",IF((VLOOKUP(AS36,Herramientas!$D$3:$E$227,2,0))=S36,1,0)),\"\")","v":""},{"$f":"IFERROR(IF(T36=\"\",\"\",IF((VLOOKUP(AT36,Herramientas!$D$3:$E$227,2,0))=T36,1,0)),\"\")","v":""},{"$f":"IFERROR(IF(U36=\"\",\"\",IF((VLOOKUP(AU36,Herramientas!$D$3:$E$227,2,0))=U36,1,0)),\"\")","v":""},{"$f":"IFERROR(IF(V36=\"\",\"\",IF((VLOOKUP(AV36,Herramientas!$D$3:$E$227,2,0))=V36,1,0)),\"\")","v":""},{"$f":"IFERROR(IF(W36=\"\",\"\",IF((VLOOKUP(AW36,Herramientas!$D$3:$E$227,2,0))=W36,1,0)),\"\")","v":""},{"$f":"IFERROR(IF(X36=\"\",\"\",IF((VLOOKUP(AX36,Herramientas!$D$3:$E$227,2,0))=X36,1,0)),\"\")","v":""},{"$f":"IFERROR(IF(Y36=\"\",\"\",IF((VLOOKUP(AY36,Herramientas!$D$3:$E$227,2,0))=Y36,1,0)),\"\")","v":""},{"$f":"IFERROR(IF(Z36=\"\",\"\",IF((VLOOKUP(AZ36,Herramientas!$D$3:$E$227,2,0))=Z36,1,0)),\"\")","v":""},{"$f":"IFERROR(IF(AA36=\"\",\"\",IF((VLOOKUP(BA36,Herramientas!$D$3:$E$227,2,0))=AA36,1,0)),\"\")","v":""},{"$f":"IFERROR(IF(AB36=\"\",\"\",IF((VLOOKUP(BB36,Herramientas!$D$3:$E$227,2,0))=AB36,1,0)),\"\")","v":""},null,0,0,null,null,null,null,null,null,"it22",{"$f":"DH7","v":0},{"$f":"DH12","v":0},"",{"$f":"DH8","v":0},0,"",{"$f":"DH9","v":0},0,"",{"$f":"DH10","v":0},0,""]
[30,null,null,null,null,null,null,null,null,null,null,null,null,null,null,null,null,null,null,null,null,null,null,null,null,null,null,null,null,"5.°-1","5.°-2","5.°-3","5.°-4","5.°-5","5.°-6","5.°-7","5.°-8","5.°-9","5.°-10","5.°-11","5.°-12","5.°-13","5.°-14","5.°-15","5.°-16","5.°-17","5.°-18","5.°-19","5.°-20","5.°-21","5.°-22","5.°-23","5.°-24","5.°-25",null,{"$f":"IFERROR(IF(D37=\"\",\"\",IF((VLOOKUP(AD37,Herramientas!$D$3:$E$227,2,0))=D37,1,0)),\"\")","v":""},{"$f":"IFERROR(IF(E37=\"\",\"\",IF((VLOOKUP(AE37,Herramientas!$D$3:$E$227,2,0))=E37,1,0)),\"\")","v":""},{"$f":"IFERROR(IF(F37=\"\",\"\",IF((VLOOKUP(AF37,Herramientas!$D$3:$E$227,2,0))=F37,1,0)),\"\")","v":""},{"$f":"IFERROR(IF(G37=\"\",\"\",IF((VLOOKUP(AG37,Herramientas!$D$3:$E$227,2,0))=G37,1,0)),\"\")","v":""},{"$f":"IFERROR(IF(H37=\"\",\"\",IF((VLOOKUP(AH37,Herramientas!$D$3:$E$227,2,0))=H37,1,0)),\"\")","v":""},{"$f":"IFERROR(IF(I37=\"\",\"\",IF((VLOOKUP(AI37,Herramientas!$D$3:$E$227,2,0))=I37,1,0)),\"\")","v":""},{"$f":"IFERROR(IF(J37=\"\",\"\",IF((VLOOKUP(AJ37,Herramientas!$D$3:$E$227,2,0))=J37,1,0)),\"\")","v":""},{"$f":"IFERROR(IF(K37=\"\",\"\",IF((VLOOKUP(AK37,Herramientas!$D$3:$E$227,2,0))=K37,1,0)),\"\")","v":""},{"$f":"IFERROR(IF(L37=\"\",\"\",IF((VLOOKUP(AL37,Herramientas!$D$3:$E$227,2,0))=L37,1,0)),\"\")","v":""},{"$f":"IFERROR(IF(M37=\"\",\"\",IF((VLOOKUP(AM37,Herramientas!$D$3:$E$227,2,0))=M37,1,0)),\"\")","v":""},{"$f":"IFERROR(IF(N37=\"\",\"\",IF((VLOOKUP(AN37,Herramientas!$D$3:$E$227,2,0))=N37,1,0)),\"\")","v":""},{"$f":"IFERROR(IF(O37=\"\",\"\",IF((VLOOKUP(AO37,Herramientas!$D$3:$E$227,2,0))=O37,1,0)),\"\")","v":""},{"$f":"IFERROR(IF(P37=\"\",\"\",IF((VLOOKUP(AP37,Herramientas!$D$3:$E$227,2,0))=P37,1,0)),\"\")","v":""},{"$f":"IFERROR(IF(Q37=\"\",\"\",IF((VLOOKUP(AQ37,Herramientas!$D$3:$E$227,2,0))=Q37,1,0)),\"\")","v":""},{"$f":"IFERROR(IF(R37=\"\",\"\",IF((VLOOKUP(AR37,Herramientas!$D$3:$E$227,2,0))=R37,1,0)),\"\")","v":""},{"$f":"IFERROR(IF(S37=\"\",\"\",IF((VLOOKUP(AS37,Herramientas!$D$3:$E$227,2,0))=S37,1,0)),\"\")","v":""},{"$f":"IFERROR(IF(T37=\"\",\"\",IF((VLOOKUP(AT37,Herramientas!$D$3:$E$227,2,0))=T37,1,0)),\"\")","v":""},{"$f":"IFERROR(IF(U37=\"\",\"\",IF((VLOOKUP(AU37,Herramientas!$D$3:$E$227,2,0))=U37,1,0)),\"\")","v":""},{"$f":"IFERROR(IF(V37=\"\",\"\",IF((VLOOKUP(AV37,Herramientas!$D$3:$E$227,2,0))=V37,1,0)),\"\")","v":""},{"$f":"IFERROR(IF(W37=\"\",\"\",IF((VLOOKUP(AW37,Herramientas!$D$3:$E$227,2,0))=W37,1,0)),\"\")","v":""},{"$f":"IFERROR(IF(X37=\"\",\"\",IF((VLOOKUP(AX37,Herramientas!$D$3:$E$227,2,0))=X37,1,0)),\"\")","v":""},{"$f":"IFERROR(IF(Y37=\"\",\"\",IF((VLOOKUP(AY37,Herramientas!$D$3:$E$227,2,0))=Y37,1,0)),\"\")","v":""},{"$f":"IFERROR(IF(Z37=\"\",\"\",IF((VLOOKUP(AZ37,Herramientas!$D$3:$E$227,2,0))=Z37,1,0)),\"\")","v":""},{"$f":"IFERROR(IF(AA37=\"\",\"\",IF((VLOOKUP(BA37,Herramientas!$D$3:$E$227,2,0))=AA37,1,0)),\"\")","v":""},{"$f":"IFERROR(IF(AB37=\"\",\"\",IF((VLOOKUP(BB37,Herramientas!$D$3:$E$227,2,0))=AB37,1,0)),\"\")","v":""},null,0,0,null,null,null,null,null,null,"it23",{"$f":"DI7","v":0},{"$f":"DI12","v":0},"",{"$f":"DI8","v":0},0,"",{"$f":"DI9","v":0},0,"",{"$f":"DI10","v":0},0,""]
[31,null,null,null,null,null,null,null,null,null,null,null,null,null,null,null,null,null,null,null,null,null,null,null,null,null,null,null,null,"5.°-1","5.°-2","5.°-3","5.°-4","5.°-5","5.°-6","5.°-7","5.°-8","5.°-9","5.°-10","5.°-11","5.°-12","5.°-13","5.°-14","5.°-15","5.°-16","5.°-17","5.°-18","5.°-19","5.°-20","5.°-21","5.°-22","5.°-23","5.°-24","5.°-25",null,{"$f":"IFERROR(IF(D38=\"\",\"\",IF((VLOOKUP(AD38,Herramientas!$D$3:$E$227,2,0))=D38,1,0)),\"\")","v":""},{"$f":"IFERROR(IF(E38=\"\",\"\",IF((VLOOKUP(AE38,Herramientas!$D$3:$E$227,2,0))=E38,1,0)),\"\")","v":""},{"$f":"IFERROR(IF(F38=\"\",\"\",IF((VLOOKUP(AF38,Herramientas!$D$3:$E$227,2,0))=F38,1,0)),\"\")","v":""},{"$f":"IFERROR(IF(G38=\"\",\"\",IF((VLOOKUP(AG38,Herramientas!$D$3:$E$227,2,0))=G38,1,0)),\"\")","v":""},{"$f":"IFERROR(IF(H38=\"\",\"\",IF((VLOOKUP(AH38,Herramientas!$D$3:$E$227,2,0))=H38,1,0)),\"\")","v":""},{"$f":"IFERROR(IF(I38=\"\",\"\",IF((VLOOKUP(AI38,Herramientas!$D$3:$E$227,2,0))=I38,1,0)),\"\")","v":""},{"$f":"IFERROR(IF(J38=\"\",\"\",IF((VLOOKUP(AJ38,Herramientas!$D$3:$E$227,2,0))=J38,1,0)),\"\")","v":""},{"$f":"IFERROR(IF(K38=\"\",\"\",IF((VLOOKUP(AK38,Herramientas!$D$3:$E$227,2,0))=K38,1,0)),\"\")","v":""},{"$f":"IFERROR(IF(L38=\"\",\"\",IF((VLOOKUP(AL38,Herramientas!$D$3:$E$227,2,0))=L38,1,0)),\"\")","v":""},{"$f":"IFERROR(IF(M38=\"\",\"\",IF((VLOOKUP(AM38,Herramientas!$D$3:$E$227,2,0))=M38,1,0)),\"\")","v":""},{"$f":"IFERROR(IF(N38=\"\",\"\",IF((VLOOKUP(AN38,Herramientas!$D$3:$E$227,2,0))=N38,1,0)),\"\")","v":""},{"$f":"IFERROR(IF(O38=\"\",\"\",IF((VLOOKUP(AO38,Herramientas!$D$3:$E$227,2,0))=O38,1,0)),\"\")","v":""},{"$f":"IFERROR(IF(P38=\"\",\"\",IF((VLOOKUP(AP38,Herramientas!$D$3:$E$227,2,0))=P38,1,0)),\"\")","v":""},{"$f":"IFERROR(IF(Q38=\"\",\"\",IF((VLOOKUP(AQ38,Herramientas!$D$3:$E$227,2,0))=Q38,1,0)),\"\")","v":""},{"$f":"IFERROR(IF(R38=\"\",\"\",IF((VLOOKUP(AR38,Herramientas!$D$3:$E$227,2,0))=R38,1,0)),\"\")","v":""},{"$f":"IFERROR(IF(S38=\"\",\"\",IF((VLOOKUP(AS38,Herramientas!$D$3:$E$227,2,0))=S38,1,0)),\"\")","v":""},{"$f":"IFERROR(IF(T38=\"\",\"\",IF((VLOOKUP(AT38,Herramientas!$D$3:$E$227,2,0))=T38,1,0)),\"\")","v":""},{"$f":"IFERROR(IF(U38=\"\",\"\",IF((VLOOKUP(AU38,Herramientas!$D$3:$E$227,2,0))=U38,1,0)),\"\")","v":""},{"$f":"IFERROR(IF(V38=\"\",\"\",IF((VLOOKUP(AV38,Herramientas!$D$3:$E$227,2,0))=V38,1,0)),\"\")","v":""},{"$f":"IFERROR(IF(W38=\"\",\"\",IF((VLOOKUP(AW38,Herramientas!$D$3:$E$227,2,0))=W38,1,0)),\"\")","v":""},{"$f":"IFERROR(IF(X38=\"\",\"\",IF((VLOOKUP(AX38,Herramientas!$D$3:$E$227,2,0))=X38,1,0)),\"\")","v":""},{"$f":"IFERROR(IF(Y38=\"\",\"\",IF((VLOOKUP(AY38,Herramientas!$D$3:$E$227,2,0))=Y38,1,0)),\"\")","v":""},{"$f":"IFERROR(IF(Z38=\"\",\"\",IF((VLOOKUP(AZ38,Herramientas!$D$3:$E$227,2,0))=Z38,1,0)),\"\")","v":""},{"$f":"IFERROR(IF(AA38=\"\",\"\",IF((VLOOKUP(BA38,Herramientas!$D$3:$E$227,2,0))=AA38,1,0)),\"\")","v":""},{"$f":"IFERROR(IF(AB38=\"\",\"\",IF((VLOOKUP(BB38,Herramientas!$D$3:$E$227,2,0))=AB38,1,0)),\"\")","v":""},null,0,0,null,null,null,null,null,null,"it24",{"$f":"DJ7","v":0},{"$f":"DJ12","v":0},"",{"$f":"DJ8","v":0},0,"",{"$f":"DJ9","v":0},0,"",{"$f":"DJ10","v":0},0,""]
[32,null,null,null,null,null,null,null,null,null,null,null,null,null,null,null,null,null,null,null,null,null,null,null,null,null,null,null,null,"5.°-1","5.°-2","5.°-3","5.°-4","5.°-5","5.°-6","5.°-7","5.°-8","5.°-9","5.°-10","5.°-11","5.°-12","5.°-13","5.°-14","5.°-15","5.°-16","5.°-17","5.°-18","5.°-19","5.°-20","5.°-21","5.°-22","5.°-23","5.°-24","5.°-25",null,{"$f":"IFERROR(IF(D39=\"\",\"\",IF((VLOOKUP(AD39,Herramientas!$D$3:$E$227,2,0))=D39,1,0)),\"\")","v":""},{"$f":"IFERROR(IF(E39=\"\",\"\",IF((VLOOKUP(AE39,Herramientas!$D$3:$E$227,2,0))=E39,1,0)),\"\")","v":""},{"$f":"IFERROR(IF(F39=\"\",\"\",IF((VLOOKUP(AF39,Herramientas!$D$3:$E$227,2,0))=F39,1,0)),\"\")","v":""},{"$f":"IFERROR(IF(G39=\"\",\"\",IF((VLOOKUP(AG39,Herramientas!$D$3:$E$227,2,0))=G39,1,0)),\"\")","v":""},{"$f":"IFERROR(IF(H39=\"\",\"\",IF((VLOOKUP(AH39,Herramientas!$D$3:$E$227,2,0))=H39,1,0)),\"\")","v":""},{"$f":"IFERROR(IF(I39=\"\",\"\",IF((VLOOKUP(AI39,Herramientas!$D$3:$E$227,2,0))=I39,1,0)),\"\")","v":""},{"$f":"IFERROR(IF(J39=\"\",\"\",IF((VLOOKUP(AJ39,Herramientas!$D$3:$E$227,2,0))=J39,1,0)),\"\")","v":""},{"$f":"IFERROR(IF(K39=\"\",\"\",IF((VLOOKUP(AK39,Herramientas!$D$3:$E$227,2,0))=K39,1,0)),\"\")","v":""},{"$f":"IFERROR(IF(L39=\"\",\"\",IF((VLOOKUP(AL39,Herramientas!$D$3:$E$227,2,0))=L39,1,0)),\"\")","v":""},{"$f":"IFERROR(IF(M39=\"\",\"\",IF((VLOOKUP(AM39,Herramientas!$D$3:$E$227,2,0))=M39,1,0)),\"\")","v":""},{"$f":"IFERROR(IF(N39=\"\",\"\",IF((VLOOKUP(AN39,Herramientas!$D$3:$E$227,2,0))=N39,1,0)),\"\")","v":""},{"$f":"IFERROR(IF(O39=\"\",\"\",IF((VLOOKUP(AO39,Herramientas!$D$3:$E$227,2,0))=O39,1,0)),\"\")","v":""},{"$f":"IFERROR(IF(P39=\"\",\"\",IF((VLOOKUP(AP39,Herramientas!$D$3:$E$227,2,0))=P39,1,0)),\"\")","v":""},{"$f":"IFERROR(IF(Q39=\"\",\"\",IF((VLOOKUP(AQ39,Herramientas!$D$3:$E$227,2,0))=Q39,1,0)),\"\")","v":""},{"$f":"IFERROR(IF(R39=\"\",\"\",IF((VLOOKUP(AR39,Herramientas!$D$3:$E$227,2,0))=R39,1,0)),\"\")","v":""},{"$f":"IFERROR(IF(S39=\"\",\"\",IF((VLOOKUP(AS39,Herramientas!$D$3:$E$227,2,0))=S39,1,0)),\"\")","v":""},{"$f":"IFERROR(IF(T39=\"\",\"\",IF((VLOOKUP(AT39,Herramientas!$D$3:$E$227,2,0))=T39,1,0)),\"\")","v":""},{"$f":"IFERROR(IF(U39=\"\",\"\",IF((VLOOKUP(AU39,Herramientas!$D$3:$E$227,2,0))=U39,1,0)),\"\")","v":""},{"$f":"IFERROR(IF(V39=\"\",\"\",IF((VLOOKUP(AV39,Herramientas!$D$3:$E$227,2,0))=V39,1,0)),\"\")","v":""},{"$f":"IFERROR(IF(W39=\"\",\"\",IF((VLOOKUP(AW39,Herramientas!$D$3:$E$227,2,0))=W39,1,0)),\"\")","v":""},{"$f":"IFERROR(IF(X39=\"\",\"\",IF((VLOOKUP(AX39,Herramientas!$D$3:$E$227,2,0))=X39,1,0)),\"\")","v":""},{"$f":"IFERROR(IF(Y39=\"\",\"\",IF((VLOOKUP(AY39,Herramientas!$D$3:$E$227,2,0))=Y39,1,0)),\"\")","v":""},{"$f":"IFERROR(IF(Z39=\"\",\"\",IF((VLOOKUP(AZ39,Herramientas!$D$3:$E$227,2,0))=Z39,1,0)),\"\")","v":""},{"$f":"IFERROR(IF(AA39=\"\",\"\",IF((VLOOKUP(BA39,Herramientas!$D$3:$E$227,2,0))=AA39,1,0)),\"\")","v":""},{"$f":"IFERROR(IF(AB39=\"\",\"\",IF((VLOOKUP(BB39,Herramientas!$D$3:$E$227,2,0))=AB39,1,0)),\"\")","v":""},null,0,0,null,null,null,null,null,null,"it25",{"$f":"DK7","v":0},{"$f":"DK12","v":0},"",{"$f":"DK8","v":0},0,"",{"$f":"DK9","v":0},0,"",{"$f":"DK10","v":0},0,""]
[33,null,null,null,null,null,null,null,null,null,null,null,null,null,null,null,null,null,null,null,null,null,null,null,null,null,null,null,null,"5.°-1","5.°-2","5.°-3","5.°-4","5.°-5","5.°-6","5.°-7","5.°-8","5.°-9","5.°-10","5.°-11","5.°-12","5.°-13","5.°-14","5.°-15","5.°-16","5.°-17","5.°-18","5.°-19","5.°-20","5.°-21","5.°-22","5.°-23","5.°-24","5.°-25",null,{"$f":"IFERROR(IF(D40=\"\",\"\",IF((VLOOKUP(AD40,Herramientas!$D$3:$E$227,2,0))=D40,1,0)),\"\")","v":""},{"$f":"IFERROR(IF(E40=\"\",\"\",IF((VLOOKUP(AE40,Herramientas!$D$3:$E$227,2,0))=E40,1,0)),\"\")","v":""},{"$f":"IFERROR(IF(F40=\"\",\"\",IF((VLOOKUP(AF40,Herramientas!$D$3:$E$227,2,0))=F40,1,0)),\"\")","v":""},{"$f":"IFERROR(IF(G40=\"\",\"\",IF((VLOOKUP(AG40,Herramientas!$D$3:$E$227,2,0))=G40,1,0)),\"\")","v":""},{"$f":"IFERROR(IF(H40=\"\",\"\",IF((VLOOKUP(AH40,Herramientas!$D$3:$E$227,2,0))=H40,1,0)),\"\")","v":""},{"$f":"IFERROR(IF(I40=\"\",\"\",IF((VLOOKUP(AI40,Herramientas!$D$3:$E$227,2,0))=I40,1,0)),\"\")","v":""},{"$f":"IFERROR(IF(J40=\"\",\"\",IF((VLOOKUP(AJ40,Herramientas!$D$3:$E$227,2,0))=J40,1,0)),\"\")","v":""},{"$f":"IFERROR(IF(K40=\"\",\"\",IF((VLOOKUP(AK40,Herramientas!$D$3:$E$227,2,0))=K40,1,0)),\"\")","v":""},{"$f":"IFERROR(IF(L40=\"\",\"\",IF((VLOOKUP(AL40,Herramientas!$D$3:$E$227,2,0))=L40,1,0)),\"\")","v":""},{"$f":"IFERROR(IF(M40=\"\",\"\",IF((VLOOKUP(AM40,Herramientas!$D$3:$E$227,2,0))=M40,1,0)),\"\")","v":""},{"$f":"IFERROR(IF(N40=\"\",\"\",IF((VLOOKUP(AN40,Herramientas!$D$3:$E$227,2,0))=N40,1,0)),\"\")","v":""},{"$f":"IFERROR(IF(O40=\"\",\"\",IF((VLOOKUP(AO40,Herramientas!$D$3:$E$227,2,0))=O40,1,0)),\"\")","v":""},{"$f":"IFERROR(IF(P40=\"\",\"\",IF((VLOOKUP(AP40,Herramientas!$D$3:$E$227,2,0))=P40,1,0)),\"\")","v":""},{"$f":"IFERROR(IF(Q40=\"\",\"\",IF((VLOOKUP(AQ40,Herramientas!$D$3:$E$227,2,0))=Q40,1,0)),\"\")","v":""},{"$f":"IFERROR(IF(R40=\"\",\"\",IF((VLOOKUP(AR40,Herramientas!$D$3:$E$227,2,0))=R40,1,0)),\"\")","v":""},{"$f":"IFERROR(IF(S40=\"\",\"\",IF((VLOOKUP(AS40,Herramientas!$D$3:$E$227,2,0))=S40,1,0)),\"\")","v":""},{"$f":"IFERROR(IF(T40=\"\",\"\",IF((VLOOKUP(AT40,Herramientas!$D$3:$E$227,2,0))=T40,1,0)),\"\")","v":""},{"$f":"IFERROR(IF(U40=\"\",\"\",IF((VLOOKUP(AU40,Herramientas!$D$3:$E$227,2,0))=U40,1,0)),\"\")","v":""},{"$f":"IFERROR(IF(V40=\"\",\"\",IF((VLOOKUP(AV40,Herramientas!$D$3:$E$227,2,0))=V40,1,0)),\"\")","v":""},{"$f":"IFERROR(IF(W40=\"\",\"\",IF((VLOOKUP(AW40,Herramientas!$D$3:$E$227,2,0))=W40,1,0)),\"\")","v":""},{"$f":"IFERROR(IF(X40=\"\",\"\",IF((VLOOKUP(AX40,Herramientas!$D$3:$E$227,2,0))=X40,1,0)),\"\")","v":""},{"$f":"IFERROR(IF(Y40=\"\",\"\",IF((VLOOKUP(AY40,Herramientas!$D$3:$E$227,2,0))=Y40,1,0)),\"\")","v":""},{"$f":"IFERROR(IF(Z40=\"\",\"\",IF((VLOOKUP(AZ40,Herramientas!$D$3:$E$227,2,0))=Z40,1,0)),\"\")","v":""},{"$f":"IFERROR(IF(AA40=\"\",\"\",IF((VLOOKUP(BA40,Herramientas!$D$3:$E$227,2,0))=AA40,1,0)),\"\")","v":""},{"$f":"IFERROR(IF(AB40=\"\",\"\",IF((VLOOKUP(BB40,Herramientas!$D$3:$E$227,2,0))=AB40,1,0)),\"\")","v":""},null,0,0]
[34,null,null,null,null,null,null,null,null,null,null,null,null,null,null,null,null,null,null,null,null,null,null,null,null,null,null,null,null,"5.°-1","5.°-2","5.°-3","5.°-4","5.°-5","5.°-6","5.°-7","5.°-8","5.°-9","5.°-10","5.°-11","5.°-12","5.°-13","5.°-14","5.°-15","5.°-16","5.°-17","5.°-18","5.°-19","5.°-20","5.°-21","5.°-22","5.°-23","5.°-24","5.°-25",null,{"$f":"IFERROR(IF(D41=\"\",\"\",IF((VLOOKUP(AD41,Herramientas!$D$3:$E$227,2,0))=D41,1,0)),\"\")","v":""},{"$f":"IFERROR(IF(E41=\"\",\"\",IF((VLOOKUP(AE41,Herramientas!$D$3:$E$227,2,0))=E41,1,0)),\"\")","v":""},{"$f":"IFERROR(IF(F41=\"\",\"\",IF((VLOOKUP(AF41,Herramientas!$D$3:$E$227,2,0))=F41,1,0)),\"\")","v":""},{"$f":"IFERROR(IF(G41=\"\",\"\",IF((VLOOKUP(AG41,Herramientas!$D$3:$E$227,2,0))=G41,1,0)),\"\")","v":""},{"$f":"IFERROR(IF(H41=\"\",\"\",IF((VLOOKUP(AH41,Herramientas!$D$3:$E$227,2,0))=H41,1,0)),\"\")","v":""},{"$f":"IFERROR(IF(I41=\"\",\"\",IF((VLOOKUP(AI41,Herramientas!$D$3:$E$227,2,0))=I41,1,0)),\"\")","v":""},{"$f":"IFERROR(IF(J41=\"\",\"\",IF((VLOOKUP(AJ41,Herramientas!$D$3:$E$227,2,0))=J41,1,0)),\"\")","v":""},{"$f":"IFERROR(IF(K41=\"\",\"\",IF((VLOOKUP(AK41,Herramientas!$D$3:$E$227,2,0))=K41,1,0)),\"\")","v":""},{"$f":"IFERROR(IF(L41=\"\",\"\",IF((VLOOKUP(AL41,Herramientas!$D$3:$E$227,2,0))=L41,1,0)),\"\")","v":""},{"$f":"IFERROR(IF(M41=\"\",\"\",IF((VLOOKUP(AM41,Herramientas!$D$3:$E$227,2,0))=M41,1,0)),\"\")","v":""},{"$f":"IFERROR(IF(N41=\"\",\"\",IF((VLOOKUP(AN41,Herramientas!$D$3:$E$227,2,0))=N41,1,0)),\"\")","v":""},{"$f":"IFERROR(IF(O41=\"\",\"\",IF((VLOOKUP(AO41,Herramientas!$D$3:$E$227,2,0))=O41,1,0)),\"\")","v":""},{"$f":"IFERROR(IF(P41=\"\",\"\",IF((VLOOKUP(AP41,Herramientas!$D$3:$E$227,2,0))=P41,1,0)),\"\")","v":""},{"$f":"IFERROR(IF(Q41=\"\",\"\",IF((VLOOKUP(AQ41,Herramientas!$D$3:$E$227,2,0))=Q41,1,0)),\"\")","v":""},{"$f":"IFERROR(IF(R41=\"\",\"\",IF((VLOOKUP(AR41,Herramientas!$D$3:$E$227,2,0))=R41,1,0)),\"\")","v":""},{"$f":"IFERROR(IF(S41=\"\",\"\",IF((VLOOKUP(AS41,Herramientas!$D$3:$E$227,2,0))=S41,1,0)),\"\")","v":""},{"$f":"IFERROR(IF(T41=\"\",\"\",IF((VLOOKUP(AT41,Herramientas!$D$3:$E$227,2,0))=T41,1,0)),\"\")","v":""},{"$f":"IFERROR(IF(U41=\"\",\"\",IF((VLOOKUP(AU41,Herramientas!$D$3:$E$227,2,0))=U41,1,0)),\"\")","v":""},{"$f":"IFERROR(IF(V41=\"\",\"\",IF((VLOOKUP(AV41,Herramientas!$D$3:$E$227,2,0))=V41,1,0)),\"\")","v":""},{"$f":"IFERROR(IF(W41=\"\",\"\",IF((VLOOKUP(AW41,Herramientas!$D$3:$E$227,2,0))=W41,1,0)),\"\")","v":""},{"$f":"IFERROR(IF(X41=\"\",\"\",IF((VLOOKUP(AX41,Herramientas!$D$3:$E$227,2,0))=X41,1,0)),\"\")","v":""},{"$f":"IFERROR(IF(Y41=\"\",\"\",IF((VLOOKUP(AY41,Herramientas!$D$3:$E$227,2,0))=Y41,1,0)),\"\")","v":""},{"$f":"IFERROR(IF(Z41=\"\",\"\",IF((VLOOKUP(AZ41,Herramientas!$D$3:$E$227,2,0))=Z41,1,0)),\"\")","v":""},{"$f":"IFERROR(IF(AA41=\"\",\"\",IF((VLOOKUP(BA41,Herramientas!$D$3:$E$227,2,0))=AA41,1,0)),\"\")","v":""},{"$f":"IFERROR(IF(AB41=\"\",\"\",IF((VLOOKUP(BB41,Herramientas!$D$3:$E$227,2,0))=AB41,1,0)),\"\")","v":""},null,0,0]
[35,null,null,null,null,null,null,null,null,null,null,null,null,null,null,null,null,null,null,null,null,null,null,null,null,null,null,null,null,"5.°-1","5.°-2","5.°-3","5.°-4","5.°-5","5.°-6","5.°-7","5.°-8","5.°-9","5.°-10","5.°-11","5.°-12","5.°-13","5.°-14","5.°-15","5.°-16","5.°-17","5.°-18","5.°-19","5.°-20","5.°-21","5.°-22","5.°-23","5.°-24","5.°-25",null,{"$f":"IFERROR(IF(D42=\"\",\"\",IF((VLOOKUP(AD42,Herramientas!$D$3:$E$227,2,0))=D42,1,0)),\"\")","v":""},{"$f":"IFERROR(IF(E42=\"\",\"\",IF((VLOOKUP(AE42,Herramientas!$D$3:$E$227,2,0))=E42,1,0)),\"\")","v":""},{"$f":"IFERROR(IF(F42=\"\",\"\",IF((VLOOKUP(AF42,Herramientas!$D$3:$E$227,2,0))=F42,1,0)),\"\")","v":""},{"$f":"IFERROR(IF(G42=\"\",\"\",IF((VLOOKUP(AG42,Herramientas!$D$3:$E$227,2,0))=G42,1,0)),\"\")","v":""},{"$f":"IFERROR(IF(H42=\"\",\"\",IF((VLOOKUP(AH42,Herramientas!$D$3:$E$227,2,0))=H42,1,0)),\"\")","v":""},{"$f":"IFERROR(IF(I42=\"\",\"\",IF((VLOOKUP(AI42,Herramientas!$D$3:$E$227,2,0))=I42,1,0)),\"\")","v":""},{"$f":"IFERROR(IF(J42=\"\",\"\",IF((VLOOKUP(AJ42,Herramientas!$D$3:$E$227,2,0))=J42,1,0)),\"\")","v":""},{"$f":"IFERROR(IF(K42=\"\",\"\",IF((VLOOKUP(AK42,Herramientas!$D$3:$E$227,2,0))=K42,1,0)),\"\")","v":""},{"$f":"IFERROR(IF(L42=\"\",\"\",IF((VLOOKUP(AL42,Herramientas!$D$3:$E$227,2,0))=L42,1,0)),\"\")","v":""},{"$f":"IFERROR(IF(M42=\"\",\"\",IF((VLOOKUP(AM42,Herramientas!$D$3:$E$227,2,0))=M42,1,0)),\"\")","v":""},{"$f":"IFERROR(IF(N42=\"\",\"\",IF((VLOOKUP(AN42,Herramientas!$D$3:$E$227,2,0))=N42,1,0)),\"\")","v":""},{"$f":"IFERROR(IF(O42=\"\",\"\",IF((VLOOKUP(AO42,Herramientas!$D$3:$E$227,2,0))=O42,1,0)),\"\")","v":""},{"$f":"IFERROR(IF(P42=\"\",\"\",IF((VLOOKUP(AP42,Herramientas!$D$3:$E$227,2,0))=P42,1,0)),\"\")","v":""},{"$f":"IFERROR(IF(Q42=\"\",\"\",IF((VLOOKUP(AQ42,Herramientas!$D$3:$E$227,2,0))=Q42,1,0)),\"\")","v":""},{"$f":"IFERROR(IF(R42=\"\",\"\",IF((VLOOKUP(AR42,Herramientas!$D$3:$E$227,2,0))=R42,1,0)),\"\")","v":""},{"$f":"IFERROR(IF(S42=\"\",\"\",IF((VLOOKUP(AS42,Herramientas!$D$3:$E$227,2,0))=S42,1,0)),\"\")","v":""},{"$f":"IFERROR(IF(T42=\"\",\"\",IF((VLOOKUP(AT42,Herramientas!$D$3:$E$227,2,0))=T42,1,0)),\"\")","v":""},{"$f":"IFERROR(IF(U42=\"\",\"\",IF((VLOOKUP(AU42,Herramientas!$D$3:$E$227,2,0))=U42,1,0)),\"\")","v":""},{"$f":"IFERROR(IF(V42=\"\",\"\",IF((VLOOKUP(AV42,Herramientas!$D$3:$E$227,2,0))=V42,1,0)),\"\")","v":""},{"$f":"IFERROR(IF(W42=\"\",\"\",IF((VLOOKUP(AW42,Herramientas!$D$3:$E$227,2,0))=W42,1,0)),\"\")","v":""},{"$f":"IFERROR(IF(X42=\"\",\"\",IF((VLOOKUP(AX42,Herramientas!$D$3:$E$227,2,0))=X42,1,0)),\"\")","v":""},{"$f":"IFERROR(IF(Y42=\"\",\"\",IF((VLOOKUP(AY42,Herramientas!$D$3:$E$227,2,0))=Y42,1,0)),\"\")","v":""},{"$f":"IFERROR(IF(Z42=\"\",\"\",IF((VLOOKUP(AZ42,Herramientas!$D$3:$E$227,2,0))=Z42,1,0)),\"\")","v":""},{"$f":"IFERROR(IF(AA42=\"\",\"\",IF((VLOOKUP(BA42,Herramientas!$D$3:$E$227,2,0))=AA42,1,0)),\"\")","v":""},{"$f":"IFERROR(IF(AB42=\"\",\"\",IF((VLOOKUP(BB42,Herramientas!$D$3:$E$227,2,0))=AB42,1,0)),\"\")","v":""},null,0,0]
[36,null,null,null,null,null,null,null,null,null,null,null,null,null,null,null,null,null,null,null,null,null,null,null,null,null,null,null,null,{"$f":"CONCATENATE($B$2,\"-\",D$7)","v":"5.°-1"},"5.°-2","5.°-3","5.°-4","5.°-5","5.°-6","5.°-7","5.°-8","5.°-9","5.°-10","5.°-11","5.°-12","5.°-13","5.°-14","5.°-15","5.°-16","5.°-17","5.°-18","5.°-19","5.°-20","5.°-21","5.°-22","5.°-23","5.°-24","5.°-25",null,{"$f":"IFERROR(IF(D43=\"\",\"\",IF((VLOOKUP(AD43,Herramientas!$D$3:$E$227,2,0))=D43,1,0)),\"\")","v":""},{"$f":"IFERROR(IF(E43=\"\",\"\",IF((VLOOKUP(AE43,Herramientas!$D$3:$E$227,2,0))=E43,1,0)),\"\")","v":""},{"$f":"IFERROR(IF(F43=\"\",\"\",IF((VLOOKUP(AF43,Herramientas!$D$3:$E$227,2,0))=F43,1,0)),\"\")","v":""},{"$f":"IFERROR(IF(G43=\"\",\"\",IF((VLOOKUP(AG43,Herramientas!$D$3:$E$227,2,0))=G43,1,0)),\"\")","v":""},{"$f":"IFERROR(IF(H43=\"\",\"\",IF((VLOOKUP(AH43,Herramientas!$D$3:$E$227,2,0))=H43,1,0)),\"\")","v":""},{"$f":"IFERROR(IF(I43=\"\",\"\",IF((VLOOKUP(AI43,Herramientas!$D$3:$E$227,2,0))=I43,1,0)),\"\")","v":""},{"$f":"IFERROR(IF(J43=\"\",\"\",IF((VLOOKUP(AJ43,Herramientas!$D$3:$E$227,2,0))=J43,1,0)),\"\")","v":""},{"$f":"IFERROR(IF(K43=\"\",\"\",IF((VLOOKUP(AK43,Herramientas!$D$3:$E$227,2,0))=K43,1,0)),\"\")","v":""},{"$f":"IFERROR(IF(L43=\"\",\"\",IF((VLOOKUP(AL43,Herramientas!$D$3:$E$227,2,0))=L43,1,0)),\"\")","v":""},{"$f":"IFERROR(IF(M43=\"\",\"\",IF((VLOOKUP(AM43,Herramientas!$D$3:$E$227,2,0))=M43,1,0)),\"\")","v":""},{"$f":"IFERROR(IF(N43=\"\",\"\",IF((VLOOKUP(AN43,Herramientas!$D$3:$E$227,2,0))=N43,1,0)),\"\")","v":""},{"$f":"IFERROR(IF(O43=\"\",\"\",IF((VLOOKUP(AO43,Herramientas!$D$3:$E$227,2,0))=O43,1,0)),\"\")","v":""},{"$f":"IFERROR(IF(P43=\"\",\"\",IF((VLOOKUP(AP43,Herramientas!$D$3:$E$227,2,0))=P43,1,0)),\"\")","v":""},{"$f":"IFERROR(IF(Q43=\"\",\"\",IF((VLOOKUP(AQ43,Herramientas!$D$3:$E$227,2,0))=Q43,1,0)),\"\")","v":""},{"$f":"IFERROR(IF(R43=\"\",\"\",IF((VLOOKUP(AR43,Herramientas!$D$3:$E$227,2,0))=R43,1,0)),\"\")","v":""},{"$f":"IFERROR(IF(S43=\"\",\"\",IF((VLOOKUP(AS43,Herramientas!$D$3:$E$227,2,0))=S43,1,0)),\"\")","v":""},{"$f":"IFERROR(IF(T43=\"\",\"\",IF((VLOOKUP(AT43,Herramientas!$D$3:$E$227,2,0))=T43,1,0)),\"\")","v":""},{"$f":"IFERROR(IF(U43=\"\",\"\",IF((VLOOKUP(AU43,Herramientas!$D$3:$E$227,2,0))=U43,1,0)),\"\")","v":""},{"$f":"IFERROR(IF(V43=\"\",\"\",IF((VLOOKUP(AV43,Herramientas!$D$3:$E$227,2,0))=V43,1,0)),\"\")","v":""},{"$f":"IFERROR(IF(W43=\"\",\"\",IF((VLOOKUP(AW43,Herramientas!$D$3:$E$227,2,0))=W43,1,0)),\"\")","v":""},{"$f":"IFERROR(IF(X43=\"\",\"\",IF((VLOOKUP(AX43,Herramientas!$D$3:$E$227,2,0))=X43,1,0)),\"\")","v":""},{"$f":"IFERROR(IF(Y43=\"\",\"\",IF((VLOOKUP(AY43,Herramientas!$D$3:$E$227,2,0))=Y43,1,0)),\"\")","v":""},{"$f":"IFERROR(IF(Z43=\"\",\"\",IF((VLOOKUP(AZ43,Herramientas!$D$3:$E$227,2,0))=Z43,1,0)),\"\")","v":""},{"$f":"IFERROR(IF(AA43=\"\",\"\",IF((VLOOKUP(BA43,Herramientas!$D$3:$E$227,2,0))=AA43,1,0)),\"\")","v":""},{"$f":"IFERROR(IF(AB43=\"\",\"\",IF((VLOOKUP(BB43,Herramientas!$D$3:$E$227,2,0))=AB43,1,0)),\"\")","v":""},null,0,0]
[37,null,null,null,null,null,null,null,null,null,null,null,null,null,null,null,null,null,null,null,null,null,null,null,null,null,null,null,null,{"$f":"CONCATENATE($B$2,\"-\",D$7)","v":"5.°-1"},"5.°-2","5.°-3","5.°-4","5.°-5","5.°-6","5.°-7","5.°-8","5.°-9","5.°-10","5.°-11","5.°-12","5.°-13","5.°-14","5.°-15","5.°-16","5.°-17","5.°-18","5.°-19","5.°-20","5.°-21","5.°-22","5.°-23","5.°-24","5.°-25",null,{"$f":"IFERROR(IF(D44=\"\",\"\",IF((VLOOKUP(AD44,Herramientas!$D$3:$E$227,2,0))=D44,1,0)),\"\")","v":""},{"$f":"IFERROR(IF(E44=\"\",\"\",IF((VLOOKUP(AE44,Herramientas!$D$3:$E$227,2,0))=E44,1,0)),\"\")","v":""},{"$f":"IFERROR(IF(F44=\"\",\"\",IF((VLOOKUP(AF44,Herramientas!$D$3:$E$227,2,0))=F44,1,0)),\"\")","v":""},{"$f":"IFERROR(IF(G44=\"\",\"\",IF((VLOOKUP(AG44,Herramientas!$D$3:$E$227,2,0))=G44,1,0)),\"\")","v":""},{"$f":"IFERROR(IF(H44=\"\",\"\",IF((VLOOKUP(AH44,Herramientas!$D$3:$E$227,2,0))=H44,1,0)),\"\")","v":""},{"$f":"IFERROR(IF(I44=\"\",\"\",IF((VLOOKUP(AI44,Herramientas!$D$3:$E$227,2,0))=I44,1,0)),\"\")","v":""},{"$f":"IFERROR(IF(J44=\"\",\"\",IF((VLOOKUP(AJ44,Herramientas!$D$3:$E$227,2,0))=J44,1,0)),\"\")","v":""},{"$f":"IFERROR(IF(K44=\"\",\"\",IF((VLOOKUP(AK44,Herramientas!$D$3:$E$227,2,0))=K44,1,0)),\"\")","v":""},{"$f":"IFERROR(IF(L44=\"\",\"\",IF((VLOOKUP(AL44,Herramientas!$D$3:$E$227,2,0))=L44,1,0)),\"\")","v":""},{"$f":"IFERROR(IF(M44=\"\",\"\",IF((VLOOKUP(AM44,Herramientas!$D$3:$E$227,2,0))=M44,1,0)),\"\")","v":""},{"$f":"IFERROR(IF(N44=\"\",\"\",IF((VLOOKUP(AN44,Herramientas!$D$3:$E$227,2,0))=N44,1,0)),\"\")","v":""},{"$f":"IFERROR(IF(O44=\"\",\"\",IF((VLOOKUP(AO44,Herramientas!$D$3:$E$227,2,0))=O44,1,0)),\"\")","v":""},{"$f":"IFERROR(IF(P44=\"\",\"\",IF((VLOOKUP(AP44,Herramientas!$D$3:$E$227,2,0))=P44,1,0)),\"\")","v":""},{"$f":"IFERROR(IF(Q44=\"\",\"\",IF((VLOOKUP(AQ44,Herramientas!$D$3:$E$227,2,0))=Q44,1,0)),\"\")","v":""},{"$f":"IFERROR(IF(R44=\"\",\"\",IF((VLOOKUP(AR44,Herramientas!$D$3:$E$227,2,0))=R44,1,0)),\"\")","v":""},{"$f":"IFERROR(IF(S44=\"\",\"\",IF((VLOOKUP(AS44,Herramientas!$D$3:$E$227,2,0))=S44,1,0)),\"\")","v":""},{"$f":"IFERROR(IF(T44=\"\",\"\",IF((VLOOKUP(AT44,Herramientas!$D$3:$E$227,2,0))=T44,1,0)),\"\")","v":""},{"$f":"IFERROR(IF(U44=\"\",\"\",IF((VLOOKUP(AU44,Herramientas!$D$3:$E$227,2,0))=U44,1,0)),\"\")","v":""},{"$f":"IFERROR(IF(V44=\"\",\"\",IF((VLOOKUP(AV44,Herramientas!$D$3:$E$227,2,0))=V44,1,0)),\"\")","v":""},{"$f":"IFERROR(IF(W44=\"\",\"\",IF((VLOOKUP(AW44,Herramientas!$D$3:$E$227,2,0))=W44,1,0)),\"\")","v":""},{"$f":"IFERROR(IF(X44=\"\",\"\",IF((VLOOKUP(AX44,Herramientas!$D$3:$E$227,2,0))=X44,1,0)),\"\")","v":""},{"$f":"IFERROR(IF(Y44=\"\",\"\",IF((VLOOKUP(AY44,Herramientas!$D$3:$E$227,2,0))=Y44,1,0)),\"\")","v":""},{"$f":"IFERROR(IF(Z44=\"\",\"\",IF((VLOOKUP(AZ44,Herramientas!$D$3:$E$227,2,0))=Z44,1,0)),\"\")","v":""},{"$f":"IFERROR(IF(AA44=\"\",\"\",IF((VLOOKUP(BA44,Herramientas!$D$3:$E$227,2,0))=AA44,1,0)),\"\")","v":""},{"$f":"IFERROR(IF(AB44=\"\",\"\",IF((VLOOKUP(BB44,Herramientas!$D$3:$E$227,2,0))=AB44,1,0)),\"\")","v":""},null,0,0]
[38,null,null,null,null,null,null,null,null,null,null,null,null,null,null,null,null,null,null,null,null,null,null,null,null,null,null,null,null,"5.°-1","5.°-2","5.°-3","5.°-4","5.°-5","5.°-6","5.°-7","5.°-8","5.°-9","5.°-10","5.°-11","5.°-12","5.°-13","5.°-14","5.°-15","5.°-16","5.°-17","5.°-18","5.°-19","5.°-20","5.°-21","5.°-22","5.°-23","5.°-24","5.°-25",null,{"$f":"IFERROR(IF(D45=\"\",\"\",IF((VLOOKUP(AD45,Herramientas!$D$3:$E$227,2,0))=D45,1,0)),\"\")","v":""},{"$f":"IFERROR(IF(E45=\"\",\"\",IF((VLOOKUP(AE45,Herramientas!$D$3:$E$227,2,0))=E45,1,0)),\"\")","v":""},{"$f":"IFERROR(IF(F45=\"\",\"\",IF((VLOOKUP(AF45,Herramientas!$D$3:$E$227,2,0))=F45,1,0)),\"\")","v":""},{"$f":"IFERROR(IF(G45=\"\",\"\",IF((VLOOKUP(AG45,Herramientas!$D$3:$E$227,2,0))=G45,1,0)),\"\")","v":""},{"$f":"IFERROR(IF(H45=\"\",\"\",IF((VLOOKUP(AH45,Herramientas!$D$3:$E$227,2,0))=H45,1,0)),\"\")","v":""},{"$f":"IFERROR(IF(I45=\"\",\"\",IF((VLOOKUP(AI45,Herramientas!$D$3:$E$227,2,0))=I45,1,0)),\"\")","v":""},{"$f":"IFERROR(IF(J45=\"\",\"\",IF((VLOOKUP(AJ45,Herramientas!$D$3:$E$227,2,0))=J45,1,0)),\"\")","v":""},{"$f":"IFERROR(IF(K45=\"\",\"\",IF((VLOOKUP(AK45,Herramientas!$D$3:$E$227,2,0))=K45,1,0)),\"\")","v":""},{"$f":"IFERROR(IF(L45=\"\",\"\",IF((VLOOKUP(AL45,Herramientas!$D$3:$E$227,2,0))=L45,1,0)),\"\")","v":""},{"$f":"IFERROR(IF(M45=\"\",\"\",IF((VLOOKUP(AM45,Herramientas!$D$3:$E$227,2,0))=M45,1,0)),\"\")","v":""},{"$f":"IFERROR(IF(N45=\"\",\"\",IF((VLOOKUP(AN45,Herramientas!$D$3:$E$227,2,0))=N45,1,0)),\"\")","v":""},{"$f":"IFERROR(IF(O45=\"\",\"\",IF((VLOOKUP(AO45,Herramientas!$D$3:$E$227,2,0))=O45,1,0)),\"\")","v":""},{"$f":"IFERROR(IF(P45=\"\",\"\",IF((VLOOKUP(AP45,Herramientas!$D$3:$E$227,2,0))=P45,1,0)),\"\")","v":""},{"$f":"IFERROR(IF(Q45=\"\",\"\",IF((VLOOKUP(AQ45,Herramientas!$D$3:$E$227,2,0))=Q45,1,0)),\"\")","v":""},{"$f":"IFERROR(IF(R45=\"\",\"\",IF((VLOOKUP(AR45,Herramientas!$D$3:$E$227,2,0))=R45,1,0)),\"\")","v":""},{"$f":"IFERROR(IF(S45=\"\",\"\",IF((VLOOKUP(AS45,Herramientas!$D$3:$E$227,2,0))=S45,1,0)),\"\")","v":""},{"$f":"IFERROR(IF(T45=\"\",\"\",IF((VLOOKUP(AT45,Herramientas!$D$3:$E$227,2,0))=T45,1,0)),\"\")","v":""},{"$f":"IFERROR(IF(U45=\"\",\"\",IF((VLOOKUP(AU45,Herramientas!$D$3:$E$227,2,0))=U45,1,0)),\"\")","v":""},{"$f":"IFERROR(IF(V45=\"\",\"\",IF((VLOOKUP(AV45,Herramientas!$D$3:$E$227,2,0))=V45,1,0)),\"\")","v":""},{"$f":"IFERROR(IF(W45=\"\",\"\",IF((VLOOKUP(AW45,Herramientas!$D$3:$E$227,2,0))=W45,1,0)),\"\")","v":""},{"$f":"IFERROR(IF(X45=\"\",\"\",IF((VLOOKUP(AX45,Herramientas!$D$3:$E$227,2,0))=X45,1,0)),\"\")","v":""},{"$f":"IFERROR(IF(Y45=\"\",\"\",IF((VLOOKUP(AY45,Herramientas!$D$3:$E$227,2,0))=Y45,1,0)),\"\")","v":""},{"$f":"IFERROR(IF(Z45=\"\",\"\",IF((VLOOKUP(AZ45,Herramientas!$D$3:$E$227,2,0))=Z45,1,0)),\"\")","v":""},{"$f":"IFERROR(IF(AA45=\"\",\"\",IF((VLOOKUP(BA45,Herramientas!$D$3:$E$227,2,0))=AA45,1,0)),\"\")","v":""},{"$f":"IFERROR(IF(AB45=\"\",\"\",IF((VLOOKUP(BB45,Herramientas!$D$3:$E$227,2,0))=AB45,1,0)),\"\")","v":""},null,0,0]
[39,null,null,null,null,null,null,null,null,null,null,null,null,null,null,null,null,null,null,null,null,null,null,null,null,null,null,null,null,"5.°-1","5.°-2","5.°-3","5.°-4","5.°-5","5.°-6","5.°-7","5.°-8","5.°-9","5.°-10","5.°-11","5.°-12","5.°-13","5.°-14","5.°-15","5.°-16","5.°-17","5.°-18","5.°-19","5.°-20","5.°-21","5.°-22","5.°-23","5.°-24","5.°-25",null,{"$f":"IFERROR(IF(D46=\"\",\"\",IF((VLOOKUP(AD46,Herramientas!$D$3:$E$227,2,0))=D46,1,0)),\"\")","v":""},{"$f":"IFERROR(IF(E46=\"\",\"\",IF((VLOOKUP(AE46,Herramientas!$D$3:$E$227,2,0))=E46,1,0)),\"\")","v":""},{"$f":"IFERROR(IF(F46=\"\",\"\",IF((VLOOKUP(AF46,Herramientas!$D$3:$E$227,2,0))=F46,1,0)),\"\")","v":""},{"$f":"IFERROR(IF(G46=\"\",\"\",IF((VLOOKUP(AG46,Herramientas!$D$3:$E$227,2,0))=G46,1,0)),\"\")","v":""},{"$f":"IFERROR(IF(H46=\"\",\"\",IF((VLOOKUP(AH46,Herramientas!$D$3:$E$227,2,0))=H46,1,0)),\"\")","v":""},{"$f":"IFERROR(IF(I46=\"\",\"\",IF((VLOOKUP(AI46,Herramientas!$D$3:$E$227,2,0))=I46,1,0)),\"\")","v":""},{"$f":"IFERROR(IF(J46=\"\",\"\",IF((VLOOKUP(AJ46,Herramientas!$D$3:$E$227,2,0))=J46,1,0)),\"\")","v":""},{"$f":"IFERROR(IF(K46=\"\",\"\",IF((VLOOKUP(AK46,Herramientas!$D$3:$E$227,2,0))=K46,1,0)),\"\")","v":""},{"$f":"IFERROR(IF(L46=\"\",\"\",IF((VLOOKUP(AL46,Herramientas!$D$3:$E$227,2,0))=L46,1,0)),\"\")","v":""},{"$f":"IFERROR(IF(M46=\"\",\"\",IF((VLOOKUP(AM46,Herramientas!$D$3:$E$227,2,0))=M46,1,0)),\"\")","v":""},{"$f":"IFERROR(IF(N46=\"\",\"\",IF((VLOOKUP(AN46,Herramientas!$D$3:$E$227,2,0))=N46,1,0)),\"\")","v":""},{"$f":"IFERROR(IF(O46=\"\",\"\",IF((VLOOKUP(AO46,Herramientas!$D$3:$E$227,2,0))=O46,1,0)),\"\")","v":""},{"$f":"IFERROR(IF(P46=\"\",\"\",IF((VLOOKUP(AP46,Herramientas!$D$3:$E$227,2,0))=P46,1,0)),\"\")","v":""},{"$f":"IFERROR(IF(Q46=\"\",\"\",IF((VLOOKUP(AQ46,Herramientas!$D$3:$E$227,2,0))=Q46,1,0)),\"\")","v":""},{"$f":"IFERROR(IF(R46=\"\",\"\",IF((VLOOKUP(AR46,Herramientas!$D$3:$E$227,2,0))=R46,1,0)),\"\")","v":""},{"$f":"IFERROR(IF(S46=\"\",\"\",IF((VLOOKUP(AS46,Herramientas!$D$3:$E$227,2,0))=S46,1,0)),\"\")","v":""},{"$f":"IFERROR(IF(T46=\"\",\"\",IF((VLOOKUP(AT46,Herramientas!$D$3:$E$227,2,0))=T46,1,0)),\"\")","v":""},{"$f":"IFERROR(IF(U46=\"\",\"\",IF((VLOOKUP(AU46,Herramientas!$D$3:$E$227,2,0))=U46,1,0)),\"\")","v":""},{"$f":"IFERROR(IF(V46=\"\",\"\",IF((VLOOKUP(AV46,Herramientas!$D$3:$E$227,2,0))=V46,1,0)),\"\")","v":""},{"$f":"IFERROR(IF(W46=\"\",\"\",IF((VLOOKUP(AW46,Herramientas!$D$3:$E$227,2,0))=W46,1,0)),\"\")","v":""},{"$f":"IFERROR(IF(X46=\"\",\"\",IF((VLOOKUP(AX46,Herramientas!$D$3:$E$227,2,0))=X46,1,0)),\"\")","v":""},{"$f":"IFERROR(IF(Y46=\"\",\"\",IF((VLOOKUP(AY46,Herramientas!$D$3:$E$227,2,0))=Y46,1,0)),\"\")","v":""},{"$f":"IFERROR(IF(Z46=\"\",\"\",IF((VLOOKUP(AZ46,Herramientas!$D$3:$E$227,2,0))=Z46,1,0)),\"\")","v":""},{"$f":"IFERROR(IF(AA46=\"\",\"\",IF((VLOOKUP(BA46,Herramientas!$D$3:$E$227,2,0))=AA46,1,0)),\"\")","v":""},{"$f":"IFERROR(IF(AB46=\"\",\"\",IF((VLOOKUP(BB46,Herramientas!$D$3:$E$227,2,0))=AB46,1,0)),\"\")","v":""},null,0,0]
[40,null,null,null,null,null,null,null,null,null,null,null,null,null,null,null,null,null,null,null,null,null,null,null,null,null,null,null,null,"5.°-1","5.°-2","5.°-3","5.°-4","5.°-5","5.°-6","5.°-7","5.°-8","5.°-9","5.°-10","5.°-11","5.°-12","5.°-13","5.°-14","5.°-15","5.°-16","5.°-17","5.°-18","5.°-19","5.°-20","5.°-21","5.°-22","5.°-23","5.°-24","5.°-25",null,{"$f":"IFERROR(IF(D47=\"\",\"\",IF((VLOOKUP(AD47,Herramientas!$D$3:$E$227,2,0))=D47,1,0)),\"\")","v":""},{"$f":"IFERROR(IF(E47=\"\",\"\",IF((VLOOKUP(AE47,Herramientas!$D$3:$E$227,2,0))=E47,1,0)),\"\")","v":""},{"$f":"IFERROR(IF(F47=\"\",\"\",IF((VLOOKUP(AF47,Herramientas!$D$3:$E$227,2,0))=F47,1,0)),\"\")","v":""},{"$f":"IFERROR(IF(G47=\"\",\"\",IF((VLOOKUP(AG47,Herramientas!$D$3:$E$227,2,0))=G47,1,0)),\"\")","v":""},{"$f":"IFERROR(IF(H47=\"\",\"\",IF((VLOOKUP(AH47,Herramientas!$D$3:$E$227,2,0))=H47,1,0)),\"\")","v":""},{"$f":"IFERROR(IF(I47=\"\",\"\",IF((VLOOKUP(AI47,Herramientas!$D$3:$E$227,2,0))=I47,1,0)),\"\")","v":""},{"$f":"IFERROR(IF(J47=\"\",\"\",IF((VLOOKUP(AJ47,Herramientas!$D$3:$E$227,2,0))=J47,1,0)),\"\")","v":""},{"$f":"IFERROR(IF(K47=\"\",\"\",IF((VLOOKUP(AK47,Herramientas!$D$3:$E$227,2,0))=K47,1,0)),\"\")","v":""},{"$f":"IFERROR(IF(L47=\"\",\"\",IF((VLOOKUP(AL47,Herramientas!$D$3:$E$227,2,0))=L47,1,0)),\"\")","v":""},{"$f":"IFERROR(IF(M47=\"\",\"\",IF((VLOOKUP(AM47,Herramientas!$D$3:$E$227,2,0))=M47,1,0)),\"\")","v":""},{"$f":"IFERROR(IF(N47=\"\",\"\",IF((VLOOKUP(AN47,Herramientas!$D$3:$E$227,2,0))=N47,1,0)),\"\")","v":""},{"$f":"IFERROR(IF(O47=\"\",\"\",IF((VLOOKUP(AO47,Herramientas!$D$3:$E$227,2,0))=O47,1,0)),\"\")","v":""},{"$f":"IFERROR(IF(P47=\"\",\"\",IF((VLOOKUP(AP47,Herramientas!$D$3:$E$227,2,0))=P47,1,0)),\"\")","v":""},{"$f":"IFERROR(IF(Q47=\"\",\"\",IF((VLOOKUP(AQ47,Herramientas!$D$3:$E$227,2,0))=Q47,1,0)),\"\")","v":""},{"$f":"IFERROR(IF(R47=\"\",\"\",IF((VLOOKUP(AR47,Herramientas!$D$3:$E$227,2,0))=R47,1,0)),\"\")","v":""},{"$f":"IFERROR(IF(S47=\"\",\"\",IF((VLOOKUP(AS47,Herramientas!$D$3:$E$227,2,0))=S47,1,0)),\"\")","v":""},{"$f":"IFERROR(IF(T47=\"\",\"\",IF((VLOOKUP(AT47,Herramientas!$D$3:$E$227,2,0))=T47,1,0)),\"\")","v":""},{"$f":"IFERROR(IF(U47=\"\",\"\",IF((VLOOKUP(AU47,Herramientas!$D$3:$E$227,2,0))=U47,1,0)),\"\")","v":""},{"$f":"IFERROR(IF(V47=\"\",\"\",IF((VLOOKUP(AV47,Herramientas!$D$3:$E$227,2,0))=V47,1,0)),\"\")","v":""},{"$f":"IFERROR(IF(W47=\"\",\"\",IF((VLOOKUP(AW47,Herramientas!$D$3:$E$227,2,0))=W47,1,0)),\"\")","v":""},{"$f":"IFERROR(IF(X47=\"\",\"\",IF((VLOOKUP(AX47,Herramientas!$D$3:$E$227,2,0))=X47,1,0)),\"\")","v":""},{"$f":"IFERROR(IF(Y47=\"\",\"\",IF((VLOOKUP(AY47,Herramientas!$D$3:$E$227,2,0))=Y47,1,0)),\"\")","v":""},{"$f":"IFERROR(IF(Z47=\"\",\"\",IF((VLOOKUP(AZ47,Herramientas!$D$3:$E$227,2,0))=Z47,1,0)),\"\")","v":""},{"$f":"IFERROR(IF(AA47=\"\",\"\",IF((VLOOKUP(BA47,Herramientas!$D$3:$E$227,2,0))=AA47,1,0)),\"\")","v":""},{"$f":"IFERROR(IF(AB47=\"\",\"\",IF((VLOOKUP(BB47,Herramientas!$D$3:$E$227,2,0))=AB47,1,0)),\"\")","v":""},null,0,0]
[41,null,null,null,null,null,null,null,null,null,null,null,null,null,null,null,null,null,null,null,null,null,null,null,null,null,null,null,null,"5.°-1","5.°-2","5.°-3","5.°-4","5.°-5","5.°-6","5.°-7","5.°-8","5.°-9","5.°-10","5.°-11","5.°-12","5.°-13","5.°-14","5.°-15","5.°-16","5.°-17","5.°-18","5.°-19","5.°-20","5.°-21","5.°-22","5.°-23","5.°-24","5.°-25",null,{"$f":"IFERROR(IF(D48=\"\",\"\",IF((VLOOKUP(AD48,Herramientas!$D$3:$E$227,2,0))=D48,1,0)),\"\")","v":""},{"$f":"IFERROR(IF(E48=\"\",\"\",IF((VLOOKUP(AE48,Herramientas!$D$3:$E$227,2,0))=E48,1,0)),\"\")","v":""},{"$f":"IFERROR(IF(F48=\"\",\"\",IF((VLOOKUP(AF48,Herramientas!$D$3:$E$227,2,0))=F48,1,0)),\"\")","v":""},{"$f":"IFERROR(IF(G48=\"\",\"\",IF((VLOOKUP(AG48,Herramientas!$D$3:$E$227,2,0))=G48,1,0)),\"\")","v":""},{"$f":"IFERROR(IF(H48=\"\",\"\",IF((VLOOKUP(AH48,Herramientas!$D$3:$E$227,2,0))=H48,1,0)),\"\")","v":""},{"$f":"IFERROR(IF(I48=\"\",\"\",IF((VLOOKUP(AI48,Herramientas!$D$3:$E$227,2,0))=I48,1,0)),\"\")","v":""},{"$f":"IFERROR(IF(J48=\"\",\"\",IF((VLOOKUP(AJ48,Herramientas!$D$3:$E$227,2,0))=J48,1,0)),\"\")","v":""},{"$f":"IFERROR(IF(K48=\"\",\"\",IF((VLOOKUP(AK48,Herramientas!$D$3:$E$227,2,0))=K48,1,0)),\"\")","v":""},{"$f":"IFERROR(IF(L48=\"\",\"\",IF((VLOOKUP(AL48,Herramientas!$D$3:$E$227,2,0))=L48,1,0)),\"\")","v":""},{"$f":"IFERROR(IF(M48=\"\",\"\",IF((VLOOKUP(AM48,Herramientas!$D$3:$E$227,2,0))=M48,1,0)),\"\")","v":""},{"$f":"IFERROR(IF(N48=\"\",\"\",IF((VLOOKUP(AN48,Herramientas!$D$3:$E$227,2,0))=N48,1,0)),\"\")","v":""},{"$f":"IFERROR(IF(O48=\"\",\"\",IF((VLOOKUP(AO48,Herramientas!$D$3:$E$227,2,0))=O48,1,0)),\"\")","v":""},{"$f":"IFERROR(IF(P48=\"\",\"\",IF((VLOOKUP(AP48,Herramientas!$D$3:$E$227,2,0))=P48,1,0)),\"\")","v":""},{"$f":"IFERROR(IF(Q48=\"\",\"\",IF((VLOOKUP(AQ48,Herramientas!$D$3:$E$227,2,0))=Q48,1,0)),\"\")","v":""},{"$f":"IFERROR(IF(R48=\"\",\"\",IF((VLOOKUP(AR48,Herramientas!$D$3:$E$227,2,0))=R48,1,0)),\"\")","v":""},{"$f":"IFERROR(IF(S48=\"\",\"\",IF((VLOOKUP(AS48,Herramientas!$D$3:$E$227,2,0))=S48,1,0)),\"\")","v":""},{"$f":"IFERROR(IF(T48=\"\",\"\",IF((VLOOKUP(AT48,Herramientas!$D$3:$E$227,2,0))=T48,1,0)),\"\")","v":""},{"$f":"IFERROR(IF(U48=\"\",\"\",IF((VLOOKUP(AU48,Herramientas!$D$3:$E$227,2,0))=U48,1,0)),\"\")","v":""},{"$f":"IFERROR(IF(V48=\"\",\"\",IF((VLOOKUP(AV48,Herramientas!$D$3:$E$227,2,0))=V48,1,0)),\"\")","v":""},{"$f":"IFERROR(IF(W48=\"\",\"\",IF((VLOOKUP(AW48,Herramientas!$D$3:$E$227,2,0))=W48,1,0)),\"\")","v":""},{"$f":"IFERROR(IF(X48=\"\",\"\",IF((VLOOKUP(AX48,Herramientas!$D$3:$E$227,2,0))=X48,1,0)),\"\")","v":""},{"$f":"IFERROR(IF(Y48=\"\",\"\",IF((VLOOKUP(AY48,Herramientas!$D$3:$E$227,2,0))=Y48,1,0)),\"\")","v":""},{"$f":"IFERROR(IF(Z48=\"\",\"\",IF((VLOOKUP(AZ48,Herramientas!$D$3:$E$227,2,0))=Z48,1,0)),\"\")","v":""},{"$f":"IFERROR(IF(AA48=\"\",\"\",IF((VLOOKUP(BA48,Herramientas!$D$3:$E$227,2,0))=AA48,1,0)),\"\")","v":""},{"$f":"IFERROR(IF(AB48=\"\",\"\",IF((VLOOKUP(BB48,Herramientas!$D$3:$E$227,2,0))=AB48,1,0)),\"\")","v":""},null,0,0]
[42,null,null,null,null,null,null,null,null,null,null,null,null,null,null,null,null,null,null,null,null,null,null,null,null,null,null,null,null,"5.°-1","5.°-2","5.°-3","5.°-4","5.°-5","5.°-6","5.°-7","5.°-8","5.°-9","5.°-10","5.°-11","5.°-12","5.°-13","5.°-14","5.°-15","5.°-16","5.°-17","5.°-18","5.°-19","5.°-20","5.°-21","5.°-22","5.°-23","5.°-24","5.°-25",null,{"$f":"IFERROR(IF(D49=\"\",\"\",IF((VLOOKUP(AD49,Herramientas!$D$3:$E$227,2,0))=D49,1,0)),\"\")","v":""},{"$f":"IFERROR(IF(E49=\"\",\"\",IF((VLOOKUP(AE49,Herramientas!$D$3:$E$227,2,0))=E49,1,0)),\"\")","v":""},{"$f":"IFERROR(IF(F49=\"\",\"\",IF((VLOOKUP(AF49,Herramientas!$D$3:$E$227,2,0))=F49,1,0)),\"\")","v":""},{"$f":"IFERROR(IF(G49=\"\",\"\",IF((VLOOKUP(AG49,Herramientas!$D$3:$E$227,2,0))=G49,1,0)),\"\")","v":""},{"$f":"IFERROR(IF(H49=\"\",\"\",IF((VLOOKUP(AH49,Herramientas!$D$3:$E$227,2,0))=H49,1,0)),\"\")","v":""},{"$f":"IFERROR(IF(I49=\"\",\"\",IF((VLOOKUP(AI49,Herramientas!$D$3:$E$227,2,0))=I49,1,0)),\"\")","v":""},{"$f":"IFERROR(IF(J49=\"\",\"\",IF((VLOOKUP(AJ49,Herramientas!$D$3:$E$227,2,0))=J49,1,0)),\"\")","v":""},{"$f":"IFERROR(IF(K49=\"\",\"\",IF((VLOOKUP(AK49,Herramientas!$D$3:$E$227,2,0))=K49,1,0)),\"\")","v":""},{"$f":"IFERROR(IF(L49=\"\",\"\",IF((VLOOKUP(AL49,Herramientas!$D$3:$E$227,2,0))=L49,1,0)),\"\")","v":""},{"$f":"IFERROR(IF(M49=\"\",\"\",IF((VLOOKUP(AM49,Herramientas!$D$3:$E$227,2,0))=M49,1,0)),\"\")","v":""},{"$f":"IFERROR(IF(N49=\"\",\"\",IF((VLOOKUP(AN49,Herramientas!$D$3:$E$227,2,0))=N49,1,0)),\"\")","v":""},{"$f":"IFERROR(IF(O49=\"\",\"\",IF((VLOOKUP(AO49,Herramientas!$D$3:$E$227,2,0))=O49,1,0)),\"\")","v":""},{"$f":"IFERROR(IF(P49=\"\",\"\",IF((VLOOKUP(AP49,Herramientas!$D$3:$E$227,2,0))=P49,1,0)),\"\")","v":""},{"$f":"IFERROR(IF(Q49=\"\",\"\",IF((VLOOKUP(AQ49,Herramientas!$D$3:$E$227,2,0))=Q49,1,0)),\"\")","v":""},{"$f":"IFERROR(IF(R49=\"\",\"\",IF((VLOOKUP(AR49,Herramientas!$D$3:$E$227,2,0))=R49,1,0)),\"\")","v":""},{"$f":"IFERROR(IF(S49=\"\",\"\",IF((VLOOKUP(AS49,Herramientas!$D$3:$E$227,2,0))=S49,1,0)),\"\")","v":""},{"$f":"IFERROR(IF(T49=\"\",\"\",IF((VLOOKUP(AT49,Herramientas!$D$3:$E$227,2,0))=T49,1,0)),\"\")","v":""},{"$f":"IFERROR(IF(U49=\"\",\"\",IF((VLOOKUP(AU49,Herramientas!$D$3:$E$227,2,0))=U49,1,0)),\"\")","v":""},{"$f":"IFERROR(IF(V49=\"\",\"\",IF((VLOOKUP(AV49,Herramientas!$D$3:$E$227,2,0))=V49,1,0)),\"\")","v":""},{"$f":"IFERROR(IF(W49=\"\",\"\",IF((VLOOKUP(AW49,Herramientas!$D$3:$E$227,2,0))=W49,1,0)),\"\")","v":""},{"$f":"IFERROR(IF(X49=\"\",\"\",IF((VLOOKUP(AX49,Herramientas!$D$3:$E$227,2,0))=X49,1,0)),\"\")","v":""},{"$f":"IFERROR(IF(Y49=\"\",\"\",IF((VLOOKUP(AY49,Herramientas!$D$3:$E$227,2,0))=Y49,1,0)),\"\")","v":""},{"$f":"IFERROR(IF(Z49=\"\",\"\",IF((VLOOKUP(AZ49,Herramientas!$D$3:$E$227,2,0))=Z49,1,0)),\"\")","v":""},{"$f":"IFERROR(IF(AA49=\"\",\"\",IF((VLOOKUP(BA49,Herramientas!$D$3:$E$227,2,0))=AA49,1,0)),\"\")","v":""},{"$f":"IFERROR(IF(AB49=\"\",\"\",IF((VLOOKUP(BB49,Herramientas!$D$3:$E$227,2,0))=AB49,1,0)),\"\")","v":""},null,0,0]
[43,null,null,null,null,null,null,null,null,null,null,null,null,null,null,null,null,null,null,null,null,null,null,null,null,null,null,null,null,"5.°-1","5.°-2","5.°-3","5.°-4","5.°-5","5.°-6","5.°-7","5.°-8","5.°-9","5.°-10","5.°-11","5.°-12","5.°-13","5.°-14","5.°-15","5.°-16","5.°-17","5.°-18","5.°-19","5.°-20","5.°-21","5.°-22","5.°-23","5.°-24","5.°-25",null,{"$f":"IFERROR(IF(D50=\"\",\"\",IF((VLOOKUP(AD50,Herramientas!$D$3:$E$227,2,0))=D50,1,0)),\"\")","v":""},{"$f":"IFERROR(IF(E50=\"\",\"\",IF((VLOOKUP(AE50,Herramientas!$D$3:$E$227,2,0))=E50,1,0)),\"\")","v":""},{"$f":"IFERROR(IF(F50=\"\",\"\",IF((VLOOKUP(AF50,Herramientas!$D$3:$E$227,2,0))=F50,1,0)),\"\")","v":""},{"$f":"IFERROR(IF(G50=\"\",\"\",IF((VLOOKUP(AG50,Herramientas!$D$3:$E$227,2,0))=G50,1,0)),\"\")","v":""},{"$f":"IFERROR(IF(H50=\"\",\"\",IF((VLOOKUP(AH50,Herramientas!$D$3:$E$227,2,0))=H50,1,0)),\"\")","v":""},{"$f":"IFERROR(IF(I50=\"\",\"\",IF((VLOOKUP(AI50,Herramientas!$D$3:$E$227,2,0))=I50,1,0)),\"\")","v":""},{"$f":"IFERROR(IF(J50=\"\",\"\",IF((VLOOKUP(AJ50,Herramientas!$D$3:$E$227,2,0))=J50,1,0)),\"\")","v":""},{"$f":"IFERROR(IF(K50=\"\",\"\",IF((VLOOKUP(AK50,Herramientas!$D$3:$E$227,2,0))=K50,1,0)),\"\")","v":""},{"$f":"IFERROR(IF(L50=\"\",\"\",IF((VLOOKUP(AL50,Herramientas!$D$3:$E$227,2,0))=L50,1,0)),\"\")","v":""},{"$f":"IFERROR(IF(M50=\"\",\"\",IF((VLOOKUP(AM50,Herramientas!$D$3:$E$227,2,0))=M50,1,0)),\"\")","v":""},{"$f":"IFERROR(IF(N50=\"\",\"\",IF((VLOOKUP(AN50,Herramientas!$D$3:$E$227,2,0))=N50,1,0)),\"\")","v":""},{"$f":"IFERROR(IF(O50=\"\",\"\",IF((VLOOKUP(AO50,Herramientas!$D$3:$E$227,2,0))=O50,1,0)),\"\")","v":""},{"$f":"IFERROR(IF(P50=\"\",\"\",IF((VLOOKUP(AP50,Herramientas!$D$3:$E$227,2,0))=P50,1,0)),\"\")","v":""},{"$f":"IFERROR(IF(Q50=\"\",\"\",IF((VLOOKUP(AQ50,Herramientas!$D$3:$E$227,2,0))=Q50,1,0)),\"\")","v":""},{"$f":"IFERROR(IF(R50=\"\",\"\",IF((VLOOKUP(AR50,Herramientas!$D$3:$E$227,2,0))=R50,1,0)),\"\")","v":""},{"$f":"IFERROR(IF(S50=\"\",\"\",IF((VLOOKUP(AS50,Herramientas!$D$3:$E$227,2,0))=S50,1,0)),\"\")","v":""},{"$f":"IFERROR(IF(T50=\"\",\"\",IF((VLOOKUP(AT50,Herramientas!$D$3:$E$227,2,0))=T50,1,0)),\"\")","v":""},{"$f":"IFERROR(IF(U50=\"\",\"\",IF((VLOOKUP(AU50,Herramientas!$D$3:$E$227,2,0))=U50,1,0)),\"\")","v":""},{"$f":"IFERROR(IF(V50=\"\",\"\",IF((VLOOKUP(AV50,Herramientas!$D$3:$E$227,2,0))=V50,1,0)),\"\")","v":""},{"$f":"IFERROR(IF(W50=\"\",\"\",IF((VLOOKUP(AW50,Herramientas!$D$3:$E$227,2,0))=W50,1,0)),\"\")","v":""},{"$f":"IFERROR(IF(X50=\"\",\"\",IF((VLOOKUP(AX50,Herramientas!$D$3:$E$227,2,0))=X50,1,0)),\"\")","v":""},{"$f":"IFERROR(IF(Y50=\"\",\"\",IF((VLOOKUP(AY50,Herramientas!$D$3:$E$227,2,0))=Y50,1,0)),\"\")","v":""},{"$f":"IFERROR(IF(Z50=\"\",\"\",IF((VLOOKUP(AZ50,Herramientas!$D$3:$E$227,2,0))=Z50,1,0)),\"\")","v":""},{"$f":"IFERROR(IF(AA50=\"\",\"\",IF((VLOOKUP(BA50,Herramientas!$D$3:$E$227,2,0))=AA50,1,0)),\"\")","v":""},{"$f":"IFERROR(IF(AB50=\"\",\"\",IF((VLOOKUP(BB50,Herramientas!$D$3:$E$227,2,0))=AB50,1,0)),\"\")","v":""},null,0,0]
[44,null,null,null,null,null,null,null,null,null,null,null,null,null,null,null,null,null,null,null,null,null,null,null,null,null,null,null,null,{"$f":"CONCATENATE($B$2,\"-\",D$7)","v":"5.°-1"},{"$f":"CONCATENATE($B$2,\"-\",E$7)","v":"5.°-2"},{"$f":"CONCATENATE($B$2,\"-\",F$7)","v":"5.°-3"},{"$f":"CONCATENATE($B$2,\"-\",G$7)","v":"5.°-4"},{"$f":"CONCATENATE($B$2,\"-\",H$7)","v":"5.°-5"},{"$f":"CONCATENATE($B$2,\"-\",I$7)","v":"5.°-6"},{"$f":"CONCATENATE($B$2,\"-\",J$7)","v":"5.°-7"},{"$f":"CONCATENATE($B$2,\"-\",K$7)","v":"5.°-8"},{"$f":"CONCATENATE($B$2,\"-\",L$7)","v":"5.°-9"},{"$f":"CONCATENATE($B$2,\"-\",M$7)","v":"5.°-10"},{"$f":"CONCATENATE($B$2,\"-\",N$7)","v":"5.°-11"},{"$f":"CONCATENATE($B$2,\"-\",O$7)","v":"5.°-12"},{"$f":"CONCATENATE($B$2,\"-\",P$7)","v":"5.°-13"},{"$f":"CONCATENATE($B$2,\"-\",Q$7)","v":"5.°-14"},{"$f":"CONCATENATE($B$2,\"-\",R$7)","v":"5.°-15"},{"$f":"CONCATENATE($B$2,\"-\",S$7)","v":"5.°-16"},{"$f":"CONCATENATE($B$2,\"-\",T$7)","v":"5.°-17"},{"$f":"CONCATENATE($B$2,\"-\",U$7)","v":"5.°-18"},{"$f":"CONCATENATE($B$2,\"-\",V$7)","v":"5.°-19"},{"$f":"CONCATENATE($B$2,\"-\",W$7)","v":"5.°-20"},{"$f":"CONCATENATE($B$2,\"-\",X$7)","v":"5.°-21"},{"$f":"CONCATENATE($B$2,\"-\",Y$7)","v":"5.°-22"},{"$f":"CONCATENATE($B$2,\"-\",Z$7)","v":"5.°-23"},{"$f":"CONCATENATE($B$2,\"-\",AA$7)","v":"5.°-24"},{"$f":"CONCATENATE($B$2,\"-\",AB$7)","v":"5.°-25"},null,{"$f":"IFERROR(IF(D51=\"\",\"\",IF((VLOOKUP(AD51,Herramientas!$D$3:$E$227,2,0))=D51,1,0)),\"\")","v":""},{"$f":"IFERROR(IF(E51=\"\",\"\",IF((VLOOKUP(AE51,Herramientas!$D$3:$E$227,2,0))=E51,1,0)),\"\")","v":""},{"$f":"IFERROR(IF(F51=\"\",\"\",IF((VLOOKUP(AF51,Herramientas!$D$3:$E$227,2,0))=F51,1,0)),\"\")","v":""},{"$f":"IFERROR(IF(G51=\"\",\"\",IF((VLOOKUP(AG51,Herramientas!$D$3:$E$227,2,0))=G51,1,0)),\"\")","v":""},{"$f":"IFERROR(IF(H51=\"\",\"\",IF((VLOOKUP(AH51,Herramientas!$D$3:$E$227,2,0))=H51,1,0)),\"\")","v":""},{"$f":"IFERROR(IF(I51=\"\",\"\",IF((VLOOKUP(AI51,Herramientas!$D$3:$E$227,2,0))=I51,1,0)),\"\")","v":""},{"$f":"IFERROR(IF(J51=\"\",\"\",IF((VLOOKUP(AJ51,Herramientas!$D$3:$E$227,2,0))=J51,1,0)),\"\")","v":""},{"$f":"IFERROR(IF(K51=\"\",\"\",IF((VLOOKUP(AK51,Herramientas!$D$3:$E$227,2,0))=K51,1,0)),\"\")","v":""},{"$f":"IFERROR(IF(L51=\"\",\"\",IF((VLOOKUP(AL51,Herramientas!$D$3:$E$227,2,0))=L51,1,0)),\"\")","v":""},{"$f":"IFERROR(IF(M51=\"\",\"\",IF((VLOOKUP(AM51,Herramientas!$D$3:$E$227,2,0))=M51,1,0)),\"\")","v":""},{"$f":"IFERROR(IF(N51=\"\",\"\",IF((VLOOKUP(AN51,Herramientas!$D$3:$E$227,2,0))=N51,1,0)),\"\")","v":""},{"$f":"IFERROR(IF(O51=\"\",\"\",IF((VLOOKUP(AO51,Herramientas!$D$3:$E$227,2,0))=O51,1,0)),\"\")","v":""},{"$f":"IFERROR(IF(P51=\"\",\"\",IF((VLOOKUP(AP51,Herramientas!$D$3:$E$227,2,0))=P51,1,0)),\"\")","v":""},{"$f":"IFERROR(IF(Q51=\"\",\"\",IF((VLOOKUP(AQ51,Herramientas!$D$3:$E$227,2,0))=Q51,1,0)),\"\")","v":""},{"$f":"IFERROR(IF(R51=\"\",\"\",IF((VLOOKUP(AR51,Herramientas!$D$3:$E$227,2,0))=R51,1,0)),\"\")","v":""},{"$f":"IFERROR(IF(S51=\"\",\"\",IF((VLOOKUP(AS51,Herramientas!$D$3:$E$227,2,0))=S51,1,0)),\"\")","v":""},{"$f":"IFERROR(IF(T51=\"\",\"\",IF((VLOOKUP(AT51,Herramientas!$D$3:$E$227,2,0))=T51,1,0)),\"\")","v":""},{"$f":"IFERROR(IF(U51=\"\",\"\",IF((VLOOKUP(AU51,Herramientas!$D$3:$E$227,2,0))=U51,1,0)),\"\")","v":""},{"$f":"IFERROR(IF(V51=\"\",\"\",IF((VLOOKUP(AV51,Herramientas!$D$3:$E$227,2,0))=V51,1,0)),\"\")","v":""},{"$f":"IFERROR(IF(W51=\"\",\"\",IF((VLOOKUP(AW51,Herramientas!$D$3:$E$227,2,0))=W51,1,0)),\"\")","v":""},{"$f":"IFERROR(IF(X51=\"\",\"\",IF((VLOOKUP(AX51,Herramientas!$D$3:$E$227,2,0))=X51,1,0)),\"\")","v":""},{"$f":"IFERROR(IF(Y51=\"\",\"\",IF((VLOOKUP(AY51,Herramientas!$D$3:$E$227,2,0))=Y51,1,0)),\"\")","v":""},{"$f":"IFERROR(IF(Z51=\"\",\"\",IF((VLOOKUP(AZ51,Herramientas!$D$3:$E$227,2,0))=Z51,1,0)),\"\")","v":""},{"$f":"IFERROR(IF(AA51=\"\",\"\",IF((VLOOKUP(BA51,Herramientas!$D$3:$E$227,2,0))=AA51,1,0)),\"\")","v":""},{"$f":"IFERROR(IF(AB51=\"\",\"\",IF((VLOOKUP(BB51,Herramientas!$D$3:$E$227,2,0))=AB51,1,0)),\"\")","v":""},null,{"$f":"SUM(BD51:CB51)","v":0},{"$f":"CD51/25*10","v":0}]
[45,null,null,null,null,null,null,null,null,null,null,null,null,null,null,null,null,null,null,null,null,null,null,null,null,null,null,null,null,{"$f":"CONCATENATE($B$2,\"-\",D$7)","v":"5.°-1"},"5.°-2","5.°-3","5.°-4","5.°-5","5.°-6","5.°-7","5.°-8","5.°-9","5.°-10","5.°-11","5.°-12","5.°-13","5.°-14","5.°-15","5.°-16","5.°-17","5.°-18","5.°-19","5.°-20","5.°-21","5.°-22","5.°-23","5.°-24","5.°-25",null,{"$f":"IFERROR(IF(D52=\"\",\"\",IF((VLOOKUP(AD52,Herramientas!$D$3:$E$227,2,0))=D52,1,0)),\"\")","v":""},{"$f":"IFERROR(IF(E52=\"\",\"\",IF((VLOOKUP(AE52,Herramientas!$D$3:$E$227,2,0))=E52,1,0)),\"\")","v":""},{"$f":"IFERROR(IF(F52=\"\",\"\",IF((VLOOKUP(AF52,Herramientas!$D$3:$E$227,2,0))=F52,1,0)),\"\")","v":""},{"$f":"IFERROR(IF(G52=\"\",\"\",IF((VLOOKUP(AG52,Herramientas!$D$3:$E$227,2,0))=G52,1,0)),\"\")","v":""},{"$f":"IFERROR(IF(H52=\"\",\"\",IF((VLOOKUP(AH52,Herramientas!$D$3:$E$227,2,0))=H52,1,0)),\"\")","v":""},{"$f":"IFERROR(IF(I52=\"\",\"\",IF((VLOOKUP(AI52,Herramientas!$D$3:$E$227,2,0))=I52,1,0)),\"\")","v":""},{"$f":"IFERROR(IF(J52=\"\",\"\",IF((VLOOKUP(AJ52,Herramientas!$D$3:$E$227,2,0))=J52,1,0)),\"\")","v":""},{"$f":"IFERROR(IF(K52=\"\",\"\",IF((VLOOKUP(AK52,Herramientas!$D$3:$E$227,2,0))=K52,1,0)),\"\")","v":""},{"$f":"IFERROR(IF(L52=\"\",\"\",IF((VLOOKUP(AL52,Herramientas!$D$3:$E$227,2,0))=L52,1,0)),\"\")","v":""},{"$f":"IFERROR(IF(M52=\"\",\"\",IF((VLOOKUP(AM52,Herramientas!$D$3:$E$227,2,0))=M52,1,0)),\"\")","v":""},{"$f":"IFERROR(IF(N52=\"\",\"\",IF((VLOOKUP(AN52,Herramientas!$D$3:$E$227,2,0))=N52,1,0)),\"\")","v":""},{"$f":"IFERROR(IF(O52=\"\",\"\",IF((VLOOKUP(AO52,Herramientas!$D$3:$E$227,2,0))=O52,1,0)),\"\")","v":""},{"$f":"IFERROR(IF(P52=\"\",\"\",IF((VLOOKUP(AP52,Herramientas!$D$3:$E$227,2,0))=P52,1,0)),\"\")","v":""},{"$f":"IFERROR(IF(Q52=\"\",\"\",IF((VLOOKUP(AQ52,Herramientas!$D$3:$E$227,2,0))=Q52,1,0)),\"\")","v":""},{"$f":"IFERROR(IF(R52=\"\",\"\",IF((VLOOKUP(AR52,Herramientas!$D$3:$E$227,2,0))=R52,1,0)),\"\")","v":""},{"$f":"IFERROR(IF(S52=\"\",\"\",IF((VLOOKUP(AS52,Herramientas!$D$3:$E$227,2,0))=S52,1,0)),\"\")","v":""},{"$f":"IFERROR(IF(T52=\"\",\"\",IF((VLOOKUP(AT52,Herramientas!$D$3:$E$227,2,0))=T52,1,0)),\"\")","v":""},{"$f":"IFERROR(IF(U52=\"\",\"\",IF((VLOOKUP(AU52,Herramientas!$D$3:$E$227,2,0))=U52,1,0)),\"\")","v":""},{"$f":"IFERROR(IF(V52=\"\",\"\",IF((VLOOKUP(AV52,Herramientas!$D$3:$E$227,2,0))=V52,1,0)),\"\")","v":""},{"$f":"IFERROR(IF(W52=\"\",\"\",IF((VLOOKUP(AW52,Herramientas!$D$3:$E$227,2,0))=W52,1,0)),\"\")","v":""},{"$f":"IFERROR(IF(X52=\"\",\"\",IF((VLOOKUP(AX52,Herramientas!$D$3:$E$227,2,0))=X52,1,0)),\"\")","v":""},{"$f":"IFERROR(IF(Y52=\"\",\"\",IF((VLOOKUP(AY52,Herramientas!$D$3:$E$227,2,0))=Y52,1,0)),\"\")","v":""},{"$f":"IFERROR(IF(Z52=\"\",\"\",IF((VLOOKUP(AZ52,Herramientas!$D$3:$E$227,2,0))=Z52,1,0)),\"\")","v":""},{"$f":"IFERROR(IF(AA52=\"\",\"\",IF((VLOOKUP(BA52,Herramientas!$D$3:$E$227,2,0))=AA52,1,0)),\"\")","v":""},{"$f":"IFERROR(IF(AB52=\"\",\"\",IF((VLOOKUP(BB52,Herramientas!$D$3:$E$227,2,0))=AB52,1,0)),\"\")","v":""},null,0,0]
[46,null,null,null,null,null,null,null,null,null,null,null,null,null,null,null,null,null,null,null,null,null,null,null,null,null,null,null,null,"5.°-1","5.°-2","5.°-3","5.°-4","5.°-5","5.°-6","5.°-7","5.°-8","5.°-9","5.°-10","5.°-11","5.°-12","5.°-13","5.°-14","5.°-15","5.°-16","5.°-17","5.°-18","5.°-19","5.°-20","5.°-21","5.°-22","5.°-23","5.°-24","5.°-25",null,{"$f":"IFERROR(IF(D53=\"\",\"\",IF((VLOOKUP(AD53,Herramientas!$D$3:$E$227,2,0))=D53,1,0)),\"\")","v":""},{"$f":"IFERROR(IF(E53=\"\",\"\",IF((VLOOKUP(AE53,Herramientas!$D$3:$E$227,2,0))=E53,1,0)),\"\")","v":""},{"$f":"IFERROR(IF(F53=\"\",\"\",IF((VLOOKUP(AF53,Herramientas!$D$3:$E$227,2,0))=F53,1,0)),\"\")","v":""},{"$f":"IFERROR(IF(G53=\"\",\"\",IF((VLOOKUP(AG53,Herramientas!$D$3:$E$227,2,0))=G53,1,0)),\"\")","v":""},{"$f":"IFERROR(IF(H53=\"\",\"\",IF((VLOOKUP(AH53,Herramientas!$D$3:$E$227,2,0))=H53,1,0)),\"\")","v":""},{"$f":"IFERROR(IF(I53=\"\",\"\",IF((VLOOKUP(AI53,Herramientas!$D$3:$E$227,2,0))=I53,1,0)),\"\")","v":""},{"$f":"IFERROR(IF(J53=\"\",\"\",IF((VLOOKUP(AJ53,Herramientas!$D$3:$E$227,2,0))=J53,1,0)),\"\")","v":""},{"$f":"IFERROR(IF(K53=\"\",\"\",IF((VLOOKUP(AK53,Herramientas!$D$3:$E$227,2,0))=K53,1,0)),\"\")","v":""},{"$f":"IFERROR(IF(L53=\"\",\"\",IF((VLOOKUP(AL53,Herramientas!$D$3:$E$227,2,0))=L53,1,0)),\"\")","v":""},{"$f":"IFERROR(IF(M53=\"\",\"\",IF((VLOOKUP(AM53,Herramientas!$D$3:$E$227,2,0))=M53,1,0)),\"\")","v":""},{"$f":"IFERROR(IF(N53=\"\",\"\",IF((VLOOKUP(AN53,Herramientas!$D$3:$E$227,2,0))=N53,1,0)),\"\")","v":""},{"$f":"IFERROR(IF(O53=\"\",\"\",IF((VLOOKUP(AO53,Herramientas!$D$3:$E$227,2,0))=O53,1,0)),\"\")","v":""},{"$f":"IFERROR(IF(P53=\"\",\"\",IF((VLOOKUP(AP53,Herramientas!$D$3:$E$227,2,0))=P53,1,0)),\"\")","v":""},{"$f":"IFERROR(IF(Q53=\"\",\"\",IF((VLOOKUP(AQ53,Herramientas!$D$3:$E$227,2,0))=Q53,1,0)),\"\")","v":""},{"$f":"IFERROR(IF(R53=\"\",\"\",IF((VLOOKUP(AR53,Herramientas!$D$3:$E$227,2,0))=R53,1,0)),\"\")","v":""},{"$f":"IFERROR(IF(S53=\"\",\"\",IF((VLOOKUP(AS53,Herramientas!$D$3:$E$227,2,0))=S53,1,0)),\"\")","v":""},{"$f":"IFERROR(IF(T53=\"\",\"\",IF((VLOOKUP(AT53,Herramientas!$D$3:$E$227,2,0))=T53,1,0)),\"\")","v":""},{"$f":"IFERROR(IF(U53=\"\",\"\",IF((VLOOKUP(AU53,Herramientas!$D$3:$E$227,2,0))=U53,1,0)),\"\")","v":""},{"$f":"IFERROR(IF(V53=\"\",\"\",IF((VLOOKUP(AV53,Herramientas!$D$3:$E$227,2,0))=V53,1,0)),\"\")","v":""},{"$f":"IFERROR(IF(W53=\"\",\"\",IF((VLOOKUP(AW53,Herramientas!$D$3:$E$227,2,0))=W53,1,0)),\"\")","v":""},{"$f":"IFERROR(IF(X53=\"\",\"\",IF((VLOOKUP(AX53,Herramientas!$D$3:$E$227,2,0))=X53,1,0)),\"\")","v":""},{"$f":"IFERROR(IF(Y53=\"\",\"\",IF((VLOOKUP(AY53,Herramientas!$D$3:$E$227,2,0))=Y53,1,0)),\"\")","v":""},{"$f":"IFERROR(IF(Z53=\"\",\"\",IF((VLOOKUP(AZ53,Herramientas!$D$3:$E$227,2,0))=Z53,1,0)),\"\")","v":""},{"$f":"IFERROR(IF(AA53=\"\",\"\",IF((VLOOKUP(BA53,Herramientas!$D$3:$E$227,2,0))=AA53,1,0)),\"\")","v":""},{"$f":"IFERROR(IF(AB53=\"\",\"\",IF((VLOOKUP(BB53,Herramientas!$D$3:$E$227,2,0))=AB53,1,0)),\"\")","v":""},null,0,0]
[47,null,null,null,null,null,null,null,null,null,null,null,null,null,null,null,null,null,null,null,null,null,null,null,null,null,null,null,null,"5.°-1","5.°-2","5.°-3","5.°-4","5.°-5","5.°-6","5.°-7","5.°-8","5.°-9","5.°-10","5.°-11","5.°-12","5.°-13","5.°-14","5.°-15","5.°-16","5.°-17","5.°-18","5.°-19","5.°-20","5.°-21","5.°-22","5.°-23","5.°-24","5.°-25",null,{"$f":"IFERROR(IF(D54=\"\",\"\",IF((VLOOKUP(AD54,Herramientas!$D$3:$E$227,2,0))=D54,1,0)),\"\")","v":""},{"$f":"IFERROR(IF(E54=\"\",\"\",IF((VLOOKUP(AE54,Herramientas!$D$3:$E$227,2,0))=E54,1,0)),\"\")","v":""},{"$f":"IFERROR(IF(F54=\"\",\"\",IF((VLOOKUP(AF54,Herramientas!$D$3:$E$227,2,0))=F54,1,0)),\"\")","v":""},{"$f":"IFERROR(IF(G54=\"\",\"\",IF((VLOOKUP(AG54,Herramientas!$D$3:$E$227,2,0))=G54,1,0)),\"\")","v":""},{"$f":"IFERROR(IF(H54=\"\",\"\",IF((VLOOKUP(AH54,Herramientas!$D$3:$E$227,2,0))=H54,1,0)),\"\")","v":""},{"$f":"IFERROR(IF(I54=\"\",\"\",IF((VLOOKUP(AI54,Herramientas!$D$3:$E$227,2,0))=I54,1,0)),\"\")","v":""},{"$f":"IFERROR(IF(J54=\"\",\"\",IF((VLOOKUP(AJ54,Herramientas!$D$3:$E$227,2,0))=J54,1,0)),\"\")","v":""},{"$f":"IFERROR(IF(K54=\"\",\"\",IF((VLOOKUP(AK54,Herramientas!$D$3:$E$227,2,0))=K54,1,0)),\"\")","v":""},{"$f":"IFERROR(IF(L54=\"\",\"\",IF((VLOOKUP(AL54,Herramientas!$D$3:$E$227,2,0))=L54,1,0)),\"\")","v":""},{"$f":"IFERROR(IF(M54=\"\",\"\",IF((VLOOKUP(AM54,Herramientas!$D$3:$E$227,2,0))=M54,1,0)),\"\")","v":""},{"$f":"IFERROR(IF(N54=\"\",\"\",IF((VLOOKUP(AN54,Herramientas!$D$3:$E$227,2,0))=N54,1,0)),\"\")","v":""},{"$f":"IFERROR(IF(O54=\"\",\"\",IF((VLOOKUP(AO54,Herramientas!$D$3:$E$227,2,0))=O54,1,0)),\"\")","v":""},{"$f":"IFERROR(IF(P54=\"\",\"\",IF((VLOOKUP(AP54,Herramientas!$D$3:$E$227,2,0))=P54,1,0)),\"\")","v":""},{"$f":"IFERROR(IF(Q54=\"\",\"\",IF((VLOOKUP(AQ54,Herramientas!$D$3:$E$227,2,0))=Q54,1,0)),\"\")","v":""},{"$f":"IFERROR(IF(R54=\"\",\"\",IF((VLOOKUP(AR54,Herramientas!$D$3:$E$227,2,0))=R54,1,0)),\"\")","v":""},{"$f":"IFERROR(IF(S54=\"\",\"\",IF((VLOOKUP(AS54,Herramientas!$D$3:$E$227,2,0))=S54,1,0)),\"\")","v":""},{"$f":"IFERROR(IF(T54=\"\",\"\",IF((VLOOKUP(AT54,Herramientas!$D$3:$E$227,2,0))=T54,1,0)),\"\")","v":""},{"$f":"IFERROR(IF(U54=\"\",\"\",IF((VLOOKUP(AU54,Herramientas!$D$3:$E$227,2,0))=U54,1,0)),\"\")","v":""},{"$f":"IFERROR(IF(V54=\"\",\"\",IF((VLOOKUP(AV54,Herramientas!$D$3:$E$227,2,0))=V54,1,0)),\"\")","v":""},{"$f":"IFERROR(IF(W54=\"\",\"\",IF((VLOOKUP(AW54,Herramientas!$D$3:$E$227,2,0))=W54,1,0)),\"\")","v":""},{"$f":"IFERROR(IF(X54=\"\",\"\",IF((VLOOKUP(AX54,Herramientas!$D$3:$E$227,2,0))=X54,1,0)),\"\")","v":""},{"$f":"IFERROR(IF(Y54=\"\",\"\",IF((VLOOKUP(AY54,Herramientas!$D$3:$E$227,2,0))=Y54,1,0)),\"\")","v":""},{"$f":"IFERROR(IF(Z54=\"\",\"\",IF((VLOOKUP(AZ54,Herramientas!$D$3:$E$227,2,0))=Z54,1,0)),\"\")","v":""},{"$f":"IFERROR(IF(AA54=\"\",\"\",IF((VLOOKUP(BA54,Herramientas!$D$3:$E$227,2,0))=AA54,1,0)),\"\")","v":""},{"$f":"IFERROR(IF(AB54=\"\",\"\",IF((VLOOKUP(BB54,Herramientas!$D$3:$E$227,2,0))=AB54,1,0)),\"\")","v":""},null,0,0]
[48,null,null,null,null,null,null,null,null,null,null,null,null,null,null,null,null,null,null,null,null,null,null,null,null,null,null,null,null,"5.°-1","5.°-2","5.°-3","5.°-4","5.°-5","5.°-6","5.°-7","5.°-8","5.°-9","5.°-10","5.°-11","5.°-12","5.°-13","5.°-14","5.°-15","5.°-16","5.°-17","5.°-18","5.°-19","5.°-20","5.°-21","5.°-22","5.°-23","5.°-24","5.°-25",null,{"$f":"IFERROR(IF(D55=\"\",\"\",IF((VLOOKUP(AD55,Herramientas!$D$3:$E$227,2,0))=D55,1,0)),\"\")","v":""},{"$f":"IFERROR(IF(E55=\"\",\"\",IF((VLOOKUP(AE55,Herramientas!$D$3:$E$227,2,0))=E55,1,0)),\"\")","v":""},{"$f":"IFERROR(IF(F55=\"\",\"\",IF((VLOOKUP(AF55,Herramientas!$D$3:$E$227,2,0))=F55,1,0)),\"\")","v":""},{"$f":"IFERROR(IF(G55=\"\",\"\",IF((VLOOKUP(AG55,Herramientas!$D$3:$E$227,2,0))=G55,1,0)),\"\")","v":""},{"$f":"IFERROR(IF(H55=\"\",\"\",IF((VLOOKUP(AH55,Herramientas!$D$3:$E$227,2,0))=H55,1,0)),\"\")","v":""},{"$f":"IFERROR(IF(I55=\"\",\"\",IF((VLOOKUP(AI55,Herramientas!$D$3:$E$227,2,0))=I55,1,0)),\"\")","v":""},{"$f":"IFERROR(IF(J55=\"\",\"\",IF((VLOOKUP(AJ55,Herramientas!$D$3:$E$227,2,0))=J55,1,0)),\"\")","v":""},{"$f":"IFERROR(IF(K55=\"\",\"\",IF((VLOOKUP(AK55,Herramientas!$D$3:$E$227,2,0))=K55,1,0)),\"\")","v":""},{"$f":"IFERROR(IF(L55=\"\",\"\",IF((VLOOKUP(AL55,Herramientas!$D$3:$E$227,2,0))=L55,1,0)),\"\")","v":""},{"$f":"IFERROR(IF(M55=\"\",\"\",IF((VLOOKUP(AM55,Herramientas!$D$3:$E$227,2,0))=M55,1,0)),\"\")","v":""},{"$f":"IFERROR(IF(N55=\"\",\"\",IF((VLOOKUP(AN55,Herramientas!$D$3:$E$227,2,0))=N55,1,0)),\"\")","v":""},{"$f":"IFERROR(IF(O55=\"\",\"\",IF((VLOOKUP(AO55,Herramientas!$D$3:$E$227,2,0))=O55,1,0)),\"\")","v":""},{"$f":"IFERROR(IF(P55=\"\",\"\",IF((VLOOKUP(AP55,Herramientas!$D$3:$E$227,2,0))=P55,1,0)),\"\")","v":""},{"$f":"IFERROR(IF(Q55=\"\",\"\",IF((VLOOKUP(AQ55,Herramientas!$D$3:$E$227,2,0))=Q55,1,0)),\"\")","v":""},{"$f":"IFERROR(IF(R55=\"\",\"\",IF((VLOOKUP(AR55,Herramientas!$D$3:$E$227,2,0))=R55,1,0)),\"\")","v":""},{"$f":"IFERROR(IF(S55=\"\",\"\",IF((VLOOKUP(AS55,Herramientas!$D$3:$E$227,2,0))=S55,1,0)),\"\")","v":""},{"$f":"IFERROR(IF(T55=\"\",\"\",IF((VLOOKUP(AT55,Herramientas!$D$3:$E$227,2,0))=T55,1,0)),\"\")","v":""},{"$f":"IFERROR(IF(U55=\"\",\"\",IF((VLOOKUP(AU55,Herramientas!$D$3:$E$227,2,0))=U55,1,0)),\"\")","v":""},{"$f":"IFERROR(IF(V55=\"\",\"\",IF((VLOOKUP(AV55,Herramientas!$D$3:$E$227,2,0))=V55,1,0)),\"\")","v":""},{"$f":"IFERROR(IF(W55=\"\",\"\",IF((VLOOKUP(AW55,Herramientas!$D$3:$E$227,2,0))=W55,1,0)),\"\")","v":""},{"$f":"IFERROR(IF(X55=\"\",\"\",IF((VLOOKUP(AX55,Herramientas!$D$3:$E$227,2,0))=X55,1,0)),\"\")","v":""},{"$f":"IFERROR(IF(Y55=\"\",\"\",IF((VLOOKUP(AY55,Herramientas!$D$3:$E$227,2,0))=Y55,1,0)),\"\")","v":""},{"$f":"IFERROR(IF(Z55=\"\",\"\",IF((VLOOKUP(AZ55,Herramientas!$D$3:$E$227,2,0))=Z55,1,0)),\"\")","v":""},{"$f":"IFERROR(IF(AA55=\"\",\"\",IF((VLOOKUP(BA55,Herramientas!$D$3:$E$227,2,0))=AA55,1,0)),\"\")","v":""},{"$f":"IFERROR(IF(AB55=\"\",\"\",IF((VLOOKUP(BB55,Herramientas!$D$3:$E$227,2,0))=AB55,1,0)),\"\")","v":""},null,0,0]
[49,null,null,null,null,null,null,null,null,null,null,null,null,null,null,null,null,null,null,null,null,null,null,null,null,null,null,null,null,"5.°-1","5.°-2","5.°-3","5.°-4","5.°-5","5.°-6","5.°-7","5.°-8","5.°-9","5.°-10","5.°-11","5.°-12","5.°-13","5.°-14","5.°-15","5.°-16","5.°-17","5.°-18","5.°-19","5.°-20","5.°-21","5.°-22","5.°-23","5.°-24","5.°-25",null,{"$f":"IFERROR(IF(D56=\"\",\"\",IF((VLOOKUP(AD56,Herramientas!$D$3:$E$227,2,0))=D56,1,0)),\"\")","v":""},{"$f":"IFERROR(IF(E56=\"\",\"\",IF((VLOOKUP(AE56,Herramientas!$D$3:$E$227,2,0))=E56,1,0)),\"\")","v":""},{"$f":"IFERROR(IF(F56=\"\",\"\",IF((VLOOKUP(AF56,Herramientas!$D$3:$E$227,2,0))=F56,1,0)),\"\")","v":""},{"$f":"IFERROR(IF(G56=\"\",\"\",IF((VLOOKUP(AG56,Herramientas!$D$3:$E$227,2,0))=G56,1,0)),\"\")","v":""},{"$f":"IFERROR(IF(H56=\"\",\"\",IF((VLOOKUP(AH56,Herramientas!$D$3:$E$227,2,0))=H56,1,0)),\"\")","v":""},{"$f":"IFERROR(IF(I56=\"\",\"\",IF((VLOOKUP(AI56,Herramientas!$D$3:$E$227,2,0))=I56,1,0)),\"\")","v":""},{"$f":"IFERROR(IF(J56=\"\",\"\",IF((VLOOKUP(AJ56,Herramientas!$D$3:$E$227,2,0))=J56,1,0)),\"\")","v":""},{"$f":"IFERROR(IF(K56=\"\",\"\",IF((VLOOKUP(AK56,Herramientas!$D$3:$E$227,2,0))=K56,1,0)),\"\")","v":""},{"$f":"IFERROR(IF(L56=\"\",\"\",IF((VLOOKUP(AL56,Herramientas!$D$3:$E$227,2,0))=L56,1,0)),\"\")","v":""},{"$f":"IFERROR(IF(M56=\"\",\"\",IF((VLOOKUP(AM56,Herramientas!$D$3:$E$227,2,0))=M56,1,0)),\"\")","v":""},{"$f":"IFERROR(IF(N56=\"\",\"\",IF((VLOOKUP(AN56,Herramientas!$D$3:$E$227,2,0))=N56,1,0)),\"\")","v":""},{"$f":"IFERROR(IF(O56=\"\",\"\",IF((VLOOKUP(AO56,Herramientas!$D$3:$E$227,2,0))=O56,1,0)),\"\")","v":""},{"$f":"IFERROR(IF(P56=\"\",\"\",IF((VLOOKUP(AP56,Herramientas!$D$3:$E$227,2,0))=P56,1,0)),\"\")","v":""},{"$f":"IFERROR(IF(Q56=\"\",\"\",IF((VLOOKUP(AQ56,Herramientas!$D$3:$E$227,2,0))=Q56,1,0)),\"\")","v":""},{"$f":"IFERROR(IF(R56=\"\",\"\",IF((VLOOKUP(AR56,Herramientas!$D$3:$E$227,2,0))=R56,1,0)),\"\")","v":""},{"$f":"IFERROR(IF(S56=\"\",\"\",IF((VLOOKUP(AS56,Herramientas!$D$3:$E$227,2,0))=S56,1,0)),\"\")","v":""},{"$f":"IFERROR(IF(T56=\"\",\"\",IF((VLOOKUP(AT56,Herramientas!$D$3:$E$227,2,0))=T56,1,0)),\"\")","v":""},{"$f":"IFERROR(IF(U56=\"\",\"\",IF((VLOOKUP(AU56,Herramientas!$D$3:$E$227,2,0))=U56,1,0)),\"\")","v":""},{"$f":"IFERROR(IF(V56=\"\",\"\",IF((VLOOKUP(AV56,Herramientas!$D$3:$E$227,2,0))=V56,1,0)),\"\")","v":""},{"$f":"IFERROR(IF(W56=\"\",\"\",IF((VLOOKUP(AW56,Herramientas!$D$3:$E$227,2,0))=W56,1,0)),\"\")","v":""},{"$f":"IFERROR(IF(X56=\"\",\"\",IF((VLOOKUP(AX56,Herramientas!$D$3:$E$227,2,0))=X56,1,0)),\"\")","v":""},{"$f":"IFERROR(IF(Y56=\"\",\"\",IF((VLOOKUP(AY56,Herramientas!$D$3:$E$227,2,0))=Y56,1,0)),\"\")","v":""},{"$f":"IFERROR(IF(Z56=\"\",\"\",IF((VLOOKUP(AZ56,Herramientas!$D$3:$E$227,2,0))=Z56,1,0)),\"\")","v":""},{"$f":"IFERROR(IF(AA56=\"\",\"\",IF((VLOOKUP(BA56,Herramientas!$D$3:$E$227,2,0))=AA56,1,0)),\"\")","v":""},{"$f":"IFERROR(IF(AB56=\"\",\"\",IF((VLOOKUP(BB56,Herramientas!$D$3:$E$227,2,0))=AB56,1,0)),\"\")","v":""},null,0,0]
[50,null,null,null,null,null,null,null,null,null,null,null,null,null,null,null,null,null,null,null,null,null,null,null,null,null,null,null,null,"5.°-1","5.°-2","5.°-3","5.°-4","5.°-5","5.°-6","5.°-7","5.°-8","5.°-9","5.°-10","5.°-11","5.°-12","5.°-13","5.°-14","5.°-15","5.°-16","5.°-17","5.°-18","5.°-19","5.°-20","5.°-21","5.°-22","5.°-23","5.°-24","5.°-25",null,{"$f":"IFERROR(IF(D57=\"\",\"\",IF((VLOOKUP(AD57,Herramientas!$D$3:$E$227,2,0))=D57,1,0)),\"\")","v":""},{"$f":"IFERROR(IF(E57=\"\",\"\",IF((VLOOKUP(AE57,Herramientas!$D$3:$E$227,2,0))=E57,1,0)),\"\")","v":""},{"$f":"IFERROR(IF(F57=\"\",\"\",IF((VLOOKUP(AF57,Herramientas!$D$3:$E$227,2,0))=F57,1,0)),\"\")","v":""},{"$f":"IFERROR(IF(G57=\"\",\"\",IF((VLOOKUP(AG57,Herramientas!$D$3:$E$227,2,0))=G57,1,0)),\"\")","v":""},{"$f":"IFERROR(IF(H57=\"\",\"\",IF((VLOOKUP(AH57,Herramientas!$D$3:$E$227,2,0))=H57,1,0)),\"\")","v":""},{"$f":"IFERROR(IF(I57=\"\",\"\",IF((VLOOKUP(AI57,Herramientas!$D$3:$E$227,2,0))=I57,1,0)),\"\")","v":""},{"$f":"IFERROR(IF(J57=\"\",\"\",IF((VLOOKUP(AJ57,Herramientas!$D$3:$E$227,2,0))=J57,1,0)),\"\")","v":""},{"$f":"IFERROR(IF(K57=\"\",\"\",IF((VLOOKUP(AK57,Herramientas!$D$3:$E$227,2,0))=K57,1,0)),\"\")","v":""},{"$f":"IFERROR(IF(L57=\"\",\"\",IF((VLOOKUP(AL57,Herramientas!$D$3:$E$227,2,0))=L57,1,0)),\"\")","v":""},{"$f":"IFERROR(IF(M57=\"\",\"\",IF((VLOOKUP(AM57,Herramientas!$D$3:$E$227,2,0))=M57,1,0)),\"\")","v":""},{"$f":"IFERROR(IF(N57=\"\",\"\",IF((VLOOKUP(AN57,Herramientas!$D$3:$E$227,2,0))=N57,1,0)),\"\")","v":""},{"$f":"IFERROR(IF(O57=\"\",\"\",IF((VLOOKUP(AO57,Herramientas!$D$3:$E$227,2,0))=O57,1,0)),\"\")","v":""},{"$f":"IFERROR(IF(P57=\"\",\"\",IF((VLOOKUP(AP57,Herramientas!$D$3:$E$227,2,0))=P57,1,0)),\"\")","v":""},{"$f":"IFERROR(IF(Q57=\"\",\"\",IF((VLOOKUP(AQ57,Herramientas!$D$3:$E$227,2,0))=Q57,1,0)),\"\")","v":""},{"$f":"IFERROR(IF(R57=\"\",\"\",IF((VLOOKUP(AR57,Herramientas!$D$3:$E$227,2,0))=R57,1,0)),\"\")","v":""},{"$f":"IFERROR(IF(S57=\"\",\"\",IF((VLOOKUP(AS57,Herramientas!$D$3:$E$227,2,0))=S57,1,0)),\"\")","v":""},{"$f":"IFERROR(IF(T57=\"\",\"\",IF((VLOOKUP(AT57,Herramientas!$D$3:$E$227,2,0))=T57,1,0)),\"\")","v":""},{"$f":"IFERROR(IF(U57=\"\",\"\",IF((VLOOKUP(AU57,Herramientas!$D$3:$E$227,2,0))=U57,1,0)),\"\")","v":""},{"$f":"IFERROR(IF(V57=\"\",\"\",IF((VLOOKUP(AV57,Herramientas!$D$3:$E$227,2,0))=V57,1,0)),\"\")","v":""},{"$f":"IFERROR(IF(W57=\"\",\"\",IF((VLOOKUP(AW57,Herramientas!$D$3:$E$227,2,0))=W57,1,0)),\"\")","v":""},{"$f":"IFERROR(IF(X57=\"\",\"\",IF((VLOOKUP(AX57,Herramientas!$D$3:$E$227,2,0))=X57,1,0)),\"\")","v":""},{"$f":"IFERROR(IF(Y57=\"\",\"\",IF((VLOOKUP(AY57,Herramientas!$D$3:$E$227,2,0))=Y57,1,0)),\"\")","v":""},{"$f":"IFERROR(IF(Z57=\"\",\"\",IF((VLOOKUP(AZ57,Herramientas!$D$3:$E$227,2,0))=Z57,1,0)),\"\")","v":""},{"$f":"IFERROR(IF(AA57=\"\",\"\",IF((VLOOKUP(BA57,Herramientas!$D$3:$E$227,2,0))=AA57,1,0)),\"\")","v":""},{"$f":"IFERROR(IF(AB57=\"\",\"\",IF((VLOOKUP(BB57,Herramientas!$D$3:$E$227,2,0))=AB57,1,0)),\"\")","v":""},null,0,0]

{"sheet":"Lenguaje","index":2,"n_rows":57,"n_cols":115,"rows_kept":57,"cut":false,"hidden":false,"merged":[[0,0,0,27],[52,1,52,2],[53,1,53,2],[54,1,54,2],[55,1,55,2],[39,1,39,2],[28,1,28,2],[29,1,29,2],[30,1,30,2],[31,1,31,2],[32,1,32,2],[33,1,33,2],[34,1,34,2],[35,1,35,2],[36,1,36,2],[37,1,37,2],[56,1,56,2],[51,1,51,2],[40,1,40,2],[41,1,41,2],[42,1,42,2],[43,1,43,2],[44,1,44,2],[45,1,45,2],[46,1,46,2],[47,1,47,2],[48,1,48,2],[49,1,49,2],[50,1,50,2],[38,1,38,2],[27,1,27,2],[16,1,16,2],[17,1,17,2],[18,1,18,2],[19,1,19,2],[20,1,20,2],[21,1,21,2],[22,1,22,2],[23,1,23,2],[24,1,24,2],[25,1,25,2],[26,1,26,2],[15,1,15,2],[5,0,6,0],[5,1,6,2],[5,3,5,27],[7,1,7,2],[8,1,8,2],[9,1,9,2],[10,1,10,2],[11,1,11,2],[12,1,12,2],[13,1,13,2],[14,1,14,2],[1,3,1,27],[2,0,2,2],[2,3,2,27],[3,0,3,2],[3,3,3,27],[13,90,13,92],[13,93,13,95],[13,96,13,98],[13,99,13,101],[4,0,4,27]]}
["Hoja de registro de respuestas de Lenguaje y Literatura"]
["Grado","9.°"]
["Código de infraestructura"]
["Nombre de Institución",null,null,{"$f":"IFERROR((VLOOKUP(D3,Herramientas!$S$3:$T$5816,2,0)),\"CÓDIGO NO ENCONTRADO\")","v":"CÓDIGO NO ENCONTRADO"}]
[]
["N.°","Nombre",null,"Preguntas",null,null,null,null,null,null,null,null,null,null,null,null,null,null,null,null,null,null,null,null,null,null,null,null,null,null,null,null,null,null,null,null,null,null,null,null,null,null,null,null,null,null,null,null,null,null,null,null,null,null,null,null,null,null,null,null,null,null,null,null,null,null,null,null,null,null,null,null,null,null,null,null,null,null,null,null,null,null,null,null,null,"Aciertos","Fallos","Participan",null,"ítem",1,2,3,4,5,6,7,8,9,10,11,12,13,14,15,16,17,18,19,20,21,22,23,24,25]
[null,null,null,1,2,3,4,5,6,7,8,9,10,11,12,13,14,15,16,17,18,19,20,21,22,23,24,25,null,"IT1","IT2","IT3","IT4","IT5","IT6","IT7","IT8","IT9","IT10","IT11","IT12","IT13","IT14","IT15","IT16","IT17","IT18","IT19","IT20","IT21","IT22","IT23","IT24","IT25",null,"IT1","IT2","IT3","IT4","IT5","IT6","IT7","IT8","IT9","IT10","IT11","IT12","IT13","IT14","IT15","IT16","IT17","IT18","IT19","IT20","IT21","IT22","IT23","IT24","IT25",null,"Aciertos","Nota",null,"SUMIT1",{"$f":"SUM(BD$8:BD$57)","v":0},{"$f":"COUNTIF(BD8:BD57,0)","v":0},{"$f":"SUM(CH7:CI7)","v":0},null,"a",{"$f":"COUNTIF(D8:D107,\"A\")","v":0},{"$f":"COUNTIF(E8:E107,\"A\")","v":0},{"$f":"COUNTIF(F8:F107,\"A\")","v":0},0,0,0,0,0,0,0,0,0,0,0,0,0,0,0,0,0,0,0,0,0,0]
[1,null,null,null,null,null,null,null,null,null,null,null,null,null,null,null,null,null,null,null,null,null,null,null,null,null,null,null,null,{"$f":"CONCATENATE($B$2,\"-\",D$7)","v":"9.°-1"},{"$f":"CONCATENATE($B$2,\"-\",E$7)","v":"9.°-2"},{"$f":"CONCATENATE($B$2,\"-\",F$7)","v":"9.°-3"},"9.°-4","9.°-5","9.°-6","9.°-7","9.°-8","9.°-9","9.°-10","9.°-11","9.°-12","9.°-13","9.°-14","9.°-15","9.°-16","9.°-17","9.°-18",{"$f":"CONCATENATE($B$2,\"-\",V$7)","v":"9.°-19"},"9.°-20","9.°-21","9.°-22","9.°-23","9.°-24","9.°-25",null,{"$f":"IFERROR(IF(D8=\"\",\"\",IF((VLOOKUP(AD8,Herramientas!$H$3:$I$227,2,0))=D8,1,0)),\"\")","v":""},{"$f":"IFERROR(IF(E8=\"\",\"\",IF((VLOOKUP(AE8,Herramientas!$H$3:$I$227,2,0))=E8,1,0)),\"\")","v":""},{"$f":"IFERROR(IF(F8=\"\",\"\",IF((VLOOKUP(AF8,Herramientas!$H$3:$I$227,2,0))=F8,1,0)),\"\")","v":""},{"$f":"IFERROR(IF(G8=\"\",\"\",IF((VLOOKUP(AG8,Herramientas!$H$3:$I$227,2,0))=G8,1,0)),\"\")","v":""},{"$f":"IFERROR(IF(H8=\"\",\"\",IF((VLOOKUP(AH8,Herramientas!$H$3:$I$227,2,0))=H8,1,0)),\"\")","v":""},{"$f":"IFERROR(IF(I8=\"\",\"\",IF((VLOOKUP(AI8,Herramientas!$H$3:$I$227,2,0))=I8,1,0)),\"\")","v":""},{"$f":"IFERROR(IF(J8=\"\",\"\",IF((VLOOKUP(AJ8,Herramientas!$H$3:$I$227,2,0))=J8,1,0)),\"\")","v":""},{"$f":"IFERROR(IF(K8=\"\",\"\",IF((VLOOKUP(AK8,Herramientas!$H$3:$I$227,2,0))=K8,1,0)),\"\")","v":""},{"$f":"IFERROR(IF(L8=\"\",\"\",IF((VLOOKUP(AL8,Herramientas!$H$3:$I$227,2,0))=L8,1,0)),\"\")","v":""},{"$f":"IFERROR(IF(M8=\"\",\"\",IF((VLOOKUP(AM8,Herramientas!$H$3:$I$227,2,0))=M8,1,0)),\"\")","v":""},{"$f":"IFERROR(IF(N8=\"\",\"\",IF((VLOOKUP(AN8,Herramientas!$H$3:$I$227,2,0))=N8,1,0)),\"\")","v":""},{"$f":"IFERROR(IF(O8=\"\",\"\",IF((VLOOKUP(AO8,Herramientas!$H$3:$I$227,2,0))=O8,1,0)),\"\")","v":""},{"$f":"IFERROR(IF(P8=\"\",\"\",IF((VLOOKUP(AP8,Herramientas!$H$3:$I$227,2,0))=P8,1,0)),\"\")","v":""},{"$f":"IFERROR(IF(Q8=\"\",\"\",IF((VLOOKUP(AQ8,Herramientas!$H$3:$I$227,2,0))=Q8,1,0)),\"\")","v":""},{"$f":"IFERROR(IF(R8=\"\",\"\",IF((VLOOKUP(AR8,Herramientas!$H$3:$I$227,2,0))=R8,1,0)),\"\")","v":""},{"$f":"IFERROR(IF(S8=\"\",\"\",IF((VLOOKUP(AS8,Herramientas!$H$3:$I$227,2,0))=S8,1,0)),\"\")","v":""},{"$f":"IFERROR(IF(T8=\"\",\"\",IF((VLOOKUP(AT8,Herramientas!$H$3:$I$227,2,0))=T8,1,0)),\"\")","v":""},{"$f":"IFERROR(IF(U8=\"\",\"\",IF((VLOOKUP(AU8,Herramientas!$H$3:$I$227,2,0))=U8,1,0)),\"\")","v":""},{"$f":"IFERROR(IF(V8=\"\",\"\",IF((VLOOKUP(AV8,Herramientas!$H$3:$I$227,2,0))=V8,1,0)),\"\")","v":""},{"$f":"IFERROR(IF(W8=\"\",\"\",IF((VLOOKUP(AW8,Herramientas!$H$3:$I$227,2,0))=W8,1,0)),\"\")","v":""},{"$f":"IFERROR(IF(X8=\"\",\"\",IF((VLOOKUP(AX8,Herramientas!$H$3:$I$227,2,0))=X8,1,0)),\"\")","v":""},{"$f":"IFERROR(IF(Y8=\"\",\"\",IF((VLOOKUP(AY8,Herramientas!$H$3:$I$227,2,0))=Y8,1,0)),\"\")","v":""},{"$f":"IFERROR(IF(Z8=\"\",\"\",IF((VLOOKUP(AZ8,Herramientas!$H$3:$I$227,2,0))=Z8,1,0)),\"\")","v":""},{"$f":"IFERROR(IF(AA8=\"\",\"\",IF((VLOOKUP(BA8,Herramientas!$H$3:$I$227,2,0))=AA8,1,0)),\"\")","v":""},{"$f":"IFERROR(IF(AB8=\"\",\"\",IF((VLOOKUP(BB8,Herramientas!$H$3:$I$227,2,0))=AB8,1,0)),\"\")","v":""},null,{"$f":"SUM(BD8:CB8)","v":0},{"$f":"CD8/25*10","v":0},null,"SUMIT2",{"$f":"SUM(BE$8:BE$57)","v":0},{"$f":"COUNTIF(BE8:BE58,0)","v":0},{"$f":"SUM(CH8:CI8)","v":0},null,"b",{"$f":"COUNTIF(D8:D107,\"B\")","v":0},{"$f":"COUNTIF(E8:E107,\"B\")","v":0},0,0,0,0,0,0,0,0,0,0,0,0,0,0,0,0,0,0,0,0,0,0,0]
[2,null,null,null,null,null,null,null,null,null,null,null,null,null,null,null,null,null,null,null,null,null,null,null,null,null,null,null,null,{"$f":"CONCATENATE($B$2,\"-\",D$7)","v":"9.°-1"},"9.°-2","9.°-3","9.°-4","9.°-5","9.°-6","9.°-7","9.°-8","9.°-9","9.°-10","9.°-11","9.°-12","9.°-13","9.°-14","9.°-15","9.°-16","9.°-17","9.°-18","9.°-19","9.°-20","9.°-21","9.°-22","9.°-23","9.°-24","9.°-25",null,{"$f":"IFERROR(IF(D9=\"\",\"\",IF((VLOOKUP(AD9,Herramientas!$H$3:$I$227,2,0))=D9,1,0)),\"\")","v":""},{"$f":"IFERROR(IF(E9=\"\",\"\",IF((VLOOKUP(AE9,Herramientas!$H$3:$I$227,2,0))=E9,1,0)),\"\")","v":""},{"$f":"IFERROR(IF(F9=\"\",\"\",IF((VLOOKUP(AF9,Herramientas!$H$3:$I$227,2,0))=F9,1,0)),\"\")","v":""},{"$f":"IFERROR(IF(G9=\"\",\"\",IF((VLOOKUP(AG9,Herramientas!$H$3:$I$227,2,0))=G9,1,0)),\"\")","v":""},{"$f":"IFERROR(IF(H9=\"\",\"\",IF((VLOOKUP(AH9,Herramientas!$H$3:$I$227,2,0))=H9,1,0)),\"\")","v":""},{"$f":"IFERROR(IF(I9=\"\",\"\",IF((VLOOKUP(AI9,Herramientas!$H$3:$I$227,2,0))=I9,1,0)),\"\")","v":""},{"$f":"IFERROR(IF(J9=\"\",\"\",IF((VLOOKUP(AJ9,Herramientas!$H$3:$I$227,2,0))=J9,1,0)),\"\")","v":""},{"$f":"IFERROR(IF(K9=\"\",\"\",IF((VLOOKUP(AK9,Herramientas!$H$3:$I$227,2,0))=K9,1,0)),\"\")","v":""},{"$f":"IFERROR(IF(L9=\"\",\"\",IF((VLOOKUP(AL9,Herramientas!$H$3:$I$227,2,0))=L9,1,0)),\"\")","v":""},{"$f":"IFERROR(IF(M9=\"\",\"\",IF((VLOOKUP(AM9,Herramientas!$H$3:$I$227,2,0))=M9,1,0)),\"\")","v":""},{"$f":"IFERROR(IF(N9=\"\",\"\",IF((VLOOKUP(AN9,Herramientas!$H$3:$I$227,2,0))=N9,1,0)),\"\")","v":""},{"$f":"IFERROR(IF(O9=\"\",\"\",IF((VLOOKUP(AO9,Herramientas!$H$3:$I$227,2,0))=O9,1,0)),\"\")","v":""},{"$f":"IFERROR(IF(P9=\"\",\"\",IF((VLOOKUP(AP9,Herramientas!$H$3:$I$227,2,0))=P9,1,0)),\"\")","v":""},{"$f":"IFERROR(IF(Q9=\"\",\"\",IF((VLOOKUP(AQ9,Herramientas!$H$3:$I$227,2,0))=Q9,1,0)),\"\")","v":""},{"$f":"IFERROR(IF(R9=\"\",\"\",IF((VLOOKUP(AR9,Herramientas!$H$3:$I$227,2,0))=R9,1,0)),\"\")","v":""},{"$f":"IFERROR(IF(S9=\"\",\"\",IF((VLOOKUP(AS9,Herramientas!$H$3:$I$227,2,0))=S9,1,0)),\"\")","v":""},{"$f":"IFERROR(IF(T9=\"\",\"\",IF((VLOOKUP(AT9,Herramientas!$H$3:$I$227,2,0))=T9,1,0)),\"\")","v":""},{"$f":"IFERROR(IF(U9=\"\",\"\",IF((VLOOKUP(AU9,Herramientas!$H$3:$I$227,2,0))=U9,1,0)),\"\")","v":""},{"$f":"IFERROR(IF(V9=\"\",\"\",IF((VLOOKUP(AV9,Herramientas!$H$3:$I$227,2,0))=V9,1,0)),\"\")","v":""},{"$f":"IFERROR(IF(W9=\"\",\"\",IF((VLOOKUP(AW9,Herramientas!$H$3:$I$227,2,0))=W9,1,0)),\"\")","v":""},{"$f":"IFERROR(IF(X9=\"\",\"\",IF((VLOOKUP(AX9,Herramientas!$H$3:$I$227,2,0))=X9,1,0)),\"\")","v":""},{"$f":"IFERROR(IF(Y9=\"\",\"\",IF((VLOOKUP(AY9,Herramientas!$H$3:$I$227,2,0))=Y9,1,0)),\"\")","v":""},{"$f":"IFERROR(IF(Z9=\"\",\"\",IF((VLOOKUP(AZ9,Herramientas!$H$3:$I$227,2,0))=Z9,1,0)),\"\")","v":""},{"$f":"IFERROR(IF(AA9=\"\",\"\",IF((VLOOKUP(BA9,Herramientas!$H$3:$I$227,2,0))=AA9,1,0)),\"\")","v":""},{"$f":"IFERROR(IF(AB9=\"\",\"\",IF((VLOOKUP(BB9,Herramientas!$H$3:$I$227,2,0))=AB9,1,0)),\"\")","v":""},null,{"$f":"SUM(BD9:CB9)","v":0},{"$f":"CD9/25*10","v":0},null,"SUMIT3",{"$f":"SUM(BF$8:BF$57)","v":0},{"$f":"COUNTIF(BF8:BF59,0)","v":0},0,null,"c",{"$f":"COUNTIF(D8:D107,\"c\")","v":0},{"$f":"COUNTIF(E8:E107,\"c\")","v":0},0,0,0,0,0,0,0,0,0,0,0,0,0,0,0,0,0,0,0,0,0,0,0]
[3,null,null,null,null,null,null,null,null,null,null,null,null,null,null,null,null,null,null,null,null,null,null,null,null,null,null,null,null,"9.°-1","9.°-2","9.°-3","9.°-4","9.°-5","9.°-6","9.°-7","9.°-8","9.°-9","9.°-10","9.°-11","9.°-12","9.°-13","9.°-14","9.°-15","9.°-16","9.°-17","9.°-18","9.°-19","9.°-20","9.°-21","9.°-22","9.°-23","9.°-24","9.°-25",null,{"$f":"IFERROR(IF(D10=\"\",\"\",IF((VLOOKUP(AD10,Herramientas!$H$3:$I$227,2,0))=D10,1,0)),\"\")","v":""},{"$f":"IFERROR(IF(E10=\"\",\"\",IF((VLOOKUP(AE10,Herramientas!$H$3:$I$227,2,0))=E10,1,0)),\"\")","v":""},{"$f":"IFERROR(IF(F10=\"\",\"\",IF((VLOOKUP(AF10,Herramientas!$H$3:$I$227,2,0))=F10,1,0)),\"\")","v":""},{"$f":"IFERROR(IF(G10=\"\",\"\",IF((VLOOKUP(AG10,Herramientas!$H$3:$I$227,2,0))=G10,1,0)),\"\")","v":""},{"$f":"IFERROR(IF(H10=\"\",\"\",IF((VLOOKUP(AH10,Herramientas!$H$3:$I$227,2,0))=H10,1,0)),\"\")","v":""},{"$f":"IFERROR(IF(I10=\"\",\"\",IF((VLOOKUP(AI10,Herramientas!$H$3:$I$227,2,0))=I10,1,0)),\"\")","v":""},{"$f":"IFERROR(IF(J10=\"\",\"\",IF((VLOOKUP(AJ10,Herramientas!$H$3:$I$227,2,0))=J10,1,0)),\"\")","v":""},{"$f":"IFERROR(IF(K10=\"\",\"\",IF((VLOOKUP(AK10,Herramientas!$H$3:$I$227,2,0))=K10,1,0)),\"\")","v":""},{"$f":"IFERROR(IF(L10=\"\",\"\",IF((VLOOKUP(AL10,Herramientas!$H$3:$I$227,2,0))=L10,1,0)),\"\")","v":""},{"$f":"IFERROR(IF(M10=\"\",\"\",IF((VLOOKUP(AM10,Herramientas!$H$3:$I$227,2,0))=M10,1,0)),\"\")","v":""},{"$f":"IFERROR(IF(N10=\"\",\"\",IF((VLOOKUP(AN10,Herramientas!$H$3:$I$227,2,0))=N10,1,0)),\"\")","v":""},{"$f":"IFERROR(IF(O10=\"\",\"\",IF((VLOOKUP(AO10,Herramientas!$H$3:$I$227,2,0))=O10,1,0)),\"\")","v":""},{"$f":"IFERROR(IF(P10=\"\",\"\",IF((VLOOKUP(AP10,Herramientas!$H$3:$I$227,2,0))=P10,1,0)),\"\")","v":""},{"$f":"IFERROR(IF(Q10=\"\",\"\",IF((VLOOKUP(AQ10,Herramientas!$H$3:$I$227,2,0))=Q10,1,0)),\"\")","v":""},{"$f":"IFERROR(IF(R10=\"\",\"\",IF((VLOOKUP(AR10,Herramientas!$H$3:$I$227,2,0))=R10,1,0)),\"\")","v":""},{"$f":"IFERROR(IF(S10=\"\",\"\",IF((VLOOKUP(AS10,Herramientas!$H$3:$I$227,2,0))=S10,1,0)),\"\")","v":""},{"$f":"IFERROR(IF(T10=\"\",\"\",IF((VLOOKUP(AT10,Herramientas!$H$3:$I$227,2,0))=T10,1,0)),\"\")","v":""},{"$f":"IFERROR(IF(U10=\"\",\"\",IF((VLOOKUP(AU10,Herramientas!$H$3:$I$227,2,0))=U10,1,0)),\"\")","v":""},{"$f":"IFERROR(IF(V10=\"\",\"\",IF((VLOOKUP(AV10,Herramientas!$H$3:$I$227,2,0))=V10,1,0)),\"\")","v":""},{"$f":"IFERROR(IF(W10=\"\",\"\",IF((VLOOKUP(AW10,Herramientas!$H$3:$I$227,2,0))=W10,1,0)),\"\")","v":""},{"$f":"IFERROR(IF(X10=\"\",\"\",IF((VLOOKUP(AX10,Herramientas!$H$3:$I$227,2,0))=X10,1,0)),\"\")","v":""},{"$f":"IFERROR(IF(Y10=\"\",\"\",IF((VLOOKUP(AY10,Herramientas!$H$3:$I$227,2,0))=Y10,1,0)),\"\")","v":""},{"$f":"IFERROR(IF(Z10=\"\",\"\",IF((VLOOKUP(AZ10,Herramientas!$H$3:$I$227,2,0))=Z10,1,0)),\"\")","v":""},{"$f":"IFERROR(IF(AA10=\"\",\"\",IF((VLOOKUP(BA10,Herramientas!$H$3:$I$227,2,0))=AA10,1,0)),\"\")","v":""},{"$f":"IFERROR(IF(AB10=\"\",\"\",IF((VLOOKUP(BB10,Herramientas!$H$3:$I$227,2,0))=AB10,1,0)),\"\")","v":""},null,0,0,null,"SUMIT4",{"$f":"SUM(BG$8:BG$57)","v":0},{"$f":"COUNTIF(BG8:BG59,0)","v":0},0,null,"d",{"$f":"COUNTIF(D8:D107,\"d\")","v":0},{"$f":"COUNTIF(E8:E107,\"d\")","v":0},0,0,0,0,0,0,0,0,0,0,0,0,0,0,0,0,0,0,0,0,0,0,0]
[4,null,null,null,null,null,null,null,null,null,null,null,null,null,null,null,null,null,null,null,null,null,null,null,null,null,null,null,null,"9.°-1","9.°-2","9.°-3","9.°-4","9.°-5","9.°-6","9.°-7","9.°-8","9.°-9","9.°-10","9.°-11","9.°-12","9.°-13","9.°-14","9.°-15","9.°-16","9.°-17","9.°-18","9.°-19","9.°-20","9.°-21","9.°-22","9.°-23","9.°-24","9.°-25",null,{"$f":"IFERROR(IF(D11=\"\",\"\",IF((VLOOKUP(AD11,Herramientas!$H$3:$I$227,2,0))=D11,1,0)),\"\")","v":""},{"$f":"IFERROR(IF(E11=\"\",\"\",IF((VLOOKUP(AE11,Herramientas!$H$3:$I$227,2,0))=E11,1,0)),\"\")","v":""},{"$f":"IFERROR(IF(F11=\"\",\"\",IF((VLOOKUP(AF11,Herramientas!$H$3:$I$227,2,0))=F11,1,0)),\"\")","v":""},{"$f":"IFERROR(IF(G11=\"\",\"\",IF((VLOOKUP(AG11,Herramientas!$H$3:$I$227,2,0))=G11,1,0)),\"\")","v":""},{"$f":"IFERROR(IF(H11=\"\",\"\",IF((VLOOKUP(AH11,Herramientas!$H$3:$I$227,2,0))=H11,1,0)),\"\")","v":""},{"$f":"IFERROR(IF(I11=\"\",\"\",IF((VLOOKUP(AI11,Herramientas!$H$3:$I$227,2,0))=I11,1,0)),\"\")","v":""},{"$f":"IFERROR(IF(J11=\"\",\"\",IF((VLOOKUP(AJ11,Herramientas!$H$3:$I$227,2,0))=J11,1,0)),\"\")","v":""},{"$f":"IFERROR(IF(K11=\"\",\"\",IF((VLOOKUP(AK11,Herramientas!$H$3:$I$227,2,0))=K11,1,0)),\"\")","v":""},{"$f":"IFERROR(IF(L11=\"\",\"\",IF((VLOOKUP(AL11,Herramientas!$H$3:$I$227,2,0))=L11,1,0)),\"\")","v":""},{"$f":"IFERROR(IF(M11=\"\",\"\",IF((VLOOKUP(AM11,Herramientas!$H$3:$I$227,2,0))=M11,1,0)),\"\")","v":""},{"$f":"IFERROR(IF(N11=\"\",\"\",IF((VLOOKUP(AN11,Herramientas!$H$3:$I$227,2,0))=N11,1,0)),\"\")","v":""},{"$f":"IFERROR(IF(O11=\"\",\"\",IF((VLOOKUP(AO11,Herramientas!$H$3:$I$227,2,0))=O11,1,0)),\"\")","v":""},{"$f":"IFERROR(IF(P11=\"\",\"\",IF((VLOOKUP(AP11,Herramientas!$H$3:$I$227,2,0))=P11,1,0)),\"\")","v":""},{"$f":"IFERROR(IF(Q11=\"\",\"\",IF((VLOOKUP(AQ11,Herramientas!$H$3:$I$227,2,0))=Q11,1,0)),\"\")","v":""},{"$f":"IFERROR(IF(R11=\"\",\"\",IF((VLOOKUP(AR11,Herramientas!$H$3:$I$227,2,0))=R11,1,0)),\"\")","v":""},{"$f":"IFERROR(IF(S11=\"\",\"\",IF((VLOOKUP(AS11,Herramientas!$H$3:$I$227,2,0))=S11,1,0)),\"\")","v":""},{"$f":"IFERROR(IF(T11=\"\",\"\",IF((VLOOKUP(AT11,Herramientas!$H$3:$I$227,2,0))=T11,1,0)),\"\")","v":""},{"$f":"IFERROR(IF(U11=\"\",\"\",IF((VLOOKUP(AU11,Herramientas!$H$3:$I$227,2,0))=U11,1,0)),\"\")","v":""},{"$f":"IFERROR(IF(V11=\"\",\"\",IF((VLOOKUP(AV11,Herramientas!$H$3:$I$227,2,0))=V11,1,0)),\"\")","v":""},{"$f":"IFERROR(IF(W11=\"\",\"\",IF((VLOOKUP(AW11,Herramientas!$H$3:$I$227,2,0))=W11,1,0)),\"\")","v":""},{"$f":"IFERROR(IF(X11=\"\",\"\",IF((VLOOKUP(AX11,Herramientas!$H$3:$I$227,2,0))=X11,1,0)),\"\")","v":""},{"$f":"IFERROR(IF(Y11=\"\",\"\",IF((VLOOKUP(AY11,Herramientas!$H$3:$I$227,2,0))=Y11,1,0)),\"\")","v":""},{"$f":"IFERROR(IF(Z11=\"\",\"\",IF((VLOOKUP(AZ11,Herramientas!$H$3:$I$227,2,0))=Z11,1,0)),\"\")","v":""},{"$f":"IFERROR(IF(AA11=\"\",\"\",IF((VLOOKUP(BA11,Herramientas!$H$3:$I$227,2,0))=AA11,1,0)),\"\")","v":""},{"$f":"IFERROR(IF(AB11=\"\",\"\",IF((VLOOKUP(BB11,Herramientas!$H$3:$I$227,2,0))=AB11,1,0)),\"\")","v":""},null,0,0,null,"SUMIT5",{"$f":"SUM(BH$8:BH$57)","v":0},{"$f":"COUNTIF(BH8:BH60,0)","v":0},0]
[5,null,null,null,null,null,null,null,null,null,null,null,null,null,null,null,null,null,null,null,null,null,null,null,null,null,null,null,null,"9.°-1","9.°-2","9.°-3","9.°-4","9.°-5","9.°-6","9.°-7","9.°-8","9.°-9","9.°-10","9.°-11","9.°-12","9.°-13","9.°-14","9.°-15","9.°-16","9.°-17","9.°-18","9.°-19","9.°-20","9.°-21","9.°-22","9.°-23","9.°-24","9.°-25",null,{"$f":"IFERROR(IF(D12=\"\",\"\",IF((VLOOKUP(AD12,Herramientas!$H$3:$I$227,2,0))=D12,1,0)),\"\")","v":""},{"$f":"IFERROR(IF(E12=\"\",\"\",IF((VLOOKUP(AE12,Herramientas!$H$3:$I$227,2,0))=E12,1,0)),\"\")","v":""},{"$f":"IFERROR(IF(F12=\"\",\"\",IF((VLOOKUP(AF12,Herramientas!$H$3:$I$227,2,0))=F12,1,0)),\"\")","v":""},{"$f":"IFERROR(IF(G12=\"\",\"\",IF((VLOOKUP(AG12,Herramientas!$H$3:$I$227,2,0))=G12,1,0)),\"\")","v":""},{"$f":"IFERROR(IF(H12=\"\",\"\",IF((VLOOKUP(AH12,Herramientas!$H$3:$I$227,2,0))=H12,1,0)),\"\")","v":""},{"$f":"IFERROR(IF(I12=\"\",\"\",IF((VLOOKUP(AI12,Herramientas!$H$3:$I$227,2,0))=I12,1,0)),\"\")","v":""},{"$f":"IFERROR(IF(J12=\"\",\"\",IF((VLOOKUP(AJ12,Herramientas!$H$3:$I$227,2,0))=J12,1,0)),\"\")","v":""},{"$f":"IFERROR(IF(K12=\"\",\"\",IF((VLOOKUP(AK12,Herramientas!$H$3:$I$227,2,0))=K12,1,0)),\"\")","v":""},{"$f":"IFERROR(IF(L12=\"\",\"\",IF((VLOOKUP(AL12,Herramientas!$H$3:$I$227,2,0))=L12,1,0)),\"\")","v":""},{"$f":"IFERROR(IF(M12=\"\",\"\",IF((VLOOKUP(AM12,Herramientas!$H$3:$I$227,2,0))=M12,1,0)),\"\")","v":""},{"$f":"IFERROR(IF(N12=\"\",\"\",IF((VLOOKUP(AN12,Herramientas!$H$3:$I$227,2,0))=N12,1,0)),\"\")","v":""},{"$f":"IFERROR(IF(O12=\"\",\"\",IF((VLOOKUP(AO12,Herramientas!$H$3:$I$227,2,0))=O12,1,0)),\"\")","v":""},{"$f":"IFERROR(IF(P12=\"\",\"\",IF((VLOOKUP(AP12,Herramientas!$H$3:$I$227,2,0))=P12,1,0)),\"\")","v":""},{"$f":"IFERROR(IF(Q12=\"\",\"\",IF((VLOOKUP(AQ12,Herramientas!$H$3:$I$227,2,0))=Q12,1,0)),\"\")","v":""},{"$f":"IFERROR(IF(R12=\"\",\"\",IF((VLOOKUP(AR12,Herramientas!$H$3:$I$227,2,0))=R12,1,0)),\"\")","v":""},{"$f":"IFERROR(IF(S12=\"\",\"\",IF((VLOOKUP(AS12,Herramientas!$H$3:$I$227,2,0))=S12,1,0)),\"\")","v":""},{"$f":"IFERROR(IF(T12=\"\",\"\",IF((VLOOKUP(AT12,Herramientas!$H$3:$I$227,2,0))=T12,1,0)),\"\")","v":""},{"$f":"IFERROR(IF(U12=\"\",\"\",IF((VLOOKUP(AU12,Herramientas!$H$3:$I$227,2,0))=U12,1,0)),\"\")","v":""},{"$f":"IFERROR(IF(V12=\"\",\"\",IF((VLOOKUP(AV12,Herramientas!$H$3:$I$227,2,0))=V12,1,0)),\"\")","v":""},{"$f":"IFERROR(IF(W12=\"\",\"\",IF((VLOOKUP(AW12,Herramientas!$H$3:$I$227,2,0))=W12,1,0)),\"\")","v":""},{"$f":"IFERROR(IF(X12=\"\",\"\",IF((VLOOKUP(AX12,Herramientas!$H$3:$I$227,2,0))=X12,1,0)),\"\")","v":""},{"$f":"IFERROR(IF(Y12=\"\",\"\",IF((VLOOKUP(AY12,Herramientas!$H$3:$I$227,2,0))=Y12,1,0)),\"\")","v":""},{"$f":"IFERROR(IF(Z12=\"\",\"\",IF((VLOOKUP(AZ12,Herramientas!$H$3:$I$227,2,0))=Z12,1,0)),\"\")","v":""},{"$f":"IFERROR(IF(AA12=\"\",\"\",IF((VLOOKUP(BA12,Herramientas!$H$3:$I$227,2,0))=AA12,1,0)),\"\")","v":""},{"$f":"IFERROR(IF(AB12=\"\",\"\",IF((VLOOKUP(BB12,Herramientas!$H$3:$I$227,2,0))=AB12,1,0)),\"\")","v":""},null,0,0,null,"SUMIT6",{"$f":"SUM(BI$8:BI$57)","v":0},{"$f":"COUNTIF(BI$8:BI$57,0)","v":0},0,null,null,{"$f":"SUM(CM7:CM10)","v":0},{"$f":"SUM(CN7:CN10)","v":0},0,0,0,0,0,0,0,0,0,0,0,0,0,0,0,0,0,0,0,0,0,0,0]
[6,null,null,null,null,null,null,null,null,null,null,null,null,null,null,null,null,null,null,null,null,null,null,null,null,null,null,null,null,"9.°-1","9.°-2","9.°-3","9.°-4","9.°-5","9.°-6","9.°-7","9.°-8","9.°-9","9.°-10","9.°-11","9.°-12","9.°-13","9.°-14","9.°-15","9.°-16","9.°-17","9.°-18","9.°-19","9.°-20","9.°-21","9.°-22","9.°-23","9.°-24","9.°-25",null,{"$f":"IFERROR(IF(D13=\"\",\"\",IF((VLOOKUP(AD13,Herramientas!$H$3:$I$227,2,0))=D13,1,0)),\"\")","v":""},{"$f":"IFERROR(IF(E13=\"\",\"\",IF((VLOOKUP(AE13,Herramientas!$H$3:$I$227,2,0))=E13,1,0)),\"\")","v":""},{"$f":"IFERROR(IF(F13=\"\",\"\",IF((VLOOKUP(AF13,Herramientas!$H$3:$I$227,2,0))=F13,1,0)),\"\")","v":""},{"$f":"IFERROR(IF(G13=\"\",\"\",IF((VLOOKUP(AG13,Herramientas!$H$3:$I$227,2,0))=G13,1,0)),\"\")","v":""},{"$f":"IFERROR(IF(H13=\"\",\"\",IF((VLOOKUP(AH13,Herramientas!$H$3:$I$227,2,0))=H13,1,0)),\"\")","v":""},{"$f":"IFERROR(IF(I13=\"\",\"\",IF((VLOOKUP(AI13,Herramientas!$H$3:$I$227,2,0))=I13,1,0)),\"\")","v":""},{"$f":"IFERROR(IF(J13=\"\",\"\",IF((VLOOKUP(AJ13,Herramientas!$H$3:$I$227,2,0))=J13,1,0)),\"\")","v":""},{"$f":"IFERROR(IF(K13=\"\",\"\",IF((VLOOKUP(AK13,Herramientas!$H$3:$I$227,2,0))=K13,1,0)),\"\")","v":""},{"$f":"IFERROR(IF(L13=\"\",\"\",IF((VLOOKUP(AL13,Herramientas!$H$3:$I$227,2,0))=L13,1,0)),\"\")","v":""},{"$f":"IFERROR(IF(M13=\"\",\"\",IF((VLOOKUP(AM13,Herramientas!$H$3:$I$227,2,0))=M13,1,0)),\"\")","v":""},{"$f":"IFERROR(IF(N13=\"\",\"\",IF((VLOOKUP(AN13,Herramientas!$H$3:$I$227,2,0))=N13,1,0)),\"\")","v":""},{"$f":"IFERROR(IF(O13=\"\",\"\",IF((VLOOKUP(AO13,Herramientas!$H$3:$I$227,2,0))=O13,1,0)),\"\")","v":""},{"$f":"IFERROR(IF(P13=\"\",\"\",IF((VLOOKUP(AP13,Herramientas!$H$3:$I$227,2,0))=P13,1,0)),\"\")","v":""},{"$f":"IFERROR(IF(Q13=\"\",\"\",IF((VLOOKUP(AQ13,Herramientas!$H$3:$I$227,2,0))=Q13,1,0)),\"\")","v":""},{"$f":"IFERROR(IF(R13=\"\",\"\",IF((VLOOKUP(AR13,Herramientas!$H$3:$I$227,2,0))=R13,1,0)),\"\")","v":""},{"$f":"IFERROR(IF(S13=\"\",\"\",IF((VLOOKUP(AS13,Herramientas!$H$3:$I$227,2,0))=S13,1,0)),\"\")","v":""},{"$f":"IFERROR(IF(T13=\"\",\"\",IF((VLOOKUP(AT13,Herramientas!$H$3:$I$227,2,0))=T13,1,0)),\"\")","v":""},{"$f":"IFERROR(IF(U13=\"\",\"\",IF((VLOOKUP(AU13,Herramientas!$H$3:$I$227,2,0))=U13,1,0)),\"\")","v":""},{"$f":"IFERROR(IF(V13=\"\",\"\",IF((VLOOKUP(AV13,Herramientas!$H$3:$I$227,2,0))=V13,1,0)),\"\")","v":""},{"$f":"IFERROR(IF(W13=\"\",\"\",IF((VLOOKUP(AW13,Herramientas!$H$3:$I$227,2,0))=W13,1,0)),\"\")","v":""},{"$f":"IFERROR(IF(X13=\"\",\"\",IF((VLOOKUP(AX13,Herramientas!$H$3:$I$227,2,0))=X13,1,0)),\"\")","v":""},{"$f":"IFERROR(IF(Y13=\"\",\"\",IF((VLOOKUP(AY13,Herramientas!$H$3:$I$227,2,0))=Y13,1,0)),\"\")","v":""},{"$f":"IFERROR(IF(Z13=\"\",\"\",IF((VLOOKUP(AZ13,Herramientas!$H$3:$I$227,2,0))=Z13,1,0)),\"\")","v":""},{"$f":"IFERROR(IF(AA13=\"\",\"\",IF((VLOOKUP(BA13,Herramientas!$H$3:$I$227,2,0))=AA13,1,0)),\"\")","v":""},{"$f":"IFERROR(IF(AB13=\"\",\"\",IF((VLOOKUP(BB13,Herramientas!$H$3:$I$227,2,0))=AB13,1,0)),\"\")","v":""},null,0,0,null,"SUMIT7",{"$f":"SUM(BJ$8:BJ$57)","v":0},{"$f":"COUNTIF(BJ$8:BJ$57,0)","v":0},0]
[7,null,null,null,null,null,null,null,null,null,null,null,null,null,null,null,null,null,null,null,null,null,null,null,null,null,null,null,null,"9.°-1","9.°-2","9.°-3","9.°-4","9.°-5","9.°-6","9.°-7","9.°-8","9.°-9","9.°-10","9.°-11","9.°-12","9.°-13","9.°-14","9.°-15","9.°-16","9.°-17","9.°-18","9.°-19","9.°-20","9.°-21","9.°-22","9.°-23","9.°-24","9.°-25",null,{"$f":"IFERROR(IF(D14=\"\",\"\",IF((VLOOKUP(AD14,Herramientas!$H$3:$I$227,2,0))=D14,1,0)),\"\")","v":""},{"$f":"IFERROR(IF(E14=\"\",\"\",IF((VLOOKUP(AE14,Herramientas!$H$3:$I$227,2,0))=E14,1,0)),\"\")","v":""},{"$f":"IFERROR(IF(F14=\"\",\"\",IF((VLOOKUP(AF14,Herramientas!$H$3:$I$227,2,0))=F14,1,0)),\"\")","v":""},{"$f":"IFERROR(IF(G14=\"\",\"\",IF((VLOOKUP(AG14,Herramientas!$H$3:$I$227,2,0))=G14,1,0)),\"\")","v":""},{"$f":"IFERROR(IF(H14=\"\",\"\",IF((VLOOKUP(AH14,Herramientas!$H$3:$I$227,2,0))=H14,1,0)),\"\")","v":""},{"$f":"IFERROR(IF(I14=\"\",\"\",IF((VLOOKUP(AI14,Herramientas!$H$3:$I$227,2,0))=I14,1,0)),\"\")","v":""},{"$f":"IFERROR(IF(J14=\"\",\"\",IF((VLOOKUP(AJ14,Herramientas!$H$3:$I$227,2,0))=J14,1,0)),\"\")","v":""},{"$f":"IFERROR(IF(K14=\"\",\"\",IF((VLOOKUP(AK14,Herramientas!$H$3:$I$227,2,0))=K14,1,0)),\"\")","v":""},{"$f":"IFERROR(IF(L14=\"\",\"\",IF((VLOOKUP(AL14,Herramientas!$H$3:$I$227,2,0))=L14,1,0)),\"\")","v":""},{"$f":"IFERROR(IF(M14=\"\",\"\",IF((VLOOKUP(AM14,Herramientas!$H$3:$I$227,2,0))=M14,1,0)),\"\")","v":""},{"$f":"IFERROR(IF(N14=\"\",\"\",IF((VLOOKUP(AN14,Herramientas!$H$3:$I$227,2,0))=N14,1,0)),\"\")","v":""},{"$f":"IFERROR(IF(O14=\"\",\"\",IF((VLOOKUP(AO14,Herramientas!$H$3:$I$227,2,0))=O14,1,0)),\"\")","v":""},{"$f":"IFERROR(IF(P14=\"\",\"\",IF((VLOOKUP(AP14,Herramientas!$H$3:$I$227,2,0))=P14,1,0)),\"\")","v":""},{"$f":"IFERROR(IF(Q14=\"\",\"\",IF((VLOOKUP(AQ14,Herramientas!$H$3:$I$227,2,0))=Q14,1,0)),\"\")","v":""},{"$f":"IFERROR(IF(R14=\"\",\"\",IF((VLOOKUP(AR14,Herramientas!$H$3:$I$227,2,0))=R14,1,0)),\"\")","v":""},{"$f":"IFERROR(IF(S14=\"\",\"\",IF((VLOOKUP(AS14,Herramientas!$H$3:$I$227,2,0))=S14,1,0)),\"\")","v":""},{"$f":"IFERROR(IF(T14=\"\",\"\",IF((VLOOKUP(AT14,Herramientas!$H$3:$I$227,2,0))=T14,1,0)),\"\")","v":""},{"$f":"IFERROR(IF(U14=\"\",\"\",IF((VLOOKUP(AU14,Herramientas!$H$3:$I$227,2,0))=U14,1,0)),\"\")","v":""},{"$f":"IFERROR(IF(V14=\"\",\"\",IF((VLOOKUP(AV14,Herramientas!$H$3:$I$227,2,0))=V14,1,0)),\"\")","v":""},{"$f":"IFERROR(IF(W14=\"\",\"\",IF((VLOOKUP(AW14,Herramientas!$H$3:$I$227,2,0))=W14,1,0)),\"\")","v":""},{"$f":"IFERROR(IF(X14=\"\",\"\",IF((VLOOKUP(AX14,Herramientas!$H$3:$I$227,2,0))=X14,1,0)),\"\")","v":""},{"$f":"IFERROR(IF(Y14=\"\",\"\",IF((VLOOKUP(AY14,Herramientas!$H$3:$I$227,2,0))=Y14,1,0)),\"\")","v":""},{"$f":"IFERROR(IF(Z14=\"\",\"\",IF((VLOOKUP(AZ14,Herramientas!$H$3:$I$227,2,0))=Z14,1,0)),\"\")","v":""},{"$f":"IFERROR(IF(AA14=\"\",\"\",IF((VLOOKUP(BA14,Herramientas!$H$3:$I$227,2,0))=AA14,1,0)),\"\")","v":""},{"$f":"IFERROR(IF(AB14=\"\",\"\",IF((VLOOKUP(BB14,Herramientas!$H$3:$I$227,2,0))=AB14,1,0)),\"\")","v":""},null,0,0,null,"SUMIT8",{"$f":"SUM(BK$8:BK$57)","v":0},{"$f":"COUNTIF(BK$8:BK$57,0)","v":0},0,null,null,"a",null,null,"b",null,null,"c",null,null,"d"]
[8,null,null,null,null,null,null,null,null,null,null,null,null,null,null,null,null,null,null,null,null,null,null,null,null,null,null,null,null,"9.°-1","9.°-2","9.°-3","9.°-4","9.°-5","9.°-6","9.°-7","9.°-8","9.°-9","9.°-10","9.°-11","9.°-12","9.°-13","9.°-14","9.°-15","9.°-16","9.°-17","9.°-18","9.°-19","9.°-20","9.°-21","9.°-22","9.°-23","9.°-24","9.°-25",null,{"$f":"IFERROR(IF(D15=\"\",\"\",IF((VLOOKUP(AD15,Herramientas!$H$3:$I$227,2,0))=D15,1,0)),\"\")","v":""},{"$f":"IFERROR(IF(E15=\"\",\"\",IF((VLOOKUP(AE15,Herramientas!$H$3:$I$227,2,0))=E15,1,0)),\"\")","v":""},{"$f":"IFERROR(IF(F15=\"\",\"\",IF((VLOOKUP(AF15,Herramientas!$H$3:$I$227,2,0))=F15,1,0)),\"\")","v":""},{"$f":"IFERROR(IF(G15=\"\",\"\",IF((VLOOKUP(AG15,Herramientas!$H$3:$I$227,2,0))=G15,1,0)),\"\")","v":""},{"$f":"IFERROR(IF(H15=\"\",\"\",IF((VLOOKUP(AH15,Herramientas!$H$3:$I$227,2,0))=H15,1,0)),\"\")","v":""},{"$f":"IFERROR(IF(I15=\"\",\"\",IF((VLOOKUP(AI15,Herramientas!$H$3:$I$227,2,0))=I15,1,0)),\"\")","v":""},{"$f":"IFERROR(IF(J15=\"\",\"\",IF((VLOOKUP(AJ15,Herramientas!$H$3:$I$227,2,0))=J15,1,0)),\"\")","v":""},{"$f":"IFERROR(IF(K15=\"\",\"\",IF((VLOOKUP(AK15,Herramientas!$H$3:$I$227,2,0))=K15,1,0)),\"\")","v":""},{"$f":"IFERROR(IF(L15=\"\",\"\",IF((VLOOKUP(AL15,Herramientas!$H$3:$I$227,2,0))=L15,1,0)),\"\")","v":""},{"$f":"IFERROR(IF(M15=\"\",\"\",IF((VLOOKUP(AM15,Herramientas!$H$3:$I$227,2,0))=M15,1,0)),\"\")","v":""},{"$f":"IFERROR(IF(N15=\"\",\"\",IF((VLOOKUP(AN15,Herramientas!$H$3:$I$227,2,0))=N15,1,0)),\"\")","v":""},{"$f":"IFERROR(IF(O15=\"\",\"\",IF((VLOOKUP(AO15,Herramientas!$H$3:$I$227,2,0))=O15,1,0)),\"\")","v":""},{"$f":"IFERROR(IF(P15=\"\",\"\",IF((VLOOKUP(AP15,Herramientas!$H$3:$I$227,2,0))=P15,1,0)),\"\")","v":""},{"$f":"IFERROR(IF(Q15=\"\",\"\",IF((VLOOKUP(AQ15,Herramientas!$H$3:$I$227,2,0))=Q15,1,0)),\"\")","v":""},{"$f":"IFERROR(IF(R15=\"\",\"\",IF((VLOOKUP(AR15,Herramientas!$H$3:$I$227,2,0))=R15,1,0)),\"\")","v":""},{"$f":"IFERROR(IF(S15=\"\",\"\",IF((VLOOKUP(AS15,Herramientas!$H$3:$I$227,2,0))=S15,1,0)),\"\")","v":""},{"$f":"IFERROR(IF(T15=\"\",\"\",IF((VLOOKUP(AT15,Herramientas!$H$3:$I$227,2,0))=T15,1,0)),\"\")","v":""},{"$f":"IFERROR(IF(U15=\"\",\"\",IF((VLOOKUP(AU15,Herramientas!$H$3:$I$227,2,0))=U15,1,0)),\"\")","v":""},{"$f":"IFERROR(IF(V15=\"\",\"\",IF((VLOOKUP(AV15,Herramientas!$H$3:$I$227,2,0))=V15,1,0)),\"\")","v":""},{"$f":"IFERROR(IF(W15=\"\",\"\",IF((VLOOKUP(AW15,Herramientas!$H$3:$I$227,2,0))=W15,1,0)),\"\")","v":""},{"$f":"IFERROR(IF(X15=\"\",\"\",IF((VLOOKUP(AX15,Herramientas!$H$3:$I$227,2,0))=X15,1,0)),\"\")","v":""},{"$f":"IFERROR(IF(Y15=\"\",\"\",IF((VLOOKUP(AY15,Herramientas!$H$3:$I$227,2,0))=Y15,1,0)),\"\")","v":""},{"$f":"IFERROR(IF(Z15=\"\",\"\",IF((VLOOKUP(AZ15,Herramientas!$H$3:$I$227,2,0))=Z15,1,0)),\"\")","v":""},{"$f":"IFERROR(IF(AA15=\"\",\"\",IF((VLOOKUP(BA15,Herramientas!$H$3:$I$227,2,0))=AA15,1,0)),\"\")","v":""},{"$f":"IFERROR(IF(AB15=\"\",\"\",IF((VLOOKUP(BB15,Herramientas!$H$3:$I$227,2,0))=AB15,1,0)),\"\")","v":""},null,0,0,null,"SUMIT9",{"$f":"SUM(BL$8:BL$57)","v":0},{"$f":"COUNTIF(BL$8:BL$57,0)","v":0},0,null,"it1",{"$f":"CM7","v":0},{"$f":"CM12","v":0},{"$f":"IF(CN15=0,\"\",CM15/CN15*100)","v":""},{"$f":"CM8","v":0},{"$f":"CN15","v":0},{"$f":"IF(CQ15=0,\"\",CP15/CQ15*100)","v":""},{"$f":"CM9","v":0},{"$f":"CQ15","v":0},{"$f":"IF(CT15=0,\"\",CS15/CT15*100)","v":""},{"$f":"CM10","v":0},{"$f":"CT15","v":0},{"$f":"IF(CW15=0,\"\",CV15/CW15*100)","v":""}]
[9,null,null,null,null,null,null,null,null,null,null,null,null,null,null,null,null,null,null,null,null,null,null,null,null,null,null,null,null,"9.°-1","9.°-2","9.°-3","9.°-4","9.°-5","9.°-6","9.°-7","9.°-8","9.°-9","9.°-10","9.°-11","9.°-12","9.°-13","9.°-14","9.°-15","9.°-16","9.°-17","9.°-18","9.°-19","9.°-20","9.°-21","9.°-22","9.°-23","9.°-24","9.°-25",null,{"$f":"IFERROR(IF(D16=\"\",\"\",IF((VLOOKUP(AD16,Herramientas!$H$3:$I$227,2,0))=D16,1,0)),\"\")","v":""},{"$f":"IFERROR(IF(E16=\"\",\"\",IF((VLOOKUP(AE16,Herramientas!$H$3:$I$227,2,0))=E16,1,0)),\"\")","v":""},{"$f":"IFERROR(IF(F16=\"\",\"\",IF((VLOOKUP(AF16,Herramientas!$H$3:$I$227,2,0))=F16,1,0)),\"\")","v":""},{"$f":"IFERROR(IF(G16=\"\",\"\",IF((VLOOKUP(AG16,Herramientas!$H$3:$I$227,2,0))=G16,1,0)),\"\")","v":""},{"$f":"IFERROR(IF(H16=\"\",\"\",IF((VLOOKUP(AH16,Herramientas!$H$3:$I$227,2,0))=H16,1,0)),\"\")","v":""},{"$f":"IFERROR(IF(I16=\"\",\"\",IF((VLOOKUP(AI16,Herramientas!$H$3:$I$227,2,0))=I16,1,0)),\"\")","v":""},{"$f":"IFERROR(IF(J16=\"\",\"\",IF((VLOOKUP(AJ16,Herramientas!$H$3:$I$227,2,0))=J16,1,0)),\"\")","v":""},{"$f":"IFERROR(IF(K16=\"\",\"\",IF((VLOOKUP(AK16,Herramientas!$H$3:$I$227,2,0))=K16,1,0)),\"\")","v":""},{"$f":"IFERROR(IF(L16=\"\",\"\",IF((VLOOKUP(AL16,Herramientas!$H$3:$I$227,2,0))=L16,1,0)),\"\")","v":""},{"$f":"IFERROR(IF(M16=\"\",\"\",IF((VLOOKUP(AM16,Herramientas!$H$3:$I$227,2,0))=M16,1,0)),\"\")","v":""},{"$f":"IFERROR(IF(N16=\"\",\"\",IF((VLOOKUP(AN16,Herramientas!$H$3:$I$227,2,0))=N16,1,0)),\"\")","v":""},{"$f":"IFERROR(IF(O16=\"\",\"\",IF((VLOOKUP(AO16,Herramientas!$H$3:$I$227,2,0))=O16,1,0)),\"\")","v":""},{"$f":"IFERROR(IF(P16=\"\",\"\",IF((VLOOKUP(AP16,Herramientas!$H$3:$I$227,2,0))=P16,1,0)),\"\")","v":""},{"$f":"IFERROR(IF(Q16=\"\",\"\",IF((VLOOKUP(AQ16,Herramientas!$H$3:$I$227,2,0))=Q16,1,0)),\"\")","v":""},{"$f":"IFERROR(IF(R16=\"\",\"\",IF((VLOOKUP(AR16,Herramientas!$H$3:$I$227,2,0))=R16,1,0)),\"\")","v":""},{"$f":"IFERROR(IF(S16=\"\",\"\",IF((VLOOKUP(AS16,Herramientas!$H$3:$I$227,2,0))=S16,1,0)),\"\")","v":""},{"$f":"IFERROR(IF(T16=\"\",\"\",IF((VLOOKUP(AT16,Herramientas!$H$3:$I$227,2,0))=T16,1,0)),\"\")","v":""},{"$f":"IFERROR(IF(U16=\"\",\"\",IF((VLOOKUP(AU16,Herramientas!$H$3:$I$227,2,0))=U16,1,0)),\"\")","v":""},{"$f":"IFERROR(IF(V16=\"\",\"\",IF((VLOOKUP(AV16,Herramientas!$H$3:$I$227,2,0))=V16,1,0)),\"\")","v":""},{"$f":"IFERROR(IF(W16=\"\",\"\",IF((VLOOKUP(AW16,Herramientas!$H$3:$I$227,2,0))=W16,1,0)),\"\")","v":""},{"$f":"IFERROR(IF(X16=\"\",\"\",IF((VLOOKUP(AX16,Herramientas!$H$3:$I$227,2,0))=X16,1,0)),\"\")","v":""},{"$f":"IFERROR(IF(Y16=\"\",\"\",IF((VLOOKUP(AY16,Herramientas!$H$3:$I$227,2,0))=Y16,1,0)),\"\")","v":""},{"$f":"IFERROR(IF(Z16=\"\",\"\",IF((VLOOKUP(AZ16,Herramientas!$H$3:$I$227,2,0))=Z16,1,0)),\"\")","v":""},{"$f":"IFERROR(IF(AA16=\"\",\"\",IF((VLOOKUP(BA16,Herramientas!$H$3:$I$227,2,0))=AA16,1,0)),\"\")","v":""},{"$f":"IFERROR(IF(AB16=\"\",\"\",IF((VLOOKUP(BB16,Herramientas!$H$3:$I$227,2,0))=AB16,1,0)),\"\")","v":""},null,0,0,null,"SUMIT10",{"$f":"SUM(BM$8:BM$57)","v":0},{"$f":"COUNTIF(BM$8:BM$57,0)","v":0},0,null,"it2",{"$f":"CN7","v":0},{"$f":"CN12","v":0},{"$f":"IF(CN16=0,\"\",CM16/CN16*100)","v":""},{"$f":"CN8","v":0},{"$f":"CN16","v":0},{"$f":"IF(CQ16=0,\"\",CP16/CQ16*100)","v":""},{"$f":"CN9","v":0},{"$f":"CQ16","v":0},{"$f":"IF(CT16=0,\"\",CS16/CT16*100)","v":""},{"$f":"CN10","v":0},{"$f":"CT16","v":0},{"$f":"IF(CW16=0,\"\",CV16/CW16*100)","v":""}]
[10,null,null,null,null,null,null,null,null,null,null,null,null,null,null,null,null,null,null,null,null,null,null,null,null,null,null,null,null,"9.°-1","9.°-2","9.°-3","9.°-4","9.°-5","9.°-6","9.°-7","9.°-8","9.°-9","9.°-10","9.°-11","9.°-12","9.°-13","9.°-14","9.°-15","9.°-16","9.°-17","9.°-18","9.°-19","9.°-20","9.°-21","9.°-22","9.°-23","9.°-24","9.°-25",null,{"$f":"IFERROR(IF(D17=\"\",\"\",IF((VLOOKUP(AD17,Herramientas!$H$3:$I$227,2,0))=D17,1,0)),\"\")","v":""},{"$f":"IFERROR(IF(E17=\"\",\"\",IF((VLOOKUP(AE17,Herramientas!$H$3:$I$227,2,0))=E17,1,0)),\"\")","v":""},{"$f":"IFERROR(IF(F17=\"\",\"\",IF((VLOOKUP(AF17,Herramientas!$H$3:$I$227,2,0))=F17,1,0)),\"\")","v":""},{"$f":"IFERROR(IF(G17=\"\",\"\",IF((VLOOKUP(AG17,Herramientas!$H$3:$I$227,2,0))=G17,1,0)),\"\")","v":""},{"$f":"IFERROR(IF(H17=\"\",\"\",IF((VLOOKUP(AH17,Herramientas!$H$3:$I$227,2,0))=H17,1,0)),\"\")","v":""},{"$f":"IFERROR(IF(I17=\"\",\"\",IF((VLOOKUP(AI17,Herramientas!$H$3:$I$227,2,0))=I17,1,0)),\"\")","v":""},{"$f":"IFERROR(IF(J17=\"\",\"\",IF((VLOOKUP(AJ17,Herramientas!$H$3:$I$227,2,0))=J17,1,0)),\"\")","v":""},{"$f":"IFERROR(IF(K17=\"\",\"\",IF((VLOOKUP(AK17,Herramientas!$H$3:$I$227,2,0))=K17,1,0)),\"\")","v":""},{"$f":"IFERROR(IF(L17=\"\",\"\",IF((VLOOKUP(AL17,Herramientas!$H$3:$I$227,2,0))=L17,1,0)),\"\")","v":""},{"$f":"IFERROR(IF(M17=\"\",\"\",IF((VLOOKUP(AM17,Herramientas!$H$3:$I$227,2,0))=M17,1,0)),\"\")","v":""},{"$f":"IFERROR(IF(N17=\"\",\"\",IF((VLOOKUP(AN17,Herramientas!$H$3:$I$227,2,0))=N17,1,0)),\"\")","v":""},{"$f":"IFERROR(IF(O17=\"\",\"\",IF((VLOOKUP(AO17,Herramientas!$H$3:$I$227,2,0))=O17,1,0)),\"\")","v":""},{"$f":"IFERROR(IF(P17=\"\",\"\",IF((VLOOKUP(AP17,Herramientas!$H$3:$I$227,2,0))=P17,1,0)),\"\")","v":""},{"$f":"IFERROR(IF(Q17=\"\",\"\",IF((VLOOKUP(AQ17,Herramientas!$H$3:$I$227,2,0))=Q17,1,0)),\"\")","v":""},{"$f":"IFERROR(IF(R17=\"\",\"\",IF((VLOOKUP(AR17,Herramientas!$H$3:$I$227,2,0))=R17,1,0)),\"\")","v":""},{"$f":"IFERROR(IF(S17=\"\",\"\",IF((VLOOKUP(AS17,Herramientas!$H$3:$I$227,2,0))=S17,1,0)),\"\")","v":""},{"$f":"IFERROR(IF(T17=\"\",\"\",IF((VLOOKUP(AT17,Herramientas!$H$3:$I$227,2,0))=T17,1,0)),\"\")","v":""},{"$f":"IFERROR(IF(U17=\"\",\"\",IF((VLOOKUP(AU17,Herramientas!$H$3:$I$227,2,0))=U17,1,0)),\"\")","v":""},{"$f":"IFERROR(IF(V17=\"\",\"\",IF((VLOOKUP(AV17,Herramientas!$H$3:$I$227,2,0))=V17,1,0)),\"\")","v":""},{"$f":"IFERROR(IF(W17=\"\",\"\",IF((VLOOKUP(AW17,Herramientas!$H$3:$I$227,2,0))=W17,1,0)),\"\")","v":""},{"$f":"IFERROR(IF(X17=\"\",\"\",IF((VLOOKUP(AX17,Herramientas!$H$3:$I$227,2,0))=X17,1,0)),\"\")","v":""},{"$f":"IFERROR(IF(Y17=\"\",\"\",IF((VLOOKUP(AY17,Herramientas!$H$3:$I$227,2,0))=Y17,1,0)),\"\")","v":""},{"$f":"IFERROR(IF(Z17=\"\",\"\",IF((VLOOKUP(AZ17,Herramientas!$H$3:$I$227,2,0))=Z17,1,0)),\"\")","v":""},{"$f":"IFERROR(IF(AA17=\"\",\"\",IF((VLOOKUP(BA17,Herramientas!$H$3:$I$227,2,0))=AA17,1,0)),\"\")","v":""},{"$f":"IFERROR(IF(AB17=\"\",\"\",IF((VLOOKUP(BB17,Herramientas!$H$3:$I$227,2,0))=AB17,1,0)),\"\")","v":""},null,0,0,null,"SUMIT11",{"$f":"SUM(BN$8:BN$57)","v":0},{"$f":"COUNTIF(BN$8:BN$57,0)","v":0},0,null,"it3",{"$f":"CO7","v":0},{"$f":"CO12","v":0},"",{"$f":"CO8","v":0},{"$f":"CN17","v":0},"",{"$f":"CO9","v":0},{"$f":"CQ17","v":0},"",{"$f":"CO10","v":0},{"$f":"CT17","v":0},""]
[11,null,null,null,null,null,null,null,null,null,null,null,null,null,null,null,null,null,null,null,null,null,null,null,null,null,null,null,null,"9.°-1","9.°-2","9.°-3","9.°-4","9.°-5","9.°-6","9.°-7","9.°-8","9.°-9","9.°-10","9.°-11","9.°-12","9.°-13","9.°-14","9.°-15","9.°-16","9.°-17","9.°-18","9.°-19","9.°-20","9.°-21","9.°-22","9.°-23","9.°-24","9.°-25",null,{"$f":"IFERROR(IF(D18=\"\",\"\",IF((VLOOKUP(AD18,Herramientas!$H$3:$I$227,2,0))=D18,1,0)),\"\")","v":""},{"$f":"IFERROR(IF(E18=\"\",\"\",IF((VLOOKUP(AE18,Herramientas!$H$3:$I$227,2,0))=E18,1,0)),\"\")","v":""},{"$f":"IFERROR(IF(F18=\"\",\"\",IF((VLOOKUP(AF18,Herramientas!$H$3:$I$227,2,0))=F18,1,0)),\"\")","v":""},{"$f":"IFERROR(IF(G18=\"\",\"\",IF((VLOOKUP(AG18,Herramientas!$H$3:$I$227,2,0))=G18,1,0)),\"\")","v":""},{"$f":"IFERROR(IF(H18=\"\",\"\",IF((VLOOKUP(AH18,Herramientas!$H$3:$I$227,2,0))=H18,1,0)),\"\")","v":""},{"$f":"IFERROR(IF(I18=\"\",\"\",IF((VLOOKUP(AI18,Herramientas!$H$3:$I$227,2,0))=I18,1,0)),\"\")","v":""},{"$f":"IFERROR(IF(J18=\"\",\"\",IF((VLOOKUP(AJ18,Herramientas!$H$3:$I$227,2,0))=J18,1,0)),\"\")","v":""},{"$f":"IFERROR(IF(K18=\"\",\"\",IF((VLOOKUP(AK18,Herramientas!$H$3:$I$227,2,0))=K18,1,0)),\"\")","v":""},{"$f":"IFERROR(IF(L18=\"\",\"\",IF((VLOOKUP(AL18,Herramientas!$H$3:$I$227,2,0))=L18,1,0)),\"\")","v":""},{"$f":"IFERROR(IF(M18=\"\",\"\",IF((VLOOKUP(AM18,Herramientas!$H$3:$I$227,2,0))=M18,1,0)),\"\")","v":""},{"$f":"IFERROR(IF(N18=\"\",\"\",IF((VLOOKUP(AN18,Herramientas!$H$3:$I$227,2,0))=N18,1,0)),\"\")","v":""},{"$f":"IFERROR(IF(O18=\"\",\"\",IF((VLOOKUP(AO18,Herramientas!$H$3:$I$227,2,0))=O18,1,0)),\"\")","v":""},{"$f":"IFERROR(IF(P18=\"\",\"\",IF((VLOOKUP(AP18,Herramientas!$H$3:$I$227,2,0))=P18,1,0)),\"\")","v":""},{"$f":"IFERROR(IF(Q18=\"\",\"\",IF((VLOOKUP(AQ18,Herramientas!$H$3:$I$227,2,0))=Q18,1,0)),\"\")","v":""},{"$f":"IFERROR(IF(R18=\"\",\"\",IF((VLOOKUP(AR18,Herramientas!$H$3:$I$227,2,0))=R18,1,0)),\"\")","v":""},{"$f":"IFERROR(IF(S18=\"\",\"\",IF((VLOOKUP(AS18,Herramientas!$H$3:$I$227,2,0))=S18,1,0)),\"\")","v":""},{"$f":"IFERROR(IF(T18=\"\",\"\",IF((VLOOKUP(AT18,Herramientas!$H$3:$I$227,2,0))=T18,1,0)),\"\")","v":""},{"$f":"IFERROR(IF(U18=\"\",\"\",IF((VLOOKUP(AU18,Herramientas!$H$3:$I$227,2,0))=U18,1,0)),\"\")","v":""},{"$f":"IFERROR(IF(V18=\"\",\"\",IF((VLOOKUP(AV18,Herramientas!$H$3:$I$227,2,0))=V18,1,0)),\"\")","v":""},{"$f":"IFERROR(IF(W18=\"\",\"\",IF((VLOOKUP(AW18,Herramientas!$H$3:$I$227,2,0))=W18,1,0)),\"\")","v":""},{"$f":"IFERROR(IF(X18=\"\",\"\",IF((VLOOKUP(AX18,Herramientas!$H$3:$I$227,2,0))=X18,1,0)),\"\")","v":""},{"$f":"IFERROR(IF(Y18=\"\",\"\",IF((VLOOKUP(AY18,Herramientas!$H$3:$I$227,2,0))=Y18,1,0)),\"\")","v":""},{"$f":"IFERROR(IF(Z18=\"\",\"\",IF((VLOOKUP(AZ18,Herramientas!$H$3:$I$227,2,0))=Z18,1,0)),\"\")","v":""},{"$f":"IFERROR(IF(AA18=\"\",\"\",IF((VLOOKUP(BA18,Herramientas!$H$3:$I$227,2,0))=AA18,1,0)),\"\")","v":""},{"$f":"IFERROR(IF(AB18=\"\",\"\",IF((VLOOKUP(BB18,Herramientas!$H$3:$I$227,2,0))=AB18,1,0)),\"\")","v":""},null,0,0,null,"SUMIT12",{"$f":"SUM(BO$8:BO$57)","v":0},{"$f":"COUNTIF(BO$8:BO$57,0)","v":0},0,null,"it4",{"$f":"CP7","v":0},{"$f":"CP12","v":0},"",{"$f":"CP8","v":0},{"$f":"CN18","v":0},"",{"$f":"CP9","v":0},0,"",{"$f":"CP10","v":0},{"$f":"CT18","v":0},""]
[12,null,null,null,null,null,null,null,null,null,null,null,null,null,null,null,null,null,null,null,null,null,null,null,null,null,null,null,null,"9.°-1","9.°-2","9.°-3","9.°-4","9.°-5","9.°-6","9.°-7","9.°-8","9.°-9","9.°-10","9.°-11","9.°-12","9.°-13","9.°-14","9.°-15","9.°-16","9.°-17","9.°-18","9.°-19","9.°-20","9.°-21","9.°-22","9.°-23","9.°-24","9.°-25",null,{"$f":"IFERROR(IF(D19=\"\",\"\",IF((VLOOKUP(AD19,Herramientas!$H$3:$I$227,2,0))=D19,1,0)),\"\")","v":""},{"$f":"IFERROR(IF(E19=\"\",\"\",IF((VLOOKUP(AE19,Herramientas!$H$3:$I$227,2,0))=E19,1,0)),\"\")","v":""},{"$f":"IFERROR(IF(F19=\"\",\"\",IF((VLOOKUP(AF19,Herramientas!$H$3:$I$227,2,0))=F19,1,0)),\"\")","v":""},{"$f":"IFERROR(IF(G19=\"\",\"\",IF((VLOOKUP(AG19,Herramientas!$H$3:$I$227,2,0))=G19,1,0)),\"\")","v":""},{"$f":"IFERROR(IF(H19=\"\",\"\",IF((VLOOKUP(AH19,Herramientas!$H$3:$I$227,2,0))=H19,1,0)),\"\")","v":""},{"$f":"IFERROR(IF(I19=\"\",\"\",IF((VLOOKUP(AI19,Herramientas!$H$3:$I$227,2,0))=I19,1,0)),\"\")","v":""},{"$f":"IFERROR(IF(J19=\"\",\"\",IF((VLOOKUP(AJ19,Herramientas!$H$3:$I$227,2,0))=J19,1,0)),\"\")","v":""},{"$f":"IFERROR(IF(K19=\"\",\"\",IF((VLOOKUP(AK19,Herramientas!$H$3:$I$227,2,0))=K19,1,0)),\"\")","v":""},{"$f":"IFERROR(IF(L19=\"\",\"\",IF((VLOOKUP(AL19,Herramientas!$H$3:$I$227,2,0))=L19,1,0)),\"\")","v":""},{"$f":"IFERROR(IF(M19=\"\",\"\",IF((VLOOKUP(AM19,Herramientas!$H$3:$I$227,2,0))=M19,1,0)),\"\")","v":""},{"$f":"IFERROR(IF(N19=\"\",\"\",IF((VLOOKUP(AN19,Herramientas!$H$3:$I$227,2,0))=N19,1,0)),\"\")","v":""},{"$f":"IFERROR(IF(O19=\"\",\"\",IF((VLOOKUP(AO19,Herramientas!$H$3:$I$227,2,0))=O19,1,0)),\"\")","v":""},{"$f":"IFERROR(IF(P19=\"\",\"\",IF((VLOOKUP(AP19,Herramientas!$H$3:$I$227,2,0))=P19,1,0)),\"\")","v":""},{"$f":"IFERROR(IF(Q19=\"\",\"\",IF((VLOOKUP(AQ19,Herramientas!$H$3:$I$227,2,0))=Q19,1,0)),\"\")","v":""},{"$f":"IFERROR(IF(R19=\"\",\"\",IF((VLOOKUP(AR19,Herramientas!$H$3:$I$227,2,0))=R19,1,0)),\"\")","v":""},{"$f":"IFERROR(IF(S19=\"\",\"\",IF((VLOOKUP(AS19,Herramientas!$H$3:$I$227,2,0))=S19,1,0)),\"\")","v":""},{"$f":"IFERROR(IF(T19=\"\",\"\",IF((VLOOKUP(AT19,Herramientas!$H$3:$I$227,2,0))=T19,1,0)),\"\")","v":""},{"$f":"IFERROR(IF(U19=\"\",\"\",IF((VLOOKUP(AU19,Herramientas!$H$3:$I$227,2,0))=U19,1,0)),\"\")","v":""},{"$f":"IFERROR(IF(V19=\"\",\"\",IF((VLOOKUP(AV19,Herramientas!$H$3:$I$227,2,0))=V19,1,0)),\"\")","v":""},{"$f":"IFERROR(IF(W19=\"\",\"\",IF((VLOOKUP(AW19,Herramientas!$H$3:$I$227,2,0))=W19,1,0)),\"\")","v":""},{"$f":"IFERROR(IF(X19=\"\",\"\",IF((VLOOKUP(AX19,Herramientas!$H$3:$I$227,2,0))=X19,1,0)),\"\")","v":""},{"$f":"IFERROR(IF(Y19=\"\",\"\",IF((VLOOKUP(AY19,Herramientas!$H$3:$I$227,2,0))=Y19,1,0)),\"\")","v":""},{"$f":"IFERROR(IF(Z19=\"\",\"\",IF((VLOOKUP(AZ19,Herramientas!$H$3:$I$227,2,0))=Z19,1,0)),\"\")","v":""},{"$f":"IFERROR(IF(AA19=\"\",\"\",IF((VLOOKUP(BA19,Herramientas!$H$3:$I$227,2,0))=AA19,1,0)),\"\")","v":""},{"$f":"IFERROR(IF(AB19=\"\",\"\",IF((VLOOKUP(BB19,Herramientas!$H$3:$I$227,2,0))=AB19,1,0)),\"\")","v":""},null,0,0,null,"SUMIT13",{"$f":"SUM(BP$8:BP$57)","v":0},{"$f":"COUNTIF(BP$8:BP$57,0)","v":0},0,null,"it5",{"$f":"CQ7","v":0},{"$f":"CQ12","v":0},"",{"$f":"CQ8","v":0},0,"",{"$f":"CQ9","v":0},0,"",{"$f":"CQ10","v":0},0,""]
[13,null,null,null,null,null,null,null,null,null,null,null,null,null,null,null,null,null,null,null,null,null,null,null,null,null,null,null,null,"9.°-1","9.°-2","9.°-3","9.°-4","9.°-5","9.°-6","9.°-7","9.°-8","9.°-9","9.°-10","9.°-11","9.°-12","9.°-13","9.°-14","9.°-15","9.°-16","9.°-17","9.°-18","9.°-19","9.°-20","9.°-21","9.°-22","9.°-23","9.°-24","9.°-25",null,{"$f":"IFERROR(IF(D20=\"\",\"\",IF((VLOOKUP(AD20,Herramientas!$H$3:$I$227,2,0))=D20,1,0)),\"\")","v":""},{"$f":"IFERROR(IF(E20=\"\",\"\",IF((VLOOKUP(AE20,Herramientas!$H$3:$I$227,2,0))=E20,1,0)),\"\")","v":""},{"$f":"IFERROR(IF(F20=\"\",\"\",IF((VLOOKUP(AF20,Herramientas!$H$3:$I$227,2,0))=F20,1,0)),\"\")","v":""},{"$f":"IFERROR(IF(G20=\"\",\"\",IF((VLOOKUP(AG20,Herramientas!$H$3:$I$227,2,0))=G20,1,0)),\"\")","v":""},{"$f":"IFERROR(IF(H20=\"\",\"\",IF((VLOOKUP(AH20,Herramientas!$H$3:$I$227,2,0))=H20,1,0)),\"\")","v":""},{"$f":"IFERROR(IF(I20=\"\",\"\",IF((VLOOKUP(AI20,Herramientas!$H$3:$I$227,2,0))=I20,1,0)),\"\")","v":""},{"$f":"IFERROR(IF(J20=\"\",\"\",IF((VLOOKUP(AJ20,Herramientas!$H$3:$I$227,2,0))=J20,1,0)),\"\")","v":""},{"$f":"IFERROR(IF(K20=\"\",\"\",IF((VLOOKUP(AK20,Herramientas!$H$3:$I$227,2,0))=K20,1,0)),\"\")","v":""},{"$f":"IFERROR(IF(L20=\"\",\"\",IF((VLOOKUP(AL20,Herramientas!$H$3:$I$227,2,0))=L20,1,0)),\"\")","v":""},{"$f":"IFERROR(IF(M20=\"\",\"\",IF((VLOOKUP(AM20,Herramientas!$H$3:$I$227,2,0))=M20,1,0)),\"\")","v":""},{"$f":"IFERROR(IF(N20=\"\",\"\",IF((VLOOKUP(AN20,Herramientas!$H$3:$I$227,2,0))=N20,1,0)),\"\")","v":""},{"$f":"IFERROR(IF(O20=\"\",\"\",IF((VLOOKUP(AO20,Herramientas!$H$3:$I$227,2,0))=O20,1,0)),\"\")","v":""},{"$f":"IFERROR(IF(P20=\"\",\"\",IF((VLOOKUP(AP20,Herramientas!$H$3:$I$227,2,0))=P20,1,0)),\"\")","v":""},{"$f":"IFERROR(IF(Q20=\"\",\"\",IF((VLOOKUP(AQ20,Herramientas!$H$3:$I$227,2,0))=Q20,1,0)),\"\")","v":""},{"$f":"IFERROR(IF(R20=\"\",\"\",IF((VLOOKUP(AR20,Herramientas!$H$3:$I$227,2,0))=R20,1,0)),\"\")","v":""},{"$f":"IFERROR(IF(S20=\"\",\"\",IF((VLOOKUP(AS20,Herramientas!$H$3:$I$227,2,0))=S20,1,0)),\"\")","v":""},{"$f":"IFERROR(IF(T20=\"\",\"\",IF((VLOOKUP(AT20,Herramientas!$H$3:$I$227,2,0))=T20,1,0)),\"\")","v":""},{"$f":"IFERROR(IF(U20=\"\",\"\",IF((VLOOKUP(AU20,Herramientas!$H$3:$I$227,2,0))=U20,1,0)),\"\")","v":""},{"$f":"IFERROR(IF(V20=\"\",\"\",IF((VLOOKUP(AV20,Herramientas!$H$3:$I$227,2,0))=V20,1,0)),\"\")","v":""},{"$f":"IFERROR(IF(W20=\"\",\"\",IF((VLOOKUP(AW20,Herramientas!$H$3:$I$227,2,0))=W20,1,0)),\"\")","v":""},{"$f":"IFERROR(IF(X20=\"\",\"\",IF((VLOOKUP(AX20,Herramientas!$H$3:$I$227,2,0))=X20,1,0)),\"\")","v":""},{"$f":"IFERROR(IF(Y20=\"\",\"\",IF((VLOOKUP(AY20,Herramientas!$H$3:$I$227,2,0))=Y20,1,0)),\"\")","v":""},{"$f":"IFERROR(IF(Z20=\"\",\"\",IF((VLOOKUP(AZ20,Herramientas!$H$3:$I$227,2,0))=Z20,1,0)),\"\")","v":""},{"$f":"IFERROR(IF(AA20=\"\",\"\",IF((VLOOKUP(BA20,Herramientas!$H$3:$I$227,2,0))=AA20,1,0)),\"\")","v":""},{"$f":"IFERROR(IF(AB20=\"\",\"\",IF((VLOOKUP(BB20,Herramientas!$H$3:$I$227,2,0))=AB20,1,0)),\"\")","v":""},null,0,0,null,"SUMIT14",{"$f":"SUM(BQ$8:BQ$57)","v":0},{"$f":"COUNTIF(BQ$8:BQ$57,0)","v":0},0,null,"it6",{"$f":"CR7","v":0},{"$f":"CR12","v":0},"",{"$f":"CR8","v":0},0,"",{"$f":"CR9","v":0},0,"",{"$f":"CR10","v":0},0,""]
[14,null,null,null,null,null,null,null,null,null,null,null,null,null,null,null,null,null,null,null,null,null,null,null,null,null,null,null,null,"9.°-1","9.°-2","9.°-3","9.°-4","9.°-5","9.°-6","9.°-7","9.°-8","9.°-9","9.°-10","9.°-11","9.°-12","9.°-13","9.°-14","9.°-15","9.°-16","9.°-17","9.°-18","9.°-19","9.°-20","9.°-21","9.°-22","9.°-23","9.°-24","9.°-25",null,{"$f":"IFERROR(IF(D21=\"\",\"\",IF((VLOOKUP(AD21,Herramientas!$H$3:$I$227,2,0))=D21,1,0)),\"\")","v":""},{"$f":"IFERROR(IF(E21=\"\",\"\",IF((VLOOKUP(AE21,Herramientas!$H$3:$I$227,2,0))=E21,1,0)),\"\")","v":""},{"$f":"IFERROR(IF(F21=\"\",\"\",IF((VLOOKUP(AF21,Herramientas!$H$3:$I$227,2,0))=F21,1,0)),\"\")","v":""},{"$f":"IFERROR(IF(G21=\"\",\"\",IF((VLOOKUP(AG21,Herramientas!$H$3:$I$227,2,0))=G21,1,0)),\"\")","v":""},{"$f":"IFERROR(IF(H21=\"\",\"\",IF((VLOOKUP(AH21,Herramientas!$H$3:$I$227,2,0))=H21,1,0)),\"\")","v":""},{"$f":"IFERROR(IF(I21=\"\",\"\",IF((VLOOKUP(AI21,Herramientas!$H$3:$I$227,2,0))=I21,1,0)),\"\")","v":""},{"$f":"IFERROR(IF(J21=\"\",\"\",IF((VLOOKUP(AJ21,Herramientas!$H$3:$I$227,2,0))=J21,1,0)),\"\")","v":""},{"$f":"IFERROR(IF(K21=\"\",\"\",IF((VLOOKUP(AK21,Herramientas!$H$3:$I$227,2,0))=K21,1,0)),\"\")","v":""},{"$f":"IFERROR(IF(L21=\"\",\"\",IF((VLOOKUP(AL21,Herramientas!$H$3:$I$227,2,0))=L21,1,0)),\"\")","v":""},{"$f":"IFERROR(IF(M21=\"\",\"\",IF((VLOOKUP(AM21,Herramientas!$H$3:$I$227,2,0))=M21,1,0)),\"\")","v":""},{"$f":"IFERROR(IF(N21=\"\",\"\",IF((VLOOKUP(AN21,Herramientas!$H$3:$I$227,2,0))=N21,1,0)),\"\")","v":""},{"$f":"IFERROR(IF(O21=\"\",\"\",IF((VLOOKUP(AO21,Herramientas!$H$3:$I$227,2,0))=O21,1,0)),\"\")","v":""},{"$f":"IFERROR(IF(P21=\"\",\"\",IF((VLOOKUP(AP21,Herramientas!$H$3:$I$227,2,0))=P21,1,0)),\"\")","v":""},{"$f":"IFERROR(IF(Q21=\"\",\"\",IF((VLOOKUP(AQ21,Herramientas!$H$3:$I$227,2,0))=Q21,1,0)),\"\")","v":""},{"$f":"IFERROR(IF(R21=\"\",\"\",IF((VLOOKUP(AR21,Herramientas!$H$3:$I$227,2,0))=R21,1,0)),\"\")","v":""},{"$f":"IFERROR(IF(S21=\"\",\"\",IF((VLOOKUP(AS21,Herramientas!$H$3:$I$227,2,0))=S21,1,0)),\"\")","v":""},{"$f":"IFERROR(IF(T21=\"\",\"\",IF((VLOOKUP(AT21,Herramientas!$H$3:$I$227,2,0))=T21,1,0)),\"\")","v":""},{"$f":"IFERROR(IF(U21=\"\",\"\",IF((VLOOKUP(AU21,Herramientas!$H$3:$I$227,2,0))=U21,1,0)),\"\")","v":""},{"$f":"IFERROR(IF(V21=\"\",\"\",IF((VLOOKUP(AV21,Herramientas!$H$3:$I$227,2,0))=V21,1,0)),\"\")","v":""},{"$f":"IFERROR(IF(W21=\"\",\"\",IF((VLOOKUP(AW21,Herramientas!$H$3:$I$227,2,0))=W21,1,0)),\"\")","v":""},{"$f":"IFERROR(IF(X21=\"\",\"\",IF((VLOOKUP(AX21,Herramientas!$H$3:$I$227,2,0))=X21,1,0)),\"\")","v":""},{"$f":"IFERROR(IF(Y21=\"\",\"\",IF((VLOOKUP(AY21,Herramientas!$H$3:$I$227,2,0))=Y21,1,0)),\"\")","v":""},{"$f":"IFERROR(IF(Z21=\"\",\"\",IF((VLOOKUP(AZ21,Herramientas!$H$3:$I$227,2,0))=Z21,1,0)),\"\")","v":""},{"$f":"IFERROR(IF(AA21=\"\",\"\",IF((VLOOKUP(BA21,Herramientas!$H$3:$I$227,2,0))=AA21,1,0)),\"\")","v":""},{"$f":"IFERROR(IF(AB21=\"\",\"\",IF((VLOOKUP(BB21,Herramientas!$H$3:$I$227,2,0))=AB21,1,0)),\"\")","v":""},null,0,0,null,"SUMIT15",{"$f":"SUM(BR$8:BR$57)","v":0},{"$f":"COUNTIF(BR$8:BR$57,0)","v":0},0,null,"it7",{"$f":"CS7","v":0},{"$f":"CS12","v":0},"",{"$f":"CS8","v":0},0,"",{"$f":"CS9","v":0},0,"",{"$f":"CS10","v":0},0,""]
[15,null,null,null,null,null,null,null,null,null,null,null,null,null,null,null,null,null,null,null,null,null,null,null,null,null,null,null,null,"9.°-1","9.°-2","9.°-3","9.°-4","9.°-5","9.°-6","9.°-7","9.°-8","9.°-9","9.°-10","9.°-11","9.°-12","9.°-13","9.°-14","9.°-15","9.°-16","9.°-17","9.°-18","9.°-19","9.°-20","9.°-21","9.°-22","9.°-23","9.°-24","9.°-25",null,{"$f":"IFERROR(IF(D22=\"\",\"\",IF((VLOOKUP(AD22,Herramientas!$H$3:$I$227,2,0))=D22,1,0)),\"\")","v":""},{"$f":"IFERROR(IF(E22=\"\",\"\",IF((VLOOKUP(AE22,Herramientas!$H$3:$I$227,2,0))=E22,1,0)),\"\")","v":""},{"$f":"IFERROR(IF(F22=\"\",\"\",IF((VLOOKUP(AF22,Herramientas!$H$3:$I$227,2,0))=F22,1,0)),\"\")","v":""},{"$f":"IFERROR(IF(G22=\"\",\"\",IF((VLOOKUP(AG22,Herramientas!$H$3:$I$227,2,0))=G22,1,0)),\"\")","v":""},{"$f":"IFERROR(IF(H22=\"\",\"\",IF((VLOOKUP(AH22,Herramientas!$H$3:$I$227,2,0))=H22,1,0)),\"\")","v":""},{"$f":"IFERROR(IF(I22=\"\",\"\",IF((VLOOKUP(AI22,Herramientas!$H$3:$I$227,2,0))=I22,1,0)),\"\")","v":""},{"$f":"IFERROR(IF(J22=\"\",\"\",IF((VLOOKUP(AJ22,Herramientas!$H$3:$I$227,2,0))=J22,1,0)),\"\")","v":""},{"$f":"IFERROR(IF(K22=\"\",\"\",IF((VLOOKUP(AK22,Herramientas!$H$3:$I$227,2,0))=K22,1,0)),\"\")","v":""},{"$f":"IFERROR(IF(L22=\"\",\"\",IF((VLOOKUP(AL22,Herramientas!$H$3:$I$227,2,0))=L22,1,0)),\"\")","v":""},{"$f":"IFERROR(IF(M22=\"\",\"\",IF((VLOOKUP(AM22,Herramientas!$H$3:$I$227,2,0))=M22,1,0)),\"\")","v":""},{"$f":"IFERROR(IF(N22=\"\",\"\",IF((VLOOKUP(AN22,Herramientas!$H$3:$I$227,2,0))=N22,1,0)),\"\")","v":""},{"$f":"IFERROR(IF(O22=\"\",\"\",IF((VLOOKUP(AO22,Herramientas!$H$3:$I$227,2,0))=O22,1,0)),\"\")","v":""},{"$f":"IFERROR(IF(P22=\"\",\"\",IF((VLOOKUP(AP22,Herramientas!$H$3:$I$227,2,0))=P22,1,0)),\"\")","v":""},{"$f":"IFERROR(IF(Q22=\"\",\"\",IF((VLOOKUP(AQ22,Herramientas!$H$3:$I$227,2,0))=Q22,1,0)),\"\")","v":""},{"$f":"IFERROR(IF(R22=\"\",\"\",IF((VLOOKUP(AR22,Herramientas!$H$3:$I$227,2,0))=R22,1,0)),\"\")","v":""},{"$f":"IFERROR(IF(S22=\"\",\"\",IF((VLOOKUP(AS22,Herramientas!$H$3:$I$227,2,0))=S22,1,0)),\"\")","v":""},{"$f":"IFERROR(IF(T22=\"\",\"\",IF((VLOOKUP(AT22,Herramientas!$H$3:$I$227,2,0))=T22,1,0)),\"\")","v":""},{"$f":"IFERROR(IF(U22=\"\",\"\",IF((VLOOKUP(AU22,Herramientas!$H$3:$I$227,2,0))=U22,1,0)),\"\")","v":""},{"$f":"IFERROR(IF(V22=\"\",\"\",IF((VLOOKUP(AV22,Herramientas!$H$3:$I$227,2,0))=V22,1,0)),\"\")","v":""},{"$f":"IFERROR(IF(W22=\"\",\"\",IF((VLOOKUP(AW22,Herramientas!$H$3:$I$227,2,0))=W22,1,0)),\"\")","v":""},{"$f":"IFERROR(IF(X22=\"\",\"\",IF((VLOOKUP(AX22,Herramientas!$H$3:$I$227,2,0))=X22,1,0)),\"\")","v":""},{"$f":"IFERROR(IF(Y22=\"\",\"\",IF((VLOOKUP(AY22,Herramientas!$H$3:$I$227,2,0))=Y22,1,0)),\"\")","v":""},{"$f":"IFERROR(IF(Z22=\"\",\"\",IF((VLOOKUP(AZ22,Herramientas!$H$3:$I$227,2,0))=Z22,1,0)),\"\")","v":""},{"$f":"IFERROR(IF(AA22=\"\",\"\",IF((VLOOKUP(BA22,Herramientas!$H$3:$I$227,2,0))=AA22,1,0)),\"\")","v":""},{"$f":"IFERROR(IF(AB22=\"\",\"\",IF((VLOOKUP(BB22,Herramientas!$H$3:$I$227,2,0))=AB22,1,0)),\"\")","v":""},null,0,0,null,"SUMIT16",{"$f":"SUM(BS$8:BS$57)","v":0},{"$f":"COUNTIF(BS$8:BS$57,0)","v":0},0,null,"it8",{"$f":"CT7","v":0},{"$f":"CT12","v":0},"",{"$f":"CT8","v":0},0,"",{"$f":"CT9","v":0},0,"",{"$f":"CT10","v":0},0,""]
[16,null,null,null,null,null,null,null,null,null,null,null,null,null,null,null,null,null,null,null,null,null,null,null,null,null,null,null,null,"9.°-1","9.°-2","9.°-3","9.°-4","9.°-5","9.°-6","9.°-7","9.°-8","9.°-9","9.°-10","9.°-11","9.°-12","9.°-13","9.°-14","9.°-15","9.°-16","9.°-17","9.°-18","9.°-19","9.°-20","9.°-21","9.°-22","9.°-23","9.°-24","9.°-25",null,{"$f":"IFERROR(IF(D23=\"\",\"\",IF((VLOOKUP(AD23,Herramientas!$H$3:$I$227,2,0))=D23,1,0)),\"\")","v":""},{"$f":"IFERROR(IF(E23=\"\",\"\",IF((VLOOKUP(AE23,Herramientas!$H$3:$I$227,2,0))=E23,1,0)),\"\")","v":""},{"$f":"IFERROR(IF(F23=\"\",\"\",IF((VLOOKUP(AF23,Herramientas!$H$3:$I$227,2,0))=F23,1,0)),\"\")","v":""},{"$f":"IFERROR(IF(G23=\"\",\"\",IF((VLOOKUP(AG23,Herramientas!$H$3:$I$227,2,0))=G23,1,0)),\"\")","v":""},{"$f":"IFERROR(IF(H23=\"\",\"\",IF((VLOOKUP(AH23,Herramientas!$H$3:$I$227,2,0))=H23,1,0)),\"\")","v":""},{"$f":"IFERROR(IF(I23=\"\",\"\",IF((VLOOKUP(AI23,Herramientas!$H$3:$I$227,2,0))=I23,1,0)),\"\")","v":""},{"$f":"IFERROR(IF(J23=\"\",\"\",IF((VLOOKUP(AJ23,Herramientas!$H$3:$I$227,2,0))=J23,1,0)),\"\")","v":""},{"$f":"IFERROR(IF(K23=\"\",\"\",IF((VLOOKUP(AK23,Herramientas!$H$3:$I$227,2,0))=K23,1,0)),\"\")","v":""},{"$f":"IFERROR(IF(L23=\"\",\"\",IF((VLOOKUP(AL23,Herramientas!$H$3:$I$227,2,0))=L23,1,0)),\"\")","v":""},{"$f":"IFERROR(IF(M23=\"\",\"\",IF((VLOOKUP(AM23,Herramientas!$H$3:$I$227,2,0))=M23,1,0)),\"\")","v":""},{"$f":"IFERROR(IF(N23=\"\",\"\",IF((VLOOKUP(AN23,Herramientas!$H$3:$I$227,2,0))=N23,1,0)),\"\")","v":""},{"$f":"IFERROR(IF(O23=\"\",\"\",IF((VLOOKUP(AO23,Herramientas!$H$3:$I$227,2,0))=O23,1,0)),\"\")","v":""},{"$f":"IFERROR(IF(P23=\"\",\"\",IF((VLOOKUP(AP23,Herramientas!$H$3:$I$227,2,0))=P23,1,0)),\"\")","v":""},{"$f":"IFERROR(IF(Q23=\"\",\"\",IF((VLOOKUP(AQ23,Herramientas!$H$3:$I$227,2,0))=Q23,1,0)),\"\")","v":""},{"$f":"IFERROR(IF(R23=\"\",\"\",IF((VLOOKUP(AR23,Herramientas!$H$3:$I$227,2,0))=R23,1,0)),\"\")","v":""},{"$f":"IFERROR(IF(S23=\"\",\"\",IF((VLOOKUP(AS23,Herramientas!$H$3:$I$227,2,0))=S23,1,0)),\"\")","v":""},{"$f":"IFERROR(IF(T23=\"\",\"\",IF((VLOOKUP(AT23,Herramientas!$H$3:$I$227,2,0))=T23,1,0)),\"\")","v":""},{"$f":"IFERROR(IF(U23=\"\",\"\",IF((VLOOKUP(AU23,Herramientas!$H$3:$I$227,2,0))=U23,1,0)),\"\")","v":""},{"$f":"IFERROR(IF(V23=\"\",\"\",IF((VLOOKUP(AV23,Herramientas!$H$3:$I$227,2,0))=V23,1,0)),\"\")","v":""},{"$f":"IFERROR(IF(W23=\"\",\"\",IF((VLOOKUP(AW23,Herramientas!$H$3:$I$227,2,0))=W23,1,0)),\"\")","v":""},{"$f":"IFERROR(IF(X23=\"\",\"\",IF((VLOOKUP(AX23,Herramientas!$H$3:$I$227,2,0))=X23,1,0)),\"\")","v":""},{"$f":"IFERROR(IF(Y23=\"\",\"\",IF((VLOOKUP(AY23,Herramientas!$H$3:$I$227,2,0))=Y23,1,0)),\"\")","v":""},{"$f":"IFERROR(IF(Z23=\"\",\"\",IF((VLOOKUP(AZ23,Herramientas!$H$3:$I$227,2,0))=Z23,1,0)),\"\")","v":""},{"$f":"IFERROR(IF(AA23=\"\",\"\",IF((VLOOKUP(BA23,Herramientas!$H$3:$I$227,2,0))=AA23,1,0)),\"\")","v":""},{"$f":"IFERROR(IF(AB23=\"\",\"\",IF((VLOOKUP(BB23,Herramientas!$H$3:$I$227,2,0))=AB23,1,0)),\"\")","v":""},null,0,0,null,"SUMIT17",{"$f":"SUM(BT$8:BT$57)","v":0},{"$f":"COUNTIF(BT$8:BT$57,0)","v":0},0,null,"it9",{"$f":"CU7","v":0},{"$f":"CU12","v":0},"",{"$f":"CU8","v":0},0,"",{"$f":"CU9","v":0},0,"",{"$f":"CU10","v":0},0,""]
[17,null,null,null,null,null,null,null,null,null,null,null,null,null,null,null,null,null,null,null,null,null,null,null,null,null,null,null,null,"9.°-1","9.°-2","9.°-3","9.°-4","9.°-5","9.°-6","9.°-7","9.°-8","9.°-9","9.°-10","9.°-11","9.°-12","9.°-13","9.°-14","9.°-15","9.°-16",{"$f":"CONCATENATE($B$2,\"-\",T$7)","v":"9.°-17"},"9.°-18","9.°-19","9.°-20","9.°-21","9.°-22","9.°-23","9.°-24","9.°-25",null,{"$f":"IFERROR(IF(D24=\"\",\"\",IF((VLOOKUP(AD24,Herramientas!$H$3:$I$227,2,0))=D24,1,0)),\"\")","v":""},{"$f":"IFERROR(IF(E24=\"\",\"\",IF((VLOOKUP(AE24,Herramientas!$H$3:$I$227,2,0))=E24,1,0)),\"\")","v":""},{"$f":"IFERROR(IF(F24=\"\",\"\",IF((VLOOKUP(AF24,Herramientas!$H$3:$I$227,2,0))=F24,1,0)),\"\")","v":""},{"$f":"IFERROR(IF(G24=\"\",\"\",IF((VLOOKUP(AG24,Herramientas!$H$3:$I$227,2,0))=G24,1,0)),\"\")","v":""},{"$f":"IFERROR(IF(H24=\"\",\"\",IF((VLOOKUP(AH24,Herramientas!$H$3:$I$227,2,0))=H24,1,0)),\"\")","v":""},{"$f":"IFERROR(IF(I24=\"\",\"\",IF((VLOOKUP(AI24,Herramientas!$H$3:$I$227,2,0))=I24,1,0)),\"\")","v":""},{"$f":"IFERROR(IF(J24=\"\",\"\",IF((VLOOKUP(AJ24,Herramientas!$H$3:$I$227,2,0))=J24,1,0)),\"\")","v":""},{"$f":"IFERROR(IF(K24=\"\",\"\",IF((VLOOKUP(AK24,Herramientas!$H$3:$I$227,2,0))=K24,1,0)),\"\")","v":""},{"$f":"IFERROR(IF(L24=\"\",\"\",IF((VLOOKUP(AL24,Herramientas!$H$3:$I$227,2,0))=L24,1,0)),\"\")","v":""},{"$f":"IFERROR(IF(M24=\"\",\"\",IF((VLOOKUP(AM24,Herramientas!$H$3:$I$227,2,0))=M24,1,0)),\"\")","v":""},{"$f":"IFERROR(IF(N24=\"\",\"\",IF((VLOOKUP(AN24,Herramientas!$H$3:$I$227,2,0))=N24,1,0)),\"\")","v":""},{"$f":"IFERROR(IF(O24=\"\",\"\",IF((VLOOKUP(AO24,Herramientas!$H$3:$I$227,2,0))=O24,1,0)),\"\")","v":""},{"$f":"IFERROR(IF(P24=\"\",\"\",IF((VLOOKUP(AP24,Herramientas!$H$3:$I$227,2,0))=P24,1,0)),\"\")","v":""},{"$f":"IFERROR(IF(Q24=\"\",\"\",IF((VLOOKUP(AQ24,Herramientas!$H$3:$I$227,2,0))=Q24,1,0)),\"\")","v":""},{"$f":"IFERROR(IF(R24=\"\",\"\",IF((VLOOKUP(AR24,Herramientas!$H$3:$I$227,2,0))=R24,1,0)),\"\")","v":""},{"$f":"IFERROR(IF(S24=\"\",\"\",IF((VLOOKUP(AS24,Herramientas!$H$3:$I$227,2,0))=S24,1,0)),\"\")","v":""},{"$f":"IFERROR(IF(T24=\"\",\"\",IF((VLOOKUP(AT24,Herramientas!$H$3:$I$227,2,0))=T24,1,0)),\"\")","v":""},{"$f":"IFERROR(IF(U24=\"\",\"\",IF((VLOOKUP(AU24,Herramientas!$H$3:$I$227,2,0))=U24,1,0)),\"\")","v":""},{"$f":"IFERROR(IF(V24=\"\",\"\",IF((VLOOKUP(AV24,Herramientas!$H$3:$I$227,2,0))=V24,1,0)),\"\")","v":""},{"$f":"IFERROR(IF(W24=\"\",\"\",IF((VLOOKUP(AW24,Herramientas!$H$3:$I$227,2,0))=W24,1,0)),\"\")","v":""},{"$f":"IFERROR(IF(X24=\"\",\"\",IF((VLOOKUP(AX24,Herramientas!$H$3:$I$227,2,0))=X24,1,0)),\"\")","v":""},{"$f":"IFERROR(IF(Y24=\"\",\"\",IF((VLOOKUP(AY24,Herramientas!$H$3:$I$227,2,0))=Y24,1,0)),\"\")","v":""},{"$f":"IFERROR(IF(Z24=\"\",\"\",IF((VLOOKUP(AZ24,Herramientas!$H$3:$I$227,2,0))=Z24,1,0)),\"\")","v":""},{"$f":"IFERROR(IF(AA24=\"\",\"\",IF((VLOOKUP(BA24,Herramientas!$H$3:$I$227,2,0))=AA24,1,0)),\"\")","v":""},{"$f":"IFERROR(IF(AB24=\"\",\"\",IF((VLOOKUP(BB24,Herramientas!$H$3:$I$227,2,0))=AB24,1,0)),\"\")","v":""},null,0,0,null,"SUMIT18",{"$f":"SUM(BU$8:BU$57)","v":0},{"$f":"COUNTIF(BU$8:BU$57,0)","v":0},0,null,"it10",{"$f":"CV7","v":0},{"$f":"CV12","v":0},"",{"$f":"CV8","v":0},0,"",{"$f":"CV9","v":0},0,"",{"$f":"CV10","v":0},0,""]
[18,null,null,null,null,null,null,null,null,null,null,null,null,null,null,null,null,null,null,null,null,null,null,null,null,null,null,null,null,"9.°-1","9.°-2","9.°-3","9.°-4","9.°-5","9.°-6","9.°-7","9.°-8","9.°-9","9.°-10","9.°-11","9.°-12","9.°-13","9.°-14","9.°-15","9.°-16","9.°-17","9.°-18","9.°-19","9.°-20","9.°-21","9.°-22","9.°-23","9.°-24","9.°-25",null,{"$f":"IFERROR(IF(D25=\"\",\"\",IF((VLOOKUP(AD25,Herramientas!$H$3:$I$227,2,0))=D25,1,0)),\"\")","v":""},{"$f":"IFERROR(IF(E25=\"\",\"\",IF((VLOOKUP(AE25,Herramientas!$H$3:$I$227,2,0))=E25,1,0)),\"\")","v":""},{"$f":"IFERROR(IF(F25=\"\",\"\",IF((VLOOKUP(AF25,Herramientas!$H$3:$I$227,2,0))=F25,1,0)),\"\")","v":""},{"$f":"IFERROR(IF(G25=\"\",\"\",IF((VLOOKUP(AG25,Herramientas!$H$3:$I$227,2,0))=G25,1,0)),\"\")","v":""},{"$f":"IFERROR(IF(H25=\"\",\"\",IF((VLOOKUP(AH25,Herramientas!$H$3:$I$227,2,0))=H25,1,0)),\"\")","v":""},{"$f":"IFERROR(IF(I25=\"\",\"\",IF((VLOOKUP(AI25,Herramientas!$H$3:$I$227,2,0))=I25,1,0)),\"\")","v":""},{"$f":"IFERROR(IF(J25=\"\",\"\",IF((VLOOKUP(AJ25,Herramientas!$H$3:$I$227,2,0))=J25,1,0)),\"\")","v":""},{"$f":"IFERROR(IF(K25=\"\",\"\",IF((VLOOKUP(AK25,Herramientas!$H$3:$I$227,2,0))=K25,1,0)),\"\")","v":""},{"$f":"IFERROR(IF(L25=\"\",\"\",IF((VLOOKUP(AL25,Herramientas!$H$3:$I$227,2,0))=L25,1,0)),\"\")","v":""},{"$f":"IFERROR(IF(M25=\"\",\"\",IF((VLOOKUP(AM25,Herramientas!$H$3:$I$227,2,0))=M25,1,0)),\"\")","v":""},{"$f":"IFERROR(IF(N25=\"\",\"\",IF((VLOOKUP(AN25,Herramientas!$H$3:$I$227,2,0))=N25,1,0)),\"\")","v":""},{"$f":"IFERROR(IF(O25=\"\",\"\",IF((VLOOKUP(AO25,Herramientas!$H$3:$I$227,2,0))=O25,1,0)),\"\")","v":""},{"$f":"IFERROR(IF(P25=\"\",\"\",IF((VLOOKUP(AP25,Herramientas!$H$3:$I$227,2,0))=P25,1,0)),\"\")","v":""},{"$f":"IFERROR(IF(Q25=\"\",\"\",IF((VLOOKUP(AQ25,Herramientas!$H$3:$I$227,2,0))=Q25,1,0)),\"\")","v":""},{"$f":"IFERROR(IF(R25=\"\",\"\",IF((VLOOKUP(AR25,Herramientas!$H$3:$I$227,2,0))=R25,1,0)),\"\")","v":""},{"$f":"IFERROR(IF(S25=\"\",\"\",IF((VLOOKUP(AS25,Herramientas!$H$3:$I$227,2,0))=S25,1,0)),\"\")","v":""},{"$f":"IFERROR(IF(T25=\"\",\"\",IF((VLOOKUP(AT25,Herramientas!$H$3:$I$227,2,0))=T25,1,0)),\"\")","v":""},{"$f":"IFERROR(IF(U25=\"\",\"\",IF((VLOOKUP(AU25,Herramientas!$H$3:$I$227,2,0))=U25,1,0)),\"\")","v":""},{"$f":"IFERROR(IF(V25=\"\",\"\",IF((VLOOKUP(AV25,Herramientas!$H$3:$I$227,2,0))=V25,1,0)),\"\")","v":""},{"$f":"IFERROR(IF(W25=\"\",\"\",IF((VLOOKUP(AW25,Herramientas!$H$3:$I$227,2,0))=W25,1,0)),\"\")","v":""},{"$f":"IFERROR(IF(X25=\"\",\"\",IF((VLOOKUP(AX25,Herramientas!$H$3:$I$227,2,0))=X25,1,0)),\"\")","v":""},{"$f":"IFERROR(IF(Y25=\"\",\"\",IF((VLOOKUP(AY25,Herramientas!$H$3:$I$227,2,0))=Y25,1,0)),\"\")","v":""},{"$f":"IFERROR(IF(Z25=\"\",\"\",IF((VLOOKUP(AZ25,Herramientas!$H$3:$I$227,2,0))=Z25,1,0)),\"\")","v":""},{"$f":"IFERROR(IF(AA25=\"\",\"\",IF((VLOOKUP(BA25,Herramientas!$H$3:$I$227,2,0))=AA25,1,0)),\"\")","v":""},{"$f":"IFERROR(IF(AB25=\"\",\"\",IF((VLOOKUP(BB25,Herramientas!$H$3:$I$227,2,0))=AB25,1,0)),\"\")","v":""},null,0,0,null,"SUMIT19",{"$f":"SUM(BV$8:BV$57)","v":0},{"$f":"COUNTIF(BV$8:BV$57,0)","v":0},0,null,"it11",{"$f":"CW7","v":0},{"$f":"CW12","v":0},"",{"$f":"CW8","v":0},0,"",{"$f":"CW9","v":0},0,"",{"$f":"CW10","v":0},0,""]
[19,null,null,null,null,null,null,null,null,null,null,null,null,null,null,null,null,null,null,null,null,null,null,null,null,null,null,null,null,"9.°-1","9.°-2","9.°-3","9.°-4","9.°-5","9.°-6","9.°-7","9.°-8","9.°-9","9.°-10","9.°-11","9.°-12","9.°-13","9.°-14","9.°-15","9.°-16","9.°-17","9.°-18","9.°-19","9.°-20","9.°-21","9.°-22","9.°-23","9.°-24","9.°-25",null,{"$f":"IFERROR(IF(D26=\"\",\"\",IF((VLOOKUP(AD26,Herramientas!$H$3:$I$227,2,0))=D26,1,0)),\"\")","v":""},{"$f":"IFERROR(IF(E26=\"\",\"\",IF((VLOOKUP(AE26,Herramientas!$H$3:$I$227,2,0))=E26,1,0)),\"\")","v":""},{"$f":"IFERROR(IF(F26=\"\",\"\",IF((VLOOKUP(AF26,Herramientas!$H$3:$I$227,2,0))=F26,1,0)),\"\")","v":""},{"$f":"IFERROR(IF(G26=\"\",\"\",IF((VLOOKUP(AG26,Herramientas!$H$3:$I$227,2,0))=G26,1,0)),\"\")","v":""},{"$f":"IFERROR(IF(H26=\"\",\"\",IF((VLOOKUP(AH26,Herramientas!$H$3:$I$227,2,0))=H26,1,0)),\"\")","v":""},{"$f":"IFERROR(IF(I26=\"\",\"\",IF((VLOOKUP(AI26,Herramientas!$H$3:$I$227,2,0))=I26,1,0)),\"\")","v":""},{"$f":"IFERROR(IF(J26=\"\",\"\",IF((VLOOKUP(AJ26,Herramientas!$H$3:$I$227,2,0))=J26,1,0)),\"\")","v":""},{"$f":"IFERROR(IF(K26=\"\",\"\",IF((VLOOKUP(AK26,Herramientas!$H$3:$I$227,2,0))=K26,1,0)),\"\")","v":""},{"$f":"IFERROR(IF(L26=\"\",\"\",IF((VLOOKUP(AL26,Herramientas!$H$3:$I$227,2,0))=L26,1,0)),\"\")","v":""},{"$f":"IFERROR(IF(M26=\"\",\"\",IF((VLOOKUP(AM26,Herramientas!$H$3:$I$227,2,0))=M26,1,0)),\"\")","v":""},{"$f":"IFERROR(IF(N26=\"\",\"\",IF((VLOOKUP(AN26,Herramientas!$H$3:$I$227,2,0))=N26,1,0)),\"\")","v":""},{"$f":"IFERROR(IF(O26=\"\",\"\",IF((VLOOKUP(AO26,Herramientas!$H$3:$I$227,2,0))=O26,1,0)),\"\")","v":""},{"$f":"IFERROR(IF(P26=\"\",\"\",IF((VLOOKUP(AP26,Herramientas!$H$3:$I$227,2,0))=P26,1,0)),\"\")","v":""},{"$f":"IFERROR(IF(Q26=\"\",\"\",IF((VLOOKUP(AQ26,Herramientas!$H$3:$I$227,2,0))=Q26,1,0)),\"\")","v":""},{"$f":"IFERROR(IF(R26=\"\",\"\",IF((VLOOKUP(AR26,Herramientas!$H$3:$I$227,2,0))=R26,1,0)),\"\")","v":""},{"$f":"IFERROR(IF(S26=\"\",\"\",IF((VLOOKUP(AS26,Herramientas!$H$3:$I$227,2,0))=S26,1,0)),\"\")","v":""},{"$f":"IFERROR(IF(T26=\"\",\"\",IF((VLOOKUP(AT26,Herramientas!$H$3:$I$227,2,0))=T26,1,0)),\"\")","v":""},{"$f":"IFERROR(IF(U26=\"\",\"\",IF((VLOOKUP(AU26,Herramientas!$H$3:$I$227,2,0))=U26,1,0)),\"\")","v":""},{"$f":"IFERROR(IF(V26=\"\",\"\",IF((VLOOKUP(AV26,Herramientas!$H$3:$I$227,2,0))=V26,1,0)),\"\")","v":""},{"$f":"IFERROR(IF(W26=\"\",\"\",IF((VLOOKUP(AW26,Herramientas!$H$3:$I$227,2,0))=W26,1,0)),\"\")","v":""},{"$f":"IFERROR(IF(X26=\"\",\"\",IF((VLOOKUP(AX26,Herramientas!$H$3:$I$227,2,0))=X26,1,0)),\"\")","v":""},{"$f":"IFERROR(IF(Y26=\"\",\"\",IF((VLOOKUP(AY26,Herramientas!$H$3:$I$227,2,0))=Y26,1,0)),\"\")","v":""},{"$f":"IFERROR(IF(Z26=\"\",\"\",IF((VLOOKUP(AZ26,Herramientas!$H$3:$I$227,2,0))=Z26,1,0)),\"\")","v":""},{"$f":"IFERROR(IF(AA26=\"\",\"\",IF((VLOOKUP(BA26,Herramientas!$H$3:$I$227,2,0))=AA26,1,0)),\"\")","v":""},{"$f":"IFERROR(IF(AB26=\"\",\"\",IF((VLOOKUP(BB26,Herramientas!$H$3:$I$227,2,0))=AB26,1,0)),\"\")","v":""},null,0,0,null,"SUMIT20",{"$f":"SUM(BW$8:BW$57)","v":0},{"$f":"COUNTIF(BW$8:BW$57,0)","v":0},0,null,"it12",{"$f":"CX7","v":0},{"$f":"CX12","v":0},"",{"$f":"CX8","v":0},0,"",{"$f":"CX9","v":0},0,"",{"$f":"CX10","v":0},0,""]
[20,null,null,null,null,null,null,null,null,null,null,null,null,null,null,null,null,null,null,null,null,null,null,null,null,null,null,null,null,{"$f":"CONCATENATE($B$2,\"-\",D$7)","v":"9.°-1"},"9.°-2","9.°-3","9.°-4","9.°-5","9.°-6","9.°-7","9.°-8","9.°-9","9.°-10","9.°-11","9.°-12","9.°-13","9.°-14","9.°-15","9.°-16","9.°-17","9.°-18","9.°-19","9.°-20","9.°-21","9.°-22","9.°-23","9.°-24","9.°-25",null,{"$f":"IFERROR(IF(D27=\"\",\"\",IF((VLOOKUP(AD27,Herramientas!$H$3:$I$227,2,0))=D27,1,0)),\"\")","v":""},{"$f":"IFERROR(IF(E27=\"\",\"\",IF((VLOOKUP(AE27,Herramientas!$H$3:$I$227,2,0))=E27,1,0)),\"\")","v":""},{"$f":"IFERROR(IF(F27=\"\",\"\",IF((VLOOKUP(AF27,Herramientas!$H$3:$I$227,2,0))=F27,1,0)),\"\")","v":""},{"$f":"IFERROR(IF(G27=\"\",\"\",IF((VLOOKUP(AG27,Herramientas!$H$3:$I$227,2,0))=G27,1,0)),\"\")","v":""},{"$f":"IFERROR(IF(H27=\"\",\"\",IF((VLOOKUP(AH27,Herramientas!$H$3:$I$227,2,0))=H27,1,0)),\"\")","v":""},{"$f":"IFERROR(IF(I27=\"\",\"\",IF((VLOOKUP(AI27,Herramientas!$H$3:$I$227,2,0))=I27,1,0)),\"\")","v":""},{"$f":"IFERROR(IF(J27=\"\",\"\",IF((VLOOKUP(AJ27,Herramientas!$H$3:$I$227,2,0))=J27,1,0)),\"\")","v":""},{"$f":"IFERROR(IF(K27=\"\",\"\",IF((VLOOKUP(AK27,Herramientas!$H$3:$I$227,2,0))=K27,1,0)),\"\")","v":""},{"$f":"IFERROR(IF(L27=\"\",\"\",IF((VLOOKUP(AL27,Herramientas!$H$3:$I$227,2,0))=L27,1,0)),\"\")","v":""},{"$f":"IFERROR(IF(M27=\"\",\"\",IF((VLOOKUP(AM27,Herramientas!$H$3:$I$227,2,0))=M27,1,0)),\"\")","v":""},{"$f":"IFERROR(IF(N27=\"\",\"\",IF((VLOOKUP(AN27,Herramientas!$H$3:$I$227,2,0))=N27,1,0)),\"\")","v":""},{"$f":"IFERROR(IF(O27=\"\",\"\",IF((VLOOKUP(AO27,Herramientas!$H$3:$I$227,2,0))=O27,1,0)),\"\")","v":""},{"$f":"IFERROR(IF(P27=\"\",\"\",IF((VLOOKUP(AP27,Herramientas!$H$3:$I$227,2,0))=P27,1,0)),\"\")","v":""},{"$f":"IFERROR(IF(Q27=\"\",\"\",IF((VLOOKUP(AQ27,Herramientas!$H$3:$I$227,2,0))=Q27,1,0)),\"\")","v":""},{"$f":"IFERROR(IF(R27=\"\",\"\",IF((VLOOKUP(AR27,Herramientas!$H$3:$I$227,2,0))=R27,1,0)),\"\")","v":""},{"$f":"IFERROR(IF(S27=\"\",\"\",IF((VLOOKUP(AS27,Herramientas!$H$3:$I$227,2,0))=S27,1,0)),\"\")","v":""},{"$f":"IFERROR(IF(T27=\"\",\"\",IF((VLOOKUP(AT27,Herramientas!$H$3:$I$227,2,0))=T27,1,0)),\"\")","v":""},{"$f":"IFERROR(IF(U27=\"\",\"\",IF((VLOOKUP(AU27,Herramientas!$H$3:$I$227,2,0))=U27,1,0)),\"\")","v":""},{"$f":"IFERROR(IF(V27=\"\",\"\",IF((VLOOKUP(AV27,Herramientas!$H$3:$I$227,2,0))=V27,1,0)),\"\")","v":""},{"$f":"IFERROR(IF(W27=\"\",\"\",IF((VLOOKUP(AW27,Herramientas!$H$3:$I$227,2,0))=W27,1,0)),\"\")","v":""},{"$f":"IFERROR(IF(X27=\"\",\"\",IF((VLOOKUP(AX27,Herramientas!$H$3:$I$227,2,0))=X27,1,0)),\"\")","v":""},{"$f":"IFERROR(IF(Y27=\"\",\"\",IF((VLOOKUP(AY27,Herramientas!$H$3:$I$227,2,0))=Y27,1,0)),\"\")","v":""},{"$f":"IFERROR(IF(Z27=\"\",\"\",IF((VLOOKUP(AZ27,Herramientas!$H$3:$I$227,2,0))=Z27,1,0)),\"\")","v":""},{"$f":"IFERROR(IF(AA27=\"\",\"\",IF((VLOOKUP(BA27,Herramientas!$H$3:$I$227,2,0))=AA27,1,0)),\"\")","v":""},{"$f":"IFERROR(IF(AB27=\"\",\"\",IF((VLOOKUP(BB27,Herramientas!$H$3:$I$227,2,0))=AB27,1,0)),\"\")","v":""},null,0,0,null,"SUMIT21",{"$f":"SUM(BX$8:BX$57)","v":0},{"$f":"COUNTIF(BX$8:BX$57,0)","v":0},0,null,"it13",{"$f":"CY7","v":0},{"$f":"CY12","v":0},"",{"$f":"CY8","v":0},0,"",{"$f":"CY9","v":0},0,"",{"$f":"CY10","v":0},0,""]
[21,null,null,null,null,null,null,null,null,null,null,null,null,null,null,null,null,null,null,null,null,null,null,null,null,null,null,null,null,"9.°-1","9.°-2","9.°-3","9.°-4","9.°-5","9.°-6","9.°-7","9.°-8","9.°-9","9.°-10","9.°-11","9.°-12","9.°-13","9.°-14","9.°-15","9.°-16","9.°-17","9.°-18","9.°-19","9.°-20","9.°-21","9.°-22","9.°-23","9.°-24","9.°-25",null,{"$f":"IFERROR(IF(D28=\"\",\"\",IF((VLOOKUP(AD28,Herramientas!$H$3:$I$227,2,0))=D28,1,0)),\"\")","v":""},{"$f":"IFERROR(IF(E28=\"\",\"\",IF((VLOOKUP(AE28,Herramientas!$H$3:$I$227,2,0))=E28,1,0)),\"\")","v":""},{"$f":"IFERROR(IF(F28=\"\",\"\",IF((VLOOKUP(AF28,Herramientas!$H$3:$I$227,2,0))=F28,1,0)),\"\")","v":""},{"$f":"IFERROR(IF(G28=\"\",\"\",IF((VLOOKUP(AG28,Herramientas!$H$3:$I$227,2,0))=G28,1,0)),\"\")","v":""},{"$f":"IFERROR(IF(H28=\"\",\"\",IF((VLOOKUP(AH28,Herramientas!$H$3:$I$227,2,0))=H28,1,0)),\"\")","v":""},{"$f":"IFERROR(IF(I28=\"\",\"\",IF((VLOOKUP(AI28,Herramientas!$H$3:$I$227,2,0))=I28,1,0)),\"\")","v":""},{"$f":"IFERROR(IF(J28=\"\",\"\",IF((VLOOKUP(AJ28,Herramientas!$H$3:$I$227,2,0))=J28,1,0)),\"\")","v":""},{"$f":"IFERROR(IF(K28=\"\",\"\",IF((VLOOKUP(AK28,Herramientas!$H$3:$I$227,2,0))=K28,1,0)),\"\")","v":""},{"$f":"IFERROR(IF(L28=\"\",\"\",IF((VLOOKUP(AL28,Herramientas!$H$3:$I$227,2,0))=L28,1,0)),\"\")","v":""},{"$f":"IFERROR(IF(M28=\"\",\"\",IF((VLOOKUP(AM28,Herramientas!$H$3:$I$227,2,0))=M28,1,0)),\"\")","v":""},{"$f":"IFERROR(IF(N28=\"\",\"\",IF((VLOOKUP(AN28,Herramientas!$H$3:$I$227,2,0))=N28,1,0)),\"\")","v":""},{"$f":"IFERROR(IF(O28=\"\",\"\",IF((VLOOKUP(AO28,Herramientas!$H$3:$I$227,2,0))=O28,1,0)),\"\")","v":""},{"$f":"IFERROR(IF(P28=\"\",\"\",IF((VLOOKUP(AP28,Herramientas!$H$3:$I$227,2,0))=P28,1,0)),\"\")","v":""},{"$f":"IFERROR(IF(Q28=\"\",\"\",IF((VLOOKUP(AQ28,Herramientas!$H$3:$I$227,2,0))=Q28,1,0)),\"\")","v":""},{"$f":"IFERROR(IF(R28=\"\",\"\",IF((VLOOKUP(AR28,Herramientas!$H$3:$I$227,2,0))=R28,1,0)),\"\")","v":""},{"$f":"IFERROR(IF(S28=\"\",\"\",IF((VLOOKUP(AS28,Herramientas!$H$3:$I$227,2,0))=S28,1,0)),\"\")","v":""},{"$f":"IFERROR(IF(T28=\"\",\"\",IF((VLOOKUP(AT28,Herramientas!$H$3:$I$227,2,0))=T28,1,0)),\"\")","v":""},{"$f":"IFERROR(IF(U28=\"\",\"\",IF((VLOOKUP(AU28,Herramientas!$H$3:$I$227,2,0))=U28,1,0)),\"\")","v":""},{"$f":"IFERROR(IF(V28=\"\",\"\",IF((VLOOKUP(AV28,Herramientas!$H$3:$I$227,2,0))=V28,1,0)),\"\")","v":""},{"$f":"IFERROR(IF(W28=\"\",\"\",IF((VLOOKUP(AW28,Herramientas!$H$3:$I$227,2,0))=W28,1,0)),\"\")","v":""},{"$f":"IFERROR(IF(X28=\"\",\"\",IF((VLOOKUP(AX28,Herramientas!$H$3:$I$227,2,0))=X28,1,0)),\"\")","v":""},{"$f":"IFERROR(IF(Y28=\"\",\"\",IF((VLOOKUP(AY28,Herramientas!$H$3:$I$227,2,0))=Y28,1,0)),\"\")","v":""},{"$f":"IFERROR(IF(Z28=\"\",\"\",IF((VLOOKUP(AZ28,Herramientas!$H$3:$I$227,2,0))=Z28,1,0)),\"\")","v":""},{"$f":"IFERROR(IF(AA28=\"\",\"\",IF((VLOOKUP(BA28,Herramientas!$H$3:$I$227,2,0))=AA28,1,0)),\"\")","v":""},{"$f":"IFERROR(IF(AB28=\"\",\"\",IF((VLOOKUP(BB28,Herramientas!$H$3:$I$227,2,0))=AB28,1,0)),\"\")","v":""},null,0,0,null,"SUMIT22",{"$f":"SUM(BY$8:BY$57)","v":0},{"$f":"COUNTIF(BY$8:BY$57,0)","v":0},0,null,"it14",{"$f":"CZ7","v":0},{"$f":"CZ12","v":0},"",{"$f":"CZ8","v":0},0,"",{"$f":"CZ9","v":0},0,"",{"$f":"CZ10","v":0},0,""]
[22,null,null,null,null,null,null,null,null,null,null,null,null,null,null,null,null,null,null,null,null,null,null,null,null,null,null,null,null,"9.°-1","9.°-2","9.°-3","9.°-4","9.°-5","9.°-6","9.°-7","9.°-8","9.°-9","9.°-10","9.°-11","9.°-12","9.°-13","9.°-14","9.°-15","9.°-16","9.°-17","9.°-18","9.°-19","9.°-20","9.°-21","9.°-22","9.°-23","9.°-24","9.°-25",null,{"$f":"IFERROR(IF(D29=\"\",\"\",IF((VLOOKUP(AD29,Herramientas!$H$3:$I$227,2,0))=D29,1,0)),\"\")","v":""},{"$f":"IFERROR(IF(E29=\"\",\"\",IF((VLOOKUP(AE29,Herramientas!$H$3:$I$227,2,0))=E29,1,0)),\"\")","v":""},{"$f":"IFERROR(IF(F29=\"\",\"\",IF((VLOOKUP(AF29,Herramientas!$H$3:$I$227,2,0))=F29,1,0)),\"\")","v":""},{"$f":"IFERROR(IF(G29=\"\",\"\",IF((VLOOKUP(AG29,Herramientas!$H$3:$I$227,2,0))=G29,1,0)),\"\")","v":""},{"$f":"IFERROR(IF(H29=\"\",\"\",IF((VLOOKUP(AH29,Herramientas!$H$3:$I$227,2,0))=H29,1,0)),\"\")","v":""},{"$f":"IFERROR(IF(I29=\"\",\"\",IF((VLOOKUP(AI29,Herramientas!$H$3:$I$227,2,0))=I29,1,0)),\"\")","v":""},{"$f":"IFERROR(IF(J29=\"\",\"\",IF((VLOOKUP(AJ29,Herramientas!$H$3:$I$227,2,0))=J29,1,0)),\"\")","v":""},{"$f":"IFERROR(IF(K29=\"\",\"\",IF((VLOOKUP(AK29,Herramientas!$H$3:$I$227,2,0))=K29,1,0)),\"\")","v":""},{"$f":"IFERROR(IF(L29=\"\",\"\",IF((VLOOKUP(AL29,Herramientas!$H$3:$I$227,2,0))=L29,1,0)),\"\")","v":""},{"$f":"IFERROR(IF(M29=\"\",\"\",IF((VLOOKUP(AM29,Herramientas!$H$3:$I$227,2,0))=M29,1,0)),\"\")","v":""},{"$f":"IFERROR(IF(N29=\"\",\"\",IF((VLOOKUP(AN29,Herramientas!$H$3:$I$227,2,0))=N29,1,0)),\"\")","v":""},{"$f":"IFERROR(IF(O29=\"\",\"\",IF((VLOOKUP(AO29,Herramientas!$H$3:$I$227,2,0))=O29,1,0)),\"\")","v":""},{"$f":"IFERROR(IF(P29=\"\",\"\",IF((VLOOKUP(AP29,Herramientas!$H$3:$I$227,2,0))=P29,1,0)),\"\")","v":""},{"$f":"IFERROR(IF(Q29=\"\",\"\",IF((VLOOKUP(AQ29,Herramientas!$H$3:$I$227,2,0))=Q29,1,0)),\"\")","v":""},{"$f":"IFERROR(IF(R29=\"\",\"\",IF((VLOOKUP(AR29,Herramientas!$H$3:$I$227,2,0))=R29,1,0)),\"\")","v":""},{"$f":"IFERROR(IF(S29=\"\",\"\",IF((VLOOKUP(AS29,Herramientas!$H$3:$I$227,2,0))=S29,1,0)),\"\")","v":""},{"$f":"IFERROR(IF(T29=\"\",\"\",IF((VLOOKUP(AT29,Herramientas!$H$3:$I$227,2,0))=T29,1,0)),\"\")","v":""},{"$f":"IFERROR(IF(U29=\"\",\"\",IF((VLOOKUP(AU29,Herramientas!$H$3:$I$227,2,0))=U29,1,0)),\"\")","v":""},{"$f":"IFERROR(IF(V29=\"\",\"\",IF((VLOOKUP(AV29,Herramientas!$H$3:$I$227,2,0))=V29,1,0)),\"\")","v":""},{"$f":"IFERROR(IF(W29=\"\",\"\",IF((VLOOKUP(AW29,Herramientas!$H$3:$I$227,2,0))=W29,1,0)),\"\")","v":""},{"$f":"IFERROR(IF(X29=\"\",\"\",IF((VLOOKUP(AX29,Herramientas!$H$3:$I$227,2,0))=X29,1,0)),\"\")","v":""},{"$f":"IFERROR(IF(Y29=\"\",\"\",IF((VLOOKUP(AY29,Herramientas!$H$3:$I$227,2,0))=Y29,1,0)),\"\")","v":""},{"$f":"IFERROR(IF(Z29=\"\",\"\",IF((VLOOKUP(AZ29,Herramientas!$H$3:$I$227,2,0))=Z29,1,0)),\"\")","v":""},{"$f":"IFERROR(IF(AA29=\"\",\"\",IF((VLOOKUP(BA29,Herramientas!$H$3:$I$227,2,0))=AA29,1,0)),\"\")","v":""},{"$f":"IFERROR(IF(AB29=\"\",\"\",IF((VLOOKUP(BB29,Herramientas!$H$3:$I$227,2,0))=AB29,1,0)),\"\")","v":""},null,0,0,null,"SUMIT23",{"$f":"SUM(BZ$8:BZ$57)","v":0},{"$f":"COUNTIF(BZ$8:BZ$57,0)","v":0},0,null,"it15",{"$f":"DA7","v":0},{"$f":"DA12","v":0},"",{"$f":"DA8","v":0},0,"",{"$f":"DA9","v":0},0,"",{"$f":"DA10","v":0},0,""]
[23,null,null,null,null,null,null,null,null,null,null,null,null,null,null,null,null,null,null,null,null,null,null,null,null,null,null,null,null,"9.°-1","9.°-2","9.°-3","9.°-4","9.°-5","9.°-6","9.°-7","9.°-8","9.°-9","9.°-10","9.°-11","9.°-12","9.°-13","9.°-14","9.°-15","9.°-16","9.°-17","9.°-18","9.°-19","9.°-20","9.°-21","9.°-22","9.°-23","9.°-24","9.°-25",null,{"$f":"IFERROR(IF(D30=\"\",\"\",IF((VLOOKUP(AD30,Herramientas!$H$3:$I$227,2,0))=D30,1,0)),\"\")","v":""},{"$f":"IFERROR(IF(E30=\"\",\"\",IF((VLOOKUP(AE30,Herramientas!$H$3:$I$227,2,0))=E30,1,0)),\"\")","v":""},{"$f":"IFERROR(IF(F30=\"\",\"\",IF((VLOOKUP(AF30,Herramientas!$H$3:$I$227,2,0))=F30,1,0)),\"\")","v":""},{"$f":"IFERROR(IF(G30=\"\",\"\",IF((VLOOKUP(AG30,Herramientas!$H$3:$I$227,2,0))=G30,1,0)),\"\")","v":""},{"$f":"IFERROR(IF(H30=\"\",\"\",IF((VLOOKUP(AH30,Herramientas!$H$3:$I$227,2,0))=H30,1,0)),\"\")","v":""},{"$f":"IFERROR(IF(I30=\"\",\"\",IF((VLOOKUP(AI30,Herramientas!$H$3:$I$227,2,0))=I30,1,0)),\"\")","v":""},{"$f":"IFERROR(IF(J30=\"\",\"\",IF((VLOOKUP(AJ30,Herramientas!$H$3:$I$227,2,0))=J30,1,0)),\"\")","v":""},{"$f":"IFERROR(IF(K30=\"\",\"\",IF((VLOOKUP(AK30,Herramientas!$H$3:$I$227,2,0))=K30,1,0)),\"\")","v":""},{"$f":"IFERROR(IF(L30=\"\",\"\",IF((VLOOKUP(AL30,Herramientas!$H$3:$I$227,2,0))=L30,1,0)),\"\")","v":""},{"$f":"IFERROR(IF(M30=\"\",\"\",IF((VLOOKUP(AM30,Herramientas!$H$3:$I$227,2,0))=M30,1,0)),\"\")","v":""},{"$f":"IFERROR(IF(N30=\"\",\"\",IF((VLOOKUP(AN30,Herramientas!$H$3:$I$227,2,0))=N30,1,0)),\"\")","v":""},{"$f":"IFERROR(IF(O30=\"\",\"\",IF((VLOOKUP(AO30,Herramientas!$H$3:$I$227,2,0))=O30,1,0)),\"\")","v":""},{"$f":"IFERROR(IF(P30=\"\",\"\",IF((VLOOKUP(AP30,Herramientas!$H$3:$I$227,2,0))=P30,1,0)),\"\")","v":""},{"$f":"IFERROR(IF(Q30=\"\",\"\",IF((VLOOKUP(AQ30,Herramientas!$H$3:$I$227,2,0))=Q30,1,0)),\"\")","v":""},{"$f":"IFERROR(IF(R30=\"\",\"\",IF((VLOOKUP(AR30,Herramientas!$H$3:$I$227,2,0))=R30,1,0)),\"\")","v":""},{"$f":"IFERROR(IF(S30=\"\",\"\",IF((VLOOKUP(AS30,Herramientas!$H$3:$I$227,2,0))=S30,1,0)),\"\")","v":""},{"$f":"IFERROR(IF(T30=\"\",\"\",IF((VLOOKUP(AT30,Herramientas!$H$3:$I$227,2,0))=T30,1,0)),\"\")","v":""},{"$f":"IFERROR(IF(U30=\"\",\"\",IF((VLOOKUP(AU30,Herramientas!$H$3:$I$227,2,0))=U30,1,0)),\"\")","v":""},{"$f":"IFERROR(IF(V30=\"\",\"\",IF((VLOOKUP(AV30,Herramientas!$H$3:$I$227,2,0))=V30,1,0)),\"\")","v":""},{"$f":"IFERROR(IF(W30=\"\",\"\",IF((VLOOKUP(AW30,Herramientas!$H$3:$I$227,2,0))=W30,1,0)),\"\")","v":""},{"$f":"IFERROR(IF(X30=\"\",\"\",IF((VLOOKUP(AX30,Herramientas!$H$3:$I$227,2,0))=X30,1,0)),\"\")","v":""},{"$f":"IFERROR(IF(Y30=\"\",\"\",IF((VLOOKUP(AY30,Herramientas!$H$3:$I$227,2,0))=Y30,1,0)),\"\")","v":""},{"$f":"IFERROR(IF(Z30=\"\",\"\",IF((VLOOKUP(AZ30,Herramientas!$H$3:$I$227,2,0))=Z30,1,0)),\"\")","v":""},{"$f":"IFERROR(IF(AA30=\"\",\"\",IF((VLOOKUP(BA30,Herramientas!$H$3:$I$227,2,0))=AA30,1,0)),\"\")","v":""},{"$f":"IFERROR(IF(AB30=\"\",\"\",IF((VLOOKUP(BB30,Herramientas!$H$3:$I$227,2,0))=AB30,1,0)),\"\")","v":""},null,0,0,null,"SUMIT24",{"$f":"SUM(CA$8:CA$57)","v":0},{"$f":"COUNTIF(CA$8:CA$57,0)","v":0},0,null,"it16",{"$f":"DB7","v":0},{"$f":"DB12","v":0},"",{"$f":"DB8","v":0},0,"",{"$f":"DB9","v":0},0,"",{"$f":"DB10","v":0},0,""]
[24,null,null,null,null,null,null,null,null,null,null,null,null,null,null,null,null,null,null,null,null,null,null,null,null,null,null,null,null,"9.°-1","9.°-2","9.°-3","9.°-4","9.°-5","9.°-6","9.°-7","9.°-8","9.°-9","9.°-10","9.°-11","9.°-12","9.°-13","9.°-14","9.°-15","9.°-16","9.°-17","9.°-18","9.°-19","9.°-20","9.°-21","9.°-22","9.°-23","9.°-24","9.°-25",null,{"$f":"IFERROR(IF(D31=\"\",\"\",IF((VLOOKUP(AD31,Herramientas!$H$3:$I$227,2,0))=D31,1,0)),\"\")","v":""},{"$f":"IFERROR(IF(E31=\"\",\"\",IF((VLOOKUP(AE31,Herramientas!$H$3:$I$227,2,0))=E31,1,0)),\"\")","v":""},{"$f":"IFERROR(IF(F31=\"\",\"\",IF((VLOOKUP(AF31,Herramientas!$H$3:$I$227,2,0))=F31,1,0)),\"\")","v":""},{"$f":"IFERROR(IF(G31=\"\",\"\",IF((VLOOKUP(AG31,Herramientas!$H$3:$I$227,2,0))=G31,1,0)),\"\")","v":""},{"$f":"IFERROR(IF(H31=\"\",\"\",IF((VLOOKUP(AH31,Herramientas!$H$3:$I$227,2,0))=H31,1,0)),\"\")","v":""},{"$f":"IFERROR(IF(I31=\"\",\"\",IF((VLOOKUP(AI31,Herramientas!$H$3:$I$227,2,0))=I31,1,0)),\"\")","v":""},{"$f":"IFERROR(IF(J31=\"\",\"\",IF((VLOOKUP(AJ31,Herramientas!$H$3:$I$227,2,0))=J31,1,0)),\"\")","v":""},{"$f":"IFERROR(IF(K31=\"\",\"\",IF((VLOOKUP(AK31,Herramientas!$H$3:$I$227,2,0))=K31,1,0)),\"\")","v":""},{"$f":"IFERROR(IF(L31=\"\",\"\",IF((VLOOKUP(AL31,Herramientas!$H$3:$I$227,2,0))=L31,1,0)),\"\")","v":""},{"$f":"IFERROR(IF(M31=\"\",\"\",IF((VLOOKUP(AM31,Herramientas!$H$3:$I$227,2,0))=M31,1,0)),\"\")","v":""},{"$f":"IFERROR(IF(N31=\"\",\"\",IF((VLOOKUP(AN31,Herramientas!$H$3:$I$227,2,0))=N31,1,0)),\"\")","v":""},{"$f":"IFERROR(IF(O31=\"\",\"\",IF((VLOOKUP(AO31,Herramientas!$H$3:$I$227,2,0))=O31,1,0)),\"\")","v":""},{"$f":"IFERROR(IF(P31=\"\",\"\",IF((VLOOKUP(AP31,Herramientas!$H$3:$I$227,2,0))=P31,1,0)),\"\")","v":""},{"$f":"IFERROR(IF(Q31=\"\",\"\",IF((VLOOKUP(AQ31,Herramientas!$H$3:$I$227,2,0))=Q31,1,0)),\"\")","v":""},{"$f":"IFERROR(IF(R31=\"\",\"\",IF((VLOOKUP(AR31,Herramientas!$H$3:$I$227,2,0))=R31,1,0)),\"\")","v":""},{"$f":"IFERROR(IF(S31=\"\",\"\",IF((VLOOKUP(AS31,Herramientas!$H$3:$I$227,2,0))=S31,1,0)),\"\")","v":""},{"$f":"IFERROR(IF(T31=\"\",\"\",IF((VLOOKUP(AT31,Herramientas!$H$3:$I$227,2,0))=T31,1,0)),\"\")","v":""},{"$f":"IFERROR(IF(U31=\"\",\"\",IF((VLOOKUP(AU31,Herramientas!$H$3:$I$227,2,0))=U31,1,0)),\"\")","v":""},{"$f":"IFERROR(IF(V31=\"\",\"\",IF((VLOOKUP(AV31,Herramientas!$H$3:$I$227,2,0))=V31,1,0)),\"\")","v":""},{"$f":"IFERROR(IF(W31=\"\",\"\",IF((VLOOKUP(AW31,Herramientas!$H$3:$I$227,2,0))=W31,1,0)),\"\")","v":""},{"$f":"IFERROR(IF(X31=\"\",\"\",IF((VLOOKUP(AX31,Herramientas!$H$3:$I$227,2,0))=X31,1,0)),\"\")","v":""},{"$f":"IFERROR(IF(Y31=\"\",\"\",IF((VLOOKUP(AY31,Herramientas!$H$3:$I$227,2,0))=Y31,1,0)),\"\")","v":""},{"$f":"IFERROR(IF(Z31=\"\",\"\",IF((VLOOKUP(AZ31,Herramientas!$H$3:$I$227,2,0))=Z31,1,0)),\"\")","v":""},{"$f":"IFERROR(IF(AA31=\"\",\"\",IF((VLOOKUP(BA31,Herramientas!$H$3:$I$227,2,0))=AA31,1,0)),\"\")","v":""},{"$f":"IFERROR(IF(AB31=\"\",\"\",IF((VLOOKUP(BB31,Herramientas!$H$3:$I$227,2,0))=AB31,1,0)),\"\")","v":""},null,0,0,null,"SUMIT25",{"$f":"SUM(CB$8:CB$57)","v":0},{"$f":"COUNTIF(CB$8:CB$57,0)","v":0},0,null,"it17",{"$f":"DC7","v":0},{"$f":"DC12","v":0},"",{"$f":"DC8","v":0},0,"",{"$f":"DC9","v":0},0,"",{"$f":"DC10","v":0},0,""]
[25,null,null,null,null,null,null,null,null,null,null,null,null,null,null,null,null,null,null,null,null,null,null,null,null,null,null,null,null,"9.°-1","9.°-2","9.°-3","9.°-4","9.°-5","9.°-6","9.°-7","9.°-8","9.°-9","9.°-10","9.°-11","9.°-12","9.°-13","9.°-14","9.°-15","9.°-16","9.°-17","9.°-18","9.°-19","9.°-20","9.°-21","9.°-22","9.°-23","9.°-24","9.°-25",null,{"$f":"IFERROR(IF(D32=\"\",\"\",IF((VLOOKUP(AD32,Herramientas!$H$3:$I$227,2,0))=D32,1,0)),\"\")","v":""},{"$f":"IFERROR(IF(E32=\"\",\"\",IF((VLOOKUP(AE32,Herramientas!$H$3:$I$227,2,0))=E32,1,0)),\"\")","v":""},{"$f":"IFERROR(IF(F32=\"\",\"\",IF((VLOOKUP(AF32,Herramientas!$H$3:$I$227,2,0))=F32,1,0)),\"\")","v":""},{"$f":"IFERROR(IF(G32=\"\",\"\",IF((VLOOKUP(AG32,Herramientas!$H$3:$I$227,2,0))=G32,1,0)),\"\")","v":""},{"$f":"IFERROR(IF(H32=\"\",\"\",IF((VLOOKUP(AH32,Herramientas!$H$3:$I$227,2,0))=H32,1,0)),\"\")","v":""},{"$f":"IFERROR(IF(I32=\"\",\"\",IF((VLOOKUP(AI32,Herramientas!$H$3:$I$227,2,0))=I32,1,0)),\"\")","v":""},{"$f":"IFERROR(IF(J32=\"\",\"\",IF((VLOOKUP(AJ32,Herramientas!$H$3:$I$227,2,0))=J32,1,0)),\"\")","v":""},{"$f":"IFERROR(IF(K32=\"\",\"\",IF((VLOOKUP(AK32,Herramientas!$H$3:$I$227,2,0))=K32,1,0)),\"\")","v":""},{"$f":"IFERROR(IF(L32=\"\",\"\",IF((VLOOKUP(AL32,Herramientas!$H$3:$I$227,2,0))=L32,1,0)),\"\")","v":""},{"$f":"IFERROR(IF(M32=\"\",\"\",IF((VLOOKUP(AM32,Herramientas!$H$3:$I$227,2,0))=M32,1,0)),\"\")","v":""},{"$f":"IFERROR(IF(N32=\"\",\"\",IF((VLOOKUP(AN32,Herramientas!$H$3:$I$227,2,0))=N32,1,0)),\"\")","v":""},{"$f":"IFERROR(IF(O32=\"\",\"\",IF((VLOOKUP(AO32,Herramientas!$H$3:$I$227,2,0))=O32,1,0)),\"\")","v":""},{"$f":"IFERROR(IF(P32=\"\",\"\",IF((VLOOKUP(AP32,Herramientas!$H$3:$I$227,2,0))=P32,1,0)),\"\")","v":""},{"$f":"IFERROR(IF(Q32=\"\",\"\",IF((VLOOKUP(AQ32,Herramientas!$H$3:$I$227,2,0))=Q32,1,0)),\"\")","v":""},{"$f":"IFERROR(IF(R32=\"\",\"\",IF((VLOOKUP(AR32,Herramientas!$H$3:$I$227,2,0))=R32,1,0)),\"\")","v":""},{"$f":"IFERROR(IF(S32=\"\",\"\",IF((VLOOKUP(AS32,Herramientas!$H$3:$I$227,2,0))=S32,1,0)),\"\")","v":""},{"$f":"IFERROR(IF(T32=\"\",\"\",IF((VLOOKUP(AT32,Herramientas!$H$3:$I$227,2,0))=T32,1,0)),\"\")","v":""},{"$f":"IFERROR(IF(U32=\"\",\"\",IF((VLOOKUP(AU32,Herramientas!$H$3:$I$227,2,0))=U32,1,0)),\"\")","v":""},{"$f":"IFERROR(IF(V32=\"\",\"\",IF((VLOOKUP(AV32,Herramientas!$H$3:$I$227,2,0))=V32,1,0)),\"\")","v":""},{"$f":"IFERROR(IF(W32=\"\",\"\",IF((VLOOKUP(AW32,Herramientas!$H$3:$I$227,2,0))=W32,1,0)),\"\")","v":""},{"$f":"IFERROR(IF(X32=\"\",\"\",IF((VLOOKUP(AX32,Herramientas!$H$3:$I$227,2,0))=X32,1,0)),\"\")","v":""},{"$f":"IFERROR(IF(Y32=\"\",\"\",IF((VLOOKUP(AY32,Herramientas!$H$3:$I$227,2,0))=Y32,1,0)),\"\")","v":""},{"$f":"IFERROR(IF(Z32=\"\",\"\",IF((VLOOKUP(AZ32,Herramientas!$H$3:$I$227,2,0))=Z32,1,0)),\"\")","v":""},{"$f":"IFERROR(IF(AA32=\"\",\"\",IF((VLOOKUP(BA32,Herramientas!$H$3:$I$227,2,0))=AA32,1,0)),\"\")","v":""},{"$f":"IFERROR(IF(AB32=\"\",\"\",IF((VLOOKUP(BB32,Herramientas!$H$3:$I$227,2,0))=AB32,1,0)),\"\")","v":""},null,0,0,null,null,null,null,null,null,"it18",{"$f":"DD7","v":0},{"$f":"DD12","v":0},"",{"$f":"DD8","v":0},0,"",{"$f":"DD9","v":0},0,"",{"$f":"DD10","v":0},0,""]
[26,null,null,null,null,null,null,null,null,null,null,null,null,null,null,null,null,null,null,null,null,null,null,null,null,null,null,null,null,"9.°-1","9.°-2","9.°-3","9.°-4","9.°-5","9.°-6","9.°-7","9.°-8","9.°-9","9.°-10","9.°-11","9.°-12","9.°-13","9.°-14","9.°-15","9.°-16","9.°-17","9.°-18","9.°-19","9.°-20","9.°-21","9.°-22","9.°-23","9.°-24","9.°-25",null,{"$f":"IFERROR(IF(D33=\"\",\"\",IF((VLOOKUP(AD33,Herramientas!$H$3:$I$227,2,0))=D33,1,0)),\"\")","v":""},{"$f":"IFERROR(IF(E33=\"\",\"\",IF((VLOOKUP(AE33,Herramientas!$H$3:$I$227,2,0))=E33,1,0)),\"\")","v":""},{"$f":"IFERROR(IF(F33=\"\",\"\",IF((VLOOKUP(AF33,Herramientas!$H$3:$I$227,2,0))=F33,1,0)),\"\")","v":""},{"$f":"IFERROR(IF(G33=\"\",\"\",IF((VLOOKUP(AG33,Herramientas!$H$3:$I$227,2,0))=G33,1,0)),\"\")","v":""},{"$f":"IFERROR(IF(H33=\"\",\"\",IF((VLOOKUP(AH33,Herramientas!$H$3:$I$227,2,0))=H33,1,0)),\"\")","v":""},{"$f":"IFERROR(IF(I33=\"\",\"\",IF((VLOOKUP(AI33,Herramientas!$H$3:$I$227,2,0))=I33,1,0)),\"\")","v":""},{"$f":"IFERROR(IF(J33=\"\",\"\",IF((VLOOKUP(AJ33,Herramientas!$H$3:$I$227,2,0))=J33,1,0)),\"\")","v":""},{"$f":"IFERROR(IF(K33=\"\",\"\",IF((VLOOKUP(AK33,Herramientas!$H$3:$I$227,2,0))=K33,1,0)),\"\")","v":""},{"$f":"IFERROR(IF(L33=\"\",\"\",IF((VLOOKUP(AL33,Herramientas!$H$3:$I$227,2,0))=L33,1,0)),\"\")","v":""},{"$f":"IFERROR(IF(M33=\"\",\"\",IF((VLOOKUP(AM33,Herramientas!$H$3:$I$227,2,0))=M33,1,0)),\"\")","v":""},{"$f":"IFERROR(IF(N33=\"\",\"\",IF((VLOOKUP(AN33,Herramientas!$H$3:$I$227,2,0))=N33,1,0)),\"\")","v":""},{"$f":"IFERROR(IF(O33=\"\",\"\",IF((VLOOKUP(AO33,Herramientas!$H$3:$I$227,2,0))=O33,1,0)),\"\")","v":""},{"$f":"IFERROR(IF(P33=\"\",\"\",IF((VLOOKUP(AP33,Herramientas!$H$3:$I$227,2,0))=P33,1,0)),\"\")","v":""},{"$f":"IFERROR(IF(Q33=\"\",\"\",IF((VLOOKUP(AQ33,Herramientas!$H$3:$I$227,2,0))=Q33,1,0)),\"\")","v":""},{"$f":"IFERROR(IF(R33=\"\",\"\",IF((VLOOKUP(AR33,Herramientas!$H$3:$I$227,2,0))=R33,1,0)),\"\")","v":""},{"$f":"IFERROR(IF(S33=\"\",\"\",IF((VLOOKUP(AS33,Herramientas!$H$3:$I$227,2,0))=S33,1,0)),\"\")","v":""},{"$f":"IFERROR(IF(T33=\"\",\"\",IF((VLOOKUP(AT33,Herramientas!$H$3:$I$227,2,0))=T33,1,0)),\"\")","v":""},{"$f":"IFERROR(IF(U33=\"\",\"\",IF((VLOOKUP(AU33,Herramientas!$H$3:$I$227,2,0))=U33,1,0)),\"\")","v":""},{"$f":"IFERROR(IF(V33=\"\",\"\",IF((VLOOKUP(AV33,Herramientas!$H$3:$I$227,2,0))=V33,1,0)),\"\")","v":""},{"$f":"IFERROR(IF(W33=\"\",\"\",IF((VLOOKUP(AW33,Herramientas!$H$3:$I$227,2,0))=W33,1,0)),\"\")","v":""},{"$f":"IFERROR(IF(X33=\"\",\"\",IF((VLOOKUP(AX33,Herramientas!$H$3:$I$227,2,0))=X33,1,0)),\"\")","v":""},{"$f":"IFERROR(IF(Y33=\"\",\"\",IF((VLOOKUP(AY33,Herramientas!$H$3:$I$227,2,0))=Y33,1,0)),\"\")","v":""},{"$f":"IFERROR(IF(Z33=\"\",\"\",IF((VLOOKUP(AZ33,Herramientas!$H$3:$I$227,2,0))=Z33,1,0)),\"\")","v":""},{"$f":"IFERROR(IF(AA33=\"\",\"\",IF((VLOOKUP(BA33,Herramientas!$H$3:$I$227,2,0))=AA33,1,0)),\"\")","v":""},{"$f":"IFERROR(IF(AB33=\"\",\"\",IF((VLOOKUP(BB33,Herramientas!$H$3:$I$227,2,0))=AB33,1,0)),\"\")","v":""},null,0,0,null,null,null,null,null,null,"it19",{"$f":"DE7","v":0},{"$f":"DE12","v":0},"",{"$f":"DE8","v":0},0,"",{"$f":"DE9","v":0},0,"",{"$f":"DE10","v":0},0,""]
[27,null,null,null,null,null,null,null,null,null,null,null,null,null,null,null,null,null,null,null,null,null,null,null,null,null,null,null,null,"9.°-1","9.°-2","9.°-3","9.°-4","9.°-5","9.°-6","9.°-7","9.°-8","9.°-9","9.°-10","9.°-11","9.°-12","9.°-13","9.°-14","9.°-15","9.°-16","9.°-17","9.°-18","9.°-19","9.°-20","9.°-21","9.°-22","9.°-23","9.°-24","9.°-25",null,{"$f":"IFERROR(IF(D34=\"\",\"\",IF((VLOOKUP(AD34,Herramientas!$H$3:$I$227,2,0))=D34,1,0)),\"\")","v":""},{"$f":"IFERROR(IF(E34=\"\",\"\",IF((VLOOKUP(AE34,Herramientas!$H$3:$I$227,2,0))=E34,1,0)),\"\")","v":""},{"$f":"IFERROR(IF(F34=\"\",\"\",IF((VLOOKUP(AF34,Herramientas!$H$3:$I$227,2,0))=F34,1,0)),\"\")","v":""},{"$f":"IFERROR(IF(G34=\"\",\"\",IF((VLOOKUP(AG34,Herramientas!$H$3:$I$227,2,0))=G34,1,0)),\"\")","v":""},{"$f":"IFERROR(IF(H34=\"\",\"\",IF((VLOOKUP(AH34,Herramientas!$H$3:$I$227,2,0))=H34,1,0)),\"\")","v":""},{"$f":"IFERROR(IF(I34=\"\",\"\",IF((VLOOKUP(AI34,Herramientas!$H$3:$I$227,2,0))=I34,1,0)),\"\")","v":""},{"$f":"IFERROR(IF(J34=\"\",\"\",IF((VLOOKUP(AJ34,Herramientas!$H$3:$I$227,2,0))=J34,1,0)),\"\")","v":""},{"$f":"IFERROR(IF(K34=\"\",\"\",IF((VLOOKUP(AK34,Herramientas!$H$3:$I$227,2,0))=K34,1,0)),\"\")","v":""},{"$f":"IFERROR(IF(L34=\"\",\"\",IF((VLOOKUP(AL34,Herramientas!$H$3:$I$227,2,0))=L34,1,0)),\"\")","v":""},{"$f":"IFERROR(IF(M34=\"\",\"\",IF((VLOOKUP(AM34,Herramientas!$H$3:$I$227,2,0))=M34,1,0)),\"\")","v":""},{"$f":"IFERROR(IF(N34=\"\",\"\",IF((VLOOKUP(AN34,Herramientas!$H$3:$I$227,2,0))=N34,1,0)),\"\")","v":""},{"$f":"IFERROR(IF(O34=\"\",\"\",IF((VLOOKUP(AO34,Herramientas!$H$3:$I$227,2,0))=O34,1,0)),\"\")","v":""},{"$f":"IFERROR(IF(P34=\"\",\"\",IF((VLOOKUP(AP34,Herramientas!$H$3:$I$227,2,0))=P34,1,0)),\"\")","v":""},{"$f":"IFERROR(IF(Q34=\"\",\"\",IF((VLOOKUP(AQ34,Herramientas!$H$3:$I$227,2,0))=Q34,1,0)),\"\")","v":""},{"$f":"IFERROR(IF(R34=\"\",\"\",IF((VLOOKUP(AR34,Herramientas!$H$3:$I$227,2,0))=R34,1,0)),\"\")","v":""},{"$f":"IFERROR(IF(S34=\"\",\"\",IF((VLOOKUP(AS34,Herramientas!$H$3:$I$227,2,0))=S34,1,0)),\"\")","v":""},{"$f":"IFERROR(IF(T34=\"\",\"\",IF((VLOOKUP(AT34,Herramientas!$H$3:$I$227,2,0))=T34,1,0)),\"\")","v":""},{"$f":"IFERROR(IF(U34=\"\",\"\",IF((VLOOKUP(AU34,Herramientas!$H$3:$I$227,2,0))=U34,1,0)),\"\")","v":""},{"$f":"IFERROR(IF(V34=\"\",\"\",IF((VLOOKUP(AV34,Herramientas!$H$3:$I$227,2,0))=V34,1,0)),\"\")","v":""},{"$f":"IFERROR(IF(W34=\"\",\"\",IF((VLOOKUP(AW34,Herramientas!$H$3:$I$227,2,0))=W34,1,0)),\"\")","v":""},{"$f":"IFERROR(IF(X34=\"\",\"\",IF((VLOOKUP(AX34,Herramientas!$H$3:$I$227,2,0))=X34,1,0)),\"\")","v":""},{"$f":"IFERROR(IF(Y34=\"\",\"\",IF((VLOOKUP(AY34,Herramientas!$H$3:$I$227,2,0))=Y34,1,0)),\"\")","v":""},{"$f":"IFERROR(IF(Z34=\"\",\"\",IF((VLOOKUP(AZ34,Herramientas!$H$3:$I$227,2,0))=Z34,1,0)),\"\")","v":""},{"$f":"IFERROR(IF(AA34=\"\",\"\",IF((VLOOKUP(BA34,Herramientas!$H$3:$I$227,2,0))=AA34,1,0)),\"\")","v":""},{"$f":"IFERROR(IF(AB34=\"\",\"\",IF((VLOOKUP(BB34,Herramientas!$H$3:$I$227,2,0))=AB34,1,0)),\"\")","v":""},null,0,0,null,null,null,null,null,null,"it20",{"$f":"DF7","v":0},{"$f":"DF12","v":0},"",{"$f":"DF8","v":0},0,"",{"$f":"DF9","v":0},0,"",{"$f":"DF10","v":0},0,""]
[28,null,null,null,null,null,null,null,null,null,null,null,null,null,null,null,null,null,null,null,null,null,null,null,null,null,null,null,null,{"$f":"CONCATENATE($B$2,\"-\",D$7)","v":"9.°-1"},{"$f":"CONCATENATE($B$2,\"-\",E$7)","v":"9.°-2"},"9.°-3","9.°-4","9.°-5","9.°-6","9.°-7","9.°-8","9.°-9","9.°-10","9.°-11","9.°-12","9.°-13","9.°-14","9.°-15","9.°-16","9.°-17","9.°-18","9.°-19","9.°-20","9.°-21","9.°-22","9.°-23","9.°-24","9.°-25",null,{"$f":"IFERROR(IF(D35=\"\",\"\",IF((VLOOKUP(AD35,Herramientas!$H$3:$I$227,2,0))=D35,1,0)),\"\")","v":""},{"$f":"IFERROR(IF(E35=\"\",\"\",IF((VLOOKUP(AE35,Herramientas!$H$3:$I$227,2,0))=E35,1,0)),\"\")","v":""},{"$f":"IFERROR(IF(F35=\"\",\"\",IF((VLOOKUP(AF35,Herramientas!$H$3:$I$227,2,0))=F35,1,0)),\"\")","v":""},{"$f":"IFERROR(IF(G35=\"\",\"\",IF((VLOOKUP(AG35,Herramientas!$H$3:$I$227,2,0))=G35,1,0)),\"\")","v":""},{"$f":"IFERROR(IF(H35=\"\",\"\",IF((VLOOKUP(AH35,Herramientas!$H$3:$I$227,2,0))=H35,1,0)),\"\")","v":""},{"$f":"IFERROR(IF(I35=\"\",\"\",IF((VLOOKUP(AI35,Herramientas!$H$3:$I$227,2,0))=I35,1,0)),\"\")","v":""},{"$f":"IFERROR(IF(J35=\"\",\"\",IF((VLOOKUP(AJ35,Herramientas!$H$3:$I$227,2,0))=J35,1,0)),\"\")","v":""},{"$f":"IFERROR(IF(K35=\"\",\"\",IF((VLOOKUP(AK35,Herramientas!$H$3:$I$227,2,0))=K35,1,0)),\"\")","v":""},{"$f":"IFERROR(IF(L35=\"\",\"\",IF((VLOOKUP(AL35,Herramientas!$H$3:$I$227,2,0))=L35,1,0)),\"\")","v":""},{"$f":"IFERROR(IF(M35=\"\",\"\",IF((VLOOKUP(AM35,Herramientas!$H$3:$I$227,2,0))=M35,1,0)),\"\")","v":""},{"$f":"IFERROR(IF(N35=\"\",\"\",IF((VLOOKUP(AN35,Herramientas!$H$3:$I$227,2,0))=N35,1,0)),\"\")","v":""},{"$f":"IFERROR(IF(O35=\"\",\"\",IF((VLOOKUP(AO35,Herramientas!$H$3:$I$227,2,0))=O35,1,0)),\"\")","v":""},{"$f":"IFERROR(IF(P35=\"\",\"\",IF((VLOOKUP(AP35,Herramientas!$H$3:$I$227,2,0))=P35,1,0)),\"\")","v":""},{"$f":"IFERROR(IF(Q35=\"\",\"\",IF((VLOOKUP(AQ35,Herramientas!$H$3:$I$227,2,0))=Q35,1,0)),\"\")","v":""},{"$f":"IFERROR(IF(R35=\"\",\"\",IF((VLOOKUP(AR35,Herramientas!$H$3:$I$227,2,0))=R35,1,0)),\"\")","v":""},{"$f":"IFERROR(IF(S35=\"\",\"\",IF((VLOOKUP(AS35,Herramientas!$H$3:$I$227,2,0))=S35,1,0)),\"\")","v":""},{"$f":"IFERROR(IF(T35=\"\",\"\",IF((VLOOKUP(AT35,Herramientas!$H$3:$I$227,2,0))=T35,1,0)),\"\")","v":""},{"$f":"IFERROR(IF(U35=\"\",\"\",IF((VLOOKUP(AU35,Herramientas!$H$3:$I$227,2,0))=U35,1,0)),\"\")","v":""},{"$f":"IFERROR(IF(V35=\"\",\"\",IF((VLOOKUP(AV35,Herramientas!$H$3:$I$227,2,0))=V35,1,0)),\"\")","v":""},{"$f":"IFERROR(IF(W35=\"\",\"\",IF((VLOOKUP(AW35,Herramientas!$H$3:$I$227,2,0))=W35,1,0)),\"\")","v":""},{"$f":"IFERROR(IF(X35=\"\",\"\",IF((VLOOKUP(AX35,Herramientas!$H$3:$I$227,2,0))=X35,1,0)),\"\")","v":""},{"$f":"IFERROR(IF(Y35=\"\",\"\",IF((VLOOKUP(AY35,Herramientas!$H$3:$I$227,2,0))=Y35,1,0)),\"\")","v":""},{"$f":"IFERROR(IF(Z35=\"\",\"\",IF((VLOOKUP(AZ35,Herramientas!$H$3:$I$227,2,0))=Z35,1,0)),\"\")","v":""},{"$f":"IFERROR(IF(AA35=\"\",\"\",IF((VLOOKUP(BA35,Herramientas!$H$3:$I$227,2,0))=AA35,1,0)),\"\")","v":""},{"$f":"IFERROR(IF(AB35=\"\",\"\",IF((VLOOKUP(BB35,Herramientas!$H$3:$I$227,2,0))=AB35,1,0)),\"\")","v":""},null,0,0,null,null,null,null,null,null,"it21",{"$f":"DG7","v":0},{"$f":"DG12","v":0},"",{"$f":"DG8","v":0},0,"",{"$f":"DG9","v":0},{"$f":"CQ35","v":0},"",{"$f":"DG10","v":0},{"$f":"CT35","v":0},""]
[29,null,null,null,null,null,null,null,null,null,null,null,null,null,null,null,null,null,null,null,null,null,null,null,null,null,null,null,null,{"$f":"CONCATENATE($B$2,\"-\",D$7)","v":"9.°-1"},"9.°-2","9.°-3","9.°-4","9.°-5","9.°-6","9.°-7","9.°-8","9.°-9","9.°-10","9.°-11","9.°-12","9.°-13","9.°-14","9.°-15","9.°-16","9.°-17","9.°-18","9.°-19","9.°-20","9.°-21","9.°-22","9.°-23","9.°-24","9.°-25",null,{"$f":"IFERROR(IF(D36=\"\",\"\",IF((VLOOKUP(AD36,Herramientas!$H$3:$I$227,2,0))=D36,1,0)),\"\")","v":""},{"$f":"IFERROR(IF(E36=\"\",\"\",IF((VLOOKUP(AE36,Herramientas!$H$3:$I$227,2,0))=E36,1,0)),\"\")","v":""},{"$f":"IFERROR(IF(F36=\"\",\"\",IF((VLOOKUP(AF36,Herramientas!$H$3:$I$227,2,0))=F36,1,0)),\"\")","v":""},{"$f":"IFERROR(IF(G36=\"\",\"\",IF((VLOOKUP(AG36,Herramientas!$H$3:$I$227,2,0))=G36,1,0)),\"\")","v":""},{"$f":"IFERROR(IF(H36=\"\",\"\",IF((VLOOKUP(AH36,Herramientas!$H$3:$I$227,2,0))=H36,1,0)),\"\")","v":""},{"$f":"IFERROR(IF(I36=\"\",\"\",IF((VLOOKUP(AI36,Herramientas!$H$3:$I$227,2,0))=I36,1,0)),\"\")","v":""},{"$f":"IFERROR(IF(J36=\"\",\"\",IF((VLOOKUP(AJ36,Herramientas!$H$3:$I$227,2,0))=J36,1,0)),\"\")","v":""},{"$f":"IFERROR(IF(K36=\"\",\"\",IF((VLOOKUP(AK36,Herramientas!$H$3:$I$227,2,0))=K36,1,0)),\"\")","v":""},{"$f":"IFERROR(IF(L36=\"\",\"\",IF((VLOOKUP(AL36,Herramientas!$H$3:$I$227,2,0))=L36,1,0)),\"\")","v":""},{"$f":"IFERROR(IF(M36=\"\",\"\",IF((VLOOKUP(AM36,Herramientas!$H$3:$I$227,2,0))=M36,1,0)),\"\")","v":""},{"$f":"IFERROR(IF(N36=\"\",\"\",IF((VLOOKUP(AN36,Herramientas!$H$3:$I$227,2,0))=N36,1,0)),\"\")","v":""},{"$f":"IFERROR(IF(O36=\"\",\"\",IF((VLOOKUP(AO36,Herramientas!$H$3:$I$227,2,0))=O36,1,0)),\"\")","v":""},{"$f":"IFERROR(IF(P36=\"\",\"\",IF((VLOOKUP(AP36,Herramientas!$H$3:$I$227,2,0))=P36,1,0)),\"\")","v":""},{"$f":"IFERROR(IF(Q36=\"\",\"\",IF((VLOOKUP(AQ36,Herramientas!$H$3:$I$227,2,0))=Q36,1,0)),\"\")","v":""},{"$f":"IFERROR(IF(R36=\"\",\"\",IF((VLOOKUP(AR36,Herramientas!$H$3:$I$227,2,0))=R36,1,0)),\"\")","v":""},{"$f":"IFERROR(IF(S36=\"\",\"\",IF((VLOOKUP(AS36,Herramientas!$H$3:$I$227,2,0))=S36,1,0)),\"\")","v":""},{"$f":"IFERROR(IF(T36=\"\",\"\",IF((VLOOKUP(AT36,Herramientas!$H$3:$I$227,2,0))=T36,1,0)),\"\")","v":""},{"$f":"IFERROR(IF(U36=\"\",\"\",IF((VLOOKUP(AU36,Herramientas!$H$3:$I$227,2,0))=U36,1,0)),\"\")","v":""},{"$f":"IFERROR(IF(V36=\"\",\"\",IF((VLOOKUP(AV36,Herramientas!$H$3:$I$227,2,0))=V36,1,0)),\"\")","v":""},{"$f":"IFERROR(IF(W36=\"\",\"\",IF((VLOOKUP(AW36,Herramientas!$H$3:$I$227,2,0))=W36,1,0)),\"\")","v":""},{"$f":"IFERROR(IF(X36=\"\",\"\",IF((VLOOKUP(AX36,Herramientas!$H$3:$I$227,2,0))=X36,1,0)),\"\")","v":""},{"$f":"IFERROR(IF(Y36=\"\",\"\",IF((VLOOKUP(AY36,Herramientas!$H$3:$I$227,2,0))=Y36,1,0)),\"\")","v":""},{"$f":"IFERROR(IF(Z36=\"\",\"\",IF((VLOOKUP(AZ36,Herramientas!$H$3:$I$227,2,0))=Z36,1,0)),\"\")","v":""},{"$f":"IFERROR(IF(AA36=\"\",\"\",IF((VLOOKUP(BA36,Herramientas!$H$3:$I$227,2,0))=AA36,1,0)),\"\")","v":""},{"$f":"IFERROR(IF(AB36=\"\",\"\",IF((VLOOKUP(BB36,Herramientas!$H$3:$I$227,2,0))=AB36,1,0)),\"\")","v":""},null,0,0,null,null,null,null,null,null,"it22",{"$f":"DH7","v":0},{"$f":"DH12","v":0},"",{"$f":"DH8","v":0},0,"",{"$f":"DH9","v":0},0,"",{"$f":"DH10","v":0},0,""]
[30,null,null,null,null,null,null,null,null,null,null,null,null,null,null,null,null,null,null,null,null,null,null,null,null,null,null,null,null,"9.°-1","9.°-2","9.°-3","9.°-4","9.°-5","9.°-6","9.°-7","9.°-8","9.°-9","9.°-10","9.°-11","9.°-12","9.°-13","9.°-14","9.°-15","9.°-16","9.°-17","9.°-18","9.°-19","9.°-20","9.°-21","9.°-22","9.°-23","9.°-24","9.°-25",null,{"$f":"IFERROR(IF(D37=\"\",\"\",IF((VLOOKUP(AD37,Herramientas!$H$3:$I$227,2,0))=D37,1,0)),\"\")","v":""},{"$f":"IFERROR(IF(E37=\"\",\"\",IF((VLOOKUP(AE37,Herramientas!$H$3:$I$227,2,0))=E37,1,0)),\"\")","v":""},{"$f":"IFERROR(IF(F37=\"\",\"\",IF((VLOOKUP(AF37,Herramientas!$H$3:$I$227,2,0))=F37,1,0)),\"\")","v":""},{"$f":"IFERROR(IF(G37=\"\",\"\",IF((VLOOKUP(AG37,Herramientas!$H$3:$I$227,2,0))=G37,1,0)),\"\")","v":""},{"$f":"IFERROR(IF(H37=\"\",\"\",IF((VLOOKUP(AH37,Herramientas!$H$3:$I$227,2,0))=H37,1,0)),\"\")","v":""},{"$f":"IFERROR(IF(I37=\"\",\"\",IF((VLOOKUP(AI37,Herramientas!$H$3:$I$227,2,0))=I37,1,0)),\"\")","v":""},{"$f":"IFERROR(IF(J37=\"\",\"\",IF((VLOOKUP(AJ37,Herramientas!$H$3:$I$227,2,0))=J37,1,0)),\"\")","v":""},{"$f":"IFERROR(IF(K37=\"\",\"\",IF((VLOOKUP(AK37,Herramientas!$H$3:$I$227,2,0))=K37,1,0)),\"\")","v":""},{"$f":"IFERROR(IF(L37=\"\",\"\",IF((VLOOKUP(AL37,Herramientas!$H$3:$I$227,2,0))=L37,1,0)),\"\")","v":""},{"$f":"IFERROR(IF(M37=\"\",\"\",IF((VLOOKUP(AM37,Herramientas!$H$3:$I$227,2,0))=M37,1,0)),\"\")","v":""},{"$f":"IFERROR(IF(N37=\"\",\"\",IF((VLOOKUP(AN37,Herramientas!$H$3:$I$227,2,0))=N37,1,0)),\"\")","v":""},{"$f":"IFERROR(IF(O37=\"\",\"\",IF((VLOOKUP(AO37,Herramientas!$H$3:$I$227,2,0))=O37,1,0)),\"\")","v":""},{"$f":"IFERROR(IF(P37=\"\",\"\",IF((VLOOKUP(AP37,Herramientas!$H$3:$I$227,2,0))=P37,1,0)),\"\")","v":""},{"$f":"IFERROR(IF(Q37=\"\",\"\",IF((VLOOKUP(AQ37,Herramientas!$H$3:$I$227,2,0))=Q37,1,0)),\"\")","v":""},{"$f":"IFERROR(IF(R37=\"\",\"\",IF((VLOOKUP(AR37,Herramientas!$H$3:$I$227,2,0))=R37,1,0)),\"\")","v":""},{"$f":"IFERROR(IF(S37=\"\",\"\",IF((VLOOKUP(AS37,Herramientas!$H$3:$I$227,2,0))=S37,1,0)),\"\")","v":""},{"$f":"IFERROR(IF(T37=\"\",\"\",IF((VLOOKUP(AT37,Herramientas!$H$3:$I$227,2,0))=T37,1,0)),\"\")","v":""},{"$f":"IFERROR(IF(U37=\"\",\"\",IF((VLOOKUP(AU37,Herramientas!$H$3:$I$227,2,0))=U37,1,0)),\"\")","v":""},{"$f":"IFERROR(IF(V37=\"\",\"\",IF((VLOOKUP(AV37,Herramientas!$H$3:$I$227,2,0))=V37,1,0)),\"\")","v":""},{"$f":"IFERROR(IF(W37=\"\",\"\",IF((VLOOKUP(AW37,Herramientas!$H$3:$I$227,2,0))=W37,1,0)),\"\")","v":""},{"$f":"IFERROR(IF(X37=\"\",\"\",IF((VLOOKUP(AX37,Herramientas!$H$3:$I$227,2,0))=X37,1,0)),\"\")","v":""},{"$f":"IFERROR(IF(Y37=\"\",\"\",IF((VLOOKUP(AY37,Herramientas!$H$3:$I$227,2,0))=Y37,1,0)),\"\")","v":""},{"$f":"IFERROR(IF(Z37=\"\",\"\",IF((VLOOKUP(AZ37,Herramientas!$H$3:$I$227,2,0))=Z37,1,0)),\"\")","v":""},{"$f":"IFERROR(IF(AA37=\"\",\"\",IF((VLOOKUP(BA37,Herramientas!$H$3:$I$227,2,0))=AA37,1,0)),\"\")","v":""},{"$f":"IFERROR(IF(AB37=\"\",\"\",IF((VLOOKUP(BB37,Herramientas!$H$3:$I$227,2,0))=AB37,1,0)),\"\")","v":""},null,0,0,null,null,null,null,null,null,"it23",{"$f":"DI7","v":0},{"$f":"DI12","v":0},"",{"$f":"DI8","v":0},0,"",{"$f":"DI9","v":0},0,"",{"$f":"DI10","v":0},0,""]
[31,null,null,null,null,null,null,null,null,null,null,null,null,null,null,null,null,null,null,null,null,null,null,null,null,null,null,null,null,"9.°-1","9.°-2","9.°-3","9.°-4","9.°-5","9.°-6","9.°-7","9.°-8","9.°-9","9.°-10","9.°-11","9.°-12","9.°-13","9.°-14","9.°-15","9.°-16","9.°-17","9.°-18","9.°-19","9.°-20","9.°-21","9.°-22","9.°-23","9.°-24","9.°-25",null,{"$f":"IFERROR(IF(D38=\"\",\"\",IF((VLOOKUP(AD38,Herramientas!$H$3:$I$227,2,0))=D38,1,0)),\"\")","v":""},{"$f":"IFERROR(IF(E38=\"\",\"\",IF((VLOOKUP(AE38,Herramientas!$H$3:$I$227,2,0))=E38,1,0)),\"\")","v":""},{"$f":"IFERROR(IF(F38=\"\",\"\",IF((VLOOKUP(AF38,Herramientas!$H$3:$I$227,2,0))=F38,1,0)),\"\")","v":""},{"$f":"IFERROR(IF(G38=\"\",\"\",IF((VLOOKUP(AG38,Herramientas!$H$3:$I$227,2,0))=G38,1,0)),\"\")","v":""},{"$f":"IFERROR(IF(H38=\"\",\"\",IF((VLOOKUP(AH38,Herramientas!$H$3:$I$227,2,0))=H38,1,0)),\"\")","v":""},{"$f":"IFERROR(IF(I38=\"\",\"\",IF((VLOOKUP(AI38,Herramientas!$H$3:$I$227,2,0))=I38,1,0)),\"\")","v":""},{"$f":"IFERROR(IF(J38=\"\",\"\",IF((VLOOKUP(AJ38,Herramientas!$H$3:$I$227,2,0))=J38,1,0)),\"\")","v":""},{"$f":"IFERROR(IF(K38=\"\",\"\",IF((VLOOKUP(AK38,Herramientas!$H$3:$I$227,2,0))=K38,1,0)),\"\")","v":""},{"$f":"IFERROR(IF(L38=\"\",\"\",IF((VLOOKUP(AL38,Herramientas!$H$3:$I$227,2,0))=L38,1,0)),\"\")","v":""},{"$f":"IFERROR(IF(M38=\"\",\"\",IF((VLOOKUP(AM38,Herramientas!$H$3:$I$227,2,0))=M38,1,0)),\"\")","v":""},{"$f":"IFERROR(IF(N38=\"\",\"\",IF((VLOOKUP(AN38,Herramientas!$H$3:$I$227,2,0))=N38,1,0)),\"\")","v":""},{"$f":"IFERROR(IF(O38=\"\",\"\",IF((VLOOKUP(AO38,Herramientas!$H$3:$I$227,2,0))=O38,1,0)),\"\")","v":""},{"$f":"IFERROR(IF(P38=\"\",\"\",IF((VLOOKUP(AP38,Herramientas!$H$3:$I$227,2,0))=P38,1,0)),\"\")","v":""},{"$f":"IFERROR(IF(Q38=\"\",\"\",IF((VLOOKUP(AQ38,Herramientas!$H$3:$I$227,2,0))=Q38,1,0)),\"\")","v":""},{"$f":"IFERROR(IF(R38=\"\",\"\",IF((VLOOKUP(AR38,Herramientas!$H$3:$I$227,2,0))=R38,1,0)),\"\")","v":""},{"$f":"IFERROR(IF(S38=\"\",\"\",IF((VLOOKUP(AS38,Herramientas!$H$3:$I$227,2,0))=S38,1,0)),\"\")","v":""},{"$f":"IFERROR(IF(T38=\"\",\"\",IF((VLOOKUP(AT38,Herramientas!$H$3:$I$227,2,0))=T38,1,0)),\"\")","v":""},{"$f":"IFERROR(IF(U38=\"\",\"\",IF((VLOOKUP(AU38,Herramientas!$H$3:$I$227,2,0))=U38,1,0)),\"\")","v":""},{"$f":"IFERROR(IF(V38=\"\",\"\",IF((VLOOKUP(AV38,Herramientas!$H$3:$I$227,2,0))=V38,1,0)),\"\")","v":""},{"$f":"IFERROR(IF(W38=\"\",\"\",IF((VLOOKUP(AW38,Herramientas!$H$3:$I$227,2,0))=W38,1,0)),\"\")","v":""},{"$f":"IFERROR(IF(X38=\"\",\"\",IF((VLOOKUP(AX38,Herramientas!$H$3:$I$227,2,0))=X38,1,0)),\"\")","v":""},{"$f":"IFERROR(IF(Y38=\"\",\"\",IF((VLOOKUP(AY38,Herramientas!$H$3:$I$227,2,0))=Y38,1,0)),\"\")","v":""},{"$f":"IFERROR(IF(Z38=\"\",\"\",IF((VLOOKUP(AZ38,Herramientas!$H$3:$I$227,2,0))=Z38,1,0)),\"\")","v":""},{"$f":"IFERROR(IF(AA38=\"\",\"\",IF((VLOOKUP(BA38,Herramientas!$H$3:$I$227,2,0))=AA38,1,0)),\"\")","v":""},{"$f":"IFERROR(IF(AB38=\"\",\"\",IF((VLOOKUP(BB38,Herramientas!$H$3:$I$227,2,0))=AB38,1,0)),\"\")","v":""},null,0,0,null,null,null,null,null,null,"it24",{"$f":"DJ7","v":0},{"$f":"DJ12","v":0},"",{"$f":"DJ8","v":0},0,"",{"$f":"DJ9","v":0},0,"",{"$f":"DJ10","v":0},0,""]
[32,null,null,null,null,null,null,null,null,null,null,null,null,null,null,null,null,null,null,null,null,null,null,null,null,null,null,null,null,"9.°-1","9.°-2","9.°-3","9.°-4","9.°-5","9.°-6","9.°-7","9.°-8","9.°-9","9.°-10","9.°-11","9.°-12","9.°-13","9.°-14","9.°-15","9.°-16","9.°-17","9.°-18","9.°-19","9.°-20","9.°-21","9.°-22","9.°-23","9.°-24","9.°-25",null,{"$f":"IFERROR(IF(D39=\"\",\"\",IF((VLOOKUP(AD39,Herramientas!$H$3:$I$227,2,0))=D39,1,0)),\"\")","v":""},{"$f":"IFERROR(IF(E39=\"\",\"\",IF((VLOOKUP(AE39,Herramientas!$H$3:$I$227,2,0))=E39,1,0)),\"\")","v":""},{"$f":"IFERROR(IF(F39=\"\",\"\",IF((VLOOKUP(AF39,Herramientas!$H$3:$I$227,2,0))=F39,1,0)),\"\")","v":""},{"$f":"IFERROR(IF(G39=\"\",\"\",IF((VLOOKUP(AG39,Herramientas!$H$3:$I$227,2,0))=G39,1,0)),\"\")","v":""},{"$f":"IFERROR(IF(H39=\"\",\"\",IF((VLOOKUP(AH39,Herramientas!$H$3:$I$227,2,0))=H39,1,0)),\"\")","v":""},{"$f":"IFERROR(IF(I39=\"\",\"\",IF((VLOOKUP(AI39,Herramientas!$H$3:$I$227,2,0))=I39,1,0)),\"\")","v":""},{"$f":"IFERROR(IF(J39=\"\",\"\",IF((VLOOKUP(AJ39,Herramientas!$H$3:$I$227,2,0))=J39,1,0)),\"\")","v":""},{"$f":"IFERROR(IF(K39=\"\",\"\",IF((VLOOKUP(AK39,Herramientas!$H$3:$I$227,2,0))=K39,1,0)),\"\")","v":""},{"$f":"IFERROR(IF(L39=\"\",\"\",IF((VLOOKUP(AL39,Herramientas!$H$3:$I$227,2,0))=L39,1,0)),\"\")","v":""},{"$f":"IFERROR(IF(M39=\"\",\"\",IF((VLOOKUP(AM39,Herramientas!$H$3:$I$227,2,0))=M39,1,0)),\"\")","v":""},{"$f":"IFERROR(IF(N39=\"\",\"\",IF((VLOOKUP(AN39,Herramientas!$H$3:$I$227,2,0))=N39,1,0)),\"\")","v":""},{"$f":"IFERROR(IF(O39=\"\",\"\",IF((VLOOKUP(AO39,Herramientas!$H$3:$I$227,2,0))=O39,1,0)),\"\")","v":""},{"$f":"IFERROR(IF(P39=\"\",\"\",IF((VLOOKUP(AP39,Herramientas!$H$3:$I$227,2,0))=P39,1,0)),\"\")","v":""},{"$f":"IFERROR(IF(Q39=\"\",\"\",IF((VLOOKUP(AQ39,Herramientas!$H$3:$I$227,2,0))=Q39,1,0)),\"\")","v":""},{"$f":"IFERROR(IF(R39=\"\",\"\",IF((VLOOKUP(AR39,Herramientas!$H$3:$I$227,2,0))=R39,1,0)),\"\")","v":""},{"$f":"IFERROR(IF(S39=\"\",\"\",IF((VLOOKUP(AS39,Herramientas!$H$3:$I$227,2,0))=S39,1,0)),\"\")","v":""},{"$f":"IFERROR(IF(T39=\"\",\"\",IF((VLOOKUP(AT39,Herramientas!$H$3:$I$227,2,0))=T39,1,0)),\"\")","v":""},{"$f":"IFERROR(IF(U39=\"\",\"\",IF((VLOOKUP(AU39,Herramientas!$H$3:$I$227,2,0))=U39,1,0)),\"\")","v":""},{"$f":"IFERROR(IF(V39=\"\",\"\",IF((VLOOKUP(AV39,Herramientas!$H$3:$I$227,2,0))=V39,1,0)),\"\")","v":""},{"$f":"IFERROR(IF(W39=\"\",\"\",IF((VLOOKUP(AW39,Herramientas!$H$3:$I$227,2,0))=W39,1,0)),\"\")","v":""},{"$f":"IFERROR(IF(X39=\"\",\"\",IF((VLOOKUP(AX39,Herramientas!$H$3:$I$227,2,0))=X39,1,0)),\"\")","v":""},{"$f":"IFERROR(IF(Y39=\"\",\"\",IF((VLOOKUP(AY39,Herramientas!$H$3:$I$227,2,0))=Y39,1,0)),\"\")","v":""},{"$f":"IFERROR(IF(Z39=\"\",\"\",IF((VLOOKUP(AZ39,Herramientas!$H$3:$I$227,2,0))=Z39,1,0)),\"\")","v":""},{"$f":"IFERROR(IF(AA39=\"\",\"\",IF((VLOOKUP(BA39,Herramientas!$H$3:$I$227,2,0))=AA39,1,0)),\"\")","v":""},{"$f":"IFERROR(IF(AB39=\"\",\"\",IF((VLOOKUP(BB39,Herramientas!$H$3:$I$227,2,0))=AB39,1,0)),\"\")","v":""},null,0,0,null,null,null,null,null,null,"it25",{"$f":"DK7","v":0},{"$f":"DK12","v":0},"",{"$f":"DK8","v":0},0,"",{"$f":"DK9","v":0},0,"",{"$f":"DK10","v":0},0,""]
[33,null,null,null,null,null,null,null,null,null,null,null,null,null,null,null,null,null,null,null,null,null,null,null,null,null,null,null,null,"9.°-1","9.°-2","9.°-3","9.°-4","9.°-5","9.°-6","9.°-7","9.°-8","9.°-9","9.°-10","9.°-11","9.°-12","9.°-13","9.°-14","9.°-15","9.°-16","9.°-17",{"$f":"CONCATENATE($B$2,\"-\",U$7)","v":"9.°-18"},"9.°-19","9.°-20","9.°-21","9.°-22","9.°-23","9.°-24","9.°-25",null,{"$f":"IFERROR(IF(D40=\"\",\"\",IF((VLOOKUP(AD40,Herramientas!$H$3:$I$227,2,0))=D40,1,0)),\"\")","v":""},{"$f":"IFERROR(IF(E40=\"\",\"\",IF((VLOOKUP(AE40,Herramientas!$H$3:$I$227,2,0))=E40,1,0)),\"\")","v":""},{"$f":"IFERROR(IF(F40=\"\",\"\",IF((VLOOKUP(AF40,Herramientas!$H$3:$I$227,2,0))=F40,1,0)),\"\")","v":""},{"$f":"IFERROR(IF(G40=\"\",\"\",IF((VLOOKUP(AG40,Herramientas!$H$3:$I$227,2,0))=G40,1,0)),\"\")","v":""},{"$f":"IFERROR(IF(H40=\"\",\"\",IF((VLOOKUP(AH40,Herramientas!$H$3:$I$227,2,0))=H40,1,0)),\"\")","v":""},{"$f":"IFERROR(IF(I40=\"\",\"\",IF((VLOOKUP(AI40,Herramientas!$H$3:$I$227,2,0))=I40,1,0)),\"\")","v":""},{"$f":"IFERROR(IF(J40=\"\",\"\",IF((VLOOKUP(AJ40,Herramientas!$H$3:$I$227,2,0))=J40,1,0)),\"\")","v":""},{"$f":"IFERROR(IF(K40=\"\",\"\",IF((VLOOKUP(AK40,Herramientas!$H$3:$I$227,2,0))=K40,1,0)),\"\")","v":""},{"$f":"IFERROR(IF(L40=\"\",\"\",IF((VLOOKUP(AL40,Herramientas!$H$3:$I$227,2,0))=L40,1,0)),\"\")","v":""},{"$f":"IFERROR(IF(M40=\"\",\"\",IF((VLOOKUP(AM40,Herramientas!$H$3:$I$227,2,0))=M40,1,0)),\"\")","v":""},{"$f":"IFERROR(IF(N40=\"\",\"\",IF((VLOOKUP(AN40,Herramientas!$H$3:$I$227,2,0))=N40,1,0)),\"\")","v":""},{"$f":"IFERROR(IF(O40=\"\",\"\",IF((VLOOKUP(AO40,Herramientas!$H$3:$I$227,2,0))=O40,1,0)),\"\")","v":""},{"$f":"IFERROR(IF(P40=\"\",\"\",IF((VLOOKUP(AP40,Herramientas!$H$3:$I$227,2,0))=P40,1,0)),\"\")","v":""},{"$f":"IFERROR(IF(Q40=\"\",\"\",IF((VLOOKUP(AQ40,Herramientas!$H$3:$I$227,2,0))=Q40,1,0)),\"\")","v":""},{"$f":"IFERROR(IF(R40=\"\",\"\",IF((VLOOKUP(AR40,Herramientas!$H$3:$I$227,2,0))=R40,1,0)),\"\")","v":""},{"$f":"IFERROR(IF(S40=\"\",\"\",IF((VLOOKUP(AS40,Herramientas!$H$3:$I$227,2,0))=S40,1,0)),\"\")","v":""},{"$f":"IFERROR(IF(T40=\"\",\"\",IF((VLOOKUP(AT40,Herramientas!$H$3:$I$227,2,0))=T40,1,0)),\"\")","v":""},{"$f":"IFERROR(IF(U40=\"\",\"\",IF((VLOOKUP(AU40,Herramientas!$H$3:$I$227,2,0))=U40,1,0)),\"\")","v":""},{"$f":"IFERROR(IF(V40=\"\",\"\",IF((VLOOKUP(AV40,Herramientas!$H$3:$I$227,2,0))=V40,1,0)),\"\")","v":""},{"$f":"IFERROR(IF(W40=\"\",\"\",IF((VLOOKUP(AW40,Herramientas!$H$3:$I$227,2,0))=W40,1,0)),\"\")","v":""},{"$f":"IFERROR(IF(X40=\"\",\"\",IF((VLOOKUP(AX40,Herramientas!$H$3:$I$227,2,0))=X40,1,0)),\"\")","v":""},{"$f":"IFERROR(IF(Y40=\"\",\"\",IF((VLOOKUP(AY40,Herramientas!$H$3:$I$227,2,0))=Y40,1,0)),\"\")","v":""},{"$f":"IFERROR(IF(Z40=\"\",\"\",IF((VLOOKUP(AZ40,Herramientas!$H$3:$I$227,2,0))=Z40,1,0)),\"\")","v":""},{"$f":"IFERROR(IF(AA40=\"\",\"\",IF((VLOOKUP(BA40,Herramientas!$H$3:$I$227,2,0))=AA40,1,0)),\"\")","v":""},{"$f":"IFERROR(IF(AB40=\"\",\"\",IF((VLOOKUP(BB40,Herramientas!$H$3:$I$227,2,0))=AB40,1,0)),\"\")","v":""},null,0,0]
[34,null,null,null,null,null,null,null,null,null,null,null,null,null,null,null,null,null,null,null,null,null,null,null,null,null,null,null,null,"9.°-1","9.°-2","9.°-3","9.°-4","9.°-5","9.°-6","9.°-7","9.°-8","9.°-9","9.°-10","9.°-11","9.°-12","9.°-13","9.°-14","9.°-15","9.°-16","9.°-17","9.°-18","9.°-19","9.°-20","9.°-21","9.°-22","9.°-23","9.°-24","9.°-25",null,{"$f":"IFERROR(IF(D41=\"\",\"\",IF((VLOOKUP(AD41,Herramientas!$H$3:$I$227,2,0))=D41,1,0)),\"\")","v":""},{"$f":"IFERROR(IF(E41=\"\",\"\",IF((VLOOKUP(AE41,Herramientas!$H$3:$I$227,2,0))=E41,1,0)),\"\")","v":""},{"$f":"IFERROR(IF(F41=\"\",\"\",IF((VLOOKUP(AF41,Herramientas!$H$3:$I$227,2,0))=F41,1,0)),\"\")","v":""},{"$f":"IFERROR(IF(G41=\"\",\"\",IF((VLOOKUP(AG41,Herramientas!$H$3:$I$227,2,0))=G41,1,0)),\"\")","v":""},{"$f":"IFERROR(IF(H41=\"\",\"\",IF((VLOOKUP(AH41,Herramientas!$H$3:$I$227,2,0))=H41,1,0)),\"\")","v":""},{"$f":"IFERROR(IF(I41=\"\",\"\",IF((VLOOKUP(AI41,Herramientas!$H$3:$I$227,2,0))=I41,1,0)),\"\")","v":""},{"$f":"IFERROR(IF(J41=\"\",\"\",IF((VLOOKUP(AJ41,Herramientas!$H$3:$I$227,2,0))=J41,1,0)),\"\")","v":""},{"$f":"IFERROR(IF(K41=\"\",\"\",IF((VLOOKUP(AK41,Herramientas!$H$3:$I$227,2,0))=K41,1,0)),\"\")","v":""},{"$f":"IFERROR(IF(L41=\"\",\"\",IF((VLOOKUP(AL41,Herramientas!$H$3:$I$227,2,0))=L41,1,0)),\"\")","v":""},{"$f":"IFERROR(IF(M41=\"\",\"\",IF((VLOOKUP(AM41,Herramientas!$H$3:$I$227,2,0))=M41,1,0)),\"\")","v":""},{"$f":"IFERROR(IF(N41=\"\",\"\",IF((VLOOKUP(AN41,Herramientas!$H$3:$I$227,2,0))=N41,1,0)),\"\")","v":""},{"$f":"IFERROR(IF(O41=\"\",\"\",IF((VLOOKUP(AO41,Herramientas!$H$3:$I$227,2,0))=O41,1,0)),\"\")","v":""},{"$f":"IFERROR(IF(P41=\"\",\"\",IF((VLOOKUP(AP41,Herramientas!$H$3:$I$227,2,0))=P41,1,0)),\"\")","v":""},{"$f":"IFERROR(IF(Q41=\"\",\"\",IF((VLOOKUP(AQ41,Herramientas!$H$3:$I$227,2,0))=Q41,1,0)),\"\")","v":""},{"$f":"IFERROR(IF(R41=\"\",\"\",IF((VLOOKUP(AR41,Herramientas!$H$3:$I$227,2,0))=R41,1,0)),\"\")","v":""},{"$f":"IFERROR(IF(S41=\"\",\"\",IF((VLOOKUP(AS41,Herramientas!$H$3:$I$227,2,0))=S41,1,0)),\"\")","v":""},{"$f":"IFERROR(IF(T41=\"\",\"\",IF((VLOOKUP(AT41,Herramientas!$H$3:$I$227,2,0))=T41,1,0)),\"\")","v":""},{"$f":"IFERROR(IF(U41=\"\",\"\",IF((VLOOKUP(AU41,Herramientas!$H$3:$I$227,2,0))=U41,1,0)),\"\")","v":""},{"$f":"IFERROR(IF(V41=\"\",\"\",IF((VLOOKUP(AV41,Herramientas!$H$3:$I$227,2,0))=V41,1,0)),\"\")","v":""},{"$f":"IFERROR(IF(W41=\"\",\"\",IF((VLOOKUP(AW41,Herramientas!$H$3:$I$227,2,0))=W41,1,0)),\"\")","v":""},{"$f":"IFERROR(IF(X41=\"\",\"\",IF((VLOOKUP(AX41,Herramientas!$H$3:$I$227,2,0))=X41,1,0)),\"\")","v":""},{"$f":"IFERROR(IF(Y41=\"\",\"\",IF((VLOOKUP(AY41,Herramientas!$H$3:$I$227,2,0))=Y41,1,0)),\"\")","v":""},{"$f":"IFERROR(IF(Z41=\"\",\"\",IF((VLOOKUP(AZ41,Herramientas!$H$3:$I$227,2,0))=Z41,1,0)),\"\")","v":""},{"$f":"IFERROR(IF(AA41=\"\",\"\",IF((VLOOKUP(BA41,Herramientas!$H$3:$I$227,2,0))=AA41,1,0)),\"\")","v":""},{"$f":"IFERROR(IF(AB41=\"\",\"\",IF((VLOOKUP(BB41,Herramientas!$H$3:$I$227,2,0))=AB41,1,0)),\"\")","v":""},null,0,0]
[35,null,null,null,null,null,null,null,null,null,null,null,null,null,null,null,null,null,null,null,null,null,null,null,null,null,null,null,null,"9.°-1","9.°-2","9.°-3","9.°-4","9.°-5","9.°-6","9.°-7","9.°-8","9.°-9","9.°-10","9.°-11","9.°-12","9.°-13","9.°-14","9.°-15","9.°-16","9.°-17","9.°-18","9.°-19","9.°-20","9.°-21","9.°-22","9.°-23","9.°-24","9.°-25",null,{"$f":"IFERROR(IF(D42=\"\",\"\",IF((VLOOKUP(AD42,Herramientas!$H$3:$I$227,2,0))=D42,1,0)),\"\")","v":""},{"$f":"IFERROR(IF(E42=\"\",\"\",IF((VLOOKUP(AE42,Herramientas!$H$3:$I$227,2,0))=E42,1,0)),\"\")","v":""},{"$f":"IFERROR(IF(F42=\"\",\"\",IF((VLOOKUP(AF42,Herramientas!$H$3:$I$227,2,0))=F42,1,0)),\"\")","v":""},{"$f":"IFERROR(IF(G42=\"\",\"\",IF((VLOOKUP(AG42,Herramientas!$H$3:$I$227,2,0))=G42,1,0)),\"\")","v":""},{"$f":"IFERROR(IF(H42=\"\",\"\",IF((VLOOKUP(AH42,Herramientas!$H$3:$I$227,2,0))=H42,1,0)),\"\")","v":""},{"$f":"IFERROR(IF(I42=\"\",\"\",IF((VLOOKUP(AI42,Herramientas!$H$3:$I$227,2,0))=I42,1,0)),\"\")","v":""},{"$f":"IFERROR(IF(J42=\"\",\"\",IF((VLOOKUP(AJ42,Herramientas!$H$3:$I$227,2,0))=J42,1,0)),\"\")","v":""},{"$f":"IFERROR(IF(K42=\"\",\"\",IF((VLOOKUP(AK42,Herramientas!$H$3:$I$227,2,0))=K42,1,0)),\"\")","v":""},{"$f":"IFERROR(IF(L42=\"\",\"\",IF((VLOOKUP(AL42,Herramientas!$H$3:$I$227,2,0))=L42,1,0)),\"\")","v":""},{"$f":"IFERROR(IF(M42=\"\",\"\",IF((VLOOKUP(AM42,Herramientas!$H$3:$I$227,2,0))=M42,1,0)),\"\")","v":""},{"$f":"IFERROR(IF(N42=\"\",\"\",IF((VLOOKUP(AN42,Herramientas!$H$3:$I$227,2,0))=N42,1,0)),\"\")","v":""},{"$f":"IFERROR(IF(O42=\"\",\"\",IF((VLOOKUP(AO42,Herramientas!$H$3:$I$227,2,0))=O42,1,0)),\"\")","v":""},{"$f":"IFERROR(IF(P42=\"\",\"\",IF((VLOOKUP(AP42,Herramientas!$H$3:$I$227,2,0))=P42,1,0)),\"\")","v":""},{"$f":"IFERROR(IF(Q42=\"\",\"\",IF((VLOOKUP(AQ42,Herramientas!$H$3:$I$227,2,0))=Q42,1,0)),\"\")","v":""},{"$f":"IFERROR(IF(R42=\"\",\"\",IF((VLOOKUP(AR42,Herramientas!$H$3:$I$227,2,0))=R42,1,0)),\"\")","v":""},{"$f":"IFERROR(IF(S42=\"\",\"\",IF((VLOOKUP(AS42,Herramientas!$H$3:$I$227,2,0))=S42,1,0)),\"\")","v":""},{"$f":"IFERROR(IF(T42=\"\",\"\",IF((VLOOKUP(AT42,Herramientas!$H$3:$I$227,2,0))=T42,1,0)),\"\")","v":""},{"$f":"IFERROR(IF(U42=\"\",\"\",IF((VLOOKUP(AU42,Herramientas!$H$3:$I$227,2,0))=U42,1,0)),\"\")","v":""},{"$f":"IFERROR(IF(V42=\"\",\"\",IF((VLOOKUP(AV42,Herramientas!$H$3:$I$227,2,0))=V42,1,0)),\"\")","v":""},{"$f":"IFERROR(IF(W42=\"\",\"\",IF((VLOOKUP(AW42,Herramientas!$H$3:$I$227,2,0))=W42,1,0)),\"\")","v":""},{"$f":"IFERROR(IF(X42=\"\",\"\",IF((VLOOKUP(AX42,Herramientas!$H$3:$I$227,2,0))=X42,1,0)),\"\")","v":""},{"$f":"IFERROR(IF(Y42=\"\",\"\",IF((VLOOKUP(AY42,Herramientas!$H$3:$I$227,2,0))=Y42,1,0)),\"\")","v":""},{"$f":"IFERROR(IF(Z42=\"\",\"\",IF((VLOOKUP(AZ42,Herramientas!$H$3:$I$227,2,0))=Z42,1,0)),\"\")","v":""},{"$f":"IFERROR(IF(AA42=\"\",\"\",IF((VLOOKUP(BA42,Herramientas!$H$3:$I$227,2,0))=AA42,1,0)),\"\")","v":""},{"$f":"IFERROR(IF(AB42=\"\",\"\",IF((VLOOKUP(BB42,Herramientas!$H$3:$I$227,2,0))=AB42,1,0)),\"\")","v":""},null,0,0]
[36,null,null,null,null,null,null,null,null,null,null,null,null,null,null,null,null,null,null,null,null,null,null,null,null,null,null,null,null,{"$f":"CONCATENATE($B$2,\"-\",D$7)","v":"9.°-1"},"9.°-2","9.°-3","9.°-4","9.°-5","9.°-6","9.°-7","9.°-8","9.°-9","9.°-10","9.°-11","9.°-12","9.°-13","9.°-14","9.°-15","9.°-16","9.°-17","9.°-18","9.°-19","9.°-20","9.°-21","9.°-22","9.°-23","9.°-24","9.°-25",null,{"$f":"IFERROR(IF(D43=\"\",\"\",IF((VLOOKUP(AD43,Herramientas!$H$3:$I$227,2,0))=D43,1,0)),\"\")","v":""},{"$f":"IFERROR(IF(E43=\"\",\"\",IF((VLOOKUP(AE43,Herramientas!$H$3:$I$227,2,0))=E43,1,0)),\"\")","v":""},{"$f":"IFERROR(IF(F43=\"\",\"\",IF((VLOOKUP(AF43,Herramientas!$H$3:$I$227,2,0))=F43,1,0)),\"\")","v":""},{"$f":"IFERROR(IF(G43=\"\",\"\",IF((VLOOKUP(AG43,Herramientas!$H$3:$I$227,2,0))=G43,1,0)),\"\")","v":""},{"$f":"IFERROR(IF(H43=\"\",\"\",IF((VLOOKUP(AH43,Herramientas!$H$3:$I$227,2,0))=H43,1,0)),\"\")","v":""},{"$f":"IFERROR(IF(I43=\"\",\"\",IF((VLOOKUP(AI43,Herramientas!$H$3:$I$227,2,0))=I43,1,0)),\"\")","v":""},{"$f":"IFERROR(IF(J43=\"\",\"\",IF((VLOOKUP(AJ43,Herramientas!$H$3:$I$227,2,0))=J43,1,0)),\"\")","v":""},{"$f":"IFERROR(IF(K43=\"\",\"\",IF((VLOOKUP(AK43,Herramientas!$H$3:$I$227,2,0))=K43,1,0)),\"\")","v":""},{"$f":"IFERROR(IF(L43=\"\",\"\",IF((VLOOKUP(AL43,Herramientas!$H$3:$I$227,2,0))=L43,1,0)),\"\")","v":""},{"$f":"IFERROR(IF(M43=\"\",\"\",IF((VLOOKUP(AM43,Herramientas!$H$3:$I$227,2,0))=M43,1,0)),\"\")","v":""},{"$f":"IFERROR(IF(N43=\"\",\"\",IF((VLOOKUP(AN43,Herramientas!$H$3:$I$227,2,0))=N43,1,0)),\"\")","v":""},{"$f":"IFERROR(IF(O43=\"\",\"\",IF((VLOOKUP(AO43,Herramientas!$H$3:$I$227,2,0))=O43,1,0)),\"\")","v":""},{"$f":"IFERROR(IF(P43=\"\",\"\",IF((VLOOKUP(AP43,Herramientas!$H$3:$I$227,2,0))=P43,1,0)),\"\")","v":""},{"$f":"IFERROR(IF(Q43=\"\",\"\",IF((VLOOKUP(AQ43,Herramientas!$H$3:$I$227,2,0))=Q43,1,0)),\"\")","v":""},{"$f":"IFERROR(IF(R43=\"\",\"\",IF((VLOOKUP(AR43,Herramientas!$H$3:$I$227,2,0))=R43,1,0)),\"\")","v":""},{"$f":"IFERROR(IF(S43=\"\",\"\",IF((VLOOKUP(AS43,Herramientas!$H$3:$I$227,2,0))=S43,1,0)),\"\")","v":""},{"$f":"IFERROR(IF(T43=\"\",\"\",IF((VLOOKUP(AT43,Herramientas!$H$3:$I$227,2,0))=T43,1,0)),\"\")","v":""},{"$f":"IFERROR(IF(U43=\"\",\"\",IF((VLOOKUP(AU43,Herramientas!$H$3:$I$227,2,0))=U43,1,0)),\"\")","v":""},{"$f":"IFERROR(IF(V43=\"\",\"\",IF((VLOOKUP(AV43,Herramientas!$H$3:$I$227,2,0))=V43,1,0)),\"\")","v":""},{"$f":"IFERROR(IF(W43=\"\",\"\",IF((VLOOKUP(AW43,Herramientas!$H$3:$I$227,2,0))=W43,1,0)),\"\")","v":""},{"$f":"IFERROR(IF(X43=\"\",\"\",IF((VLOOKUP(AX43,Herramientas!$H$3:$I$227,2,0))=X43,1,0)),\"\")","v":""},{"$f":"IFERROR(IF(Y43=\"\",\"\",IF((VLOOKUP(AY43,Herramientas!$H$3:$I$227,2,0))=Y43,1,0)),\"\")","v":""},{"$f":"IFERROR(IF(Z43=\"\",\"\",IF((VLOOKUP(AZ43,Herramientas!$H$3:$I$227,2,0))=Z43,1,0)),\"\")","v":""},{"$f":"IFERROR(IF(AA43=\"\",\"\",IF((VLOOKUP(BA43,Herramientas!$H$3:$I$227,2,0))=AA43,1,0)),\"\")","v":""},{"$f":"IFERROR(IF(AB43=\"\",\"\",IF((VLOOKUP(BB43,Herramientas!$H$3:$I$227,2,0))=AB43,1,0)),\"\")","v":""},null,0,0]
[37,null,null,null,null,null,null,null,null,null,null,null,null,null,null,null,null,null,null,null,null,null,null,null,null,null,null,null,null,{"$f":"CONCATENATE($B$2,\"-\",D$7)","v":"9.°-1"},"9.°-2","9.°-3","9.°-4","9.°-5","9.°-6","9.°-7","9.°-8","9.°-9","9.°-10","9.°-11","9.°-12","9.°-13","9.°-14","9.°-15","9.°-16","9.°-17","9.°-18","9.°-19","9.°-20","9.°-21","9.°-22","9.°-23","9.°-24","9.°-25",null,{"$f":"IFERROR(IF(D44=\"\",\"\",IF((VLOOKUP(AD44,Herramientas!$H$3:$I$227,2,0))=D44,1,0)),\"\")","v":""},{"$f":"IFERROR(IF(E44=\"\",\"\",IF((VLOOKUP(AE44,Herramientas!$H$3:$I$227,2,0))=E44,1,0)),\"\")","v":""},{"$f":"IFERROR(IF(F44=\"\",\"\",IF((VLOOKUP(AF44,Herramientas!$H$3:$I$227,2,0))=F44,1,0)),\"\")","v":""},{"$f":"IFERROR(IF(G44=\"\",\"\",IF((VLOOKUP(AG44,Herramientas!$H$3:$I$227,2,0))=G44,1,0)),\"\")","v":""},{"$f":"IFERROR(IF(H44=\"\",\"\",IF((VLOOKUP(AH44,Herramientas!$H$3:$I$227,2,0))=H44,1,0)),\"\")","v":""},{"$f":"IFERROR(IF(I44=\"\",\"\",IF((VLOOKUP(AI44,Herramientas!$H$3:$I$227,2,0))=I44,1,0)),\"\")","v":""},{"$f":"IFERROR(IF(J44=\"\",\"\",IF((VLOOKUP(AJ44,Herramientas!$H$3:$I$227,2,0))=J44,1,0)),\"\")","v":""},{"$f":"IFERROR(IF(K44=\"\",\"\",IF((VLOOKUP(AK44,Herramientas!$H$3:$I$227,2,0))=K44,1,0)),\"\")","v":""},{"$f":"IFERROR(IF(L44=\"\",\"\",IF((VLOOKUP(AL44,Herramientas!$H$3:$I$227,2,0))=L44,1,0)),\"\")","v":""},{"$f":"IFERROR(IF(M44=\"\",\"\",IF((VLOOKUP(AM44,Herramientas!$H$3:$I$227,2,0))=M44,1,0)),\"\")","v":""},{"$f":"IFERROR(IF(N44=\"\",\"\",IF((VLOOKUP(AN44,Herramientas!$H$3:$I$227,2,0))=N44,1,0)),\"\")","v":""},{"$f":"IFERROR(IF(O44=\"\",\"\",IF((VLOOKUP(AO44,Herramientas!$H$3:$I$227,2,0))=O44,1,0)),\"\")","v":""},{"$f":"IFERROR(IF(P44=\"\",\"\",IF((VLOOKUP(AP44,Herramientas!$H$3:$I$227,2,0))=P44,1,0)),\"\")","v":""},{"$f":"IFERROR(IF(Q44=\"\",\"\",IF((VLOOKUP(AQ44,Herramientas!$H$3:$I$227,2,0))=Q44,1,0)),\"\")","v":""},{"$f":"IFERROR(IF(R44=\"\",\"\",IF((VLOOKUP(AR44,Herramientas!$H$3:$I$227,2,0))=R44,1,0)),\"\")","v":""},{"$f":"IFERROR(IF(S44=\"\",\"\",IF((VLOOKUP(AS44,Herramientas!$H$3:$I$227,2,0))=S44,1,0)),\"\")","v":""},{"$f":"IFERROR(IF(T44=\"\",\"\",IF((VLOOKUP(AT44,Herramientas!$H$3:$I$227,2,0))=T44,1,0)),\"\")","v":""},{"$f":"IFERROR(IF(U44=\"\",\"\",IF((VLOOKUP(AU44,Herramientas!$H$3:$I$227,2,0))=U44,1,0)),\"\")","v":""},{"$f":"IFERROR(IF(V44=\"\",\"\",IF((VLOOKUP(AV44,Herramientas!$H$3:$I$227,2,0))=V44,1,0)),\"\")","v":""},{"$f":"IFERROR(IF(W44=\"\",\"\",IF((VLOOKUP(AW44,Herramientas!$H$3:$I$227,2,0))=W44,1,0)),\"\")","v":""},{"$f":"IFERROR(IF(X44=\"\",\"\",IF((VLOOKUP(AX44,Herramientas!$H$3:$I$227,2,0))=X44,1,0)),\"\")","v":""},{"$f":"IFERROR(IF(Y44=\"\",\"\",IF((VLOOKUP(AY44,Herramientas!$H$3:$I$227,2,0))=Y44,1,0)),\"\")","v":""},{"$f":"IFERROR(IF(Z44=\"\",\"\",IF((VLOOKUP(AZ44,Herramientas!$H$3:$I$227,2,0))=Z44,1,0)),\"\")","v":""},{"$f":"IFERROR(IF(AA44=\"\",\"\",IF((VLOOKUP(BA44,Herramientas!$H$3:$I$227,2,0))=AA44,1,0)),\"\")","v":""},{"$f":"IFERROR(IF(AB44=\"\",\"\",IF((VLOOKUP(BB44,Herramientas!$H$3:$I$227,2,0))=AB44,1,0)),\"\")","v":""},null,0,0]
[38,null,null,null,null,null,null,null,null,null,null,null,null,null,null,null,null,null,null,null,null,null,null,null,null,null,null,null,null,"9.°-1","9.°-2","9.°-3","9.°-4","9.°-5","9.°-6","9.°-7","9.°-8","9.°-9","9.°-10","9.°-11","9.°-12","9.°-13","9.°-14","9.°-15","9.°-16","9.°-17","9.°-18","9.°-19","9.°-20","9.°-21","9.°-22","9.°-23","9.°-24","9.°-25",null,{"$f":"IFERROR(IF(D45=\"\",\"\",IF((VLOOKUP(AD45,Herramientas!$H$3:$I$227,2,0))=D45,1,0)),\"\")","v":""},{"$f":"IFERROR(IF(E45=\"\",\"\",IF((VLOOKUP(AE45,Herramientas!$H$3:$I$227,2,0))=E45,1,0)),\"\")","v":""},{"$f":"IFERROR(IF(F45=\"\",\"\",IF((VLOOKUP(AF45,Herramientas!$H$3:$I$227,2,0))=F45,1,0)),\"\")","v":""},{"$f":"IFERROR(IF(G45=\"\",\"\",IF((VLOOKUP(AG45,Herramientas!$H$3:$I$227,2,0))=G45,1,0)),\"\")","v":""},{"$f":"IFERROR(IF(H45=\"\",\"\",IF((VLOOKUP(AH45,Herramientas!$H$3:$I$227,2,0))=H45,1,0)),\"\")","v":""},{"$f":"IFERROR(IF(I45=\"\",\"\",IF((VLOOKUP(AI45,Herramientas!$H$3:$I$227,2,0))=I45,1,0)),\"\")","v":""},{"$f":"IFERROR(IF(J45=\"\",\"\",IF((VLOOKUP(AJ45,Herramientas!$H$3:$I$227,2,0))=J45,1,0)),\"\")","v":""},{"$f":"IFERROR(IF(K45=\"\",\"\",IF((VLOOKUP(AK45,Herramientas!$H$3:$I$227,2,0))=K45,1,0)),\"\")","v":""},{"$f":"IFERROR(IF(L45=\"\",\"\",IF((VLOOKUP(AL45,Herramientas!$H$3:$I$227,2,0))=L45,1,0)),\"\")","v":""},{"$f":"IFERROR(IF(M45=\"\",\"\",IF((VLOOKUP(AM45,Herramientas!$H$3:$I$227,2,0))=M45,1,0)),\"\")","v":""},{"$f":"IFERROR(IF(N45=\"\",\"\",IF((VLOOKUP(AN45,Herramientas!$H$3:$I$227,2,0))=N45,1,0)),\"\")","v":""},{"$f":"IFERROR(IF(O45=\"\",\"\",IF((VLOOKUP(AO45,Herramientas!$H$3:$I$227,2,0))=O45,1,0)),\"\")","v":""},{"$f":"IFERROR(IF(P45=\"\",\"\",IF((VLOOKUP(AP45,Herramientas!$H$3:$I$227,2,0))=P45,1,0)),\"\")","v":""},{"$f":"IFERROR(IF(Q45=\"\",\"\",IF((VLOOKUP(AQ45,Herramientas!$H$3:$I$227,2,0))=Q45,1,0)),\"\")","v":""},{"$f":"IFERROR(IF(R45=\"\",\"\",IF((VLOOKUP(AR45,Herramientas!$H$3:$I$227,2,0))=R45,1,0)),\"\")","v":""},{"$f":"IFERROR(IF(S45=\"\",\"\",IF((VLOOKUP(AS45,Herramientas!$H$3:$I$227,2,0))=S45,1,0)),\"\")","v":""},{"$f":"IFERROR(IF(T45=\"\",\"\",IF((VLOOKUP(AT45,Herramientas!$H$3:$I$227,2,0))=T45,1,0)),\"\")","v":""},{"$f":"IFERROR(IF(U45=\"\",\"\",IF((VLOOKUP(AU45,Herramientas!$H$3:$I$227,2,0))=U45,1,0)),\"\")","v":""},{"$f":"IFERROR(IF(V45=\"\",\"\",IF((VLOOKUP(AV45,Herramientas!$H$3:$I$227,2,0))=V45,1,0)),\"\")","v":""},{"$f":"IFERROR(IF(W45=\"\",\"\",IF((VLOOKUP(AW45,Herramientas!$H$3:$I$227,2,0))=W45,1,0)),\"\")","v":""},{"$f":"IFERROR(IF(X45=\"\",\"\",IF((VLOOKUP(AX45,Herramientas!$H$3:$I$227,2,0))=X45,1,0)),\"\")","v":""},{"$f":"IFERROR(IF(Y45=\"\",\"\",IF((VLOOKUP(AY45,Herramientas!$H$3:$I$227,2,0))=Y45,1,0)),\"\")","v":""},{"$f":"IFERROR(IF(Z45=\"\",\"\",IF((VLOOKUP(AZ45,Herramientas!$H$3:$I$227,2,0))=Z45,1,0)),\"\")","v":""},{"$f":"IFERROR(IF(AA45=\"\",\"\",IF((VLOOKUP(BA45,Herramientas!$H$3:$I$227,2,0))=AA45,1,0)),\"\")","v":""},{"$f":"IFERROR(IF(AB45=\"\",\"\",IF((VLOOKUP(BB45,Herramientas!$H$3:$I$227,2,0))=AB45,1,0)),\"\")","v":""},null,0,0]
[39,null,null,null,null,null,null,null,null,null,null,null,null,null,null,null,null,null,null,null,null,null,null,null,null,null,null,null,null,"9.°-1","9.°-2","9.°-3","9.°-4","9.°-5","9.°-6","9.°-7","9.°-8","9.°-9","9.°-10","9.°-11","9.°-12","9.°-13","9.°-14","9.°-15","9.°-16","9.°-17","9.°-18","9.°-19","9.°-20","9.°-21","9.°-22","9.°-23","9.°-24","9.°-25",null,{"$f":"IFERROR(IF(D46=\"\",\"\",IF((VLOOKUP(AD46,Herramientas!$H$3:$I$227,2,0))=D46,1,0)),\"\")","v":""},{"$f":"IFERROR(IF(E46=\"\",\"\",IF((VLOOKUP(AE46,Herramientas!$H$3:$I$227,2,0))=E46,1,0)),\"\")","v":""},{"$f":"IFERROR(IF(F46=\"\",\"\",IF((VLOOKUP(AF46,Herramientas!$H$3:$I$227,2,0))=F46,1,0)),\"\")","v":""},{"$f":"IFERROR(IF(G46=\"\",\"\",IF((VLOOKUP(AG46,Herramientas!$H$3:$I$227,2,0))=G46,1,0)),\"\")","v":""},{"$f":"IFERROR(IF(H46=\"\",\"\",IF((VLOOKUP(AH46,Herramientas!$H$3:$I$227,2,0))=H46,1,0)),\"\")","v":""},{"$f":"IFERROR(IF(I46=\"\",\"\",IF((VLOOKUP(AI46,Herramientas!$H$3:$I$227,2,0))=I46,1,0)),\"\")","v":""},{"$f":"IFERROR(IF(J46=\"\",\"\",IF((VLOOKUP(AJ46,Herramientas!$H$3:$I$227,2,0))=J46,1,0)),\"\")","v":""},{"$f":"IFERROR(IF(K46=\"\",\"\",IF((VLOOKUP(AK46,Herramientas!$H$3:$I$227,2,0))=K46,1,0)),\"\")","v":""},{"$f":"IFERROR(IF(L46=\"\",\"\",IF((VLOOKUP(AL46,Herramientas!$H$3:$I$227,2,0))=L46,1,0)),\"\")","v":""},{"$f":"IFERROR(IF(M46=\"\",\"\",IF((VLOOKUP(AM46,Herramientas!$H$3:$I$227,2,0))=M46,1,0)),\"\")","v":""},{"$f":"IFERROR(IF(N46=\"\",\"\",IF((VLOOKUP(AN46,Herramientas!$H$3:$I$227,2,0))=N46,1,0)),\"\")","v":""},{"$f":"IFERROR(IF(O46=\"\",\"\",IF((VLOOKUP(AO46,Herramientas!$H$3:$I$227,2,0))=O46,1,0)),\"\")","v":""},{"$f":"IFERROR(IF(P46=\"\",\"\",IF((VLOOKUP(AP46,Herramientas!$H$3:$I$227,2,0))=P46,1,0)),\"\")","v":""},{"$f":"IFERROR(IF(Q46=\"\",\"\",IF((VLOOKUP(AQ46,Herramientas!$H$3:$I$227,2,0))=Q46,1,0)),\"\")","v":""},{"$f":"IFERROR(IF(R46=\"\",\"\",IF((VLOOKUP(AR46,Herramientas!$H$3:$I$227,2,0))=R46,1,0)),\"\")","v":""},{"$f":"IFERROR(IF(S46=\"\",\"\",IF((VLOOKUP(AS46,Herramientas!$H$3:$I$227,2,0))=S46,1,0)),\"\")","v":""},{"$f":"IFERROR(IF(T46=\"\",\"\",IF((VLOOKUP(AT46,Herramientas!$H$3:$I$227,2,0))=T46,1,0)),\"\")","v":""},{"$f":"IFERROR(IF(U46=\"\",\"\",IF((VLOOKUP(AU46,Herramientas!$H$3:$I$227,2,0))=U46,1,0)),\"\")","v":""},{"$f":"IFERROR(IF(V46=\"\",\"\",IF((VLOOKUP(AV46,Herramientas!$H$3:$I$227,2,0))=V46,1,0)),\"\")","v":""},{"$f":"IFERROR(IF(W46=\"\",\"\",IF((VLOOKUP(AW46,Herramientas!$H$3:$I$227,2,0))=W46,1,0)),\"\")","v":""},{"$f":"IFERROR(IF(X46=\"\",\"\",IF((VLOOKUP(AX46,Herramientas!$H$3:$I$227,2,0))=X46,1,0)),\"\")","v":""},{"$f":"IFERROR(IF(Y46=\"\",\"\",IF((VLOOKUP(AY46,Herramientas!$H$3:$I$227,2,0))=Y46,1,0)),\"\")","v":""},{"$f":"IFERROR(IF(Z46=\"\",\"\",IF((VLOOKUP(AZ46,Herramientas!$H$3:$I$227,2,0))=Z46,1,0)),\"\")","v":""},{"$f":"IFERROR(IF(AA46=\"\",\"\",IF((VLOOKUP(BA46,Herramientas!$H$3:$I$227,2,0))=AA46,1,0)),\"\")","v":""},{"$f":"IFERROR(IF(AB46=\"\",\"\",IF((VLOOKUP(BB46,Herramientas!$H$3:$I$227,2,0))=AB46,1,0)),\"\")","v":""},null,0,0]
[40,null,null,null,null,null,null,null,null,null,null,null,null,null,null,null,null,null,null,null,null,null,null,null,null,null,null,null,null,"9.°-1","9.°-2","9.°-3","9.°-4","9.°-5","9.°-6","9.°-7","9.°-8","9.°-9","9.°-10","9.°-11","9.°-12","9.°-13","9.°-14","9.°-15","9.°-16","9.°-17","9.°-18","9.°-19","9.°-20","9.°-21","9.°-22","9.°-23","9.°-24","9.°-25",null,{"$f":"IFERROR(IF(D47=\"\",\"\",IF((VLOOKUP(AD47,Herramientas!$H$3:$I$227,2,0))=D47,1,0)),\"\")","v":""},{"$f":"IFERROR(IF(E47=\"\",\"\",IF((VLOOKUP(AE47,Herramientas!$H$3:$I$227,2,0))=E47,1,0)),\"\")","v":""},{"$f":"IFERROR(IF(F47=\"\",\"\",IF((VLOOKUP(AF47,Herramientas!$H$3:$I$227,2,0))=F47,1,0)),\"\")","v":""},{"$f":"IFERROR(IF(G47=\"\",\"\",IF((VLOOKUP(AG47,Herramientas!$H$3:$I$227,2,0))=G47,1,0)),\"\")","v":""},{"$f":"IFERROR(IF(H47=\"\",\"\",IF((VLOOKUP(AH47,Herramientas!$H$3:$I$227,2,0))=H47,1,0)),\"\")","v":""},{"$f":"IFERROR(IF(I47=\"\",\"\",IF((VLOOKUP(AI47,Herramientas!$H$3:$I$227,2,0))=I47,1,0)),\"\")","v":""},{"$f":"IFERROR(IF(J47=\"\",\"\",IF((VLOOKUP(AJ47,Herramientas!$H$3:$I$227,2,0))=J47,1,0)),\"\")","v":""},{"$f":"IFERROR(IF(K47=\"\",\"\",IF((VLOOKUP(AK47,Herramientas!$H$3:$I$227,2,0))=K47,1,0)),\"\")","v":""},{"$f":"IFERROR(IF(L47=\"\",\"\",IF((VLOOKUP(AL47,Herramientas!$H$3:$I$227,2,0))=L47,1,0)),\"\")","v":""},{"$f":"IFERROR(IF(M47=\"\",\"\",IF((VLOOKUP(AM47,Herramientas!$H$3:$I$227,2,0))=M47,1,0)),\"\")","v":""},{"$f":"IFERROR(IF(N47=\"\",\"\",IF((VLOOKUP(AN47,Herramientas!$H$3:$I$227,2,0))=N47,1,0)),\"\")","v":""},{"$f":"IFERROR(IF(O47=\"\",\"\",IF((VLOOKUP(AO47,Herramientas!$H$3:$I$227,2,0))=O47,1,0)),\"\")","v":""},{"$f":"IFERROR(IF(P47=\"\",\"\",IF((VLOOKUP(AP47,Herramientas!$H$3:$I$227,2,0))=P47,1,0)),\"\")","v":""},{"$f":"IFERROR(IF(Q47=\"\",\"\",IF((VLOOKUP(AQ47,Herramientas!$H$3:$I$227,2,0))=Q47,1,0)),\"\")","v":""},{"$f":"IFERROR(IF(R47=\"\",\"\",IF((VLOOKUP(AR47,Herramientas!$H$3:$I$227,2,0))=R47,1,0)),\"\")","v":""},{"$f":"IFERROR(IF(S47=\"\",\"\",IF((VLOOKUP(AS47,Herramientas!$H$3:$I$227,2,0))=S47,1,0)),\"\")","v":""},{"$f":"IFERROR(IF(T47=\"\",\"\",IF((VLOOKUP(AT47,Herramientas!$H$3:$I$227,2,0))=T47,1,0)),\"\")","v":""},{"$f":"IFERROR(IF(U47=\"\",\"\",IF((VLOOKUP(AU47,Herramientas!$H$3:$I$227,2,0))=U47,1,0)),\"\")","v":""},{"$f":"IFERROR(IF(V47=\"\",\"\",IF((VLOOKUP(AV47,Herramientas!$H$3:$I$227,2,0))=V47,1,0)),\"\")","v":""},{"$f":"IFERROR(IF(W47=\"\",\"\",IF((VLOOKUP(AW47,Herramientas!$H$3:$I$227,2,0))=W47,1,0)),\"\")","v":""},{"$f":"IFERROR(IF(X47=\"\",\"\",IF((VLOOKUP(AX47,Herramientas!$H$3:$I$227,2,0))=X47,1,0)),\"\")","v":""},{"$f":"IFERROR(IF(Y47=\"\",\"\",IF((VLOOKUP(AY47,Herramientas!$H$3:$I$227,2,0))=Y47,1,0)),\"\")","v":""},{"$f":"IFERROR(IF(Z47=\"\",\"\",IF((VLOOKUP(AZ47,Herramientas!$H$3:$I$227,2,0))=Z47,1,0)),\"\")","v":""},{"$f":"IFERROR(IF(AA47=\"\",\"\",IF((VLOOKUP(BA47,Herramientas!$H$3:$I$227,2,0))=AA47,1,0)),\"\")","v":""},{"$f":"IFERROR(IF(AB47=\"\",\"\",IF((VLOOKUP(BB47,Herramientas!$H$3:$I$227,2,0))=AB47,1,0)),\"\")","v":""},null,0,0]
[41,null,null,null,null,null,null,null,null,null,null,null,null,null,null,null,null,null,null,null,null,null,null,null,null,null,null,null,null,"9.°-1","9.°-2","9.°-3","9.°-4","9.°-5","9.°-6","9.°-7","9.°-8","9.°-9","9.°-10","9.°-11","9.°-12","9.°-13","9.°-14","9.°-15","9.°-16","9.°-17","9.°-18","9.°-19","9.°-20","9.°-21","9.°-22","9.°-23","9.°-24","9.°-25",null,{"$f":"IFERROR(IF(D48=\"\",\"\",IF((VLOOKUP(AD48,Herramientas!$H$3:$I$227,2,0))=D48,1,0)),\"\")","v":""},{"$f":"IFERROR(IF(E48=\"\",\"\",IF((VLOOKUP(AE48,Herramientas!$H$3:$I$227,2,0))=E48,1,0)),\"\")","v":""},{"$f":"IFERROR(IF(F48=\"\",\"\",IF((VLOOKUP(AF48,Herramientas!$H$3:$I$227,2,0))=F48,1,0)),\"\")","v":""},{"$f":"IFERROR(IF(G48=\"\",\"\",IF((VLOOKUP(AG48,Herramientas!$H$3:$I$227,2,0))=G48,1,0)),\"\")","v":""},{"$f":"IFERROR(IF(H48=\"\",\"\",IF((VLOOKUP(AH48,Herramientas!$H$3:$I$227,2,0))=H48,1,0)),\"\")","v":""},{"$f":"IFERROR(IF(I48=\"\",\"\",IF((VLOOKUP(AI48,Herramientas!$H$3:$I$227,2,0))=I48,1,0)),\"\")","v":""},{"$f":"IFERROR(IF(J48=\"\",\"\",IF((VLOOKUP(AJ48,Herramientas!$H$3:$I$227,2,0))=J48,1,0)),\"\")","v":""},{"$f":"IFERROR(IF(K48=\"\",\"\",IF((VLOOKUP(AK48,Herramientas!$H$3:$I$227,2,0))=K48,1,0)),\"\")","v":""},{"$f":"IFERROR(IF(L48=\"\",\"\",IF((VLOOKUP(AL48,Herramientas!$H$3:$I$227,2,0))=L48,1,0)),\"\")","v":""},{"$f":"IFERROR(IF(M48=\"\",\"\",IF((VLOOKUP(AM48,Herramientas!$H$3:$I$227,2,0))=M48,1,0)),\"\")","v":""},{"$f":"IFERROR(IF(N48=\"\",\"\",IF((VLOOKUP(AN48,Herramientas!$H$3:$I$227,2,0))=N48,1,0)),\"\")","v":""},{"$f":"IFERROR(IF(O48=\"\",\"\",IF((VLOOKUP(AO48,Herramientas!$H$3:$I$227,2,0))=O48,1,0)),\"\")","v":""},{"$f":"IFERROR(IF(P48=\"\",\"\",IF((VLOOKUP(AP48,Herramientas!$H$3:$I$227,2,0))=P48,1,0)),\"\")","v":""},{"$f":"IFERROR(IF(Q48=\"\",\"\",IF((VLOOKUP(AQ48,Herramientas!$H$3:$I$227,2,0))=Q48,1,0)),\"\")","v":""},{"$f":"IFERROR(IF(R48=\"\",\"\",IF((VLOOKUP(AR48,Herramientas!$H$3:$I$227,2,0))=R48,1,0)),\"\")","v":""},{"$f":"IFERROR(IF(S48=\"\",\"\",IF((VLOOKUP(AS48,Herramientas!$H$3:$I$227,2,0))=S48,1,0)),\"\")","v":""},{"$f":"IFERROR(IF(T48=\"\",\"\",IF((VLOOKUP(AT48,Herramientas!$H$3:$I$227,2,0))=T48,1,0)),\"\")","v":""},{"$f":"IFERROR(IF(U48=\"\",\"\",IF((VLOOKUP(AU48,Herramientas!$H$3:$I$227,2,0))=U48,1,0)),\"\")","v":""},{"$f":"IFERROR(IF(V48=\"\",\"\",IF((VLOOKUP(AV48,Herramientas!$H$3:$I$227,2,0))=V48,1,0)),\"\")","v":""},{"$f":"IFERROR(IF(W48=\"\",\"\",IF((VLOOKUP(AW48,Herramientas!$H$3:$I$227,2,0))=W48,1,0)),\"\")","v":""},{"$f":"IFERROR(IF(X48=\"\",\"\",IF((VLOOKUP(AX48,Herramientas!$H$3:$I$227,2,0))=X48,1,0)),\"\")","v":""},{"$f":"IFERROR(IF(Y48=\"\",\"\",IF((VLOOKUP(AY48,Herramientas!$H$3:$I$227,2,0))=Y48,1,0)),\"\")","v":""},{"$f":"IFERROR(IF(Z48=\"\",\"\",IF((VLOOKUP(AZ48,Herramientas!$H$3:$I$227,2,0))=Z48,1,0)),\"\")","v":""},{"$f":"IFERROR(IF(AA48=\"\",\"\",IF((VLOOKUP(BA48,Herramientas!$H$3:$I$227,2,0))=AA48,1,0)),\"\")","v":""},{"$f":"IFERROR(IF(AB48=\"\",\"\",IF((VLOOKUP(BB48,Herramientas!$H$3:$I$227,2,0))=AB48,1,0)),\"\")","v":""},null,0,0]
[42,null,null,null,null,null,null,null,null,null,null,null,null,null,null,null,null,null,null,null,null,null,null,null,null,null,null,null,null,"9.°-1","9.°-2","9.°-3","9.°-4","9.°-5","9.°-6","9.°-7","9.°-8","9.°-9","9.°-10","9.°-11","9.°-12","9.°-13","9.°-14","9.°-15","9.°-16","9.°-17","9.°-18","9.°-19","9.°-20","9.°-21","9.°-22","9.°-23","9.°-24","9.°-25",null,{"$f":"IFERROR(IF(D49=\"\",\"\",IF((VLOOKUP(AD49,Herramientas!$H$3:$I$227,2,0))=D49,1,0)),\"\")","v":""},{"$f":"IFERROR(IF(E49=\"\",\"\",IF((VLOOKUP(AE49,Herramientas!$H$3:$I$227,2,0))=E49,1,0)),\"\")","v":""},{"$f":"IFERROR(IF(F49=\"\",\"\",IF((VLOOKUP(AF49,Herramientas!$H$3:$I$227,2,0))=F49,1,0)),\"\")","v":""},{"$f":"IFERROR(IF(G49=\"\",\"\",IF((VLOOKUP(AG49,Herramientas!$H$3:$I$227,2,0))=G49,1,0)),\"\")","v":""},{"$f":"IFERROR(IF(H49=\"\",\"\",IF((VLOOKUP(AH49,Herramientas!$H$3:$I$227,2,0))=H49,1,0)),\"\")","v":""},{"$f":"IFERROR(IF(I49=\"\",\"\",IF((VLOOKUP(AI49,Herramientas!$H$3:$I$227,2,0))=I49,1,0)),\"\")","v":""},{"$f":"IFERROR(IF(J49=\"\",\"\",IF((VLOOKUP(AJ49,Herramientas!$H$3:$I$227,2,0))=J49,1,0)),\"\")","v":""},{"$f":"IFERROR(IF(K49=\"\",\"\",IF((VLOOKUP(AK49,Herramientas!$H$3:$I$227,2,0))=K49,1,0)),\"\")","v":""},{"$f":"IFERROR(IF(L49=\"\",\"\",IF((VLOOKUP(AL49,Herramientas!$H$3:$I$227,2,0))=L49,1,0)),\"\")","v":""},{"$f":"IFERROR(IF(M49=\"\",\"\",IF((VLOOKUP(AM49,Herramientas!$H$3:$I$227,2,0))=M49,1,0)),\"\")","v":""},{"$f":"IFERROR(IF(N49=\"\",\"\",IF((VLOOKUP(AN49,Herramientas!$H$3:$I$227,2,0))=N49,1,0)),\"\")","v":""},{"$f":"IFERROR(IF(O49=\"\",\"\",IF((VLOOKUP(AO49,Herramientas!$H$3:$I$227,2,0))=O49,1,0)),\"\")","v":""},{"$f":"IFERROR(IF(P49=\"\",\"\",IF((VLOOKUP(AP49,Herramientas!$H$3:$I$227,2,0))=P49,1,0)),\"\")","v":""},{"$f":"IFERROR(IF(Q49=\"\",\"\",IF((VLOOKUP(AQ49,Herramientas!$H$3:$I$227,2,0))=Q49,1,0)),\"\")","v":""},{"$f":"IFERROR(IF(R49=\"\",\"\",IF((VLOOKUP(AR49,Herramientas!$H$3:$I$227,2,0))=R49,1,0)),\"\")","v":""},{"$f":"IFERROR(IF(S49=\"\",\"\",IF((VLOOKUP(AS49,Herramientas!$H$3:$I$227,2,0))=S49,1,0)),\"\")","v":""},{"$f":"IFERROR(IF(T49=\"\",\"\",IF((VLOOKUP(AT49,Herramientas!$H$3:$I$227,2,0))=T49,1,0)),\"\")","v":""},{"$f":"IFERROR(IF(U49=\"\",\"\",IF((VLOOKUP(AU49,Herramientas!$H$3:$I$227,2,0))=U49,1,0)),\"\")","v":""},{"$f":"IFERROR(IF(V49=\"\",\"\",IF((VLOOKUP(AV49,Herramientas!$H$3:$I$227,2,0))=V49,1,0)),\"\")","v":""},{"$f":"IFERROR(IF(W49=\"\",\"\",IF((VLOOKUP(AW49,Herramientas!$H$3:$I$227,2,0))=W49,1,0)),\"\")","v":""},{"$f":"IFERROR(IF(X49=\"\",\"\",IF((VLOOKUP(AX49,Herramientas!$H$3:$I$227,2,0))=X49,1,0)),\"\")","v":""},{"$f":"IFERROR(IF(Y49=\"\",\"\",IF((VLOOKUP(AY49,Herramientas!$H$3:$I$227,2,0))=Y49,1,0)),\"\")","v":""},{"$f":"IFERROR(IF(Z49=\"\",\"\",IF((VLOOKUP(AZ49,Herramientas!$H$3:$I$227,2,0))=Z49,1,0)),\"\")","v":""},{"$f":"IFERROR(IF(AA49=\"\",\"\",IF((VLOOKUP(BA49,Herramientas!$H$3:$I$227,2,0))=AA49,1,0)),\"\")","v":""},{"$f":"IFERROR(IF(AB49=\"\",\"\",IF((VLOOKUP(BB49,Herramientas!$H$3:$I$227,2,0))=AB49,1,0)),\"\")","v":""},null,0,0]
[43,null,null,null,null,null,null,null,null,null,null,null,null,null,null,null,null,null,null,null,null,null,null,null,null,null,null,null,null,"9.°-1","9.°-2","9.°-3","9.°-4","9.°-5","9.°-6","9.°-7","9.°-8","9.°-9","9.°-10","9.°-11","9.°-12","9.°-13","9.°-14","9.°-15","9.°-16","9.°-17","9.°-18","9.°-19","9.°-20","9.°-21","9.°-22","9.°-23","9.°-24","9.°-25",null,{"$f":"IFERROR(IF(D50=\"\",\"\",IF((VLOOKUP(AD50,Herramientas!$H$3:$I$227,2,0))=D50,1,0)),\"\")","v":""},{"$f":"IFERROR(IF(E50=\"\",\"\",IF((VLOOKUP(AE50,Herramientas!$H$3:$I$227,2,0))=E50,1,0)),\"\")","v":""},{"$f":"IFERROR(IF(F50=\"\",\"\",IF((VLOOKUP(AF50,Herramientas!$H$3:$I$227,2,0))=F50,1,0)),\"\")","v":""},{"$f":"IFERROR(IF(G50=\"\",\"\",IF((VLOOKUP(AG50,Herramientas!$H$3:$I$227,2,0))=G50,1,0)),\"\")","v":""},{"$f":"IFERROR(IF(H50=\"\",\"\",IF((VLOOKUP(AH50,Herramientas!$H$3:$I$227,2,0))=H50,1,0)),\"\")","v":""},{"$f":"IFERROR(IF(I50=\"\",\"\",IF((VLOOKUP(AI50,Herramientas!$H$3:$I$227,2,0))=I50,1,0)),\"\")","v":""},{"$f":"IFERROR(IF(J50=\"\",\"\",IF((VLOOKUP(AJ50,Herramientas!$H$3:$I$227,2,0))=J50,1,0)),\"\")","v":""},{"$f":"IFERROR(IF(K50=\"\",\"\",IF((VLOOKUP(AK50,Herramientas!$H$3:$I$227,2,0))=K50,1,0)),\"\")","v":""},{"$f":"IFERROR(IF(L50=\"\",\"\",IF((VLOOKUP(AL50,Herramientas!$H$3:$I$227,2,0))=L50,1,0)),\"\")","v":""},{"$f":"IFERROR(IF(M50=\"\",\"\",IF((VLOOKUP(AM50,Herramientas!$H$3:$I$227,2,0))=M50,1,0)),\"\")","v":""},{"$f":"IFERROR(IF(N50=\"\",\"\",IF((VLOOKUP(AN50,Herramientas!$H$3:$I$227,2,0))=N50,1,0)),\"\")","v":""},{"$f":"IFERROR(IF(O50=\"\",\"\",IF((VLOOKUP(AO50,Herramientas!$H$3:$I$227,2,0))=O50,1,0)),\"\")","v":""},{"$f":"IFERROR(IF(P50=\"\",\"\",IF((VLOOKUP(AP50,Herramientas!$H$3:$I$227,2,0))=P50,1,0)),\"\")","v":""},{"$f":"IFERROR(IF(Q50=\"\",\"\",IF((VLOOKUP(AQ50,Herramientas!$H$3:$I$227,2,0))=Q50,1,0)),\"\")","v":""},{"$f":"IFERROR(IF(R50=\"\",\"\",IF((VLOOKUP(AR50,Herramientas!$H$3:$I$227,2,0))=R50,1,0)),\"\")","v":""},{"$f":"IFERROR(IF(S50=\"\",\"\",IF((VLOOKUP(AS50,Herramientas!$H$3:$I$227,2,0))=S50,1,0)),\"\")","v":""},{"$f":"IFERROR(IF(T50=\"\",\"\",IF((VLOOKUP(AT50,Herramientas!$H$3:$I$227,2,0))=T50,1,0)),\"\")","v":""},{"$f":"IFERROR(IF(U50=\"\",\"\",IF((VLOOKUP(AU50,Herramientas!$H$3:$I$227,2,0))=U50,1,0)),\"\")","v":""},{"$f":"IFERROR(IF(V50=\"\",\"\",IF((VLOOKUP(AV50,Herramientas!$H$3:$I$227,2,0))=V50,1,0)),\"\")","v":""},{"$f":"IFERROR(IF(W50=\"\",\"\",IF((VLOOKUP(AW50,Herramientas!$H$3:$I$227,2,0))=W50,1,0)),\"\")","v":""},{"$f":"IFERROR(IF(X50=\"\",\"\",IF((VLOOKUP(AX50,Herramientas!$H$3:$I$227,2,0))=X50,1,0)),\"\")","v":""},{"$f":"IFERROR(IF(Y50=\"\",\"\",IF((VLOOKUP(AY50,Herramientas!$H$3:$I$227,2,0))=Y50,1,0)),\"\")","v":""},{"$f":"IFERROR(IF(Z50=\"\",\"\",IF((VLOOKUP(AZ50,Herramientas!$H$3:$I$227,2,0))=Z50,1,0)),\"\")","v":""},{"$f":"IFERROR(IF(AA50=\"\",\"\",IF((VLOOKUP(BA50,Herramientas!$H$3:$I$227,2,0))=AA50,1,0)),\"\")","v":""},{"$f":"IFERROR(IF(AB50=\"\",\"\",IF((VLOOKUP(BB50,Herramientas!$H$3:$I$227,2,0))=AB50,1,0)),\"\")","v":""},null,0,0]
[44,null,null,null,null,null,null,null,null,null,null,null,null,null,null,null,null,null,null,null,null,null,null,null,null,null,null,null,null,{"$f":"CONCATENATE($B$2,\"-\",D$7)","v":"9.°-1"},{"$f":"CONCATENATE($B$2,\"-\",E$7)","v":"9.°-2"},"9.°-3","9.°-4","9.°-5","9.°-6","9.°-7","9.°-8","9.°-9","9.°-10","9.°-11","9.°-12","9.°-13","9.°-14","9.°-15","9.°-16","9.°-17","9.°-18","9.°-19","9.°-20","9.°-21","9.°-22","9.°-23","9.°-24","9.°-25",null,{"$f":"IFERROR(IF(D51=\"\",\"\",IF((VLOOKUP(AD51,Herramientas!$H$3:$I$227,2,0))=D51,1,0)),\"\")","v":""},{"$f":"IFERROR(IF(E51=\"\",\"\",IF((VLOOKUP(AE51,Herramientas!$H$3:$I$227,2,0))=E51,1,0)),\"\")","v":""},{"$f":"IFERROR(IF(F51=\"\",\"\",IF((VLOOKUP(AF51,Herramientas!$H$3:$I$227,2,0))=F51,1,0)),\"\")","v":""},{"$f":"IFERROR(IF(G51=\"\",\"\",IF((VLOOKUP(AG51,Herramientas!$H$3:$I$227,2,0))=G51,1,0)),\"\")","v":""},{"$f":"IFERROR(IF(H51=\"\",\"\",IF((VLOOKUP(AH51,Herramientas!$H$3:$I$227,2,0))=H51,1,0)),\"\")","v":""},{"$f":"IFERROR(IF(I51=\"\",\"\",IF((VLOOKUP(AI51,Herramientas!$H$3:$I$227,2,0))=I51,1,0)),\"\")","v":""},{"$f":"IFERROR(IF(J51=\"\",\"\",IF((VLOOKUP(AJ51,Herramientas!$H$3:$I$227,2,0))=J51,1,0)),\"\")","v":""},{"$f":"IFERROR(IF(K51=\"\",\"\",IF((VLOOKUP(AK51,Herramientas!$H$3:$I$227,2,0))=K51,1,0)),\"\")","v":""},{"$f":"IFERROR(IF(L51=\"\",\"\",IF((VLOOKUP(AL51,Herramientas!$H$3:$I$227,2,0))=L51,1,0)),\"\")","v":""},{"$f":"IFERROR(IF(M51=\"\",\"\",IF((VLOOKUP(AM51,Herramientas!$H$3:$I$227,2,0))=M51,1,0)),\"\")","v":""},{"$f":"IFERROR(IF(N51=\"\",\"\",IF((VLOOKUP(AN51,Herramientas!$H$3:$I$227,2,0))=N51,1,0)),\"\")","v":""},{"$f":"IFERROR(IF(O51=\"\",\"\",IF((VLOOKUP(AO51,Herramientas!$H$3:$I$227,2,0))=O51,1,0)),\"\")","v":""},{"$f":"IFERROR(IF(P51=\"\",\"\",IF((VLOOKUP(AP51,Herramientas!$H$3:$I$227,2,0))=P51,1,0)),\"\")","v":""},{"$f":"IFERROR(IF(Q51=\"\",\"\",IF((VLOOKUP(AQ51,Herramientas!$H$3:$I$227,2,0))=Q51,1,0)),\"\")","v":""},{"$f":"IFERROR(IF(R51=\"\",\"\",IF((VLOOKUP(AR51,Herramientas!$H$3:$I$227,2,0))=R51,1,0)),\"\")","v":""},{"$f":"IFERROR(IF(S51=\"\",\"\",IF((VLOOKUP(AS51,Herramientas!$H$3:$I$227,2,0))=S51,1,0)),\"\")","v":""},{"$f":"IFERROR(IF(T51=\"\",\"\",IF((VLOOKUP(AT51,Herramientas!$H$3:$I$227,2,0))=T51,1,0)),\"\")","v":""},{"$f":"IFERROR(IF(U51=\"\",\"\",IF((VLOOKUP(AU51,Herramientas!$H$3:$I$227,2,0))=U51,1,0)),\"\")","v":""},{"$f":"IFERROR(IF(V51=\"\",\"\",IF((VLOOKUP(AV51,Herramientas!$H$3:$I$227,2,0))=V51,1,0)),\"\")","v":""},{"$f":"IFERROR(IF(W51=\"\",\"\",IF((VLOOKUP(AW51,Herramientas!$H$3:$I$227,2,0))=W51,1,0)),\"\")","v":""},{"$f":"IFERROR(IF(X51=\"\",\"\",IF((VLOOKUP(AX51,Herramientas!$H$3:$I$227,2,0))=X51,1,0)),\"\")","v":""},{"$f":"IFERROR(IF(Y51=\"\",\"\",IF((VLOOKUP(AY51,Herramientas!$H$3:$I$227,2,0))=Y51,1,0)),\"\")","v":""},{"$f":"IFERROR(IF(Z51=\"\",\"\",IF((VLOOKUP(AZ51,Herramientas!$H$3:$I$227,2,0))=Z51,1,0)),\"\")","v":""},{"$f":"IFERROR(IF(AA51=\"\",\"\",IF((VLOOKUP(BA51,Herramientas!$H$3:$I$227,2,0))=AA51,1,0)),\"\")","v":""},{"$f":"IFERROR(IF(AB51=\"\",\"\",IF((VLOOKUP(BB51,Herramientas!$H$3:$I$227,2,0))=AB51,1,0)),\"\")","v":""},null,0,0]
[45,null,null,null,null,null,null,null,null,null,null,null,null,null,null,null,null,null,null,null,null,null,null,null,null,null,null,null,null,{"$f":"CONCATENATE($B$2,\"-\",D$7)","v":"9.°-1"},"9.°-2","9.°-3","9.°-4","9.°-5","9.°-6","9.°-7","9.°-8","9.°-9","9.°-10","9.°-11","9.°-12","9.°-13","9.°-14","9.°-15","9.°-16","9.°-17","9.°-18","9.°-19","9.°-20","9.°-21","9.°-22","9.°-23","9.°-24","9.°-25",null,{"$f":"IFERROR(IF(D52=\"\",\"\",IF((VLOOKUP(AD52,Herramientas!$H$3:$I$227,2,0))=D52,1,0)),\"\")","v":""},{"$f":"IFERROR(IF(E52=\"\",\"\",IF((VLOOKUP(AE52,Herramientas!$H$3:$I$227,2,0))=E52,1,0)),\"\")","v":""},{"$f":"IFERROR(IF(F52=\"\",\"\",IF((VLOOKUP(AF52,Herramientas!$H$3:$I$227,2,0))=F52,1,0)),\"\")","v":""},{"$f":"IFERROR(IF(G52=\"\",\"\",IF((VLOOKUP(AG52,Herramientas!$H$3:$I$227,2,0))=G52,1,0)),\"\")","v":""},{"$f":"IFERROR(IF(H52=\"\",\"\",IF((VLOOKUP(AH52,Herramientas!$H$3:$I$227,2,0))=H52,1,0)),\"\")","v":""},{"$f":"IFERROR(IF(I52=\"\",\"\",IF((VLOOKUP(AI52,Herramientas!$H$3:$I$227,2,0))=I52,1,0)),\"\")","v":""},{"$f":"IFERROR(IF(J52=\"\",\"\",IF((VLOOKUP(AJ52,Herramientas!$H$3:$I$227,2,0))=J52,1,0)),\"\")","v":""},{"$f":"IFERROR(IF(K52=\"\",\"\",IF((VLOOKUP(AK52,Herramientas!$H$3:$I$227,2,0))=K52,1,0)),\"\")","v":""},{"$f":"IFERROR(IF(L52=\"\",\"\",IF((VLOOKUP(AL52,Herramientas!$H$3:$I$227,2,0))=L52,1,0)),\"\")","v":""},{"$f":"IFERROR(IF(M52=\"\",\"\",IF((VLOOKUP(AM52,Herramientas!$H$3:$I$227,2,0))=M52,1,0)),\"\")","v":""},{"$f":"IFERROR(IF(N52=\"\",\"\",IF((VLOOKUP(AN52,Herramientas!$H$3:$I$227,2,0))=N52,1,0)),\"\")","v":""},{"$f":"IFERROR(IF(O52=\"\",\"\",IF((VLOOKUP(AO52,Herramientas!$H$3:$I$227,2,0))=O52,1,0)),\"\")","v":""},{"$f":"IFERROR(IF(P52=\"\",\"\",IF((VLOOKUP(AP52,Herramientas!$H$3:$I$227,2,0))=P52,1,0)),\"\")","v":""},{"$f":"IFERROR(IF(Q52=\"\",\"\",IF((VLOOKUP(AQ52,Herramientas!$H$3:$I$227,2,0))=Q52,1,0)),\"\")","v":""},{"$f":"IFERROR(IF(R52=\"\",\"\",IF((VLOOKUP(AR52,Herramientas!$H$3:$I$227,2,0))=R52,1,0)),\"\")","v":""},{"$f":"IFERROR(IF(S52=\"\",\"\",IF((VLOOKUP(AS52,Herramientas!$H$3:$I$227,2,0))=S52,1,0)),\"\")","v":""},{"$f":"IFERROR(IF(T52=\"\",\"\",IF((VLOOKUP(AT52,Herramientas!$H$3:$I$227,2,0))=T52,1,0)),\"\")","v":""},{"$f":"IFERROR(IF(U52=\"\",\"\",IF((VLOOKUP(AU52,Herramientas!$H$3:$I$227,2,0))=U52,1,0)),\"\")","v":""},{"$f":"IFERROR(IF(V52=\"\",\"\",IF((VLOOKUP(AV52,Herramientas!$H$3:$I$227,2,0))=V52,1,0)),\"\")","v":""},{"$f":"IFERROR(IF(W52=\"\",\"\",IF((VLOOKUP(AW52,Herramientas!$H$3:$I$227,2,0))=W52,1,0)),\"\")","v":""},{"$f":"IFERROR(IF(X52=\"\",\"\",IF((VLOOKUP(AX52,Herramientas!$H$3:$I$227,2,0))=X52,1,0)),\"\")","v":""},{"$f":"IFERROR(IF(Y52=\"\",\"\",IF((VLOOKUP(AY52,Herramientas!$H$3:$I$227,2,0))=Y52,1,0)),\"\")","v":""},{"$f":"IFERROR(IF(Z52=\"\",\"\",IF((VLOOKUP(AZ52,Herramientas!$H$3:$I$227,2,0))=Z52,1,0)),\"\")","v":""},{"$f":"IFERROR(IF(AA52=\"\",\"\",IF((VLOOKUP(BA52,Herramientas!$H$3:$I$227,2,0))=AA52,1,0)),\"\")","v":""},{"$f":"IFERROR(IF(AB52=\"\",\"\",IF((VLOOKUP(BB52,Herramientas!$H$3:$I$227,2,0))=AB52,1,0)),\"\")","v":""},null,0,0]
[46,null,null,null,null,null,null,null,null,null,null,null,null,null,null,null,null,null,null,null,null,null,null,null,null,null,null,null,null,"9.°-1","9.°-2","9.°-3","9.°-4","9.°-5","9.°-6","9.°-7","9.°-8","9.°-9","9.°-10","9.°-11","9.°-12","9.°-13","9.°-14","9.°-15","9.°-16","9.°-17","9.°-18","9.°-19","9.°-20","9.°-21","9.°-22","9.°-23","9.°-24","9.°-25",null,{"$f":"IFERROR(IF(D53=\"\",\"\",IF((VLOOKUP(AD53,Herramientas!$H$3:$I$227,2,0))=D53,1,0)),\"\")","v":""},{"$f":"IFERROR(IF(E53=\"\",\"\",IF((VLOOKUP(AE53,Herramientas!$H$3:$I$227,2,0))=E53,1,0)),\"\")","v":""},{"$f":"IFERROR(IF(F53=\"\",\"\",IF((VLOOKUP(AF53,Herramientas!$H$3:$I$227,2,0))=F53,1,0)),\"\")","v":""},{"$f":"IFERROR(IF(G53=\"\",\"\",IF((VLOOKUP(AG53,Herramientas!$H$3:$I$227,2,0))=G53,1,0)),\"\")","v":""},{"$f":"IFERROR(IF(H53=\"\",\"\",IF((VLOOKUP(AH53,Herramientas!$H$3:$I$227,2,0))=H53,1,0)),\"\")","v":""},{"$f":"IFERROR(IF(I53=\"\",\"\",IF((VLOOKUP(AI53,Herramientas!$H$3:$I$227,2,0))=I53,1,0)),\"\")","v":""},{"$f":"IFERROR(IF(J53=\"\",\"\",IF((VLOOKUP(AJ53,Herramientas!$H$3:$I$227,2,0))=J53,1,0)),\"\")","v":""},{"$f":"IFERROR(IF(K53=\"\",\"\",IF((VLOOKUP(AK53,Herramientas!$H$3:$I$227,2,0))=K53,1,0)),\"\")","v":""},{"$f":"IFERROR(IF(L53=\"\",\"\",IF((VLOOKUP(AL53,Herramientas!$H$3:$I$227,2,0))=L53,1,0)),\"\")","v":""},{"$f":"IFERROR(IF(M53=\"\",\"\",IF((VLOOKUP(AM53,Herramientas!$H$3:$I$227,2,0))=M53,1,0)),\"\")","v":""},{"$f":"IFERROR(IF(N53=\"\",\"\",IF((VLOOKUP(AN53,Herramientas!$H$3:$I$227,2,0))=N53,1,0)),\"\")","v":""},{"$f":"IFERROR(IF(O53=\"\",\"\",IF((VLOOKUP(AO53,Herramientas!$H$3:$I$227,2,0))=O53,1,0)),\"\")","v":""},{"$f":"IFERROR(IF(P53=\"\",\"\",IF((VLOOKUP(AP53,Herramientas!$H$3:$I$227,2,0))=P53,1,0)),\"\")","v":""},{"$f":"IFERROR(IF(Q53=\"\",\"\",IF((VLOOKUP(AQ53,Herramientas!$H$3:$I$227,2,0))=Q53,1,0)),\"\")","v":""},{"$f":"IFERROR(IF(R53=\"\",\"\",IF((VLOOKUP(AR53,Herramientas!$H$3:$I$227,2,0))=R53,1,0)),\"\")","v":""},{"$f":"IFERROR(IF(S53=\"\",\"\",IF((VLOOKUP(AS53,Herramientas!$H$3:$I$227,2,0))=S53,1,0)),\"\")","v":""},{"$f":"IFERROR(IF(T53=\"\",\"\",IF((VLOOKUP(AT53,Herramientas!$H$3:$I$227,2,0))=T53,1,0)),\"\")","v":""},{"$f":"IFERROR(IF(U53=\"\",\"\",IF((VLOOKUP(AU53,Herramientas!$H$3:$I$227,2,0))=U53,1,0)),\"\")","v":""},{"$f":"IFERROR(IF(V53=\"\",\"\",IF((VLOOKUP(AV53,Herramientas!$H$3:$I$227,2,0))=V53,1,0)),\"\")","v":""},{"$f":"IFERROR(IF(W53=\"\",\"\",IF((VLOOKUP(AW53,Herramientas!$H$3:$I$227,2,0))=W53,1,0)),\"\")","v":""},{"$f":"IFERROR(IF(X53=\"\",\"\",IF((VLOOKUP(AX53,Herramientas!$H$3:$I$227,2,0))=X53,1,0)),\"\")","v":""},{"$f":"IFERROR(IF(Y53=\"\",\"\",IF((VLOOKUP(AY53,Herramientas!$H$3:$I$227,2,0))=Y53,1,0)),\"\")","v":""},{"$f":"IFERROR(IF(Z53=\"\",\"\",IF((VLOOKUP(AZ53,Herramientas!$H$3:$I$227,2,0))=Z53,1,0)),\"\")","v":""},{"$f":"IFERROR(IF(AA53=\"\",\"\",IF((VLOOKUP(BA53,Herramientas!$H$3:$I$227,2,0))=AA53,1,0)),\"\")","v":""},{"$f":"IFERROR(IF(AB53=\"\",\"\",IF((VLOOKUP(BB53,Herramientas!$H$3:$I$227,2,0))=AB53,1,0)),\"\")","v":""},null,0,0]
[47,null,null,null,null,null,null,null,null,null,null,null,null,null,null,null,null,null,null,null,null,null,null,null,null,null,null,null,null,"9.°-1","9.°-2","9.°-3","9.°-4","9.°-5","9.°-6","9.°-7","9.°-8","9.°-9","9.°-10","9.°-11","9.°-12","9.°-13","9.°-14","9.°-15","9.°-16","9.°-17","9.°-18","9.°-19","9.°-20","9.°-21","9.°-22","9.°-23","9.°-24","9.°-25",null,{"$f":"IFERROR(IF(D54=\"\",\"\",IF((VLOOKUP(AD54,Herramientas!$H$3:$I$227,2,0))=D54,1,0)),\"\")","v":""},{"$f":"IFERROR(IF(E54=\"\",\"\",IF((VLOOKUP(AE54,Herramientas!$H$3:$I$227,2,0))=E54,1,0)),\"\")","v":""},{"$f":"IFERROR(IF(F54=\"\",\"\",IF((VLOOKUP(AF54,Herramientas!$H$3:$I$227,2,0))=F54,1,0)),\"\")","v":""},{"$f":"IFERROR(IF(G54=\"\",\"\",IF((VLOOKUP(AG54,Herramientas!$H$3:$I$227,2,0))=G54,1,0)),\"\")","v":""},{"$f":"IFERROR(IF(H54=\"\",\"\",IF((VLOOKUP(AH54,Herramientas!$H$3:$I$227,2,0))=H54,1,0)),\"\")","v":""},{"$f":"IFERROR(IF(I54=\"\",\"\",IF((VLOOKUP(AI54,Herramientas!$H$3:$I$227,2,0))=I54,1,0)),\"\")","v":""},{"$f":"IFERROR(IF(J54=\"\",\"\",IF((VLOOKUP(AJ54,Herramientas!$H$3:$I$227,2,0))=J54,1,0)),\"\")","v":""},{"$f":"IFERROR(IF(K54=\"\",\"\",IF((VLOOKUP(AK54,Herramientas!$H$3:$I$227,2,0))=K54,1,0)),\"\")","v":""},{"$f":"IFERROR(IF(L54=\"\",\"\",IF((VLOOKUP(AL54,Herramientas!$H$3:$I$227,2,0))=L54,1,0)),\"\")","v":""},{"$f":"IFERROR(IF(M54=\"\",\"\",IF((VLOOKUP(AM54,Herramientas!$H$3:$I$227,2,0))=M54,1,0)),\"\")","v":""},{"$f":"IFERROR(IF(N54=\"\",\"\",IF((VLOOKUP(AN54,Herramientas!$H$3:$I$227,2,0))=N54,1,0)),\"\")","v":""},{"$f":"IFERROR(IF(O54=\"\",\"\",IF((VLOOKUP(AO54,Herramientas!$H$3:$I$227,2,0))=O54,1,0)),\"\")","v":""},{"$f":"IFERROR(IF(P54=\"\",\"\",IF((VLOOKUP(AP54,Herramientas!$H$3:$I$227,2,0))=P54,1,0)),\"\")","v":""},{"$f":"IFERROR(IF(Q54=\"\",\"\",IF((VLOOKUP(AQ54,Herramientas!$H$3:$I$227,2,0))=Q54,1,0)),\"\")","v":""},{"$f":"IFERROR(IF(R54=\"\",\"\",IF((VLOOKUP(AR54,Herramientas!$H$3:$I$227,2,0))=R54,1,0)),\"\")","v":""},{"$f":"IFERROR(IF(S54=\"\",\"\",IF((VLOOKUP(AS54,Herramientas!$H$3:$I$227,2,0))=S54,1,0)),\"\")","v":""},{"$f":"IFERROR(IF(T54=\"\",\"\",IF((VLOOKUP(AT54,Herramientas!$H$3:$I$227,2,0))=T54,1,0)),\"\")","v":""},{"$f":"IFERROR(IF(U54=\"\",\"\",IF((VLOOKUP(AU54,Herramientas!$H$3:$I$227,2,0))=U54,1,0)),\"\")","v":""},{"$f":"IFERROR(IF(V54=\"\",\"\",IF((VLOOKUP(AV54,Herramientas!$H$3:$I$227,2,0))=V54,1,0)),\"\")","v":""},{"$f":"IFERROR(IF(W54=\"\",\"\",IF((VLOOKUP(AW54,Herramientas!$H$3:$I$227,2,0))=W54,1,0)),\"\")","v":""},{"$f":"IFERROR(IF(X54=\"\",\"\",IF((VLOOKUP(AX54,Herramientas!$H$3:$I$227,2,0))=X54,1,0)),\"\")","v":""},{"$f":"IFERROR(IF(Y54=\"\",\"\",IF((VLOOKUP(AY54,Herramientas!$H$3:$I$227,2,0))=Y54,1,0)),\"\")","v":""},{"$f":"IFERROR(IF(Z54=\"\",\"\",IF((VLOOKUP(AZ54,Herramientas!$H$3:$I$227,2,0))=Z54,1,0)),\"\")","v":""},{"$f":"IFERROR(IF(AA54=\"\",\"\",IF((VLOOKUP(BA54,Herramientas!$H$3:$I$227,2,0))=AA54,1,0)),\"\")","v":""},{"$f":"IFERROR(IF(AB54=\"\",\"\",IF((VLOOKUP(BB54,Herramientas!$H$3:$I$227,2,0))=AB54,1,0)),\"\")","v":""},null,0,0]
[48,null,null,null,null,null,null,null,null,null,null,null,null,null,null,null,null,null,null,null,null,null,null,null,null,null,null,null,null,"9.°-1","9.°-2","9.°-3","9.°-4","9.°-5","9.°-6","9.°-7","9.°-8","9.°-9","9.°-10","9.°-11","9.°-12","9.°-13","9.°-14","9.°-15","9.°-16","9.°-17","9.°-18","9.°-19","9.°-20","9.°-21","9.°-22","9.°-23","9.°-24","9.°-25",null,{"$f":"IFERROR(IF(D55=\"\",\"\",IF((VLOOKUP(AD55,Herramientas!$H$3:$I$227,2,0))=D55,1,0)),\"\")","v":""},{"$f":"IFERROR(IF(E55=\"\",\"\",IF((VLOOKUP(AE55,Herramientas!$H$3:$I$227,2,0))=E55,1,0)),\"\")","v":""},{"$f":"IFERROR(IF(F55=\"\",\"\",IF((VLOOKUP(AF55,Herramientas!$H$3:$I$227,2,0))=F55,1,0)),\"\")","v":""},{"$f":"IFERROR(IF(G55=\"\",\"\",IF((VLOOKUP(AG55,Herramientas!$H$3:$I$227,2,0))=G55,1,0)),\"\")","v":""},{"$f":"IFERROR(IF(H55=\"\",\"\",IF((VLOOKUP(AH55,Herramientas!$H$3:$I$227,2,0))=H55,1,0)),\"\")","v":""},{"$f":"IFERROR(IF(I55=\"\",\"\",IF((VLOOKUP(AI55,Herramientas!$H$3:$I$227,2,0))=I55,1,0)),\"\")","v":""},{"$f":"IFERROR(IF(J55=\"\",\"\",IF((VLOOKUP(AJ55,Herramientas!$H$3:$I$227,2,0))=J55,1,0)),\"\")","v":""},{"$f":"IFERROR(IF(K55=\"\",\"\",IF((VLOOKUP(AK55,Herramientas!$H$3:$I$227,2,0))=K55,1,0)),\"\")","v":""},{"$f":"IFERROR(IF(L55=\"\",\"\",IF((VLOOKUP(AL55,Herramientas!$H$3:$I$227,2,0))=L55,1,0)),\"\")","v":""},{"$f":"IFERROR(IF(M55=\"\",\"\",IF((VLOOKUP(AM55,Herramientas!$H$3:$I$227,2,0))=M55,1,0)),\"\")","v":""},{"$f":"IFERROR(IF(N55=\"\",\"\",IF((VLOOKUP(AN55,Herramientas!$H$3:$I$227,2,0))=N55,1,0)),\"\")","v":""},{"$f":"IFERROR(IF(O55=\"\",\"\",IF((VLOOKUP(AO55,Herramientas!$H$3:$I$227,2,0))=O55,1,0)),\"\")","v":""},{"$f":"IFERROR(IF(P55=\"\",\"\",IF((VLOOKUP(AP55,Herramientas!$H$3:$I$227,2,0))=P55,1,0)),\"\")","v":""},{"$f":"IFERROR(IF(Q55=\"\",\"\",IF((VLOOKUP(AQ55,Herramientas!$H$3:$I$227,2,0))=Q55,1,0)),\"\")","v":""},{"$f":"IFERROR(IF(R55=\"\",\"\",IF((VLOOKUP(AR55,Herramientas!$H$3:$I$227,2,0))=R55,1,0)),\"\")","v":""},{"$f":"IFERROR(IF(S55=\"\",\"\",IF((VLOOKUP(AS55,Herramientas!$H$3:$I$227,2,0))=S55,1,0)),\"\")","v":""},{"$f":"IFERROR(IF(T55=\"\",\"\",IF((VLOOKUP(AT55,Herramientas!$H$3:$I$227,2,0))=T55,1,0)),\"\")","v":""},{"$f":"IFERROR(IF(U55=\"\",\"\",IF((VLOOKUP(AU55,Herramientas!$H$3:$I$227,2,0))=U55,1,0)),\"\")","v":""},{"$f":"IFERROR(IF(V55=\"\",\"\",IF((VLOOKUP(AV55,Herramientas!$H$3:$I$227,2,0))=V55,1,0)),\"\")","v":""},{"$f":"IFERROR(IF(W55=\"\",\"\",IF((VLOOKUP(AW55,Herramientas!$H$3:$I$227,2,0))=W55,1,0)),\"\")","v":""},{"$f":"IFERROR(IF(X55=\"\",\"\",IF((VLOOKUP(AX55,Herramientas!$H$3:$I$227,2,0))=X55,1,0)),\"\")","v":""},{"$f":"IFERROR(IF(Y55=\"\",\"\",IF((VLOOKUP(AY55,Herramientas!$H$3:$I$227,2,0))=Y55,1,0)),\"\")","v":""},{"$f":"IFERROR(IF(Z55=\"\",\"\",IF((VLOOKUP(AZ55,Herramientas!$H$3:$I$227,2,0))=Z55,1,0)),\"\")","v":""},{"$f":"IFERROR(IF(AA55=\"\",\"\",IF((VLOOKUP(BA55,Herramientas!$H$3:$I$227,2,0))=AA55,1,0)),\"\")","v":""},{"$f":"IFERROR(IF(AB55=\"\",\"\",IF((VLOOKUP(BB55,Herramientas!$H$3:$I$227,2,0))=AB55,1,0)),\"\")","v":""},null,0,0]
[49,null,null,null,null,null,null,null,null,null,null,null,null,null,null,null,null,null,null,null,null,null,null,null,null,null,null,null,null,"9.°-1","9.°-2","9.°-3","9.°-4","9.°-5","9.°-6","9.°-7","9.°-8","9.°-9","9.°-10","9.°-11","9.°-12","9.°-13","9.°-14","9.°-15","9.°-16","9.°-17",{"$f":"CONCATENATE($B$2,\"-\",U$7)","v":"9.°-18"},"9.°-19","9.°-20","9.°-21","9.°-22","9.°-23","9.°-24","9.°-25",null,{"$f":"IFERROR(IF(D56=\"\",\"\",IF((VLOOKUP(AD56,Herramientas!$H$3:$I$227,2,0))=D56,1,0)),\"\")","v":""},{"$f":"IFERROR(IF(E56=\"\",\"\",IF((VLOOKUP(AE56,Herramientas!$H$3:$I$227,2,0))=E56,1,0)),\"\")","v":""},{"$f":"IFERROR(IF(F56=\"\",\"\",IF((VLOOKUP(AF56,Herramientas!$H$3:$I$227,2,0))=F56,1,0)),\"\")","v":""},{"$f":"IFERROR(IF(G56=\"\",\"\",IF((VLOOKUP(AG56,Herramientas!$H$3:$I$227,2,0))=G56,1,0)),\"\")","v":""},{"$f":"IFERROR(IF(H56=\"\",\"\",IF((VLOOKUP(AH56,Herramientas!$H$3:$I$227,2,0))=H56,1,0)),\"\")","v":""},{"$f":"IFERROR(IF(I56=\"\",\"\",IF((VLOOKUP(AI56,Herramientas!$H$3:$I$227,2,0))=I56,1,0)),\"\")","v":""},{"$f":"IFERROR(IF(J56=\"\",\"\",IF((VLOOKUP(AJ56,Herramientas!$H$3:$I$227,2,0))=J56,1,0)),\"\")","v":""},{"$f":"IFERROR(IF(K56=\"\",\"\",IF((VLOOKUP(AK56,Herramientas!$H$3:$I$227,2,0))=K56,1,0)),\"\")","v":""},{"$f":"IFERROR(IF(L56=\"\",\"\",IF((VLOOKUP(AL56,Herramientas!$H$3:$I$227,2,0))=L56,1,0)),\"\")","v":""},{"$f":"IFERROR(IF(M56=\"\",\"\",IF((VLOOKUP(AM56,Herramientas!$H$3:$I$227,2,0))=M56,1,0)),\"\")","v":""},{"$f":"IFERROR(IF(N56=\"\",\"\",IF((VLOOKUP(AN56,Herramientas!$H$3:$I$227,2,0))=N56,1,0)),\"\")","v":""},{"$f":"IFERROR(IF(O56=\"\",\"\",IF((VLOOKUP(AO56,Herramientas!$H$3:$I$227,2,0))=O56,1,0)),\"\")","v":""},{"$f":"IFERROR(IF(P56=\"\",\"\",IF((VLOOKUP(AP56,Herramientas!$H$3:$I$227,2,0))=P56,1,0)),\"\")","v":""},{"$f":"IFERROR(IF(Q56=\"\",\"\",IF((VLOOKUP(AQ56,Herramientas!$H$3:$I$227,2,0))=Q56,1,0)),\"\")","v":""},{"$f":"IFERROR(IF(R56=\"\",\"\",IF((VLOOKUP(AR56,Herramientas!$H$3:$I$227,2,0))=R56,1,0)),\"\")","v":""},{"$f":"IFERROR(IF(S56=\"\",\"\",IF((VLOOKUP(AS56,Herramientas!$H$3:$I$227,2,0))=S56,1,0)),\"\")","v":""},{"$f":"IFERROR(IF(T56=\"\",\"\",IF((VLOOKUP(AT56,Herramientas!$H$3:$I$227,2,0))=T56,1,0)),\"\")","v":""},{"$f":"IFERROR(IF(U56=\"\",\"\",IF((VLOOKUP(AU56,Herramientas!$H$3:$I$227,2,0))=U56,1,0)),\"\")","v":""},{"$f":"IFERROR(IF(V56=\"\",\"\",IF((VLOOKUP(AV56,Herramientas!$H$3:$I$227,2,0))=V56,1,0)),\"\")","v":""},{"$f":"IFERROR(IF(W56=\"\",\"\",IF((VLOOKUP(AW56,Herramientas!$H$3:$I$227,2,0))=W56,1,0)),\"\")","v":""},{"$f":"IFERROR(IF(X56=\"\",\"\",IF((VLOOKUP(AX56,Herramientas!$H$3:$I$227,2,0))=X56,1,0)),\"\")","v":""},{"$f":"IFERROR(IF(Y56=\"\",\"\",IF((VLOOKUP(AY56,Herramientas!$H$3:$I$227,2,0))=Y56,1,0)),\"\")","v":""},{"$f":"IFERROR(IF(Z56=\"\",\"\",IF((VLOOKUP(AZ56,Herramientas!$H$3:$I$227,2,0))=Z56,1,0)),\"\")","v":""},{"$f":"IFERROR(IF(AA56=\"\",\"\",IF((VLOOKUP(BA56,Herramientas!$H$3:$I$227,2,0))=AA56,1,0)),\"\")","v":""},{"$f":"IFERROR(IF(AB56=\"\",\"\",IF((VLOOKUP(BB56,Herramientas!$H$3:$I$227,2,0))=AB56,1,0)),\"\")","v":""},null,0,0]
[50,null,null,null,null,null,null,null,null,null,null,null,null,null,null,null,null,null,null,null,null,null,null,null,null,null,null,null,null,"9.°-1","9.°-2","9.°-3","9.°-4","9.°-5","9.°-6","9.°-7","9.°-8","9.°-9","9.°-10","9.°-11","9.°-12","9.°-13","9.°-14","9.°-15","9.°-16","9.°-17","9.°-18","9.°-19","9.°-20","9.°-21","9.°-22","9.°-23","9.°-24","9.°-25",null,{"$f":"IFERROR(IF(D57=\"\",\"\",IF((VLOOKUP(AD57,Herramientas!$H$3:$I$227,2,0))=D57,1,0)),\"\")","v":""},{"$f":"IFERROR(IF(E57=\"\",\"\",IF((VLOOKUP(AE57,Herramientas!$H$3:$I$227,2,0))=E57,1,0)),\"\")","v":""},{"$f":"IFERROR(IF(F57=\"\",\"\",IF((VLOOKUP(AF57,Herramientas!$H$3:$I$227,2,0))=F57,1,0)),\"\")","v":""},{"$f":"IFERROR(IF(G57=\"\",\"\",IF((VLOOKUP(AG57,Herramientas!$H$3:$I$227,2,0))=G57,1,0)),\"\")","v":""},{"$f":"IFERROR(IF(H57=\"\",\"\",IF((VLOOKUP(AH57,Herramientas!$H$3:$I$227,2,0))=H57,1,0)),\"\")","v":""},{"$f":"IFERROR(IF(I57=\"\",\"\",IF((VLOOKUP(AI57,Herramientas!$H$3:$I$227,2,0))=I57,1,0)),\"\")","v":""},{"$f":"IFERROR(IF(J57=\"\",\"\",IF((VLOOKUP(AJ57,Herramientas!$H$3:$I$227,2,0))=J57,1,0)),\"\")","v":""},{"$f":"IFERROR(IF(K57=\"\",\"\",IF((VLOOKUP(AK57,Herramientas!$H$3:$I$227,2,0))=K57,1,0)),\"\")","v":""},{"$f":"IFERROR(IF(L57=\"\",\"\",IF((VLOOKUP(AL57,Herramientas!$H$3:$I$227,2,0))=L57,1,0)),\"\")","v":""},{"$f":"IFERROR(IF(M57=\"\",\"\",IF((VLOOKUP(AM57,Herramientas!$H$3:$I$227,2,0))=M57,1,0)),\"\")","v":""},{"$f":"IFERROR(IF(N57=\"\",\"\",IF((VLOOKUP(AN57,Herramientas!$H$3:$I$227,2,0))=N57,1,0)),\"\")","v":""},{"$f":"IFERROR(IF(O57=\"\",\"\",IF((VLOOKUP(AO57,Herramientas!$H$3:$I$227,2,0))=O57,1,0)),\"\")","v":""},{"$f":"IFERROR(IF(P57=\"\",\"\",IF((VLOOKUP(AP57,Herramientas!$H$3:$I$227,2,0))=P57,1,0)),\"\")","v":""},{"$f":"IFERROR(IF(Q57=\"\",\"\",IF((VLOOKUP(AQ57,Herramientas!$H$3:$I$227,2,0))=Q57,1,0)),\"\")","v":""},{"$f":"IFERROR(IF(R57=\"\",\"\",IF((VLOOKUP(AR57,Herramientas!$H$3:$I$227,2,0))=R57,1,0)),\"\")","v":""},{"$f":"IFERROR(IF(S57=\"\",\"\",IF((VLOOKUP(AS57,Herramientas!$H$3:$I$227,2,0))=S57,1,0)),\"\")","v":""},{"$f":"IFERROR(IF(T57=\"\",\"\",IF((VLOOKUP(AT57,Herramientas!$H$3:$I$227,2,0))=T57,1,0)),\"\")","v":""},{"$f":"IFERROR(IF(U57=\"\",\"\",IF((VLOOKUP(AU57,Herramientas!$H$3:$I$227,2,0))=U57,1,0)),\"\")","v":""},{"$f":"IFERROR(IF(V57=\"\",\"\",IF((VLOOKUP(AV57,Herramientas!$H$3:$I$227,2,0))=V57,1,0)),\"\")","v":""},{"$f":"IFERROR(IF(W57=\"\",\"\",IF((VLOOKUP(AW57,Herramientas!$H$3:$I$227,2,0))=W57,1,0)),\"\")","v":""},{"$f":"IFERROR(IF(X57=\"\",\"\",IF((VLOOKUP(AX57,Herramientas!$H$3:$I$227,2,0))=X57,1,0)),\"\")","v":""},{"$f":"IFERROR(IF(Y57=\"\",\"\",IF((VLOOKUP(AY57,Herramientas!$H$3:$I$227,2,0))=Y57,1,0)),\"\")","v":""},{"$f":"IFERROR(IF(Z57=\"\",\"\",IF((VLOOKUP(AZ57,Herramientas!$H$3:$I$227,2,0))=Z57,1,0)),\"\")","v":""},{"$f":"IFERROR(IF(AA57=\"\",\"\",IF((VLOOKUP(BA57,Herramientas!$H$3:$I$227,2,0))=AA57,1,0)),\"\")","v":""},{"$f":"IFERROR(IF(AB57=\"\",\"\",IF((VLOOKUP(BB57,Herramientas!$H$3:$I$227,2,0))=AB57,1,0)),\"\")","v":""},null,0,0]

{"sheet":"Sociales","index":3,"n_rows":57,"n_cols":110,"rows_kept":57,"cut":false,"hidden":false,"merged":[[0,0,0,22],[4,0,4,22],[1,3,1,22],[2,0,2,2],[2,3,2,22],[3,0,3,2],[3,3,3,22],[15,1,15,2],[5,0,6,0],[5,1,6,2],[5,3,5,22],[7,1,7,2],[8,1,8,2],[9,1,9,2],[10,1,10,2],[11,1,11,2],[12,1,12,2],[13,1,13,2],[14,1,14,2],[27,1,27,2],[16,1,16,2],[17,1,17,2],[18,1,18,2],[19,1,19,2],[20,1,20,2],[21,1,21,2],[22,1,22,2],[23,1,23,2],[24,1,24,2],[25,1,25,2],[26,1,26,2],[39,1,39,2],[28,1,28,2],[29,1,29,2],[30,1,30,2],[31,1,31,2],[32,1,32,2],[33,1,33,2],[34,1,34,2],[35,1,35,2],[36,1,36,2],[37,1,37,2],[38,1,38,2],[53,1,53,2],[54,1,54,2],[55,1,55,2],[56,1,56,2],[51,1,51,2],[13,85,13,87],[13,88,13,90],[13,91,13,93],[13,94,13,96],[52,1,52,2],[40,1,40,2],[41,1,41,2],[42,1,42,2],[43,1,43,2],[44,1,44,2],[45,1,45,2],[46,1,46,2],[47,1,47,2],[48,1,48,2],[49,1,49,2],[50,1,50,2]]}
[{"$f":"IF(OR(Sociales!B2=\"3.°\",Sociales!B2=\"4.°\", Sociales!B2=\"5.°\",Sociales!B2=\"6.°\"),\"Hoja de registro de respuestas de Estudios Sociales\",\"Hoja de registro de respuestas de Estudios Sociales y Cívica\")","v":"Hoja de registro de respuestas de Estudios Sociales"}]
["Grado","6.°"]
["Código de infraestructura",null,null,20210]
["Nombre de Institución",null,null,{"$f":"IFERROR((VLOOKUP(D3,Herramientas!$S$3:$T$5816,2,0)),\"CÓDIGO NO ENCONTRADO\")","v":"LICEO FRANCES"}]
[]
["N.°","Nombre",null,"Preguntas",null,null,null,null,null,null,null,null,null,null,null,null,null,null,null,null,null,null,null,null,null,null,null,null,null,null,null,null,null,null,null,null,null,null,null,null,null,null,null,null,null,null,null,null,null,null,null,null,null,null,null,null,null,null,null,null,null,null,null,null,null,null,null,null,null,null,null,null,null,null,null,null,null,null,null,null,"Aciertos","Fallos","Participan",null,"ítem",1,2,3,4,5,6,7,8,9,10,11,12,13,14,15,16,17,18,19,20,21,22,23,24,25]
[null,null,null,1,2,3,4,5,6,7,8,9,10,11,12,13,14,15,16,17,18,19,20,null,"IT1","IT2","IT3","IT4","IT5","IT6","IT7","IT8","IT9","IT10","IT11","IT12","IT13","IT14","IT15","IT16","IT17","IT18","IT19","IT20","IT21","IT22","IT23","IT24","IT25",null,"IT1","IT2","IT3","IT4","IT5","IT6","IT7","IT8","IT9","IT10","IT11","IT12","IT13","IT14","IT15","IT16","IT17","IT18","IT19","IT20","IT21","IT22","IT23","IT24","IT25",null,"Aciertos","Nota",null,"SUMIT1",{"$f":"SUM(AY$8:AY$57)","v":0},{"$f":"COUNTIF(AY8:AY57,0)","v":0},{"$f":"SUM(CC7:CD7)","v":0},null,"a",{"$f":"COUNTIF(D8:D107,\"A\")","v":0},0,0,0,0,0,0,0,0,0,0,0,0,0,0,0,0,0,0,0,{"$f":"COUNTIF(#REF!,\"A\")","v":{"$error":"#REF!"}},{"$f":"COUNTIF(#REF!,\"A\")","v":{"$error":"#REF!"}},{"$f":"COUNTIF(#REF!,\"A\")","v":{"$error":"#REF!"}},{"$f":"COUNTIF(#REF!,\"A\")","v":{"$error":"#REF!"}},{"$f":"COUNTIF(#REF!,\"A\")","v":{"$error":"#REF!"}}]
[1,null,null,null,null,null,null,null,null,null,null,null,null,null,null,null,null,null,null,null,null,null,null,null,{"$f":"CONCATENATE($B$2,\"-\",D$7)","v":"6.°-1"},{"$f":"CONCATENATE($B$2,\"-\",E$7)","v":"6.°-2"},{"$f":"CONCATENATE($B$2,\"-\",F$7)","v":"6.°-3"},{"$f":"CONCATENATE($B$2,\"-\",G$7)","v":"6.°-4"},{"$f":"CONCATENATE($B$2,\"-\",H$7)","v":"6.°-5"},{"$f":"CONCATENATE($B$2,\"-\",I$7)","v":"6.°-6"},{"$f":"CONCATENATE($B$2,\"-\",J$7)","v":"6.°-7"},{"$f":"CONCATENATE($B$2,\"-\",K$7)","v":"6.°-8"},{"$f":"CONCATENATE($B$2,\"-\",L$7)","v":"6.°-9"},{"$f":"CONCATENATE($B$2,\"-\",M$7)","v":"6.°-10"},{"$f":"CONCATENATE($B$2,\"-\",N$7)","v":"6.°-11"},{"$f":"CONCATENATE($B$2,\"-\",O$7)","v":"6.°-12"},{"$f":"CONCATENATE($B$2,\"-\",P$7)","v":"6.°-13"},{"$f":"CONCATENATE($B$2,\"-\",Q$7)","v":"6.°-14"},{"$f":"CONCATENATE($B$2,\"-\",R$7)","v":"6.°-15"},{"$f":"CONCATENATE($B$2,\"-\",S$7)","v":"6.°-16"},{"$f":"CONCATENATE($B$2,\"-\",T$7)","v":"6.°-17"},{"$f":"CONCATENATE($B$2,\"-\",U$7)","v":"6.°-18"},{"$f":"CONCATENATE($B$2,\"-\",V$7)","v":"6.°-19"},{"$f":"CONCATENATE($B$2,\"-\",W$7)","v":"6.°-20"},{"$f":"CONCATENATE($B$2,\"-\",#REF!)","v":{"$error":"#REF!"}},{"$f":"CONCATENATE($B$2,\"-\",#REF!)","v":{"$error":"#REF!"}},{"$f":"CONCATENATE($B$2,\"-\",#REF!)","v":{"$error":"#REF!"}},{"$f":"CONCATENATE($B$2,\"-\",#REF!)","v":{"$error":"#REF!"}},{"$f":"CONCATENATE($B$2,\"-\",#REF!)","v":{"$error":"#REF!"}},null,{"$f":"IFERROR(IF(D8=\"\",\"\",IF((VLOOKUP(Y8,Herramientas!$L$3:$M$227,2,0))=D8,1,0)),\"\")","v":""},{"$f":"IFERROR(IF(E8=\"\",\"\",IF((VLOOKUP(Z8,Herramientas!$L$3:$M$227,2,0))=E8,1,0)),\"\")","v":""},{"$f":"IFERROR(IF(F8=\"\",\"\",IF((VLOOKUP(AA8,Herramientas!$L$3:$M$227,2,0))=F8,1,0)),\"\")","v":""},{"$f":"IFERROR(IF(G8=\"\",\"\",IF((VLOOKUP(AB8,Herramientas!$L$3:$M$227,2,0))=G8,1,0)),\"\")","v":""},{"$f":"IFERROR(IF(H8=\"\",\"\",IF((VLOOKUP(AC8,Herramientas!$L$3:$M$227,2,0))=H8,1,0)),\"\")","v":""},{"$f":"IFERROR(IF(I8=\"\",\"\",IF((VLOOKUP(AD8,Herramientas!$L$3:$M$227,2,0))=I8,1,0)),\"\")","v":""},{"$f":"IFERROR(IF(J8=\"\",\"\",IF((VLOOKUP(AE8,Herramientas!$L$3:$M$227,2,0))=J8,1,0)),\"\")","v":""},{"$f":"IFERROR(IF(K8=\"\",\"\",IF((VLOOKUP(AF8,Herramientas!$L$3:$M$227,2,0))=K8,1,0)),\"\")","v":""},{"$f":"IFERROR(IF(L8=\"\",\"\",IF((VLOOKUP(AG8,Herramientas!$L$3:$M$227,2,0))=L8,1,0)),\"\")","v":""},{"$f":"IFERROR(IF(M8=\"\",\"\",IF((VLOOKUP(AH8,Herramientas!$L$3:$M$227,2,0))=M8,1,0)),\"\")","v":""},{"$f":"IFERROR(IF(N8=\"\",\"\",IF((VLOOKUP(AI8,Herramientas!$L$3:$M$227,2,0))=N8,1,0)),\"\")","v":""},{"$f":"IFERROR(IF(O8=\"\",\"\",IF((VLOOKUP(AJ8,Herramientas!$L$3:$M$227,2,0))=O8,1,0)),\"\")","v":""},{"$f":"IFERROR(IF(P8=\"\",\"\",IF((VLOOKUP(AK8,Herramientas!$L$3:$M$227,2,0))=P8,1,0)),\"\")","v":""},{"$f":"IFERROR(IF(Q8=\"\",\"\",IF((VLOOKUP(AL8,Herramientas!$L$3:$M$227,2,0))=Q8,1,0)),\"\")","v":""},{"$f":"IFERROR(IF(R8=\"\",\"\",IF((VLOOKUP(AM8,Herramientas!$L$3:$M$227,2,0))=R8,1,0)),\"\")","v":""},{"$f":"IFERROR(IF(S8=\"\",\"\",IF((VLOOKUP(AN8,Herramientas!$L$3:$M$227,2,0))=S8,1,0)),\"\")","v":""},{"$f":"IFERROR(IF(T8=\"\",\"\",IF((VLOOKUP(AO8,Herramientas!$L$3:$M$227,2,0))=T8,1,0)),\"\")","v":""},{"$f":"IFERROR(IF(U8=\"\",\"\",IF((VLOOKUP(AP8,Herramientas!$L$3:$M$227,2,0))=U8,1,0)),\"\")","v":""},{"$f":"IFERROR(IF(V8=\"\",\"\",IF((VLOOKUP(AQ8,Herramientas!$L$3:$M$227,2,0))=V8,1,0)),\"\")","v":""},{"$f":"IFERROR(IF(W8=\"\",\"\",IF((VLOOKUP(AR8,Herramientas!$L$3:$M$227,2,0))=W8,1,0)),\"\")","v":""},{"$f":"IFERROR(IF(#REF!=\"\",\"\",IF((VLOOKUP(AS8,Herramientas!$L$3:$M$227,2,0))=#REF!,1,0)),\"\")","v":""},{"$f":"IFERROR(IF(#REF!=\"\",\"\",IF((VLOOKUP(AT8,Herramientas!$L$3:$M$227,2,0))=#REF!,1,0)),\"\")","v":""},{"$f":"IFERROR(IF(#REF!=\"\",\"\",IF((VLOOKUP(AU8,Herramientas!$L$3:$M$227,2,0))=#REF!,1,0)),\"\")","v":""},{"$f":"IFERROR(IF(#REF!=\"\",\"\",IF((VLOOKUP(AV8,Herramientas!$L$3:$M$227,2,0))=#REF!,1,0)),\"\")","v":""},{"$f":"IFERROR(IF(#REF!=\"\",\"\",IF((VLOOKUP(AW8,Herramientas!$L$3:$M$227,2,0))=#REF!,1,0)),\"\")","v":""},null,{"$f":"SUM(AY8:BW8)","v":0},{"$f":"BY8/25*10","v":0},null,"SUMIT2",{"$f":"SUM(AZ$8:AZ$57)","v":0},{"$f":"COUNTIF(AZ8:AZ58,0)","v":0},{"$f":"SUM(CC8:CD8)","v":0},null,"b",{"$f":"COUNTIF(D8:D107,\"B\")","v":0},0,0,0,0,0,0,0,0,0,0,0,0,0,0,0,0,0,0,0,{"$f":"COUNTIF(#REF!,\"B\")","v":{"$error":"#REF!"}},{"$f":"COUNTIF(#REF!,\"B\")","v":{"$error":"#REF!"}},{"$f":"COUNTIF(#REF!,\"B\")","v":{"$error":"#REF!"}},{"$f":"COUNTIF(#REF!,\"B\")","v":{"$error":"#REF!"}},{"$f":"COUNTIF(#REF!,\"B\")","v":{"$error":"#REF!"}}]
[2,null,null,null,null,null,null,null,null,null,null,null,null,null,null,null,null,null,null,null,null,null,null,null,"6.°-1","6.°-2","6.°-3","6.°-4","6.°-5","6.°-6","6.°-7","6.°-8","6.°-9","6.°-10","6.°-11","6.°-12","6.°-13","6.°-14","6.°-15","6.°-16","6.°-17","6.°-18","6.°-19","6.°-20",{"$f":"CONCATENATE($B$2,\"-\",#REF!)","v":{"$error":"#REF!"}},{"$f":"CONCATENATE($B$2,\"-\",#REF!)","v":{"$error":"#REF!"}},{"$f":"CONCATENATE($B$2,\"-\",#REF!)","v":{"$error":"#REF!"}},{"$f":"CONCATENATE($B$2,\"-\",#REF!)","v":{"$error":"#REF!"}},{"$f":"CONCATENATE($B$2,\"-\",#REF!)","v":{"$error":"#REF!"}},null,{"$f":"IFERROR(IF(D9=\"\",\"\",IF((VLOOKUP(Y9,Herramientas!$L$3:$M$227,2,0))=D9,1,0)),\"\")","v":""},{"$f":"IFERROR(IF(E9=\"\",\"\",IF((VLOOKUP(Z9,Herramientas!$L$3:$M$227,2,0))=E9,1,0)),\"\")","v":""},{"$f":"IFERROR(IF(F9=\"\",\"\",IF((VLOOKUP(AA9,Herramientas!$L$3:$M$227,2,0))=F9,1,0)),\"\")","v":""},{"$f":"IFERROR(IF(G9=\"\",\"\",IF((VLOOKUP(AB9,Herramientas!$L$3:$M$227,2,0))=G9,1,0)),\"\")","v":""},{"$f":"IFERROR(IF(H9=\"\",\"\",IF((VLOOKUP(AC9,Herramientas!$L$3:$M$227,2,0))=H9,1,0)),\"\")","v":""},{"$f":"IFERROR(IF(I9=\"\",\"\",IF((VLOOKUP(AD9,Herramientas!$L$3:$M$227,2,0))=I9,1,0)),\"\")","v":""},{"$f":"IFERROR(IF(J9=\"\",\"\",IF((VLOOKUP(AE9,Herramientas!$L$3:$M$227,2,0))=J9,1,0)),\"\")","v":""},{"$f":"IFERROR(IF(K9=\"\",\"\",IF((VLOOKUP(AF9,Herramientas!$L$3:$M$227,2,0))=K9,1,0)),\"\")","v":""},{"$f":"IFERROR(IF(L9=\"\",\"\",IF((VLOOKUP(AG9,Herramientas!$L$3:$M$227,2,0))=L9,1,0)),\"\")","v":""},{"$f":"IFERROR(IF(M9=\"\",\"\",IF((VLOOKUP(AH9,Herramientas!$L$3:$M$227,2,0))=M9,1,0)),\"\")","v":""},{"$f":"IFERROR(IF(N9=\"\",\"\",IF((VLOOKUP(AI9,Herramientas!$L$3:$M$227,2,0))=N9,1,0)),\"\")","v":""},{"$f":"IFERROR(IF(O9=\"\",\"\",IF((VLOOKUP(AJ9,Herramientas!$L$3:$M$227,2,0))=O9,1,0)),\"\")","v":""},{"$f":"IFERROR(IF(L9=\"\",\"\",IF((VLOOKUP(AG9,Herramientas!$L$3:$M$227,2,0))=L9,1,0)),\"\")","v":""},{"$f":"IFERROR(IF(M9=\"\",\"\",IF((VLOOKUP(AH9,Herramientas!$L$3:$M$227,2,0))=M9,1,0)),\"\")","v":""},{"$f":"IFERROR(IF(R9=\"\",\"\",IF((VLOOKUP(AM9,Herramientas!$L$3:$M$227,2,0))=R9,1,0)),\"\")","v":""},{"$f":"IFERROR(IF(S9=\"\",\"\",IF((VLOOKUP(AN9,Herramientas!$L$3:$M$227,2,0))=S9,1,0)),\"\")","v":""},{"$f":"IFERROR(IF(T9=\"\",\"\",IF((VLOOKUP(AO9,Herramientas!$L$3:$M$227,2,0))=T9,1,0)),\"\")","v":""},{"$f":"IFERROR(IF(U9=\"\",\"\",IF((VLOOKUP(AP9,Herramientas!$L$3:$M$227,2,0))=U9,1,0)),\"\")","v":""},{"$f":"IFERROR(IF(V9=\"\",\"\",IF((VLOOKUP(AQ9,Herramientas!$L$3:$M$227,2,0))=V9,1,0)),\"\")","v":""},{"$f":"IFERROR(IF(W9=\"\",\"\",IF((VLOOKUP(AR9,Herramientas!$L$3:$M$227,2,0))=W9,1,0)),\"\")","v":""},{"$f":"IFERROR(IF(#REF!=\"\",\"\",IF((VLOOKUP(AS9,Herramientas!$L$3:$M$227,2,0))=#REF!,1,0)),\"\")","v":""},{"$f":"IFERROR(IF(#REF!=\"\",\"\",IF((VLOOKUP(AT9,Herramientas!$L$3:$M$227,2,0))=#REF!,1,0)),\"\")","v":""},{"$f":"IFERROR(IF(#REF!=\"\",\"\",IF((VLOOKUP(AU9,Herramientas!$L$3:$M$227,2,0))=#REF!,1,0)),\"\")","v":""},{"$f":"IFERROR(IF(#REF!=\"\",\"\",IF((VLOOKUP(AV9,Herramientas!$L$3:$M$227,2,0))=#REF!,1,0)),\"\")","v":""},{"$f":"IFERROR(IF(#REF!=\"\",\"\",IF((VLOOKUP(AW9,Herramientas!$L$3:$M$227,2,0))=#REF!,1,0)),\"\")","v":""},null,{"$f":"SUM(AY9:BW9)","v":0},{"$f":"BY9/25*10","v":0},null,"SUMIT3",{"$f":"SUM(BA$8:BA$57)","v":0},{"$f":"COUNTIF(BA8:BA59,0)","v":0},0,null,"c",{"$f":"COUNTIF(D8:D107,\"c\")","v":0},0,0,0,0,0,0,0,0,0,0,0,0,0,0,0,0,0,0,0,{"$f":"COUNTIF(#REF!,\"c\")","v":{"$error":"#REF!"}},{"$f":"COUNTIF(#REF!,\"c\")","v":{"$error":"#REF!"}},{"$f":"COUNTIF(#REF!,\"c\")","v":{"$error":"#REF!"}},{"$f":"COUNTIF(#REF!,\"c\")","v":{"$error":"#REF!"}},{"$f":"COUNTIF(#REF!,\"c\")","v":{"$error":"#REF!"}}]
[3,null,null,null,null,null,null,null,null,null,null,null,null,null,null,null,null,null,null,null,null,null,null,null,"6.°-1","6.°-2","6.°-3","6.°-4","6.°-5","6.°-6","6.°-7","6.°-8","6.°-9","6.°-10","6.°-11","6.°-12","6.°-13","6.°-14","6.°-15","6.°-16","6.°-17","6.°-18","6.°-19","6.°-20",{"$f":"CONCATENATE($B$2,\"-\",#REF!)","v":{"$error":"#REF!"}},{"$f":"CONCATENATE($B$2,\"-\",#REF!)","v":{"$error":"#REF!"}},{"$f":"CONCATENATE($B$2,\"-\",#REF!)","v":{"$error":"#REF!"}},{"$f":"CONCATENATE($B$2,\"-\",#REF!)","v":{"$error":"#REF!"}},{"$f":"CONCATENATE($B$2,\"-\",#REF!)","v":{"$error":"#REF!"}},null,{"$f":"IFERROR(IF(D10=\"\",\"\",IF((VLOOKUP(Y10,Herramientas!$L$3:$M$227,2,0))=D10,1,0)),\"\")","v":""},{"$f":"IFERROR(IF(E10=\"\",\"\",IF((VLOOKUP(Z10,Herramientas!$L$3:$M$227,2,0))=E10,1,0)),\"\")","v":""},{"$f":"IFERROR(IF(F10=\"\",\"\",IF((VLOOKUP(AA10,Herramientas!$L$3:$M$227,2,0))=F10,1,0)),\"\")","v":""},{"$f":"IFERROR(IF(G10=\"\",\"\",IF((VLOOKUP(AB10,Herramientas!$L$3:$M$227,2,0))=G10,1,0)),\"\")","v":""},{"$f":"IFERROR(IF(H10=\"\",\"\",IF((VLOOKUP(AC10,Herramientas!$L$3:$M$227,2,0))=H10,1,0)),\"\")","v":""},{"$f":"IFERROR(IF(I10=\"\",\"\",IF((VLOOKUP(AD10,Herramientas!$L$3:$M$227,2,0))=I10,1,0)),\"\")","v":""},{"$f":"IFERROR(IF(J10=\"\",\"\",IF((VLOOKUP(AE10,Herramientas!$L$3:$M$227,2,0))=J10,1,0)),\"\")","v":""},{"$f":"IFERROR(IF(K10=\"\",\"\",IF((VLOOKUP(AF10,Herramientas!$L$3:$M$227,2,0))=K10,1,0)),\"\")","v":""},{"$f":"IFERROR(IF(L10=\"\",\"\",IF((VLOOKUP(AG10,Herramientas!$L$3:$M$227,2,0))=L10,1,0)),\"\")","v":""},{"$f":"IFERROR(IF(M10=\"\",\"\",IF((VLOOKUP(AH10,Herramientas!$L$3:$M$227,2,0))=M10,1,0)),\"\")","v":""},{"$f":"IFERROR(IF(N10=\"\",\"\",IF((VLOOKUP(AI10,Herramientas!$L$3:$M$227,2,0))=N10,1,0)),\"\")","v":""},{"$f":"IFERROR(IF(O10=\"\",\"\",IF((VLOOKUP(AJ10,Herramientas!$L$3:$M$227,2,0))=O10,1,0)),\"\")","v":""},{"$f":"IFERROR(IF(L10=\"\",\"\",IF((VLOOKUP(AG10,Herramientas!$L$3:$M$227,2,0))=L10,1,0)),\"\")","v":""},{"$f":"IFERROR(IF(M10=\"\",\"\",IF((VLOOKUP(AH10,Herramientas!$L$3:$M$227,2,0))=M10,1,0)),\"\")","v":""},{"$f":"IFERROR(IF(R10=\"\",\"\",IF((VLOOKUP(AM10,Herramientas!$L$3:$M$227,2,0))=R10,1,0)),\"\")","v":""},{"$f":"IFERROR(IF(S10=\"\",\"\",IF((VLOOKUP(AN10,Herramientas!$L$3:$M$227,2,0))=S10,1,0)),\"\")","v":""},{"$f":"IFERROR(IF(T10=\"\",\"\",IF((VLOOKUP(AO10,Herramientas!$L$3:$M$227,2,0))=T10,1,0)),\"\")","v":""},{"$f":"IFERROR(IF(U10=\"\",\"\",IF((VLOOKUP(AP10,Herramientas!$L$3:$M$227,2,0))=U10,1,0)),\"\")","v":""},{"$f":"IFERROR(IF(V10=\"\",\"\",IF((VLOOKUP(AQ10,Herramientas!$L$3:$M$227,2,0))=V10,1,0)),\"\")","v":""},{"$f":"IFERROR(IF(W10=\"\",\"\",IF((VLOOKUP(AR10,Herramientas!$L$3:$M$227,2,0))=W10,1,0)),\"\")","v":""},{"$f":"IFERROR(IF(#REF!=\"\",\"\",IF((VLOOKUP(AS10,Herramientas!$L$3:$M$227,2,0))=#REF!,1,0)),\"\")","v":""},{"$f":"IFERROR(IF(#REF!=\"\",\"\",IF((VLOOKUP(AT10,Herramientas!$L$3:$M$227,2,0))=#REF!,1,0)),\"\")","v":""},{"$f":"IFERROR(IF(#REF!=\"\",\"\",IF((VLOOKUP(AU10,Herramientas!$L$3:$M$227,2,0))=#REF!,1,0)),\"\")","v":""},{"$f":"IFERROR(IF(#REF!=\"\",\"\",IF((VLOOKUP(AV10,Herramientas!$L$3:$M$227,2,0))=#REF!,1,0)),\"\")","v":""},{"$f":"IFERROR(IF(#REF!=\"\",\"\",IF((VLOOKUP(AW10,Herramientas!$L$3:$M$227,2,0))=#REF!,1,0)),\"\")","v":""},null,0,0,null,"SUMIT4",{"$f":"SUM(BB$8:BB$57)","v":0},{"$f":"COUNTIF(BB8:BB59,0)","v":0},0,null,"d",{"$f":"COUNTIF(D8:D107,\"d\")","v":0},0,0,0,0,0,0,0,0,0,0,0,0,0,0,0,0,0,0,0,{"$f":"COUNTIF(#REF!,\"d\")","v":{"$error":"#REF!"}},{"$f":"COUNTIF(#REF!,\"d\")","v":{"$error":"#REF!"}},{"$f":"COUNTIF(#REF!,\"d\")","v":{"$error":"#REF!"}},{"$f":"COUNTIF(#REF!,\"d\")","v":{"$error":"#REF!"}},{"$f":"COUNTIF(#REF!,\"d\")","v":{"$error":"#REF!"}}]
[4,null,null,null,null,null,null,null,null,null,null,null,null,null,null,null,null,null,null,null,null,null,null,null,"6.°-1","6.°-2","6.°-3","6.°-4","6.°-5","6.°-6","6.°-7","6.°-8","6.°-9","6.°-10","6.°-11","6.°-12","6.°-13","6.°-14","6.°-15","6.°-16","6.°-17","6.°-18","6.°-19","6.°-20",{"$f":"CONCATENATE($B$2,\"-\",#REF!)","v":{"$error":"#REF!"}},{"$f":"CONCATENATE($B$2,\"-\",#REF!)","v":{"$error":"#REF!"}},{"$f":"CONCATENATE($B$2,\"-\",#REF!)","v":{"$error":"#REF!"}},{"$f":"CONCATENATE($B$2,\"-\",#REF!)","v":{"$error":"#REF!"}},{"$f":"CONCATENATE($B$2,\"-\",#REF!)","v":{"$error":"#REF!"}},null,{"$f":"IFERROR(IF(D11=\"\",\"\",IF((VLOOKUP(Y11,Herramientas!$L$3:$M$227,2,0))=D11,1,0)),\"\")","v":""},{"$f":"IFERROR(IF(E11=\"\",\"\",IF((VLOOKUP(Z11,Herramientas!$L$3:$M$227,2,0))=E11,1,0)),\"\")","v":""},{"$f":"IFERROR(IF(F11=\"\",\"\",IF((VLOOKUP(AA11,Herramientas!$L$3:$M$227,2,0))=F11,1,0)),\"\")","v":""},{"$f":"IFERROR(IF(G11=\"\",\"\",IF((VLOOKUP(AB11,Herramientas!$L$3:$M$227,2,0))=G11,1,0)),\"\")","v":""},{"$f":"IFERROR(IF(H11=\"\",\"\",IF((VLOOKUP(AC11,Herramientas!$L$3:$M$227,2,0))=H11,1,0)),\"\")","v":""},{"$f":"IFERROR(IF(I11=\"\",\"\",IF((VLOOKUP(AD11,Herramientas!$L$3:$M$227,2,0))=I11,1,0)),\"\")","v":""},{"$f":"IFERROR(IF(J11=\"\",\"\",IF((VLOOKUP(AE11,Herramientas!$L$3:$M$227,2,0))=J11,1,0)),\"\")","v":""},{"$f":"IFERROR(IF(K11=\"\",\"\",IF((VLOOKUP(AF11,Herramientas!$L$3:$M$227,2,0))=K11,1,0)),\"\")","v":""},{"$f":"IFERROR(IF(L11=\"\",\"\",IF((VLOOKUP(AG11,Herramientas!$L$3:$M$227,2,0))=L11,1,0)),\"\")","v":""},{"$f":"IFERROR(IF(M11=\"\",\"\",IF((VLOOKUP(AH11,Herramientas!$L$3:$M$227,2,0))=M11,1,0)),\"\")","v":""},{"$f":"IFERROR(IF(N11=\"\",\"\",IF((VLOOKUP(AI11,Herramientas!$L$3:$M$227,2,0))=N11,1,0)),\"\")","v":""},{"$f":"IFERROR(IF(O11=\"\",\"\",IF((VLOOKUP(AJ11,Herramientas!$L$3:$M$227,2,0))=O11,1,0)),\"\")","v":""},{"$f":"IFERROR(IF(L11=\"\",\"\",IF((VLOOKUP(AG11,Herramientas!$L$3:$M$227,2,0))=L11,1,0)),\"\")","v":""},{"$f":"IFERROR(IF(M11=\"\",\"\",IF((VLOOKUP(AH11,Herramientas!$L$3:$M$227,2,0))=M11,1,0)),\"\")","v":""},{"$f":"IFERROR(IF(R11=\"\",\"\",IF((VLOOKUP(AM11,Herramientas!$L$3:$M$227,2,0))=R11,1,0)),\"\")","v":""},{"$f":"IFERROR(IF(S11=\"\",\"\",IF((VLOOKUP(AN11,Herramientas!$L$3:$M$227,2,0))=S11,1,0)),\"\")","v":""},{"$f":"IFERROR(IF(T11=\"\",\"\",IF((VLOOKUP(AO11,Herramientas!$L$3:$M$227,2,0))=T11,1,0)),\"\")","v":""},{"$f":"IFERROR(IF(U11=\"\",\"\",IF((VLOOKUP(AP11,Herramientas!$L$3:$M$227,2,0))=U11,1,0)),\"\")","v":""},{"$f":"IFERROR(IF(V11=\"\",\"\",IF((VLOOKUP(AQ11,Herramientas!$L$3:$M$227,2,0))=V11,1,0)),\"\")","v":""},{"$f":"IFERROR(IF(W11=\"\",\"\",IF((VLOOKUP(AR11,Herramientas!$L$3:$M$227,2,0))=W11,1,0)),\"\")","v":""},{"$f":"IFERROR(IF(#REF!=\"\",\"\",IF((VLOOKUP(AS11,Herramientas!$L$3:$M$227,2,0))=#REF!,1,0)),\"\")","v":""},{"$f":"IFERROR(IF(#REF!=\"\",\"\",IF((VLOOKUP(AT11,Herramientas!$L$3:$M$227,2,0))=#REF!,1,0)),\"\")","v":""},{"$f":"IFERROR(IF(#REF!=\"\",\"\",IF((VLOOKUP(AU11,Herramientas!$L$3:$M$227,2,0))=#REF!,1,0)),\"\")","v":""},{"$f":"IFERROR(IF(#REF!=\"\",\"\",IF((VLOOKUP(AV11,Herramientas!$L$3:$M$227,2,0))=#REF!,1,0)),\"\")","v":""},{"$f":"IFERROR(IF(#REF!=\"\",\"\",IF((VLOOKUP(AW11,Herramientas!$L$3:$M$227,2,0))=#REF!,1,0)),\"\")","v":""},null,0,0,null,"SUMIT5",{"$f":"SUM(BC$8:BC$57)","v":0},{"$f":"COUNTIF(BC8:BC60,0)","v":0},0]
[5,null,null,null,null,null,null,null,null,null,null,null,null,null,null,null,null,null,null,null,null,null,null,null,"6.°-1","6.°-2","6.°-3","6.°-4","6.°-5","6.°-6","6.°-7","6.°-8","6.°-9","6.°-10","6.°-11","6.°-12","6.°-13","6.°-14","6.°-15","6.°-16","6.°-17","6.°-18","6.°-19","6.°-20",{"$f":"CONCATENATE($B$2,\"-\",#REF!)","v":{"$error":"#REF!"}},{"$f":"CONCATENATE($B$2,\"-\",#REF!)","v":{"$error":"#REF!"}},{"$f":"CONCATENATE($B$2,\"-\",#REF!)","v":{"$error":"#REF!"}},{"$f":"CONCATENATE($B$2,\"-\",#REF!)","v":{"$error":"#REF!"}},{"$f":"CONCATENATE($B$2,\"-\",#REF!)","v":{"$error":"#REF!"}},null,{"$f":"IFERROR(IF(D12=\"\",\"\",IF((VLOOKUP(Y12,Herramientas!$L$3:$M$227,2,0))=D12,1,0)),\"\")","v":""},{"$f":"IFERROR(IF(E12=\"\",\"\",IF((VLOOKUP(Z12,Herramientas!$L$3:$M$227,2,0))=E12,1,0)),\"\")","v":""},{"$f":"IFERROR(IF(F12=\"\",\"\",IF((VLOOKUP(AA12,Herramientas!$L$3:$M$227,2,0))=F12,1,0)),\"\")","v":""},{"$f":"IFERROR(IF(G12=\"\",\"\",IF((VLOOKUP(AB12,Herramientas!$L$3:$M$227,2,0))=G12,1,0)),\"\")","v":""},{"$f":"IFERROR(IF(H12=\"\",\"\",IF((VLOOKUP(AC12,Herramientas!$L$3:$M$227,2,0))=H12,1,0)),\"\")","v":""},{"$f":"IFERROR(IF(I12=\"\",\"\",IF((VLOOKUP(AD12,Herramientas!$L$3:$M$227,2,0))=I12,1,0)),\"\")","v":""},{"$f":"IFERROR(IF(J12=\"\",\"\",IF((VLOOKUP(AE12,Herramientas!$L$3:$M$227,2,0))=J12,1,0)),\"\")","v":""},{"$f":"IFERROR(IF(K12=\"\",\"\",IF((VLOOKUP(AF12,Herramientas!$L$3:$M$227,2,0))=K12,1,0)),\"\")","v":""},{"$f":"IFERROR(IF(L12=\"\",\"\",IF((VLOOKUP(AG12,Herramientas!$L$3:$M$227,2,0))=L12,1,0)),\"\")","v":""},{"$f":"IFERROR(IF(M12=\"\",\"\",IF((VLOOKUP(AH12,Herramientas!$L$3:$M$227,2,0))=M12,1,0)),\"\")","v":""},{"$f":"IFERROR(IF(N12=\"\",\"\",IF((VLOOKUP(AI12,Herramientas!$L$3:$M$227,2,0))=N12,1,0)),\"\")","v":""},{"$f":"IFERROR(IF(O12=\"\",\"\",IF((VLOOKUP(AJ12,Herramientas!$L$3:$M$227,2,0))=O12,1,0)),\"\")","v":""},{"$f":"IFERROR(IF(L12=\"\",\"\",IF((VLOOKUP(AG12,Herramientas!$L$3:$M$227,2,0))=L12,1,0)),\"\")","v":""},{"$f":"IFERROR(IF(M12=\"\",\"\",IF((VLOOKUP(AH12,Herramientas!$L$3:$M$227,2,0))=M12,1,0)),\"\")","v":""},{"$f":"IFERROR(IF(R12=\"\",\"\",IF((VLOOKUP(AM12,Herramientas!$L$3:$M$227,2,0))=R12,1,0)),\"\")","v":""},{"$f":"IFERROR(IF(S12=\"\",\"\",IF((VLOOKUP(AN12,Herramientas!$L$3:$M$227,2,0))=S12,1,0)),\"\")","v":""},{"$f":"IFERROR(IF(T12=\"\",\"\",IF((VLOOKUP(AO12,Herramientas!$L$3:$M$227,2,0))=T12,1,0)),\"\")","v":""},{"$f":"IFERROR(IF(U12=\"\",\"\",IF((VLOOKUP(AP12,Herramientas!$L$3:$M$227,2,0))=U12,1,0)),\"\")","v":""},{"$f":"IFERROR(IF(V12=\"\",\"\",IF((VLOOKUP(AQ12,Herramientas!$L$3:$M$227,2,0))=V12,1,0)),\"\")","v":""},{"$f":"IFERROR(IF(W12=\"\",\"\",IF((VLOOKUP(AR12,Herramientas!$L$3:$M$227,2,0))=W12,1,0)),\"\")","v":""},{"$f":"IFERROR(IF(#REF!=\"\",\"\",IF((VLOOKUP(AS12,Herramientas!$L$3:$M$227,2,0))=#REF!,1,0)),\"\")","v":""},{"$f":"IFERROR(IF(#REF!=\"\",\"\",IF((VLOOKUP(AT12,Herramientas!$L$3:$M$227,2,0))=#REF!,1,0)),\"\")","v":""},{"$f":"IFERROR(IF(#REF!=\"\",\"\",IF((VLOOKUP(AU12,Herramientas!$L$3:$M$227,2,0))=#REF!,1,0)),\"\")","v":""},{"$f":"IFERROR(IF(#REF!=\"\",\"\",IF((VLOOKUP(AV12,Herramientas!$L$3:$M$227,2,0))=#REF!,1,0)),\"\")","v":""},{"$f":"IFERROR(IF(#REF!=\"\",\"\",IF((VLOOKUP(AW12,Herramientas!$L$3:$M$227,2,0))=#REF!,1,0)),\"\")","v":""},null,0,0,null,"SUMIT6",{"$f":"SUM(BD$8:BD$57)","v":0},{"$f":"COUNTIF(BD$8:BD$57,0)","v":0},0,null,null,{"$f":"SUM(CH7:CH10)","v":0},{"$f":"SUM(CI7:CI10)","v":0},0,0,0,0,0,0,0,0,0,0,0,0,0,0,0,0,0,0,{"$error":"#REF!"},{"$error":"#REF!"},{"$error":"#REF!"},{"$error":"#REF!"},{"$error":"#REF!"}]
[6,null,null,null,null,null,null,null,null,null,null,null,null,null,null,null,null,null,null,null,null,null,null,null,"6.°-1","6.°-2","6.°-3","6.°-4","6.°-5","6.°-6","6.°-7","6.°-8","6.°-9","6.°-10","6.°-11","6.°-12","6.°-13","6.°-14","6.°-15","6.°-16","6.°-17","6.°-18","6.°-19","6.°-20",{"$f":"CONCATENATE($B$2,\"-\",#REF!)","v":{"$error":"#REF!"}},{"$f":"CONCATENATE($B$2,\"-\",#REF!)","v":{"$error":"#REF!"}},{"$f":"CONCATENATE($B$2,\"-\",#REF!)","v":{"$error":"#REF!"}},{"$f":"CONCATENATE($B$2,\"-\",#REF!)","v":{"$error":"#REF!"}},{"$f":"CONCATENATE($B$2,\"-\",#REF!)","v":{"$error":"#REF!"}},null,{"$f":"IFERROR(IF(D13=\"\",\"\",IF((VLOOKUP(Y13,Herramientas!$L$3:$M$227,2,0))=D13,1,0)),\"\")","v":""},{"$f":"IFERROR(IF(E13=\"\",\"\",IF((VLOOKUP(Z13,Herramientas!$L$3:$M$227,2,0))=E13,1,0)),\"\")","v":""},{"$f":"IFERROR(IF(F13=\"\",\"\",IF((VLOOKUP(AA13,Herramientas!$L$3:$M$227,2,0))=F13,1,0)),\"\")","v":""},{"$f":"IFERROR(IF(G13=\"\",\"\",IF((VLOOKUP(AB13,Herramientas!$L$3:$M$227,2,0))=G13,1,0)),\"\")","v":""},{"$f":"IFERROR(IF(H13=\"\",\"\",IF((VLOOKUP(AC13,Herramientas!$L$3:$M$227,2,0))=H13,1,0)),\"\")","v":""},{"$f":"IFERROR(IF(I13=\"\",\"\",IF((VLOOKUP(AD13,Herramientas!$L$3:$M$227,2,0))=I13,1,0)),\"\")","v":""},{"$f":"IFERROR(IF(J13=\"\",\"\",IF((VLOOKUP(AE13,Herramientas!$L$3:$M$227,2,0))=J13,1,0)),\"\")","v":""},{"$f":"IFERROR(IF(K13=\"\",\"\",IF((VLOOKUP(AF13,Herramientas!$L$3:$M$227,2,0))=K13,1,0)),\"\")","v":""},{"$f":"IFERROR(IF(L13=\"\",\"\",IF((VLOOKUP(AG13,Herramientas!$L$3:$M$227,2,0))=L13,1,0)),\"\")","v":""},{"$f":"IFERROR(IF(M13=\"\",\"\",IF((VLOOKUP(AH13,Herramientas!$L$3:$M$227,2,0))=M13,1,0)),\"\")","v":""},{"$f":"IFERROR(IF(N13=\"\",\"\",IF((VLOOKUP(AI13,Herramientas!$L$3:$M$227,2,0))=N13,1,0)),\"\")","v":""},{"$f":"IFERROR(IF(O13=\"\",\"\",IF((VLOOKUP(AJ13,Herramientas!$L$3:$M$227,2,0))=O13,1,0)),\"\")","v":""},{"$f":"IFERROR(IF(L13=\"\",\"\",IF((VLOOKUP(AG13,Herramientas!$L$3:$M$227,2,0))=L13,1,0)),\"\")","v":""},{"$f":"IFERROR(IF(M13=\"\",\"\",IF((VLOOKUP(AH13,Herramientas!$L$3:$M$227,2,0))=M13,1,0)),\"\")","v":""},{"$f":"IFERROR(IF(R13=\"\",\"\",IF((VLOOKUP(AM13,Herramientas!$L$3:$M$227,2,0))=R13,1,0)),\"\")","v":""},{"$f":"IFERROR(IF(S13=\"\",\"\",IF((VLOOKUP(AN13,Herramientas!$L$3:$M$227,2,0))=S13,1,0)),\"\")","v":""},{"$f":"IFERROR(IF(T13=\"\",\"\",IF((VLOOKUP(AO13,Herramientas!$L$3:$M$227,2,0))=T13,1,0)),\"\")","v":""},{"$f":"IFERROR(IF(U13=\"\",\"\",IF((VLOOKUP(AP13,Herramientas!$L$3:$M$227,2,0))=U13,1,0)),\"\")","v":""},{"$f":"IFERROR(IF(V13=\"\",\"\",IF((VLOOKUP(AQ13,Herramientas!$L$3:$M$227,2,0))=V13,1,0)),\"\")","v":""},{"$f":"IFERROR(IF(W13=\"\",\"\",IF((VLOOKUP(AR13,Herramientas!$L$3:$M$227,2,0))=W13,1,0)),\"\")","v":""},{"$f":"IFERROR(IF(#REF!=\"\",\"\",IF((VLOOKUP(AS13,Herramientas!$L$3:$M$227,2,0))=#REF!,1,0)),\"\")","v":""},{"$f":"IFERROR(IF(#REF!=\"\",\"\",IF((VLOOKUP(AT13,Herramientas!$L$3:$M$227,2,0))=#REF!,1,0)),\"\")","v":""},{"$f":"IFERROR(IF(#REF!=\"\",\"\",IF((VLOOKUP(AU13,Herramientas!$L$3:$M$227,2,0))=#REF!,1,0)),\"\")","v":""},{"$f":"IFERROR(IF(#REF!=\"\",\"\",IF((VLOOKUP(AV13,Herramientas!$L$3:$M$227,2,0))=#REF!,1,0)),\"\")","v":""},{"$f":"IFERROR(IF(#REF!=\"\",\"\",IF((VLOOKUP(AW13,Herramientas!$L$3:$M$227,2,0))=#REF!,1,0)),\"\")","v":""},null,0,0,null,"SUMIT7",{"$f":"SUM(BE$8:BE$57)","v":0},{"$f":"COUNTIF(BE$8:BE$57,0)","v":0},0]
[7,null,null,null,null,null,null,null,null,null,null,null,null,null,null,null,null,null,null,null,null,null,null,null,"6.°-1","6.°-2","6.°-3","6.°-4","6.°-5","6.°-6","6.°-7","6.°-8","6.°-9","6.°-10","6.°-11","6.°-12","6.°-13","6.°-14","6.°-15","6.°-16","6.°-17","6.°-18","6.°-19","6.°-20",{"$f":"CONCATENATE($B$2,\"-\",#REF!)","v":{"$error":"#REF!"}},{"$f":"CONCATENATE($B$2,\"-\",#REF!)","v":{"$error":"#REF!"}},{"$f":"CONCATENATE($B$2,\"-\",#REF!)","v":{"$error":"#REF!"}},{"$f":"CONCATENATE($B$2,\"-\",#REF!)","v":{"$error":"#REF!"}},{"$f":"CONCATENATE($B$2,\"-\",#REF!)","v":{"$error":"#REF!"}},null,{"$f":"IFERROR(IF(D14=\"\",\"\",IF((VLOOKUP(Y14,Herramientas!$L$3:$M$227,2,0))=D14,1,0)),\"\")","v":""},{"$f":"IFERROR(IF(E14=\"\",\"\",IF((VLOOKUP(Z14,Herramientas!$L$3:$M$227,2,0))=E14,1,0)),\"\")","v":""},{"$f":"IFERROR(IF(F14=\"\",\"\",IF((VLOOKUP(AA14,Herramientas!$L$3:$M$227,2,0))=F14,1,0)),\"\")","v":""},{"$f":"IFERROR(IF(G14=\"\",\"\",IF((VLOOKUP(AB14,Herramientas!$L$3:$M$227,2,0))=G14,1,0)),\"\")","v":""},{"$f":"IFERROR(IF(H14=\"\",\"\",IF((VLOOKUP(AC14,Herramientas!$L$3:$M$227,2,0))=H14,1,0)),\"\")","v":""},{"$f":"IFERROR(IF(I14=\"\",\"\",IF((VLOOKUP(AD14,Herramientas!$L$3:$M$227,2,0))=I14,1,0)),\"\")","v":""},{"$f":"IFERROR(IF(J14=\"\",\"\",IF((VLOOKUP(AE14,Herramientas!$L$3:$M$227,2,0))=J14,1,0)),\"\")","v":""},{"$f":"IFERROR(IF(K14=\"\",\"\",IF((VLOOKUP(AF14,Herramientas!$L$3:$M$227,2,0))=K14,1,0)),\"\")","v":""},{"$f":"IFERROR(IF(L14=\"\",\"\",IF((VLOOKUP(AG14,Herramientas!$L$3:$M$227,2,0))=L14,1,0)),\"\")","v":""},{"$f":"IFERROR(IF(M14=\"\",\"\",IF((VLOOKUP(AH14,Herramientas!$L$3:$M$227,2,0))=M14,1,0)),\"\")","v":""},{"$f":"IFERROR(IF(N14=\"\",\"\",IF((VLOOKUP(AI14,Herramientas!$L$3:$M$227,2,0))=N14,1,0)),\"\")","v":""},{"$f":"IFERROR(IF(O14=\"\",\"\",IF((VLOOKUP(AJ14,Herramientas!$L$3:$M$227,2,0))=O14,1,0)),\"\")","v":""},{"$f":"IFERROR(IF(L14=\"\",\"\",IF((VLOOKUP(AG14,Herramientas!$L$3:$M$227,2,0))=L14,1,0)),\"\")","v":""},{"$f":"IFERROR(IF(M14=\"\",\"\",IF((VLOOKUP(AH14,Herramientas!$L$3:$M$227,2,0))=M14,1,0)),\"\")","v":""},{"$f":"IFERROR(IF(R14=\"\",\"\",IF((VLOOKUP(AM14,Herramientas!$L$3:$M$227,2,0))=R14,1,0)),\"\")","v":""},{"$f":"IFERROR(IF(S14=\"\",\"\",IF((VLOOKUP(AN14,Herramientas!$L$3:$M$227,2,0))=S14,1,0)),\"\")","v":""},{"$f":"IFERROR(IF(T14=\"\",\"\",IF((VLOOKUP(AO14,Herramientas!$L$3:$M$227,2,0))=T14,1,0)),\"\")","v":""},{"$f":"IFERROR(IF(U14=\"\",\"\",IF((VLOOKUP(AP14,Herramientas!$L$3:$M$227,2,0))=U14,1,0)),\"\")","v":""},{"$f":"IFERROR(IF(V14=\"\",\"\",IF((VLOOKUP(AQ14,Herramientas!$L$3:$M$227,2,0))=V14,1,0)),\"\")","v":""},{"$f":"IFERROR(IF(W14=\"\",\"\",IF((VLOOKUP(AR14,Herramientas!$L$3:$M$227,2,0))=W14,1,0)),\"\")","v":""},{"$f":"IFERROR(IF(#REF!=\"\",\"\",IF((VLOOKUP(AS14,Herramientas!$L$3:$M$227,2,0))=#REF!,1,0)),\"\")","v":""},{"$f":"IFERROR(IF(#REF!=\"\",\"\",IF((VLOOKUP(AT14,Herramientas!$L$3:$M$227,2,0))=#REF!,1,0)),\"\")","v":""},{"$f":"IFERROR(IF(#REF!=\"\",\"\",IF((VLOOKUP(AU14,Herramientas!$L$3:$M$227,2,0))=#REF!,1,0)),\"\")","v":""},{"$f":"IFERROR(IF(#REF!=\"\",\"\",IF((VLOOKUP(AV14,Herramientas!$L$3:$M$227,2,0))=#REF!,1,0)),\"\")","v":""},{"$f":"IFERROR(IF(#REF!=\"\",\"\",IF((VLOOKUP(AW14,Herramientas!$L$3:$M$227,2,0))=#REF!,1,0)),\"\")","v":""},null,0,0,null,"SUMIT8",{"$f":"SUM(BF$8:BF$57)","v":0},{"$f":"COUNTIF(BF$8:BF$57,0)","v":0},0,null,null,"a",null,null,"b",null,null,"c",null,null,"d"]
[8,null,null,null,null,null,null,null,null,null,null,null,null,null,null,null,null,null,null,null,null,null,null,null,"6.°-1","6.°-2","6.°-3","6.°-4","6.°-5","6.°-6","6.°-7","6.°-8","6.°-9","6.°-10","6.°-11","6.°-12","6.°-13","6.°-14","6.°-15","6.°-16","6.°-17","6.°-18","6.°-19","6.°-20",{"$f":"CONCATENATE($B$2,\"-\",#REF!)","v":{"$error":"#REF!"}},{"$f":"CONCATENATE($B$2,\"-\",#REF!)","v":{"$error":"#REF!"}},{"$f":"CONCATENATE($B$2,\"-\",#REF!)","v":{"$error":"#REF!"}},{"$f":"CONCATENATE($B$2,\"-\",#REF!)","v":{"$error":"#REF!"}},{"$f":"CONCATENATE($B$2,\"-\",#REF!)","v":{"$error":"#REF!"}},null,{"$f":"IFERROR(IF(D15=\"\",\"\",IF((VLOOKUP(Y15,Herramientas!$L$3:$M$227,2,0))=D15,1,0)),\"\")","v":""},{"$f":"IFERROR(IF(E15=\"\",\"\",IF((VLOOKUP(Z15,Herramientas!$L$3:$M$227,2,0))=E15,1,0)),\"\")","v":""},{"$f":"IFERROR(IF(F15=\"\",\"\",IF((VLOOKUP(AA15,Herramientas!$L$3:$M$227,2,0))=F15,1,0)),\"\")","v":""},{"$f":"IFERROR(IF(G15=\"\",\"\",IF((VLOOKUP(AB15,Herramientas!$L$3:$M$227,2,0))=G15,1,0)),\"\")","v":""},{"$f":"IFERROR(IF(H15=\"\",\"\",IF((VLOOKUP(AC15,Herramientas!$L$3:$M$227,2,0))=H15,1,0)),\"\")","v":""},{"$f":"IFERROR(IF(I15=\"\",\"\",IF((VLOOKUP(AD15,Herramientas!$L$3:$M$227,2,0))=I15,1,0)),\"\")","v":""},{"$f":"IFERROR(IF(J15=\"\",\"\",IF((VLOOKUP(AE15,Herramientas!$L$3:$M$227,2,0))=J15,1,0)),\"\")","v":""},{"$f":"IFERROR(IF(K15=\"\",\"\",IF((VLOOKUP(AF15,Herramientas!$L$3:$M$227,2,0))=K15,1,0)),\"\")","v":""},{"$f":"IFERROR(IF(L15=\"\",\"\",IF((VLOOKUP(AG15,Herramientas!$L$3:$M$227,2,0))=L15,1,0)),\"\")","v":""},{"$f":"IFERROR(IF(M15=\"\",\"\",IF((VLOOKUP(AH15,Herramientas!$L$3:$M$227,2,0))=M15,1,0)),\"\")","v":""},{"$f":"IFERROR(IF(N15=\"\",\"\",IF((VLOOKUP(AI15,Herramientas!$L$3:$M$227,2,0))=N15,1,0)),\"\")","v":""},{"$f":"IFERROR(IF(O15=\"\",\"\",IF((VLOOKUP(AJ15,Herramientas!$L$3:$M$227,2,0))=O15,1,0)),\"\")","v":""},{"$f":"IFERROR(IF(L15=\"\",\"\",IF((VLOOKUP(AG15,Herramientas!$L$3:$M$227,2,0))=L15,1,0)),\"\")","v":""},{"$f":"IFERROR(IF(M15=\"\",\"\",IF((VLOOKUP(AH15,Herramientas!$L$3:$M$227,2,0))=M15,1,0)),\"\")","v":""},{"$f":"IFERROR(IF(R15=\"\",\"\",IF((VLOOKUP(AM15,Herramientas!$L$3:$M$227,2,0))=R15,1,0)),\"\")","v":""},{"$f":"IFERROR(IF(S15=\"\",\"\",IF((VLOOKUP(AN15,Herramientas!$L$3:$M$227,2,0))=S15,1,0)),\"\")","v":""},{"$f":"IFERROR(IF(T15=\"\",\"\",IF((VLOOKUP(AO15,Herramientas!$L$3:$M$227,2,0))=T15,1,0)),\"\")","v":""},{"$f":"IFERROR(IF(U15=\"\",\"\",IF((VLOOKUP(AP15,Herramientas!$L$3:$M$227,2,0))=U15,1,0)),\"\")","v":""},{"$f":"IFERROR(IF(V15=\"\",\"\",IF((VLOOKUP(AQ15,Herramientas!$L$3:$M$227,2,0))=V15,1,0)),\"\")","v":""},{"$f":"IFERROR(IF(W15=\"\",\"\",IF((VLOOKUP(AR15,Herramientas!$L$3:$M$227,2,0))=W15,1,0)),\"\")","v":""},{"$f":"IFERROR(IF(#REF!=\"\",\"\",IF((VLOOKUP(AS15,Herramientas!$L$3:$M$227,2,0))=#REF!,1,0)),\"\")","v":""},{"$f":"IFERROR(IF(#REF!=\"\",\"\",IF((VLOOKUP(AT15,Herramientas!$L$3:$M$227,2,0))=#REF!,1,0)),\"\")","v":""},{"$f":"IFERROR(IF(#REF!=\"\",\"\",IF((VLOOKUP(AU15,Herramientas!$L$3:$M$227,2,0))=#REF!,1,0)),\"\")","v":""},{"$f":"IFERROR(IF(#REF!=\"\",\"\",IF((VLOOKUP(AV15,Herramientas!$L$3:$M$227,2,0))=#REF!,1,0)),\"\")","v":""},{"$f":"IFERROR(IF(#REF!=\"\",\"\",IF((VLOOKUP(AW15,Herramientas!$L$3:$M$227,2,0))=#REF!,1,0)),\"\")","v":""},null,0,0,null,"SUMIT9",{"$f":"SUM(BG$8:BG$57)","v":0},{"$f":"COUNTIF(BG$8:BG$57,0)","v":0},0,null,"it1",{"$f":"CH7","v":0},{"$f":"CH12","v":0},{"$f":"IF(CI15=0,\"\",CH15/CI15*100)","v":""},{"$f":"CH8","v":0},{"$f":"CI15","v":0},{"$f":"IF(CL15=0,\"\",CK15/CL15*100)","v":""},{"$f":"CH9","v":0},{"$f":"CL15","v":0},{"$f":"IF(CO15=0,\"\",CN15/CO15*100)","v":""},{"$f":"CH10","v":0},{"$f":"CO15","v":0},{"$f":"IF(CR15=0,\"\",CQ15/CR15*100)","v":""}]
[9,null,null,null,null,null,null,null,null,null,null,null,null,null,null,null,null,null,null,null,null,null,null,null,"6.°-1","6.°-2","6.°-3","6.°-4","6.°-5","6.°-6","6.°-7","6.°-8","6.°-9","6.°-10","6.°-11","6.°-12","6.°-13","6.°-14","6.°-15","6.°-16","6.°-17","6.°-18","6.°-19","6.°-20",{"$f":"CONCATENATE($B$2,\"-\",#REF!)","v":{"$error":"#REF!"}},{"$f":"CONCATENATE($B$2,\"-\",#REF!)","v":{"$error":"#REF!"}},{"$f":"CONCATENATE($B$2,\"-\",#REF!)","v":{"$error":"#REF!"}},{"$f":"CONCATENATE($B$2,\"-\",#REF!)","v":{"$error":"#REF!"}},{"$f":"CONCATENATE($B$2,\"-\",#REF!)","v":{"$error":"#REF!"}},null,{"$f":"IFERROR(IF(D16=\"\",\"\",IF((VLOOKUP(Y16,Herramientas!$L$3:$M$227,2,0))=D16,1,0)),\"\")","v":""},{"$f":"IFERROR(IF(E16=\"\",\"\",IF((VLOOKUP(Z16,Herramientas!$L$3:$M$227,2,0))=E16,1,0)),\"\")","v":""},{"$f":"IFERROR(IF(F16=\"\",\"\",IF((VLOOKUP(AA16,Herramientas!$L$3:$M$227,2,0))=F16,1,0)),\"\")","v":""},{"$f":"IFERROR(IF(G16=\"\",\"\",IF((VLOOKUP(AB16,Herramientas!$L$3:$M$227,2,0))=G16,1,0)),\"\")","v":""},{"$f":"IFERROR(IF(H16=\"\",\"\",IF((VLOOKUP(AC16,Herramientas!$L$3:$M$227,2,0))=H16,1,0)),\"\")","v":""},{"$f":"IFERROR(IF(I16=\"\",\"\",IF((VLOOKUP(AD16,Herramientas!$L$3:$M$227,2,0))=I16,1,0)),\"\")","v":""},{"$f":"IFERROR(IF(J16=\"\",\"\",IF((VLOOKUP(AE16,Herramientas!$L$3:$M$227,2,0))=J16,1,0)),\"\")","v":""},{"$f":"IFERROR(IF(K16=\"\",\"\",IF((VLOOKUP(AF16,Herramientas!$L$3:$M$227,2,0))=K16,1,0)),\"\")","v":""},{"$f":"IFERROR(IF(L16=\"\",\"\",IF((VLOOKUP(AG16,Herramientas!$L$3:$M$227,2,0))=L16,1,0)),\"\")","v":""},{"$f":"IFERROR(IF(M16=\"\",\"\",IF((VLOOKUP(AH16,Herramientas!$L$3:$M$227,2,0))=M16,1,0)),\"\")","v":""},{"$f":"IFERROR(IF(N16=\"\",\"\",IF((VLOOKUP(AI16,Herramientas!$L$3:$M$227,2,0))=N16,1,0)),\"\")","v":""},{"$f":"IFERROR(IF(O16=\"\",\"\",IF((VLOOKUP(AJ16,Herramientas!$L$3:$M$227,2,0))=O16,1,0)),\"\")","v":""},{"$f":"IFERROR(IF(L16=\"\",\"\",IF((VLOOKUP(AG16,Herramientas!$L$3:$M$227,2,0))=L16,1,0)),\"\")","v":""},{"$f":"IFERROR(IF(M16=\"\",\"\",IF((VLOOKUP(AH16,Herramientas!$L$3:$M$227,2,0))=M16,1,0)),\"\")","v":""},{"$f":"IFERROR(IF(R16=\"\",\"\",IF((VLOOKUP(AM16,Herramientas!$L$3:$M$227,2,0))=R16,1,0)),\"\")","v":""},{"$f":"IFERROR(IF(S16=\"\",\"\",IF((VLOOKUP(AN16,Herramientas!$L$3:$M$227,2,0))=S16,1,0)),\"\")","v":""},{"$f":"IFERROR(IF(T16=\"\",\"\",IF((VLOOKUP(AO16,Herramientas!$L$3:$M$227,2,0))=T16,1,0)),\"\")","v":""},{"$f":"IFERROR(IF(U16=\"\",\"\",IF((VLOOKUP(AP16,Herramientas!$L$3:$M$227,2,0))=U16,1,0)),\"\")","v":""},{"$f":"IFERROR(IF(V16=\"\",\"\",IF((VLOOKUP(AQ16,Herramientas!$L$3:$M$227,2,0))=V16,1,0)),\"\")","v":""},{"$f":"IFERROR(IF(W16=\"\",\"\",IF((VLOOKUP(AR16,Herramientas!$L$3:$M$227,2,0))=W16,1,0)),\"\")","v":""},{"$f":"IFERROR(IF(#REF!=\"\",\"\",IF((VLOOKUP(AS16,Herramientas!$L$3:$M$227,2,0))=#REF!,1,0)),\"\")","v":""},{"$f":"IFERROR(IF(#REF!=\"\",\"\",IF((VLOOKUP(AT16,Herramientas!$L$3:$M$227,2,0))=#REF!,1,0)),\"\")","v":""},{"$f":"IFERROR(IF(#REF!=\"\",\"\",IF((VLOOKUP(AU16,Herramientas!$L$3:$M$227,2,0))=#REF!,1,0)),\"\")","v":""},{"$f":"IFERROR(IF(#REF!=\"\",\"\",IF((VLOOKUP(AV16,Herramientas!$L$3:$M$227,2,0))=#REF!,1,0)),\"\")","v":""},{"$f":"IFERROR(IF(#REF!=\"\",\"\",IF((VLOOKUP(AW16,Herramientas!$L$3:$M$227,2,0))=#REF!,1,0)),\"\")","v":""},null,0,0,null,"SUMIT10",{"$f":"SUM(BH$8:BH$57)","v":0},{"$f":"COUNTIF(BH$8:BH$57,0)","v":0},0,null,"it2",{"$f":"CI7","v":0},{"$f":"CI12","v":0},{"$f":"IF(CI16=0,\"\",CH16/CI16*100)","v":""},{"$f":"CI8","v":0},{"$f":"CI16","v":0},{"$f":"IF(CL16=0,\"\",CK16/CL16*100)","v":""},{"$f":"CI9","v":0},{"$f":"CL16","v":0},{"$f":"IF(CO16=0,\"\",CN16/CO16*100)","v":""},{"$f":"CI10","v":0},{"$f":"CO16","v":0},{"$f":"IF(CR16=0,\"\",CQ16/CR16*100)","v":""}]
[10,null,null,null,null,null,null,null,null,null,null,null,null,null,null,null,null,null,null,null,null,null,null,null,"6.°-1","6.°-2","6.°-3","6.°-4","6.°-5","6.°-6","6.°-7","6.°-8","6.°-9","6.°-10","6.°-11","6.°-12","6.°-13","6.°-14","6.°-15","6.°-16","6.°-17","6.°-18","6.°-19","6.°-20",{"$f":"CONCATENATE($B$2,\"-\",#REF!)","v":{"$error":"#REF!"}},{"$f":"CONCATENATE($B$2,\"-\",#REF!)","v":{"$error":"#REF!"}},{"$f":"CONCATENATE($B$2,\"-\",#REF!)","v":{"$error":"#REF!"}},{"$f":"CONCATENATE($B$2,\"-\",#REF!)","v":{"$error":"#REF!"}},{"$f":"CONCATENATE($B$2,\"-\",#REF!)","v":{"$error":"#REF!"}},null,{"$f":"IFERROR(IF(D17=\"\",\"\",IF((VLOOKUP(Y17,Herramientas!$L$3:$M$227,2,0))=D17,1,0)),\"\")","v":""},{"$f":"IFERROR(IF(E17=\"\",\"\",IF((VLOOKUP(Z17,Herramientas!$L$3:$M$227,2,0))=E17,1,0)),\"\")","v":""},{"$f":"IFERROR(IF(F17=\"\",\"\",IF((VLOOKUP(AA17,Herramientas!$L$3:$M$227,2,0))=F17,1,0)),\"\")","v":""},{"$f":"IFERROR(IF(G17=\"\",\"\",IF((VLOOKUP(AB17,Herramientas!$L$3:$M$227,2,0))=G17,1,0)),\"\")","v":""},{"$f":"IFERROR(IF(H17=\"\",\"\",IF((VLOOKUP(AC17,Herramientas!$L$3:$M$227,2,0))=H17,1,0)),\"\")","v":""},{"$f":"IFERROR(IF(I17=\"\",\"\",IF((VLOOKUP(AD17,Herramientas!$L$3:$M$227,2,0))=I17,1,0)),\"\")","v":""},{"$f":"IFERROR(IF(J17=\"\",\"\",IF((VLOOKUP(AE17,Herramientas!$L$3:$M$227,2,0))=J17,1,0)),\"\")","v":""},{"$f":"IFERROR(IF(K17=\"\",\"\",IF((VLOOKUP(AF17,Herramientas!$L$3:$M$227,2,0))=K17,1,0)),\"\")","v":""},{"$f":"IFERROR(IF(L17=\"\",\"\",IF((VLOOKUP(AG17,Herramientas!$L$3:$M$227,2,0))=L17,1,0)),\"\")","v":""},{"$f":"IFERROR(IF(M17=\"\",\"\",IF((VLOOKUP(AH17,Herramientas!$L$3:$M$227,2,0))=M17,1,0)),\"\")","v":""},{"$f":"IFERROR(IF(N17=\"\",\"\",IF((VLOOKUP(AI17,Herramientas!$L$3:$M$227,2,0))=N17,1,0)),\"\")","v":""},{"$f":"IFERROR(IF(O17=\"\",\"\",IF((VLOOKUP(AJ17,Herramientas!$L$3:$M$227,2,0))=O17,1,0)),\"\")","v":""},{"$f":"IFERROR(IF(L17=\"\",\"\",IF((VLOOKUP(AG17,Herramientas!$L$3:$M$227,2,0))=L17,1,0)),\"\")","v":""},{"$f":"IFERROR(IF(M17=\"\",\"\",IF((VLOOKUP(AH17,Herramientas!$L$3:$M$227,2,0))=M17,1,0)),\"\")","v":""},{"$f":"IFERROR(IF(R17=\"\",\"\",IF((VLOOKUP(AM17,Herramientas!$L$3:$M$227,2,0))=R17,1,0)),\"\")","v":""},{"$f":"IFERROR(IF(S17=\"\",\"\",IF((VLOOKUP(AN17,Herramientas!$L$3:$M$227,2,0))=S17,1,0)),\"\")","v":""},{"$f":"IFERROR(IF(T17=\"\",\"\",IF((VLOOKUP(AO17,Herramientas!$L$3:$M$227,2,0))=T17,1,0)),\"\")","v":""},{"$f":"IFERROR(IF(U17=\"\",\"\",IF((VLOOKUP(AP17,Herramientas!$L$3:$M$227,2,0))=U17,1,0)),\"\")","v":""},{"$f":"IFERROR(IF(V17=\"\",\"\",IF((VLOOKUP(AQ17,Herramientas!$L$3:$M$227,2,0))=V17,1,0)),\"\")","v":""},{"$f":"IFERROR(IF(W17=\"\",\"\",IF((VLOOKUP(AR17,Herramientas!$L$3:$M$227,2,0))=W17,1,0)),\"\")","v":""},{"$f":"IFERROR(IF(#REF!=\"\",\"\",IF((VLOOKUP(AS17,Herramientas!$L$3:$M$227,2,0))=#REF!,1,0)),\"\")","v":""},{"$f":"IFERROR(IF(#REF!=\"\",\"\",IF((VLOOKUP(AT17,Herramientas!$L$3:$M$227,2,0))=#REF!,1,0)),\"\")","v":""},{"$f":"IFERROR(IF(#REF!=\"\",\"\",IF((VLOOKUP(AU17,Herramientas!$L$3:$M$227,2,0))=#REF!,1,0)),\"\")","v":""},{"$f":"IFERROR(IF(#REF!=\"\",\"\",IF((VLOOKUP(AV17,Herramientas!$L$3:$M$227,2,0))=#REF!,1,0)),\"\")","v":""},{"$f":"IFERROR(IF(#REF!=\"\",\"\",IF((VLOOKUP(AW17,Herramientas!$L$3:$M$227,2,0))=#REF!,1,0)),\"\")","v":""},null,0,0,null,"SUMIT11",{"$f":"SUM(BI$8:BI$57)","v":0},{"$f":"COUNTIF(BI$8:BI$57,0)","v":0},0,null,"it3",{"$f":"CJ7","v":0},{"$f":"CJ12","v":0},"",{"$f":"CJ8","v":0},{"$f":"CI17","v":0},"",{"$f":"CJ9","v":0},{"$f":"CL17","v":0},"",{"$f":"CJ10","v":0},{"$f":"CO17","v":0},""]
[11,null,null,null,null,null,null,null,null,null,null,null,null,null,null,null,null,null,null,null,null,null,null,null,"6.°-1","6.°-2","6.°-3","6.°-4","6.°-5","6.°-6","6.°-7","6.°-8","6.°-9","6.°-10","6.°-11","6.°-12","6.°-13","6.°-14","6.°-15","6.°-16","6.°-17","6.°-18","6.°-19","6.°-20",{"$f":"CONCATENATE($B$2,\"-\",#REF!)","v":{"$error":"#REF!"}},{"$f":"CONCATENATE($B$2,\"-\",#REF!)","v":{"$error":"#REF!"}},{"$f":"CONCATENATE($B$2,\"-\",#REF!)","v":{"$error":"#REF!"}},{"$f":"CONCATENATE($B$2,\"-\",#REF!)","v":{"$error":"#REF!"}},{"$f":"CONCATENATE($B$2,\"-\",#REF!)","v":{"$error":"#REF!"}},null,{"$f":"IFERROR(IF(D18=\"\",\"\",IF((VLOOKUP(Y18,Herramientas!$L$3:$M$227,2,0))=D18,1,0)),\"\")","v":""},{"$f":"IFERROR(IF(E18=\"\",\"\",IF((VLOOKUP(Z18,Herramientas!$L$3:$M$227,2,0))=E18,1,0)),\"\")","v":""},{"$f":"IFERROR(IF(F18=\"\",\"\",IF((VLOOKUP(AA18,Herramientas!$L$3:$M$227,2,0))=F18,1,0)),\"\")","v":""},{"$f":"IFERROR(IF(G18=\"\",\"\",IF((VLOOKUP(AB18,Herramientas!$L$3:$M$227,2,0))=G18,1,0)),\"\")","v":""},{"$f":"IFERROR(IF(H18=\"\",\"\",IF((VLOOKUP(AC18,Herramientas!$L$3:$M$227,2,0))=H18,1,0)),\"\")","v":""},{"$f":"IFERROR(IF(I18=\"\",\"\",IF((VLOOKUP(AD18,Herramientas!$L$3:$M$227,2,0))=I18,1,0)),\"\")","v":""},{"$f":"IFERROR(IF(J18=\"\",\"\",IF((VLOOKUP(AE18,Herramientas!$L$3:$M$227,2,0))=J18,1,0)),\"\")","v":""},{"$f":"IFERROR(IF(K18=\"\",\"\",IF((VLOOKUP(AF18,Herramientas!$L$3:$M$227,2,0))=K18,1,0)),\"\")","v":""},{"$f":"IFERROR(IF(L18=\"\",\"\",IF((VLOOKUP(AG18,Herramientas!$L$3:$M$227,2,0))=L18,1,0)),\"\")","v":""},{"$f":"IFERROR(IF(M18=\"\",\"\",IF((VLOOKUP(AH18,Herramientas!$L$3:$M$227,2,0))=M18,1,0)),\"\")","v":""},{"$f":"IFERROR(IF(N18=\"\",\"\",IF((VLOOKUP(AI18,Herramientas!$L$3:$M$227,2,0))=N18,1,0)),\"\")","v":""},{"$f":"IFERROR(IF(O18=\"\",\"\",IF((VLOOKUP(AJ18,Herramientas!$L$3:$M$227,2,0))=O18,1,0)),\"\")","v":""},{"$f":"IFERROR(IF(L18=\"\",\"\",IF((VLOOKUP(AG18,Herramientas!$L$3:$M$227,2,0))=L18,1,0)),\"\")","v":""},{"$f":"IFERROR(IF(M18=\"\",\"\",IF((VLOOKUP(AH18,Herramientas!$L$3:$M$227,2,0))=M18,1,0)),\"\")","v":""},{"$f":"IFERROR(IF(R18=\"\",\"\",IF((VLOOKUP(AM18,Herramientas!$L$3:$M$227,2,0))=R18,1,0)),\"\")","v":""},{"$f":"IFERROR(IF(S18=\"\",\"\",IF((VLOOKUP(AN18,Herramientas!$L$3:$M$227,2,0))=S18,1,0)),\"\")","v":""},{"$f":"IFERROR(IF(T18=\"\",\"\",IF((VLOOKUP(AO18,Herramientas!$L$3:$M$227,2,0))=T18,1,0)),\"\")","v":""},{"$f":"IFERROR(IF(U18=\"\",\"\",IF((VLOOKUP(AP18,Herramientas!$L$3:$M$227,2,0))=U18,1,0)),\"\")","v":""},{"$f":"IFERROR(IF(V18=\"\",\"\",IF((VLOOKUP(AQ18,Herramientas!$L$3:$M$227,2,0))=V18,1,0)),\"\")","v":""},{"$f":"IFERROR(IF(W18=\"\",\"\",IF((VLOOKUP(AR18,Herramientas!$L$3:$M$227,2,0))=W18,1,0)),\"\")","v":""},{"$f":"IFERROR(IF(#REF!=\"\",\"\",IF((VLOOKUP(AS18,Herramientas!$L$3:$M$227,2,0))=#REF!,1,0)),\"\")","v":""},{"$f":"IFERROR(IF(#REF!=\"\",\"\",IF((VLOOKUP(AT18,Herramientas!$L$3:$M$227,2,0))=#REF!,1,0)),\"\")","v":""},{"$f":"IFERROR(IF(#REF!=\"\",\"\",IF((VLOOKUP(AU18,Herramientas!$L$3:$M$227,2,0))=#REF!,1,0)),\"\")","v":""},{"$f":"IFERROR(IF(#REF!=\"\",\"\",IF((VLOOKUP(AV18,Herramientas!$L$3:$M$227,2,0))=#REF!,1,0)),\"\")","v":""},{"$f":"IFERROR(IF(#REF!=\"\",\"\",IF((VLOOKUP(AW18,Herramientas!$L$3:$M$227,2,0))=#REF!,1,0)),\"\")","v":""},null,0,0,null,"SUMIT12",{"$f":"SUM(BJ$8:BJ$57)","v":0},{"$f":"COUNTIF(BJ$8:BJ$57,0)","v":0},0,null,"it4",{"$f":"CK7","v":0},{"$f":"CK12","v":0},"",{"$f":"CK8","v":0},{"$f":"CI18","v":0},"",{"$f":"CK9","v":0},0,"",{"$f":"CK10","v":0},{"$f":"CO18","v":0},""]
[12,null,null,null,null,null,null,null,null,null,null,null,null,null,null,null,null,null,null,null,null,null,null,null,"6.°-1","6.°-2","6.°-3","6.°-4","6.°-5","6.°-6","6.°-7","6.°-8","6.°-9","6.°-10","6.°-11","6.°-12","6.°-13","6.°-14","6.°-15","6.°-16","6.°-17","6.°-18","6.°-19","6.°-20",{"$f":"CONCATENATE($B$2,\"-\",#REF!)","v":{"$error":"#REF!"}},{"$f":"CONCATENATE($B$2,\"-\",#REF!)","v":{"$error":"#REF!"}},{"$f":"CONCATENATE($B$2,\"-\",#REF!)","v":{"$error":"#REF!"}},{"$f":"CONCATENATE($B$2,\"-\",#REF!)","v":{"$error":"#REF!"}},{"$f":"CONCATENATE($B$2,\"-\",#REF!)","v":{"$error":"#REF!"}},null,{"$f":"IFERROR(IF(D19=\"\",\"\",IF((VLOOKUP(Y19,Herramientas!$L$3:$M$227,2,0))=D19,1,0)),\"\")","v":""},{"$f":"IFERROR(IF(E19=\"\",\"\",IF((VLOOKUP(Z19,Herramientas!$L$3:$M$227,2,0))=E19,1,0)),\"\")","v":""},{"$f":"IFERROR(IF(F19=\"\",\"\",IF((VLOOKUP(AA19,Herramientas!$L$3:$M$227,2,0))=F19,1,0)),\"\")","v":""},{"$f":"IFERROR(IF(G19=\"\",\"\",IF((VLOOKUP(AB19,Herramientas!$L$3:$M$227,2,0))=G19,1,0)),\"\")","v":""},{"$f":"IFERROR(IF(H19=\"\",\"\",IF((VLOOKUP(AC19,Herramientas!$L$3:$M$227,2,0))=H19,1,0)),\"\")","v":""},{"$f":"IFERROR(IF(I19=\"\",\"\",IF((VLOOKUP(AD19,Herramientas!$L$3:$M$227,2,0))=I19,1,0)),\"\")","v":""},{"$f":"IFERROR(IF(J19=\"\",\"\",IF((VLOOKUP(AE19,Herramientas!$L$3:$M$227,2,0))=J19,1,0)),\"\")","v":""},{"$f":"IFERROR(IF(K19=\"\",\"\",IF((VLOOKUP(AF19,Herramientas!$L$3:$M$227,2,0))=K19,1,0)),\"\")","v":""},{"$f":"IFERROR(IF(L19=\"\",\"\",IF((VLOOKUP(AG19,Herramientas!$L$3:$M$227,2,0))=L19,1,0)),\"\")","v":""},{"$f":"IFERROR(IF(M19=\"\",\"\",IF((VLOOKUP(AH19,Herramientas!$L$3:$M$227,2,0))=M19,1,0)),\"\")","v":""},{"$f":"IFERROR(IF(N19=\"\",\"\",IF((VLOOKUP(AI19,Herramientas!$L$3:$M$227,2,0))=N19,1,0)),\"\")","v":""},{"$f":"IFERROR(IF(O19=\"\",\"\",IF((VLOOKUP(AJ19,Herramientas!$L$3:$M$227,2,0))=O19,1,0)),\"\")","v":""},{"$f":"IFERROR(IF(L19=\"\",\"\",IF((VLOOKUP(AG19,Herramientas!$L$3:$M$227,2,0))=L19,1,0)),\"\")","v":""},{"$f":"IFERROR(IF(M19=\"\",\"\",IF((VLOOKUP(AH19,Herramientas!$L$3:$M$227,2,0))=M19,1,0)),\"\")","v":""},{"$f":"IFERROR(IF(R19=\"\",\"\",IF((VLOOKUP(AM19,Herramientas!$L$3:$M$227,2,0))=R19,1,0)),\"\")","v":""},{"$f":"IFERROR(IF(S19=\"\",\"\",IF((VLOOKUP(AN19,Herramientas!$L$3:$M$227,2,0))=S19,1,0)),\"\")","v":""},{"$f":"IFERROR(IF(T19=\"\",\"\",IF((VLOOKUP(AO19,Herramientas!$L$3:$M$227,2,0))=T19,1,0)),\"\")","v":""},{"$f":"IFERROR(IF(U19=\"\",\"\",IF((VLOOKUP(AP19,Herramientas!$L$3:$M$227,2,0))=U19,1,0)),\"\")","v":""},{"$f":"IFERROR(IF(V19=\"\",\"\",IF((VLOOKUP(AQ19,Herramientas!$L$3:$M$227,2,0))=V19,1,0)),\"\")","v":""},{"$f":"IFERROR(IF(W19=\"\",\"\",IF((VLOOKUP(AR19,Herramientas!$L$3:$M$227,2,0))=W19,1,0)),\"\")","v":""},{"$f":"IFERROR(IF(#REF!=\"\",\"\",IF((VLOOKUP(AS19,Herramientas!$L$3:$M$227,2,0))=#REF!,1,0)),\"\")","v":""},{"$f":"IFERROR(IF(#REF!=\"\",\"\",IF((VLOOKUP(AT19,Herramientas!$L$3:$M$227,2,0))=#REF!,1,0)),\"\")","v":""},{"$f":"IFERROR(IF(#REF!=\"\",\"\",IF((VLOOKUP(AU19,Herramientas!$L$3:$M$227,2,0))=#REF!,1,0)),\"\")","v":""},{"$f":"IFERROR(IF(#REF!=\"\",\"\",IF((VLOOKUP(AV19,Herramientas!$L$3:$M$227,2,0))=#REF!,1,0)),\"\")","v":""},{"$f":"IFERROR(IF(#REF!=\"\",\"\",IF((VLOOKUP(AW19,Herramientas!$L$3:$M$227,2,0))=#REF!,1,0)),\"\")","v":""},null,0,0,null,"SUMIT13",{"$f":"SUM(BK$8:BK$57)","v":0},{"$f":"COUNTIF(BK$8:BK$57,0)","v":0},0,null,"it5",{"$f":"CL7","v":0},{"$f":"CL12","v":0},"",{"$f":"CL8","v":0},0,"",{"$f":"CL9","v":0},0,"",{"$f":"CL10","v":0},0,""]
[13,null,null,null,null,null,null,null,null,null,null,null,null,null,null,null,null,null,null,null,null,null,null,null,"6.°-1","6.°-2","6.°-3","6.°-4","6.°-5","6.°-6","6.°-7","6.°-8","6.°-9","6.°-10","6.°-11","6.°-12","6.°-13","6.°-14","6.°-15","6.°-16","6.°-17","6.°-18","6.°-19","6.°-20",{"$f":"CONCATENATE($B$2,\"-\",#REF!)","v":{"$error":"#REF!"}},{"$f":"CONCATENATE($B$2,\"-\",#REF!)","v":{"$error":"#REF!"}},{"$f":"CONCATENATE($B$2,\"-\",#REF!)","v":{"$error":"#REF!"}},{"$f":"CONCATENATE($B$2,\"-\",#REF!)","v":{"$error":"#REF!"}},{"$f":"CONCATENATE($B$2,\"-\",#REF!)","v":{"$error":"#REF!"}},null,{"$f":"IFERROR(IF(D20=\"\",\"\",IF((VLOOKUP(Y20,Herramientas!$L$3:$M$227,2,0))=D20,1,0)),\"\")","v":""},{"$f":"IFERROR(IF(E20=\"\",\"\",IF((VLOOKUP(Z20,Herramientas!$L$3:$M$227,2,0))=E20,1,0)),\"\")","v":""},{"$f":"IFERROR(IF(F20=\"\",\"\",IF((VLOOKUP(AA20,Herramientas!$L$3:$M$227,2,0))=F20,1,0)),\"\")","v":""},{"$f":"IFERROR(IF(G20=\"\",\"\",IF((VLOOKUP(AB20,Herramientas!$L$3:$M$227,2,0))=G20,1,0)),\"\")","v":""},{"$f":"IFERROR(IF(H20=\"\",\"\",IF((VLOOKUP(AC20,Herramientas!$L$3:$M$227,2,0))=H20,1,0)),\"\")","v":""},{"$f":"IFERROR(IF(I20=\"\",\"\",IF((VLOOKUP(AD20,Herramientas!$L$3:$M$227,2,0))=I20,1,0)),\"\")","v":""},{"$f":"IFERROR(IF(J20=\"\",\"\",IF((VLOOKUP(AE20,Herramientas!$L$3:$M$227,2,0))=J20,1,0)),\"\")","v":""},{"$f":"IFERROR(IF(K20=\"\",\"\",IF((VLOOKUP(AF20,Herramientas!$L$3:$M$227,2,0))=K20,1,0)),\"\")","v":""},{"$f":"IFERROR(IF(L20=\"\",\"\",IF((VLOOKUP(AG20,Herramientas!$L$3:$M$227,2,0))=L20,1,0)),\"\")","v":""},{"$f":"IFERROR(IF(M20=\"\",\"\",IF((VLOOKUP(AH20,Herramientas!$L$3:$M$227,2,0))=M20,1,0)),\"\")","v":""},{"$f":"IFERROR(IF(N20=\"\",\"\",IF((VLOOKUP(AI20,Herramientas!$L$3:$M$227,2,0))=N20,1,0)),\"\")","v":""},{"$f":"IFERROR(IF(O20=\"\",\"\",IF((VLOOKUP(AJ20,Herramientas!$L$3:$M$227,2,0))=O20,1,0)),\"\")","v":""},{"$f":"IFERROR(IF(L20=\"\",\"\",IF((VLOOKUP(AG20,Herramientas!$L$3:$M$227,2,0))=L20,1,0)),\"\")","v":""},{"$f":"IFERROR(IF(M20=\"\",\"\",IF((VLOOKUP(AH20,Herramientas!$L$3:$M$227,2,0))=M20,1,0)),\"\")","v":""},{"$f":"IFERROR(IF(R20=\"\",\"\",IF((VLOOKUP(AM20,Herramientas!$L$3:$M$227,2,0))=R20,1,0)),\"\")","v":""},{"$f":"IFERROR(IF(S20=\"\",\"\",IF((VLOOKUP(AN20,Herramientas!$L$3:$M$227,2,0))=S20,1,0)),\"\")","v":""},{"$f":"IFERROR(IF(T20=\"\",\"\",IF((VLOOKUP(AO20,Herramientas!$L$3:$M$227,2,0))=T20,1,0)),\"\")","v":""},{"$f":"IFERROR(IF(U20=\"\",\"\",IF((VLOOKUP(AP20,Herramientas!$L$3:$M$227,2,0))=U20,1,0)),\"\")","v":""},{"$f":"IFERROR(IF(V20=\"\",\"\",IF((VLOOKUP(AQ20,Herramientas!$L$3:$M$227,2,0))=V20,1,0)),\"\")","v":""},{"$f":"IFERROR(IF(W20=\"\",\"\",IF((VLOOKUP(AR20,Herramientas!$L$3:$M$227,2,0))=W20,1,0)),\"\")","v":""},{"$f":"IFERROR(IF(#REF!=\"\",\"\",IF((VLOOKUP(AS20,Herramientas!$L$3:$M$227,2,0))=#REF!,1,0)),\"\")","v":""},{"$f":"IFERROR(IF(#REF!=\"\",\"\",IF((VLOOKUP(AT20,Herramientas!$L$3:$M$227,2,0))=#REF!,1,0)),\"\")","v":""},{"$f":"IFERROR(IF(#REF!=\"\",\"\",IF((VLOOKUP(AU20,Herramientas!$L$3:$M$227,2,0))=#REF!,1,0)),\"\")","v":""},{"$f":"IFERROR(IF(#REF!=\"\",\"\",IF((VLOOKUP(AV20,Herramientas!$L$3:$M$227,2,0))=#REF!,1,0)),\"\")","v":""},{"$f":"IFERROR(IF(#REF!=\"\",\"\",IF((VLOOKUP(AW20,Herramientas!$L$3:$M$227,2,0))=#REF!,1,0)),\"\")","v":""},null,0,0,null,"SUMIT14",{"$f":"SUM(BL$8:BL$57)","v":0},{"$f":"COUNTIF(BL$8:BL$57,0)","v":0},0,null,"it6",{"$f":"CM7","v":0},{"$f":"CM12","v":0},"",{"$f":"CM8","v":0},0,"",{"$f":"CM9","v":0},0,"",{"$f":"CM10","v":0},0,""]
[14,null,null,null,null,null,null,null,null,null,null,null,null,null,null,null,null,null,null,null,null,null,null,null,"6.°-1","6.°-2","6.°-3","6.°-4","6.°-5","6.°-6","6.°-7","6.°-8","6.°-9","6.°-10","6.°-11","6.°-12","6.°-13","6.°-14","6.°-15","6.°-16","6.°-17","6.°-18","6.°-19","6.°-20",{"$f":"CONCATENATE($B$2,\"-\",#REF!)","v":{"$error":"#REF!"}},{"$f":"CONCATENATE($B$2,\"-\",#REF!)","v":{"$error":"#REF!"}},{"$f":"CONCATENATE($B$2,\"-\",#REF!)","v":{"$error":"#REF!"}},{"$f":"CONCATENATE($B$2,\"-\",#REF!)","v":{"$error":"#REF!"}},{"$f":"CONCATENATE($B$2,\"-\",#REF!)","v":{"$error":"#REF!"}},null,{"$f":"IFERROR(IF(D21=\"\",\"\",IF((VLOOKUP(Y21,Herramientas!$L$3:$M$227,2,0))=D21,1,0)),\"\")","v":""},{"$f":"IFERROR(IF(E21=\"\",\"\",IF((VLOOKUP(Z21,Herramientas!$L$3:$M$227,2,0))=E21,1,0)),\"\")","v":""},{"$f":"IFERROR(IF(F21=\"\",\"\",IF((VLOOKUP(AA21,Herramientas!$L$3:$M$227,2,0))=F21,1,0)),\"\")","v":""},{"$f":"IFERROR(IF(G21=\"\",\"\",IF((VLOOKUP(AB21,Herramientas!$L$3:$M$227,2,0))=G21,1,0)),\"\")","v":""},{"$f":"IFERROR(IF(H21=\"\",\"\",IF((VLOOKUP(AC21,Herramientas!$L$3:$M$227,2,0))=H21,1,0)),\"\")","v":""},{"$f":"IFERROR(IF(I21=\"\",\"\",IF((VLOOKUP(AD21,Herramientas!$L$3:$M$227,2,0))=I21,1,0)),\"\")","v":""},{"$f":"IFERROR(IF(J21=\"\",\"\",IF((VLOOKUP(AE21,Herramientas!$L$3:$M$227,2,0))=J21,1,0)),\"\")","v":""},{"$f":"IFERROR(IF(K21=\"\",\"\",IF((VLOOKUP(AF21,Herramientas!$L$3:$M$227,2,0))=K21,1,0)),\"\")","v":""},{"$f":"IFERROR(IF(L21=\"\",\"\",IF((VLOOKUP(AG21,Herramientas!$L$3:$M$227,2,0))=L21,1,0)),\"\")","v":""},{"$f":"IFERROR(IF(M21=\"\",\"\",IF((VLOOKUP(AH21,Herramientas!$L$3:$M$227,2,0))=M21,1,0)),\"\")","v":""},{"$f":"IFERROR(IF(N21=\"\",\"\",IF((VLOOKUP(AI21,Herramientas!$L$3:$M$227,2,0))=N21,1,0)),\"\")","v":""},{"$f":"IFERROR(IF(O21=\"\",\"\",IF((VLOOKUP(AJ21,Herramientas!$L$3:$M$227,2,0))=O21,1,0)),\"\")","v":""},{"$f":"IFERROR(IF(L21=\"\",\"\",IF((VLOOKUP(AG21,Herramientas!$L$3:$M$227,2,0))=L21,1,0)),\"\")","v":""},{"$f":"IFERROR(IF(M21=\"\",\"\",IF((VLOOKUP(AH21,Herramientas!$L$3:$M$227,2,0))=M21,1,0)),\"\")","v":""},{"$f":"IFERROR(IF(R21=\"\",\"\",IF((VLOOKUP(AM21,Herramientas!$L$3:$M$227,2,0))=R21,1,0)),\"\")","v":""},{"$f":"IFERROR(IF(S21=\"\",\"\",IF((VLOOKUP(AN21,Herramientas!$L$3:$M$227,2,0))=S21,1,0)),\"\")","v":""},{"$f":"IFERROR(IF(T21=\"\",\"\",IF((VLOOKUP(AO21,Herramientas!$L$3:$M$227,2,0))=T21,1,0)),\"\")","v":""},{"$f":"IFERROR(IF(U21=\"\",\"\",IF((VLOOKUP(AP21,Herramientas!$L$3:$M$227,2,0))=U21,1,0)),\"\")","v":""},{"$f":"IFERROR(IF(V21=\"\",\"\",IF((VLOOKUP(AQ21,Herramientas!$L$3:$M$227,2,0))=V21,1,0)),\"\")","v":""},{"$f":"IFERROR(IF(W21=\"\",\"\",IF((VLOOKUP(AR21,Herramientas!$L$3:$M$227,2,0))=W21,1,0)),\"\")","v":""},{"$f":"IFERROR(IF(#REF!=\"\",\"\",IF((VLOOKUP(AS21,Herramientas!$L$3:$M$227,2,0))=#REF!,1,0)),\"\")","v":""},{"$f":"IFERROR(IF(#REF!=\"\",\"\",IF((VLOOKUP(AT21,Herramientas!$L$3:$M$227,2,0))=#REF!,1,0)),\"\")","v":""},{"$f":"IFERROR(IF(#REF!=\"\",\"\",IF((VLOOKUP(AU21,Herramientas!$L$3:$M$227,2,0))=#REF!,1,0)),\"\")","v":""},{"$f":"IFERROR(IF(#REF!=\"\",\"\",IF((VLOOKUP(AV21,Herramientas!$L$3:$M$227,2,0))=#REF!,1,0)),\"\")","v":""},{"$f":"IFERROR(IF(#REF!=\"\",\"\",IF((VLOOKUP(AW21,Herramientas!$L$3:$M$227,2,0))=#REF!,1,0)),\"\")","v":""},null,0,0,null,"SUMIT15",{"$f":"SUM(BM$8:BM$57)","v":0},{"$f":"COUNTIF(BM$8:BM$57,0)","v":0},0,null,"it7",{"$f":"CN7","v":0},{"$f":"CN12","v":0},"",{"$f":"CN8","v":0},0,"",{"$f":"CN9","v":0},0,"",{"$f":"CN10","v":0},0,""]
[15,null,null,null,null,null,null,null,null,null,null,null,null,null,null,null,null,null,null,null,null,null,null,null,"6.°-1","6.°-2","6.°-3","6.°-4","6.°-5","6.°-6","6.°-7","6.°-8","6.°-9","6.°-10","6.°-11","6.°-12","6.°-13","6.°-14","6.°-15","6.°-16","6.°-17","6.°-18","6.°-19","6.°-20",{"$f":"CONCATENATE($B$2,\"-\",#REF!)","v":{"$error":"#REF!"}},{"$f":"CONCATENATE($B$2,\"-\",#REF!)","v":{"$error":"#REF!"}},{"$f":"CONCATENATE($B$2,\"-\",#REF!)","v":{"$error":"#REF!"}},{"$f":"CONCATENATE($B$2,\"-\",#REF!)","v":{"$error":"#REF!"}},{"$f":"CONCATENATE($B$2,\"-\",#REF!)","v":{"$error":"#REF!"}},null,{"$f":"IFERROR(IF(D22=\"\",\"\",IF((VLOOKUP(Y22,Herramientas!$L$3:$M$227,2,0))=D22,1,0)),\"\")","v":""},{"$f":"IFERROR(IF(E22=\"\",\"\",IF((VLOOKUP(Z22,Herramientas!$L$3:$M$227,2,0))=E22,1,0)),\"\")","v":""},{"$f":"IFERROR(IF(F22=\"\",\"\",IF((VLOOKUP(AA22,Herramientas!$L$3:$M$227,2,0))=F22,1,0)),\"\")","v":""},{"$f":"IFERROR(IF(G22=\"\",\"\",IF((VLOOKUP(AB22,Herramientas!$L$3:$M$227,2,0))=G22,1,0)),\"\")","v":""},{"$f":"IFERROR(IF(H22=\"\",\"\",IF((VLOOKUP(AC22,Herramientas!$L$3:$M$227,2,0))=H22,1,0)),\"\")","v":""},{"$f":"IFERROR(IF(I22=\"\",\"\",IF((VLOOKUP(AD22,Herramientas!$L$3:$M$227,2,0))=I22,1,0)),\"\")","v":""},{"$f":"IFERROR(IF(J22=\"\",\"\",IF((VLOOKUP(AE22,Herramientas!$L$3:$M$227,2,0))=J22,1,0)),\"\")","v":""},{"$f":"IFERROR(IF(K22=\"\",\"\",IF((VLOOKUP(AF22,Herramientas!$L$3:$M$227,2,0))=K22,1,0)),\"\")","v":""},{"$f":"IFERROR(IF(L22=\"\",\"\",IF((VLOOKUP(AG22,Herramientas!$L$3:$M$227,2,0))=L22,1,0)),\"\")","v":""},{"$f":"IFERROR(IF(M22=\"\",\"\",IF((VLOOKUP(AH22,Herramientas!$L$3:$M$227,2,0))=M22,1,0)),\"\")","v":""},{"$f":"IFERROR(IF(N22=\"\",\"\",IF((VLOOKUP(AI22,Herramientas!$L$3:$M$227,2,0))=N22,1,0)),\"\")","v":""},{"$f":"IFERROR(IF(O22=\"\",\"\",IF((VLOOKUP(AJ22,Herramientas!$L$3:$M$227,2,0))=O22,1,0)),\"\")","v":""},{"$f":"IFERROR(IF(L22=\"\",\"\",IF((VLOOKUP(AG22,Herramientas!$L$3:$M$227,2,0))=L22,1,0)),\"\")","v":""},{"$f":"IFERROR(IF(M22=\"\",\"\",IF((VLOOKUP(AH22,Herramientas!$L$3:$M$227,2,0))=M22,1,0)),\"\")","v":""},{"$f":"IFERROR(IF(R22=\"\",\"\",IF((VLOOKUP(AM22,Herramientas!$L$3:$M$227,2,0))=R22,1,0)),\"\")","v":""},{"$f":"IFERROR(IF(S22=\"\",\"\",IF((VLOOKUP(AN22,Herramientas!$L$3:$M$227,2,0))=S22,1,0)),\"\")","v":""},{"$f":"IFERROR(IF(T22=\"\",\"\",IF((VLOOKUP(AO22,Herramientas!$L$3:$M$227,2,0))=T22,1,0)),\"\")","v":""},{"$f":"IFERROR(IF(U22=\"\",\"\",IF((VLOOKUP(AP22,Herramientas!$L$3:$M$227,2,0))=U22,1,0)),\"\")","v":""},{"$f":"IFERROR(IF(V22=\"\",\"\",IF((VLOOKUP(AQ22,Herramientas!$L$3:$M$227,2,0))=V22,1,0)),\"\")","v":""},{"$f":"IFERROR(IF(W22=\"\",\"\",IF((VLOOKUP(AR22,Herramientas!$L$3:$M$227,2,0))=W22,1,0)),\"\")","v":""},{"$f":"IFERROR(IF(#REF!=\"\",\"\",IF((VLOOKUP(AS22,Herramientas!$L$3:$M$227,2,0))=#REF!,1,0)),\"\")","v":""},{"$f":"IFERROR(IF(#REF!=\"\",\"\",IF((VLOOKUP(AT22,Herramientas!$L$3:$M$227,2,0))=#REF!,1,0)),\"\")","v":""},{"$f":"IFERROR(IF(#REF!=\"\",\"\",IF((VLOOKUP(AU22,Herramientas!$L$3:$M$227,2,0))=#REF!,1,0)),\"\")","v":""},{"$f":"IFERROR(IF(#REF!=\"\",\"\",IF((VLOOKUP(AV22,Herramientas!$L$3:$M$227,2,0))=#REF!,1,0)),\"\")","v":""},{"$f":"IFERROR(IF(#REF!=\"\",\"\",IF((VLOOKUP(AW22,Herramientas!$L$3:$M$227,2,0))=#REF!,1,0)),\"\")","v":""},null,0,0,null,"SUMIT16",{"$f":"SUM(BN$8:BN$57)","v":0},{"$f":"COUNTIF(BN$8:BN$57,0)","v":0},0,null,"it8",{"$f":"CO7","v":0},{"$f":"CO12","v":0},"",{"$f":"CO8","v":0},0,"",{"$f":"CO9","v":0},0,"",{"$f":"CO10","v":0},0,""]
[16,null,null,null,null,null,null,null,null,null,null,null,null,null,null,null,null,null,null,null,null,null,null,null,"6.°-1","6.°-2","6.°-3","6.°-4","6.°-5","6.°-6","6.°-7","6.°-8","6.°-9","6.°-10","6.°-11","6.°-12","6.°-13","6.°-14","6.°-15","6.°-16","6.°-17","6.°-18","6.°-19","6.°-20",{"$f":"CONCATENATE($B$2,\"-\",#REF!)","v":{"$error":"#REF!"}},{"$f":"CONCATENATE($B$2,\"-\",#REF!)","v":{"$error":"#REF!"}},{"$f":"CONCATENATE($B$2,\"-\",#REF!)","v":{"$error":"#REF!"}},{"$f":"CONCATENATE($B$2,\"-\",#REF!)","v":{"$error":"#REF!"}},{"$f":"CONCATENATE($B$2,\"-\",#REF!)","v":{"$error":"#REF!"}},null,{"$f":"IFERROR(IF(D23=\"\",\"\",IF((VLOOKUP(Y23,Herramientas!$L$3:$M$227,2,0))=D23,1,0)),\"\")","v":""},{"$f":"IFERROR(IF(E23=\"\",\"\",IF((VLOOKUP(Z23,Herramientas!$L$3:$M$227,2,0))=E23,1,0)),\"\")","v":""},{"$f":"IFERROR(IF(F23=\"\",\"\",IF((VLOOKUP(AA23,Herramientas!$L$3:$M$227,2,0))=F23,1,0)),\"\")","v":""},{"$f":"IFERROR(IF(G23=\"\",\"\",IF((VLOOKUP(AB23,Herramientas!$L$3:$M$227,2,0))=G23,1,0)),\"\")","v":""},{"$f":"IFERROR(IF(H23=\"\",\"\",IF((VLOOKUP(AC23,Herramientas!$L$3:$M$227,2,0))=H23,1,0)),\"\")","v":""},{"$f":"IFERROR(IF(I23=\"\",\"\",IF((VLOOKUP(AD23,Herramientas!$L$3:$M$227,2,0))=I23,1,0)),\"\")","v":""},{"$f":"IFERROR(IF(J23=\"\",\"\",IF((VLOOKUP(AE23,Herramientas!$L$3:$M$227,2,0))=J23,1,0)),\"\")","v":""},{"$f":"IFERROR(IF(K23=\"\",\"\",IF((VLOOKUP(AF23,Herramientas!$L$3:$M$227,2,0))=K23,1,0)),\"\")","v":""},{"$f":"IFERROR(IF(L23=\"\",\"\",IF((VLOOKUP(AG23,Herramientas!$L$3:$M$227,2,0))=L23,1,0)),\"\")","v":""},{"$f":"IFERROR(IF(M23=\"\",\"\",IF((VLOOKUP(AH23,Herramientas!$L$3:$M$227,2,0))=M23,1,0)),\"\")","v":""},{"$f":"IFERROR(IF(N23=\"\",\"\",IF((VLOOKUP(AI23,Herramientas!$L$3:$M$227,2,0))=N23,1,0)),\"\")","v":""},{"$f":"IFERROR(IF(O23=\"\",\"\",IF((VLOOKUP(AJ23,Herramientas!$L$3:$M$227,2,0))=O23,1,0)),\"\")","v":""},{"$f":"IFERROR(IF(L23=\"\",\"\",IF((VLOOKUP(AG23,Herramientas!$L$3:$M$227,2,0))=L23,1,0)),\"\")","v":""},{"$f":"IFERROR(IF(M23=\"\",\"\",IF((VLOOKUP(AH23,Herramientas!$L$3:$M$227,2,0))=M23,1,0)),\"\")","v":""},{"$f":"IFERROR(IF(R23=\"\",\"\",IF((VLOOKUP(AM23,Herramientas!$L$3:$M$227,2,0))=R23,1,0)),\"\")","v":""},{"$f":"IFERROR(IF(S23=\"\",\"\",IF((VLOOKUP(AN23,Herramientas!$L$3:$M$227,2,0))=S23,1,0)),\"\")","v":""},{"$f":"IFERROR(IF(T23=\"\",\"\",IF((VLOOKUP(AO23,Herramientas!$L$3:$M$227,2,0))=T23,1,0)),\"\")","v":""},{"$f":"IFERROR(IF(U23=\"\",\"\",IF((VLOOKUP(AP23,Herramientas!$L$3:$M$227,2,0))=U23,1,0)),\"\")","v":""},{"$f":"IFERROR(IF(V23=\"\",\"\",IF((VLOOKUP(AQ23,Herramientas!$L$3:$M$227,2,0))=V23,1,0)),\"\")","v":""},{"$f":"IFERROR(IF(W23=\"\",\"\",IF((VLOOKUP(AR23,Herramientas!$L$3:$M$227,2,0))=W23,1,0)),\"\")","v":""},{"$f":"IFERROR(IF(#REF!=\"\",\"\",IF((VLOOKUP(AS23,Herramientas!$L$3:$M$227,2,0))=#REF!,1,0)),\"\")","v":""},{"$f":"IFERROR(IF(#REF!=\"\",\"\",IF((VLOOKUP(AT23,Herramientas!$L$3:$M$227,2,0))=#REF!,1,0)),\"\")","v":""},{"$f":"IFERROR(IF(#REF!=\"\",\"\",IF((VLOOKUP(AU23,Herramientas!$L$3:$M$227,2,0))=#REF!,1,0)),\"\")","v":""},{"$f":"IFERROR(IF(#REF!=\"\",\"\",IF((VLOOKUP(AV23,Herramientas!$L$3:$M$227,2,0))=#REF!,1,0)),\"\")","v":""},{"$f":"IFERROR(IF(#REF!=\"\",\"\",IF((VLOOKUP(AW23,Herramientas!$L$3:$M$227,2,0))=#REF!,1,0)),\"\")","v":""},null,0,0,null,"SUMIT17",{"$f":"SUM(BO$8:BO$57)","v":0},{"$f":"COUNTIF(BO$8:BO$57,0)","v":0},0,null,"it9",{"$f":"CP7","v":0},{"$f":"CP12","v":0},"",{"$f":"CP8","v":0},0,"",{"$f":"CP9","v":0},0,"",{"$f":"CP10","v":0},0,""]
[17,null,null,null,null,null,null,null,null,null,null,null,null,null,null,null,null,null,null,null,null,null,null,null,"6.°-1","6.°-2","6.°-3","6.°-4","6.°-5","6.°-6","6.°-7","6.°-8","6.°-9","6.°-10","6.°-11","6.°-12","6.°-13","6.°-14","6.°-15","6.°-16","6.°-17","6.°-18","6.°-19","6.°-20",{"$f":"CONCATENATE($B$2,\"-\",#REF!)","v":{"$error":"#REF!"}},{"$f":"CONCATENATE($B$2,\"-\",#REF!)","v":{"$error":"#REF!"}},{"$f":"CONCATENATE($B$2,\"-\",#REF!)","v":{"$error":"#REF!"}},{"$f":"CONCATENATE($B$2,\"-\",#REF!)","v":{"$error":"#REF!"}},{"$f":"CONCATENATE($B$2,\"-\",#REF!)","v":{"$error":"#REF!"}},null,{"$f":"IFERROR(IF(D24=\"\",\"\",IF((VLOOKUP(Y24,Herramientas!$L$3:$M$227,2,0))=D24,1,0)),\"\")","v":""},{"$f":"IFERROR(IF(E24=\"\",\"\",IF((VLOOKUP(Z24,Herramientas!$L$3:$M$227,2,0))=E24,1,0)),\"\")","v":""},{"$f":"IFERROR(IF(F24=\"\",\"\",IF((VLOOKUP(AA24,Herramientas!$L$3:$M$227,2,0))=F24,1,0)),\"\")","v":""},{"$f":"IFERROR(IF(G24=\"\",\"\",IF((VLOOKUP(AB24,Herramientas!$L$3:$M$227,2,0))=G24,1,0)),\"\")","v":""},{"$f":"IFERROR(IF(H24=\"\",\"\",IF((VLOOKUP(AC24,Herramientas!$L$3:$M$227,2,0))=H24,1,0)),\"\")","v":""},{"$f":"IFERROR(IF(I24=\"\",\"\",IF((VLOOKUP(AD24,Herramientas!$L$3:$M$227,2,0))=I24,1,0)),\"\")","v":""},{"$f":"IFERROR(IF(J24=\"\",\"\",IF((VLOOKUP(AE24,Herramientas!$L$3:$M$227,2,0))=J24,1,0)),\"\")","v":""},{"$f":"IFERROR(IF(K24=\"\",\"\",IF((VLOOKUP(AF24,Herramientas!$L$3:$M$227,2,0))=K24,1,0)),\"\")","v":""},{"$f":"IFERROR(IF(L24=\"\",\"\",IF((VLOOKUP(AG24,Herramientas!$L$3:$M$227,2,0))=L24,1,0)),\"\")","v":""},{"$f":"IFERROR(IF(M24=\"\",\"\",IF((VLOOKUP(AH24,Herramientas!$L$3:$M$227,2,0))=M24,1,0)),\"\")","v":""},{"$f":"IFERROR(IF(N24=\"\",\"\",IF((VLOOKUP(AI24,Herramientas!$L$3:$M$227,2,0))=N24,1,0)),\"\")","v":""},{"$f":"IFERROR(IF(O24=\"\",\"\",IF((VLOOKUP(AJ24,Herramientas!$L$3:$M$227,2,0))=O24,1,0)),\"\")","v":""},{"$f":"IFERROR(IF(L24=\"\",\"\",IF((VLOOKUP(AG24,Herramientas!$L$3:$M$227,2,0))=L24,1,0)),\"\")","v":""},{"$f":"IFERROR(IF(M24=\"\",\"\",IF((VLOOKUP(AH24,Herramientas!$L$3:$M$227,2,0))=M24,1,0)),\"\")","v":""},{"$f":"IFERROR(IF(R24=\"\",\"\",IF((VLOOKUP(AM24,Herramientas!$L$3:$M$227,2,0))=R24,1,0)),\"\")","v":""},{"$f":"IFERROR(IF(S24=\"\",\"\",IF((VLOOKUP(AN24,Herramientas!$L$3:$M$227,2,0))=S24,1,0)),\"\")","v":""},{"$f":"IFERROR(IF(T24=\"\",\"\",IF((VLOOKUP(AO24,Herramientas!$L$3:$M$227,2,0))=T24,1,0)),\"\")","v":""},{"$f":"IFERROR(IF(U24=\"\",\"\",IF((VLOOKUP(AP24,Herramientas!$L$3:$M$227,2,0))=U24,1,0)),\"\")","v":""},{"$f":"IFERROR(IF(V24=\"\",\"\",IF((VLOOKUP(AQ24,Herramientas!$L$3:$M$227,2,0))=V24,1,0)),\"\")","v":""},{"$f":"IFERROR(IF(W24=\"\",\"\",IF((VLOOKUP(AR24,Herramientas!$L$3:$M$227,2,0))=W24,1,0)),\"\")","v":""},{"$f":"IFERROR(IF(#REF!=\"\",\"\",IF((VLOOKUP(AS24,Herramientas!$L$3:$M$227,2,0))=#REF!,1,0)),\"\")","v":""},{"$f":"IFERROR(IF(#REF!=\"\",\"\",IF((VLOOKUP(AT24,Herramientas!$L$3:$M$227,2,0))=#REF!,1,0)),\"\")","v":""},{"$f":"IFERROR(IF(#REF!=\"\",\"\",IF((VLOOKUP(AU24,Herramientas!$L$3:$M$227,2,0))=#REF!,1,0)),\"\")","v":""},{"$f":"IFERROR(IF(#REF!=\"\",\"\",IF((VLOOKUP(AV24,Herramientas!$L$3:$M$227,2,0))=#REF!,1,0)),\"\")","v":""},{"$f":"IFERROR(IF(#REF!=\"\",\"\",IF((VLOOKUP(AW24,Herramientas!$L$3:$M$227,2,0))=#REF!,1,0)),\"\")","v":""},null,0,0,null,"SUMIT18",{"$f":"SUM(BP$8:BP$57)","v":0},{"$f":"COUNTIF(BP$8:BP$57,0)","v":0},0,null,"it10",{"$f":"CQ7","v":0},{"$f":"CQ12","v":0},"",{"$f":"CQ8","v":0},0,"",{"$f":"CQ9","v":0},0,"",{"$f":"CQ10","v":0},0,""]
[18,null,null,null,null,null,null,null,null,null,null,null,null,null,null,null,null,null,null,null,null,null,null,null,"6.°-1","6.°-2","6.°-3","6.°-4","6.°-5","6.°-6","6.°-7","6.°-8","6.°-9","6.°-10","6.°-11","6.°-12","6.°-13","6.°-14","6.°-15","6.°-16","6.°-17","6.°-18","6.°-19","6.°-20",{"$f":"CONCATENATE($B$2,\"-\",#REF!)","v":{"$error":"#REF!"}},{"$f":"CONCATENATE($B$2,\"-\",#REF!)","v":{"$error":"#REF!"}},{"$f":"CONCATENATE($B$2,\"-\",#REF!)","v":{"$error":"#REF!"}},{"$f":"CONCATENATE($B$2,\"-\",#REF!)","v":{"$error":"#REF!"}},{"$f":"CONCATENATE($B$2,\"-\",#REF!)","v":{"$error":"#REF!"}},null,{"$f":"IFERROR(IF(D25=\"\",\"\",IF((VLOOKUP(Y25,Herramientas!$L$3:$M$227,2,0))=D25,1,0)),\"\")","v":""},{"$f":"IFERROR(IF(E25=\"\",\"\",IF((VLOOKUP(Z25,Herramientas!$L$3:$M$227,2,0))=E25,1,0)),\"\")","v":""},{"$f":"IFERROR(IF(F25=\"\",\"\",IF((VLOOKUP(AA25,Herramientas!$L$3:$M$227,2,0))=F25,1,0)),\"\")","v":""},{"$f":"IFERROR(IF(G25=\"\",\"\",IF((VLOOKUP(AB25,Herramientas!$L$3:$M$227,2,0))=G25,1,0)),\"\")","v":""},{"$f":"IFERROR(IF(H25=\"\",\"\",IF((VLOOKUP(AC25,Herramientas!$L$3:$M$227,2,0))=H25,1,0)),\"\")","v":""},{"$f":"IFERROR(IF(I25=\"\",\"\",IF((VLOOKUP(AD25,Herramientas!$L$3:$M$227,2,0))=I25,1,0)),\"\")","v":""},{"$f":"IFERROR(IF(J25=\"\",\"\",IF((VLOOKUP(AE25,Herramientas!$L$3:$M$227,2,0))=J25,1,0)),\"\")","v":""},{"$f":"IFERROR(IF(K25=\"\",\"\",IF((VLOOKUP(AF25,Herramientas!$L$3:$M$227,2,0))=K25,1,0)),\"\")","v":""},{"$f":"IFERROR(IF(L25=\"\",\"\",IF((VLOOKUP(AG25,Herramientas!$L$3:$M$227,2,0))=L25,1,0)),\"\")","v":""},{"$f":"IFERROR(IF(M25=\"\",\"\",IF((VLOOKUP(AH25,Herramientas!$L$3:$M$227,2,0))=M25,1,0)),\"\")","v":""},{"$f":"IFERROR(IF(N25=\"\",\"\",IF((VLOOKUP(AI25,Herramientas!$L$3:$M$227,2,0))=N25,1,0)),\"\")","v":""},{"$f":"IFERROR(IF(O25=\"\",\"\",IF((VLOOKUP(AJ25,Herramientas!$L$3:$M$227,2,0))=O25,1,0)),\"\")","v":""},{"$f":"IFERROR(IF(L25=\"\",\"\",IF((VLOOKUP(AG25,Herramientas!$L$3:$M$227,2,0))=L25,1,0)),\"\")","v":""},{"$f":"IFERROR(IF(M25=\"\",\"\",IF((VLOOKUP(AH25,Herramientas!$L$3:$M$227,2,0))=M25,1,0)),\"\")","v":""},{"$f":"IFERROR(IF(R25=\"\",\"\",IF((VLOOKUP(AM25,Herramientas!$L$3:$M$227,2,0))=R25,1,0)),\"\")","v":""},{"$f":"IFERROR(IF(S25=\"\",\"\",IF((VLOOKUP(AN25,Herramientas!$L$3:$M$227,2,0))=S25,1,0)),\"\")","v":""},{"$f":"IFERROR(IF(T25=\"\",\"\",IF((VLOOKUP(AO25,Herramientas!$L$3:$M$227,2,0))=T25,1,0)),\"\")","v":""},{"$f":"IFERROR(IF(U25=\"\",\"\",IF((VLOOKUP(AP25,Herramientas!$L$3:$M$227,2,0))=U25,1,0)),\"\")","v":""},{"$f":"IFERROR(IF(V25=\"\",\"\",IF((VLOOKUP(AQ25,Herramientas!$L$3:$M$227,2,0))=V25,1,0)),\"\")","v":""},{"$f":"IFERROR(IF(W25=\"\",\"\",IF((VLOOKUP(AR25,Herramientas!$L$3:$M$227,2,0))=W25,1,0)),\"\")","v":""},{"$f":"IFERROR(IF(#REF!=\"\",\"\",IF((VLOOKUP(AS25,Herramientas!$L$3:$M$227,2,0))=#REF!,1,0)),\"\")","v":""},{"$f":"IFERROR(IF(#REF!=\"\",\"\",IF((VLOOKUP(AT25,Herramientas!$L$3:$M$227,2,0))=#REF!,1,0)),\"\")","v":""},{"$f":"IFERROR(IF(#REF!=\"\",\"\",IF((VLOOKUP(AU25,Herramientas!$L$3:$M$227,2,0))=#REF!,1,0)),\"\")","v":""},{"$f":"IFERROR(IF(#REF!=\"\",\"\",IF((VLOOKUP(AV25,Herramientas!$L$3:$M$227,2,0))=#REF!,1,0)),\"\")","v":""},{"$f":"IFERROR(IF(#REF!=\"\",\"\",IF((VLOOKUP(AW25,Herramientas!$L$3:$M$227,2,0))=#REF!,1,0)),\"\")","v":""},null,0,0,null,"SUMIT19",{"$f":"SUM(BQ$8:BQ$57)","v":0},{"$f":"COUNTIF(BQ$8:BQ$57,0)","v":0},0,null,"it11",{"$f":"CR7","v":0},{"$f":"CR12","v":0},"",{"$f":"CR8","v":0},0,"",{"$f":"CR9","v":0},0,"",{"$f":"CR10","v":0},0,""]
[19,null,null,null,null,null,null,null,null,null,null,null,null,null,null,null,null,null,null,null,null,null,null,null,"6.°-1","6.°-2","6.°-3","6.°-4","6.°-5","6.°-6","6.°-7","6.°-8","6.°-9","6.°-10","6.°-11","6.°-12","6.°-13","6.°-14","6.°-15","6.°-16","6.°-17","6.°-18","6.°-19","6.°-20",{"$f":"CONCATENATE($B$2,\"-\",#REF!)","v":{"$error":"#REF!"}},{"$f":"CONCATENATE($B$2,\"-\",#REF!)","v":{"$error":"#REF!"}},{"$f":"CONCATENATE($B$2,\"-\",#REF!)","v":{"$error":"#REF!"}},{"$f":"CONCATENATE($B$2,\"-\",#REF!)","v":{"$error":"#REF!"}},{"$f":"CONCATENATE($B$2,\"-\",#REF!)","v":{"$error":"#REF!"}},null,{"$f":"IFERROR(IF(D26=\"\",\"\",IF((VLOOKUP(Y26,Herramientas!$L$3:$M$227,2,0))=D26,1,0)),\"\")","v":""},{"$f":"IFERROR(IF(E26=\"\",\"\",IF((VLOOKUP(Z26,Herramientas!$L$3:$M$227,2,0))=E26,1,0)),\"\")","v":""},{"$f":"IFERROR(IF(F26=\"\",\"\",IF((VLOOKUP(AA26,Herramientas!$L$3:$M$227,2,0))=F26,1,0)),\"\")","v":""},{"$f":"IFERROR(IF(G26=\"\",\"\",IF((VLOOKUP(AB26,Herramientas!$L$3:$M$227,2,0))=G26,1,0)),\"\")","v":""},{"$f":"IFERROR(IF(H26=\"\",\"\",IF((VLOOKUP(AC26,Herramientas!$L$3:$M$227,2,0))=H26,1,0)),\"\")","v":""},{"$f":"IFERROR(IF(I26=\"\",\"\",IF((VLOOKUP(AD26,Herramientas!$L$3:$M$227,2,0))=I26,1,0)),\"\")","v":""},{"$f":"IFERROR(IF(J26=\"\",\"\",IF((VLOOKUP(AE26,Herramientas!$L$3:$M$227,2,0))=J26,1,0)),\"\")","v":""},{"$f":"IFERROR(IF(K26=\"\",\"\",IF((VLOOKUP(AF26,Herramientas!$L$3:$M$227,2,0))=K26,1,0)),\"\")","v":""},{"$f":"IFERROR(IF(L26=\"\",\"\",IF((VLOOKUP(AG26,Herramientas!$L$3:$M$227,2,0))=L26,1,0)),\"\")","v":""},{"$f":"IFERROR(IF(M26=\"\",\"\",IF((VLOOKUP(AH26,Herramientas!$L$3:$M$227,2,0))=M26,1,0)),\"\")","v":""},{"$f":"IFERROR(IF(N26=\"\",\"\",IF((VLOOKUP(AI26,Herramientas!$L$3:$M$227,2,0))=N26,1,0)),\"\")","v":""},{"$f":"IFERROR(IF(O26=\"\",\"\",IF((VLOOKUP(AJ26,Herramientas!$L$3:$M$227,2,0))=O26,1,0)),\"\")","v":""},{"$f":"IFERROR(IF(L26=\"\",\"\",IF((VLOOKUP(AG26,Herramientas!$L$3:$M$227,2,0))=L26,1,0)),\"\")","v":""},{"$f":"IFERROR(IF(M26=\"\",\"\",IF((VLOOKUP(AH26,Herramientas!$L$3:$M$227,2,0))=M26,1,0)),\"\")","v":""},{"$f":"IFERROR(IF(R26=\"\",\"\",IF((VLOOKUP(AM26,Herramientas!$L$3:$M$227,2,0))=R26,1,0)),\"\")","v":""},{"$f":"IFERROR(IF(S26=\"\",\"\",IF((VLOOKUP(AN26,Herramientas!$L$3:$M$227,2,0))=S26,1,0)),\"\")","v":""},{"$f":"IFERROR(IF(T26=\"\",\"\",IF((VLOOKUP(AO26,Herramientas!$L$3:$M$227,2,0))=T26,1,0)),\"\")","v":""},{"$f":"IFERROR(IF(U26=\"\",\"\",IF((VLOOKUP(AP26,Herramientas!$L$3:$M$227,2,0))=U26,1,0)),\"\")","v":""},{"$f":"IFERROR(IF(V26=\"\",\"\",IF((VLOOKUP(AQ26,Herramientas!$L$3:$M$227,2,0))=V26,1,0)),\"\")","v":""},{"$f":"IFERROR(IF(W26=\"\",\"\",IF((VLOOKUP(AR26,Herramientas!$L$3:$M$227,2,0))=W26,1,0)),\"\")","v":""},{"$f":"IFERROR(IF(#REF!=\"\",\"\",IF((VLOOKUP(AS26,Herramientas!$L$3:$M$227,2,0))=#REF!,1,0)),\"\")","v":""},{"$f":"IFERROR(IF(#REF!=\"\",\"\",IF((VLOOKUP(AT26,Herramientas!$L$3:$M$227,2,0))=#REF!,1,0)),\"\")","v":""},{"$f":"IFERROR(IF(#REF!=\"\",\"\",IF((VLOOKUP(AU26,Herramientas!$L$3:$M$227,2,0))=#REF!,1,0)),\"\")","v":""},{"$f":"IFERROR(IF(#REF!=\"\",\"\",IF((VLOOKUP(AV26,Herramientas!$L$3:$M$227,2,0))=#REF!,1,0)),\"\")","v":""},{"$f":"IFERROR(IF(#REF!=\"\",\"\",IF((VLOOKUP(AW26,Herramientas!$L$3:$M$227,2,0))=#REF!,1,0)),\"\")","v":""},null,0,0,null,"SUMIT20",{"$f":"SUM(BR$8:BR$57)","v":0},{"$f":"COUNTIF(BR$8:BR$57,0)","v":0},0,null,"it12",{"$f":"CS7","v":0},{"$f":"CS12","v":0},"",{"$f":"CS8","v":0},0,"",{"$f":"CS9","v":0},0,"",{"$f":"CS10","v":0},0,""]
[20,null,null,null,null,null,null,null,null,null,null,null,null,null,null,null,null,null,null,null,null,null,null,null,"6.°-1","6.°-2","6.°-3","6.°-4","6.°-5","6.°-6","6.°-7","6.°-8","6.°-9","6.°-10","6.°-11","6.°-12","6.°-13","6.°-14","6.°-15","6.°-16","6.°-17","6.°-18","6.°-19","6.°-20",{"$f":"CONCATENATE($B$2,\"-\",#REF!)","v":{"$error":"#REF!"}},{"$f":"CONCATENATE($B$2,\"-\",#REF!)","v":{"$error":"#REF!"}},{"$f":"CONCATENATE($B$2,\"-\",#REF!)","v":{"$error":"#REF!"}},{"$f":"CONCATENATE($B$2,\"-\",#REF!)","v":{"$error":"#REF!"}},{"$f":"CONCATENATE($B$2,\"-\",#REF!)","v":{"$error":"#REF!"}},null,{"$f":"IFERROR(IF(D27=\"\",\"\",IF((VLOOKUP(Y27,Herramientas!$L$3:$M$227,2,0))=D27,1,0)),\"\")","v":""},{"$f":"IFERROR(IF(E27=\"\",\"\",IF((VLOOKUP(Z27,Herramientas!$L$3:$M$227,2,0))=E27,1,0)),\"\")","v":""},{"$f":"IFERROR(IF(F27=\"\",\"\",IF((VLOOKUP(AA27,Herramientas!$L$3:$M$227,2,0))=F27,1,0)),\"\")","v":""},{"$f":"IFERROR(IF(G27=\"\",\"\",IF((VLOOKUP(AB27,Herramientas!$L$3:$M$227,2,0))=G27,1,0)),\"\")","v":""},{"$f":"IFERROR(IF(H27=\"\",\"\",IF((VLOOKUP(AC27,Herramientas!$L$3:$M$227,2,0))=H27,1,0)),\"\")","v":""},{"$f":"IFERROR(IF(I27=\"\",\"\",IF((VLOOKUP(AD27,Herramientas!$L$3:$M$227,2,0))=I27,1,0)),\"\")","v":""},{"$f":"IFERROR(IF(J27=\"\",\"\",IF((VLOOKUP(AE27,Herramientas!$L$3:$M$227,2,0))=J27,1,0)),\"\")","v":""},{"$f":"IFERROR(IF(K27=\"\",\"\",IF((VLOOKUP(AF27,Herramientas!$L$3:$M$227,2,0))=K27,1,0)),\"\")","v":""},{"$f":"IFERROR(IF(L27=\"\",\"\",IF((VLOOKUP(AG27,Herramientas!$L$3:$M$227,2,0))=L27,1,0)),\"\")","v":""},{"$f":"IFERROR(IF(M27=\"\",\"\",IF((VLOOKUP(AH27,Herramientas!$L$3:$M$227,2,0))=M27,1,0)),\"\")","v":""},{"$f":"IFERROR(IF(N27=\"\",\"\",IF((VLOOKUP(AI27,Herramientas!$L$3:$M$227,2,0))=N27,1,0)),\"\")","v":""},{"$f":"IFERROR(IF(O27=\"\",\"\",IF((VLOOKUP(AJ27,Herramientas!$L$3:$M$227,2,0))=O27,1,0)),\"\")","v":""},{"$f":"IFERROR(IF(L27=\"\",\"\",IF((VLOOKUP(AG27,Herramientas!$L$3:$M$227,2,0))=L27,1,0)),\"\")","v":""},{"$f":"IFERROR(IF(M27=\"\",\"\",IF((VLOOKUP(AH27,Herramientas!$L$3:$M$227,2,0))=M27,1,0)),\"\")","v":""},{"$f":"IFERROR(IF(R27=\"\",\"\",IF((VLOOKUP(AM27,Herramientas!$L$3:$M$227,2,0))=R27,1,0)),\"\")","v":""},{"$f":"IFERROR(IF(S27=\"\",\"\",IF((VLOOKUP(AN27,Herramientas!$L$3:$M$227,2,0))=S27,1,0)),\"\")","v":""},{"$f":"IFERROR(IF(T27=\"\",\"\",IF((VLOOKUP(AO27,Herramientas!$L$3:$M$227,2,0))=T27,1,0)),\"\")","v":""},{"$f":"IFERROR(IF(U27=\"\",\"\",IF((VLOOKUP(AP27,Herramientas!$L$3:$M$227,2,0))=U27,1,0)),\"\")","v":""},{"$f":"IFERROR(IF(V27=\"\",\"\",IF((VLOOKUP(AQ27,Herramientas!$L$3:$M$227,2,0))=V27,1,0)),\"\")","v":""},{"$f":"IFERROR(IF(W27=\"\",\"\",IF((VLOOKUP(AR27,Herramientas!$L$3:$M$227,2,0))=W27,1,0)),\"\")","v":""},{"$f":"IFERROR(IF(#REF!=\"\",\"\",IF((VLOOKUP(AS27,Herramientas!$L$3:$M$227,2,0))=#REF!,1,0)),\"\")","v":""},{"$f":"IFERROR(IF(#REF!=\"\",\"\",IF((VLOOKUP(AT27,Herramientas!$L$3:$M$227,2,0))=#REF!,1,0)),\"\")","v":""},{"$f":"IFERROR(IF(#REF!=\"\",\"\",IF((VLOOKUP(AU27,Herramientas!$L$3:$M$227,2,0))=#REF!,1,0)),\"\")","v":""},{"$f":"IFERROR(IF(#REF!=\"\",\"\",IF((VLOOKUP(AV27,Herramientas!$L$3:$M$227,2,0))=#REF!,1,0)),\"\")","v":""},{"$f":"IFERROR(IF(#REF!=\"\",\"\",IF((VLOOKUP(AW27,Herramientas!$L$3:$M$227,2,0))=#REF!,1,0)),\"\")","v":""},null,0,0,null,"SUMIT21",{"$f":"SUM(BS$8:BS$57)","v":0},{"$f":"COUNTIF(BS$8:BS$57,0)","v":0},0,null,"it13",{"$f":"CT7","v":0},{"$f":"CT12","v":0},"",{"$f":"CT8","v":0},0,"",{"$f":"CT9","v":0},0,"",{"$f":"CT10","v":0},0,""]
[21,null,null,null,null,null,null,null,null,null,null,null,null,null,null,null,null,null,null,null,null,null,null,null,"6.°-1","6.°-2","6.°-3","6.°-4","6.°-5","6.°-6","6.°-7","6.°-8","6.°-9","6.°-10","6.°-11","6.°-12","6.°-13","6.°-14","6.°-15","6.°-16","6.°-17","6.°-18","6.°-19","6.°-20",{"$f":"CONCATENATE($B$2,\"-\",#REF!)","v":{"$error":"#REF!"}},{"$f":"CONCATENATE($B$2,\"-\",#REF!)","v":{"$error":"#REF!"}},{"$f":"CONCATENATE($B$2,\"-\",#REF!)","v":{"$error":"#REF!"}},{"$f":"CONCATENATE($B$2,\"-\",#REF!)","v":{"$error":"#REF!"}},{"$f":"CONCATENATE($B$2,\"-\",#REF!)","v":{"$error":"#REF!"}},null,{"$f":"IFERROR(IF(D28=\"\",\"\",IF((VLOOKUP(Y28,Herramientas!$L$3:$M$227,2,0))=D28,1,0)),\"\")","v":""},{"$f":"IFERROR(IF(E28=\"\",\"\",IF((VLOOKUP(Z28,Herramientas!$L$3:$M$227,2,0))=E28,1,0)),\"\")","v":""},{"$f":"IFERROR(IF(F28=\"\",\"\",IF((VLOOKUP(AA28,Herramientas!$L$3:$M$227,2,0))=F28,1,0)),\"\")","v":""},{"$f":"IFERROR(IF(G28=\"\",\"\",IF((VLOOKUP(AB28,Herramientas!$L$3:$M$227,2,0))=G28,1,0)),\"\")","v":""},{"$f":"IFERROR(IF(H28=\"\",\"\",IF((VLOOKUP(AC28,Herramientas!$L$3:$M$227,2,0))=H28,1,0)),\"\")","v":""},{"$f":"IFERROR(IF(I28=\"\",\"\",IF((VLOOKUP(AD28,Herramientas!$L$3:$M$227,2,0))=I28,1,0)),\"\")","v":""},{"$f":"IFERROR(IF(J28=\"\",\"\",IF((VLOOKUP(AE28,Herramientas!$L$3:$M$227,2,0))=J28,1,0)),\"\")","v":""},{"$f":"IFERROR(IF(K28=\"\",\"\",IF((VLOOKUP(AF28,Herramientas!$L$3:$M$227,2,0))=K28,1,0)),\"\")","v":""},{"$f":"IFERROR(IF(L28=\"\",\"\",IF((VLOOKUP(AG28,Herramientas!$L$3:$M$227,2,0))=L28,1,0)),\"\")","v":""},{"$f":"IFERROR(IF(M28=\"\",\"\",IF((VLOOKUP(AH28,Herramientas!$L$3:$M$227,2,0))=M28,1,0)),\"\")","v":""},{"$f":"IFERROR(IF(N28=\"\",\"\",IF((VLOOKUP(AI28,Herramientas!$L$3:$M$227,2,0))=N28,1,0)),\"\")","v":""},{"$f":"IFERROR(IF(O28=\"\",\"\",IF((VLOOKUP(AJ28,Herramientas!$L$3:$M$227,2,0))=O28,1,0)),\"\")","v":""},{"$f":"IFERROR(IF(L28=\"\",\"\",IF((VLOOKUP(AG28,Herramientas!$L$3:$M$227,2,0))=L28,1,0)),\"\")","v":""},{"$f":"IFERROR(IF(M28=\"\",\"\",IF((VLOOKUP(AH28,Herramientas!$L$3:$M$227,2,0))=M28,1,0)),\"\")","v":""},{"$f":"IFERROR(IF(R28=\"\",\"\",IF((VLOOKUP(AM28,Herramientas!$L$3:$M$227,2,0))=R28,1,0)),\"\")","v":""},{"$f":"IFERROR(IF(S28=\"\",\"\",IF((VLOOKUP(AN28,Herramientas!$L$3:$M$227,2,0))=S28,1,0)),\"\")","v":""},{"$f":"IFERROR(IF(T28=\"\",\"\",IF((VLOOKUP(AO28,Herramientas!$L$3:$M$227,2,0))=T28,1,0)),\"\")","v":""},{"$f":"IFERROR(IF(U28=\"\",\"\",IF((VLOOKUP(AP28,Herramientas!$L$3:$M$227,2,0))=U28,1,0)),\"\")","v":""},{"$f":"IFERROR(IF(V28=\"\",\"\",IF((VLOOKUP(AQ28,Herramientas!$L$3:$M$227,2,0))=V28,1,0)),\"\")","v":""},{"$f":"IFERROR(IF(W28=\"\",\"\",IF((VLOOKUP(AR28,Herramientas!$L$3:$M$227,2,0))=W28,1,0)),\"\")","v":""},{"$f":"IFERROR(IF(#REF!=\"\",\"\",IF((VLOOKUP(AS28,Herramientas!$L$3:$M$227,2,0))=#REF!,1,0)),\"\")","v":""},{"$f":"IFERROR(IF(#REF!=\"\",\"\",IF((VLOOKUP(AT28,Herramientas!$L$3:$M$227,2,0))=#REF!,1,0)),\"\")","v":""},{"$f":"IFERROR(IF(#REF!=\"\",\"\",IF((VLOOKUP(AU28,Herramientas!$L$3:$M$227,2,0))=#REF!,1,0)),\"\")","v":""},{"$f":"IFERROR(IF(#REF!=\"\",\"\",IF((VLOOKUP(AV28,Herramientas!$L$3:$M$227,2,0))=#REF!,1,0)),\"\")","v":""},{"$f":"IFERROR(IF(#REF!=\"\",\"\",IF((VLOOKUP(AW28,Herramientas!$L$3:$M$227,2,0))=#REF!,1,0)),\"\")","v":""},null,0,0,null,"SUMIT22",{"$f":"SUM(BT$8:BT$57)","v":0},{"$f":"COUNTIF(BT$8:BT$57,0)","v":0},0,null,"it14",{"$f":"CU7","v":0},{"$f":"CU12","v":0},"",{"$f":"CU8","v":0},0,"",{"$f":"CU9","v":0},0,"",{"$f":"CU10","v":0},0,""]
[22,null,null,null,null,null,null,null,null,null,null,null,null,null,null,null,null,null,null,null,null,null,null,null,"6.°-1","6.°-2","6.°-3","6.°-4","6.°-5","6.°-6","6.°-7","6.°-8","6.°-9","6.°-10","6.°-11","6.°-12","6.°-13","6.°-14","6.°-15","6.°-16","6.°-17","6.°-18","6.°-19","6.°-20",{"$f":"CONCATENATE($B$2,\"-\",#REF!)","v":{"$error":"#REF!"}},{"$f":"CONCATENATE($B$2,\"-\",#REF!)","v":{"$error":"#REF!"}},{"$f":"CONCATENATE($B$2,\"-\",#REF!)","v":{"$error":"#REF!"}},{"$f":"CONCATENATE($B$2,\"-\",#REF!)","v":{"$error":"#REF!"}},{"$f":"CONCATENATE($B$2,\"-\",#REF!)","v":{"$error":"#REF!"}},null,{"$f":"IFERROR(IF(D29=\"\",\"\",IF((VLOOKUP(Y29,Herramientas!$L$3:$M$227,2,0))=D29,1,0)),\"\")","v":""},{"$f":"IFERROR(IF(E29=\"\",\"\",IF((VLOOKUP(Z29,Herramientas!$L$3:$M$227,2,0))=E29,1,0)),\"\")","v":""},{"$f":"IFERROR(IF(F29=\"\",\"\",IF((VLOOKUP(AA29,Herramientas!$L$3:$M$227,2,0))=F29,1,0)),\"\")","v":""},{"$f":"IFERROR(IF(G29=\"\",\"\",IF((VLOOKUP(AB29,Herramientas!$L$3:$M$227,2,0))=G29,1,0)),\"\")","v":""},{"$f":"IFERROR(IF(H29=\"\",\"\",IF((VLOOKUP(AC29,Herramientas!$L$3:$M$227,2,0))=H29,1,0)),\"\")","v":""},{"$f":"IFERROR(IF(I29=\"\",\"\",IF((VLOOKUP(AD29,Herramientas!$L$3:$M$227,2,0))=I29,1,0)),\"\")","v":""},{"$f":"IFERROR(IF(J29=\"\",\"\",IF((VLOOKUP(AE29,Herramientas!$L$3:$M$227,2,0))=J29,1,0)),\"\")","v":""},{"$f":"IFERROR(IF(K29=\"\",\"\",IF((VLOOKUP(AF29,Herramientas!$L$3:$M$227,2,0))=K29,1,0)),\"\")","v":""},{"$f":"IFERROR(IF(L29=\"\",\"\",IF((VLOOKUP(AG29,Herramientas!$L$3:$M$227,2,0))=L29,1,0)),\"\")","v":""},{"$f":"IFERROR(IF(M29=\"\",\"\",IF((VLOOKUP(AH29,Herramientas!$L$3:$M$227,2,0))=M29,1,0)),\"\")","v":""},{"$f":"IFERROR(IF(N29=\"\",\"\",IF((VLOOKUP(AI29,Herramientas!$L$3:$M$227,2,0))=N29,1,0)),\"\")","v":""},{"$f":"IFERROR(IF(O29=\"\",\"\",IF((VLOOKUP(AJ29,Herramientas!$L$3:$M$227,2,0))=O29,1,0)),\"\")","v":""},{"$f":"IFERROR(IF(L29=\"\",\"\",IF((VLOOKUP(AG29,Herramientas!$L$3:$M$227,2,0))=L29,1,0)),\"\")","v":""},{"$f":"IFERROR(IF(M29=\"\",\"\",IF((VLOOKUP(AH29,Herramientas!$L$3:$M$227,2,0))=M29,1,0)),\"\")","v":""},{"$f":"IFERROR(IF(R29=\"\",\"\",IF((VLOOKUP(AM29,Herramientas!$L$3:$M$227,2,0))=R29,1,0)),\"\")","v":""},{"$f":"IFERROR(IF(S29=\"\",\"\",IF((VLOOKUP(AN29,Herramientas!$L$3:$M$227,2,0))=S29,1,0)),\"\")","v":""},{"$f":"IFERROR(IF(T29=\"\",\"\",IF((VLOOKUP(AO29,Herramientas!$L$3:$M$227,2,0))=T29,1,0)),\"\")","v":""},{"$f":"IFERROR(IF(U29=\"\",\"\",IF((VLOOKUP(AP29,Herramientas!$L$3:$M$227,2,0))=U29,1,0)),\"\")","v":""},{"$f":"IFERROR(IF(V29=\"\",\"\",IF((VLOOKUP(AQ29,Herramientas!$L$3:$M$227,2,0))=V29,1,0)),\"\")","v":""},{"$f":"IFERROR(IF(W29=\"\",\"\",IF((VLOOKUP(AR29,Herramientas!$L$3:$M$227,2,0))=W29,1,0)),\"\")","v":""},{"$f":"IFERROR(IF(#REF!=\"\",\"\",IF((VLOOKUP(AS29,Herramientas!$L$3:$M$227,2,0))=#REF!,1,0)),\"\")","v":""},{"$f":"IFERROR(IF(#REF!=\"\",\"\",IF((VLOOKUP(AT29,Herramientas!$L$3:$M$227,2,0))=#REF!,1,0)),\"\")","v":""},{"$f":"IFERROR(IF(#REF!=\"\",\"\",IF((VLOOKUP(AU29,Herramientas!$L$3:$M$227,2,0))=#REF!,1,0)),\"\")","v":""},{"$f":"IFERROR(IF(#REF!=\"\",\"\",IF((VLOOKUP(AV29,Herramientas!$L$3:$M$227,2,0))=#REF!,1,0)),\"\")","v":""},{"$f":"IFERROR(IF(#REF!=\"\",\"\",IF((VLOOKUP(AW29,Herramientas!$L$3:$M$227,2,0))=#REF!,1,0)),\"\")","v":""},null,0,0,null,"SUMIT23",{"$f":"SUM(BU$8:BU$57)","v":0},{"$f":"COUNTIF(BU$8:BU$57,0)","v":0},0,null,"it15",{"$f":"CV7","v":0},{"$f":"CV12","v":0},"",{"$f":"CV8","v":0},0,"",{"$f":"CV9","v":0},0,"",{"$f":"CV10","v":0},0,""]
[23,null,null,null,null,null,null,null,null,null,null,null,null,null,null,null,null,null,null,null,null,null,null,null,"6.°-1","6.°-2","6.°-3","6.°-4","6.°-5","6.°-6","6.°-7","6.°-8","6.°-9","6.°-10","6.°-11","6.°-12","6.°-13","6.°-14","6.°-15","6.°-16","6.°-17","6.°-18","6.°-19","6.°-20",{"$f":"CONCATENATE($B$2,\"-\",#REF!)","v":{"$error":"#REF!"}},{"$f":"CONCATENATE($B$2,\"-\",#REF!)","v":{"$error":"#REF!"}},{"$f":"CONCATENATE($B$2,\"-\",#REF!)","v":{"$error":"#REF!"}},{"$f":"CONCATENATE($B$2,\"-\",#REF!)","v":{"$error":"#REF!"}},{"$f":"CONCATENATE($B$2,\"-\",#REF!)","v":{"$error":"#REF!"}},null,{"$f":"IFERROR(IF(D30=\"\",\"\",IF((VLOOKUP(Y30,Herramientas!$L$3:$M$227,2,0))=D30,1,0)),\"\")","v":""},{"$f":"IFERROR(IF(E30=\"\",\"\",IF((VLOOKUP(Z30,Herramientas!$L$3:$M$227,2,0))=E30,1,0)),\"\")","v":""},{"$f":"IFERROR(IF(F30=\"\",\"\",IF((VLOOKUP(AA30,Herramientas!$L$3:$M$227,2,0))=F30,1,0)),\"\")","v":""},{"$f":"IFERROR(IF(G30=\"\",\"\",IF((VLOOKUP(AB30,Herramientas!$L$3:$M$227,2,0))=G30,1,0)),\"\")","v":""},{"$f":"IFERROR(IF(H30=\"\",\"\",IF((VLOOKUP(AC30,Herramientas!$L$3:$M$227,2,0))=H30,1,0)),\"\")","v":""},{"$f":"IFERROR(IF(I30=\"\",\"\",IF((VLOOKUP(AD30,Herramientas!$L$3:$M$227,2,0))=I30,1,0)),\"\")","v":""},{"$f":"IFERROR(IF(J30=\"\",\"\",IF((VLOOKUP(AE30,Herramientas!$L$3:$M$227,2,0))=J30,1,0)),\"\")","v":""},{"$f":"IFERROR(IF(K30=\"\",\"\",IF((VLOOKUP(AF30,Herramientas!$L$3:$M$227,2,0))=K30,1,0)),\"\")","v":""},{"$f":"IFERROR(IF(L30=\"\",\"\",IF((VLOOKUP(AG30,Herramientas!$L$3:$M$227,2,0))=L30,1,0)),\"\")","v":""},{"$f":"IFERROR(IF(M30=\"\",\"\",IF((VLOOKUP(AH30,Herramientas!$L$3:$M$227,2,0))=M30,1,0)),\"\")","v":""},{"$f":"IFERROR(IF(N30=\"\",\"\",IF((VLOOKUP(AI30,Herramientas!$L$3:$M$227,2,0))=N30,1,0)),\"\")","v":""},{"$f":"IFERROR(IF(O30=\"\",\"\",IF((VLOOKUP(AJ30,Herramientas!$L$3:$M$227,2,0))=O30,1,0)),\"\")","v":""},{"$f":"IFERROR(IF(L30=\"\",\"\",IF((VLOOKUP(AG30,Herramientas!$L$3:$M$227,2,0))=L30,1,0)),\"\")","v":""},{"$f":"IFERROR(IF(M30=\"\",\"\",IF((VLOOKUP(AH30,Herramientas!$L$3:$M$227,2,0))=M30,1,0)),\"\")","v":""},{"$f":"IFERROR(IF(R30=\"\",\"\",IF((VLOOKUP(AM30,Herramientas!$L$3:$M$227,2,0))=R30,1,0)),\"\")","v":""},{"$f":"IFERROR(IF(S30=\"\",\"\",IF((VLOOKUP(AN30,Herramientas!$L$3:$M$227,2,0))=S30,1,0)),\"\")","v":""},{"$f":"IFERROR(IF(T30=\"\",\"\",IF((VLOOKUP(AO30,Herramientas!$L$3:$M$227,2,0))=T30,1,0)),\"\")","v":""},{"$f":"IFERROR(IF(U30=\"\",\"\",IF((VLOOKUP(AP30,Herramientas!$L$3:$M$227,2,0))=U30,1,0)),\"\")","v":""},{"$f":"IFERROR(IF(V30=\"\",\"\",IF((VLOOKUP(AQ30,Herramientas!$L$3:$M$227,2,0))=V30,1,0)),\"\")","v":""},{"$f":"IFERROR(IF(W30=\"\",\"\",IF((VLOOKUP(AR30,Herramientas!$L$3:$M$227,2,0))=W30,1,0)),\"\")","v":""},{"$f":"IFERROR(IF(#REF!=\"\",\"\",IF((VLOOKUP(AS30,Herramientas!$L$3:$M$227,2,0))=#REF!,1,0)),\"\")","v":""},{"$f":"IFERROR(IF(#REF!=\"\",\"\",IF((VLOOKUP(AT30,Herramientas!$L$3:$M$227,2,0))=#REF!,1,0)),\"\")","v":""},{"$f":"IFERROR(IF(#REF!=\"\",\"\",IF((VLOOKUP(AU30,Herramientas!$L$3:$M$227,2,0))=#REF!,1,0)),\"\")","v":""},{"$f":"IFERROR(IF(#REF!=\"\",\"\",IF((VLOOKUP(AV30,Herramientas!$L$3:$M$227,2,0))=#REF!,1,0)),\"\")","v":""},{"$f":"IFERROR(IF(#REF!=\"\",\"\",IF((VLOOKUP(AW30,Herramientas!$L$3:$M$227,2,0))=#REF!,1,0)),\"\")","v":""},null,0,0,null,"SUMIT24",{"$f":"SUM(BV$8:BV$57)","v":0},{"$f":"COUNTIF(BV$8:BV$57,0)","v":0},0,null,"it16",{"$f":"CW7","v":0},{"$f":"CW12","v":0},"",{"$f":"CW8","v":0},0,"",{"$f":"CW9","v":0},0,"",{"$f":"CW10","v":0},0,""]
[24,null,null,null,null,null,null,null,null,null,null,null,null,null,null,null,null,null,null,null,null,null,null,null,"6.°-1","6.°-2","6.°-3","6.°-4","6.°-5","6.°-6","6.°-7","6.°-8","6.°-9","6.°-10","6.°-11","6.°-12","6.°-13","6.°-14","6.°-15","6.°-16","6.°-17","6.°-18","6.°-19","6.°-20",{"$f":"CONCATENATE($B$2,\"-\",#REF!)","v":{"$error":"#REF!"}},{"$f":"CONCATENATE($B$2,\"-\",#REF!)","v":{"$error":"#REF!"}},{"$f":"CONCATENATE($B$2,\"-\",#REF!)","v":{"$error":"#REF!"}},{"$f":"CONCATENATE($B$2,\"-\",#REF!)","v":{"$error":"#REF!"}},{"$f":"CONCATENATE($B$2,\"-\",#REF!)","v":{"$error":"#REF!"}},null,{"$f":"IFERROR(IF(D31=\"\",\"\",IF((VLOOKUP(Y31,Herramientas!$L$3:$M$227,2,0))=D31,1,0)),\"\")","v":""},{"$f":"IFERROR(IF(E31=\"\",\"\",IF((VLOOKUP(Z31,Herramientas!$L$3:$M$227,2,0))=E31,1,0)),\"\")","v":""},{"$f":"IFERROR(IF(F31=\"\",\"\",IF((VLOOKUP(AA31,Herramientas!$L$3:$M$227,2,0))=F31,1,0)),\"\")","v":""},{"$f":"IFERROR(IF(G31=\"\",\"\",IF((VLOOKUP(AB31,Herramientas!$L$3:$M$227,2,0))=G31,1,0)),\"\")","v":""},{"$f":"IFERROR(IF(H31=\"\",\"\",IF((VLOOKUP(AC31,Herramientas!$L$3:$M$227,2,0))=H31,1,0)),\"\")","v":""},{"$f":"IFERROR(IF(I31=\"\",\"\",IF((VLOOKUP(AD31,Herramientas!$L$3:$M$227,2,0))=I31,1,0)),\"\")","v":""},{"$f":"IFERROR(IF(J31=\"\",\"\",IF((VLOOKUP(AE31,Herramientas!$L$3:$M$227,2,0))=J31,1,0)),\"\")","v":""},{"$f":"IFERROR(IF(K31=\"\",\"\",IF((VLOOKUP(AF31,Herramientas!$L$3:$M$227,2,0))=K31,1,0)),\"\")","v":""},{"$f":"IFERROR(IF(L31=\"\",\"\",IF((VLOOKUP(AG31,Herramientas!$L$3:$M$227,2,0))=L31,1,0)),\"\")","v":""},{"$f":"IFERROR(IF(M31=\"\",\"\",IF((VLOOKUP(AH31,Herramientas!$L$3:$M$227,2,0))=M31,1,0)),\"\")","v":""},{"$f":"IFERROR(IF(N31=\"\",\"\",IF((VLOOKUP(AI31,Herramientas!$L$3:$M$227,2,0))=N31,1,0)),\"\")","v":""},{"$f":"IFERROR(IF(O31=\"\",\"\",IF((VLOOKUP(AJ31,Herramientas!$L$3:$M$227,2,0))=O31,1,0)),\"\")","v":""},{"$f":"IFERROR(IF(L31=\"\",\"\",IF((VLOOKUP(AG31,Herramientas!$L$3:$M$227,2,0))=L31,1,0)),\"\")","v":""},{"$f":"IFERROR(IF(M31=\"\",\"\",IF((VLOOKUP(AH31,Herramientas!$L$3:$M$227,2,0))=M31,1,0)),\"\")","v":""},{"$f":"IFERROR(IF(R31=\"\",\"\",IF((VLOOKUP(AM31,Herramientas!$L$3:$M$227,2,0))=R31,1,0)),\"\")","v":""},{"$f":"IFERROR(IF(S31=\"\",\"\",IF((VLOOKUP(AN31,Herramientas!$L$3:$M$227,2,0))=S31,1,0)),\"\")","v":""},{"$f":"IFERROR(IF(T31=\"\",\"\",IF((VLOOKUP(AO31,Herramientas!$L$3:$M$227,2,0))=T31,1,0)),\"\")","v":""},{"$f":"IFERROR(IF(U31=\"\",\"\",IF((VLOOKUP(AP31,Herramientas!$L$3:$M$227,2,0))=U31,1,0)),\"\")","v":""},{"$f":"IFERROR(IF(V31=\"\",\"\",IF((VLOOKUP(AQ31,Herramientas!$L$3:$M$227,2,0))=V31,1,0)),\"\")","v":""},{"$f":"IFERROR(IF(W31=\"\",\"\",IF((VLOOKUP(AR31,Herramientas!$L$3:$M$227,2,0))=W31,1,0)),\"\")","v":""},{"$f":"IFERROR(IF(#REF!=\"\",\"\",IF((VLOOKUP(AS31,Herramientas!$L$3:$M$227,2,0))=#REF!,1,0)),\"\")","v":""},{"$f":"IFERROR(IF(#REF!=\"\",\"\",IF((VLOOKUP(AT31,Herramientas!$L$3:$M$227,2,0))=#REF!,1,0)),\"\")","v":""},{"$f":"IFERROR(IF(#REF!=\"\",\"\",IF((VLOOKUP(AU31,Herramientas!$L$3:$M$227,2,0))=#REF!,1,0)),\"\")","v":""},{"$f":"IFERROR(IF(#REF!=\"\",\"\",IF((VLOOKUP(AV31,Herramientas!$L$3:$M$227,2,0))=#REF!,1,0)),\"\")","v":""},{"$f":"IFERROR(IF(#REF!=\"\",\"\",IF((VLOOKUP(AW31,Herramientas!$L$3:$M$227,2,0))=#REF!,1,0)),\"\")","v":""},null,0,0,null,"SUMIT25",{"$f":"SUM(BW$8:BW$57)","v":0},{"$f":"COUNTIF(BW$8:BW$57,0)","v":0},0,null,"it17",{"$f":"CX7","v":0},{"$f":"CX12","v":0},"",{"$f":"CX8","v":0},0,"",{"$f":"CX9","v":0},0,"",{"$f":"CX10","v":0},0,""]
[25,null,null,null,null,null,null,null,null,null,null,null,null,null,null,null,null,null,null,null,null,null,null,null,"6.°-1","6.°-2","6.°-3","6.°-4","6.°-5","6.°-6","6.°-7","6.°-8","6.°-9","6.°-10","6.°-11","6.°-12","6.°-13","6.°-14","6.°-15","6.°-16","6.°-17","6.°-18","6.°-19","6.°-20",{"$f":"CONCATENATE($B$2,\"-\",#REF!)","v":{"$error":"#REF!"}},{"$f":"CONCATENATE($B$2,\"-\",#REF!)","v":{"$error":"#REF!"}},{"$f":"CONCATENATE($B$2,\"-\",#REF!)","v":{"$error":"#REF!"}},{"$f":"CONCATENATE($B$2,\"-\",#REF!)","v":{"$error":"#REF!"}},{"$f":"CONCATENATE($B$2,\"-\",#REF!)","v":{"$error":"#REF!"}},null,{"$f":"IFERROR(IF(D32=\"\",\"\",IF((VLOOKUP(Y32,Herramientas!$L$3:$M$227,2,0))=D32,1,0)),\"\")","v":""},{"$f":"IFERROR(IF(E32=\"\",\"\",IF((VLOOKUP(Z32,Herramientas!$L$3:$M$227,2,0))=E32,1,0)),\"\")","v":""},{"$f":"IFERROR(IF(F32=\"\",\"\",IF((VLOOKUP(AA32,Herramientas!$L$3:$M$227,2,0))=F32,1,0)),\"\")","v":""},{"$f":"IFERROR(IF(G32=\"\",\"\",IF((VLOOKUP(AB32,Herramientas!$L$3:$M$227,2,0))=G32,1,0)),\"\")","v":""},{"$f":"IFERROR(IF(H32=\"\",\"\",IF((VLOOKUP(AC32,Herramientas!$L$3:$M$227,2,0))=H32,1,0)),\"\")","v":""},{"$f":"IFERROR(IF(I32=\"\",\"\",IF((VLOOKUP(AD32,Herramientas!$L$3:$M$227,2,0))=I32,1,0)),\"\")","v":""},{"$f":"IFERROR(IF(J32=\"\",\"\",IF((VLOOKUP(AE32,Herramientas!$L$3:$M$227,2,0))=J32,1,0)),\"\")","v":""},{"$f":"IFERROR(IF(K32=\"\",\"\",IF((VLOOKUP(AF32,Herramientas!$L$3:$M$227,2,0))=K32,1,0)),\"\")","v":""},{"$f":"IFERROR(IF(L32=\"\",\"\",IF((VLOOKUP(AG32,Herramientas!$L$3:$M$227,2,0))=L32,1,0)),\"\")","v":""},{"$f":"IFERROR(IF(M32=\"\",\"\",IF((VLOOKUP(AH32,Herramientas!$L$3:$M$227,2,0))=M32,1,0)),\"\")","v":""},{"$f":"IFERROR(IF(N32=\"\",\"\",IF((VLOOKUP(AI32,Herramientas!$L$3:$M$227,2,0))=N32,1,0)),\"\")","v":""},{"$f":"IFERROR(IF(O32=\"\",\"\",IF((VLOOKUP(AJ32,Herramientas!$L$3:$M$227,2,0))=O32,1,0)),\"\")","v":""},{"$f":"IFERROR(IF(L32=\"\",\"\",IF((VLOOKUP(AG32,Herramientas!$L$3:$M$227,2,0))=L32,1,0)),\"\")","v":""},{"$f":"IFERROR(IF(M32=\"\",\"\",IF((VLOOKUP(AH32,Herramientas!$L$3:$M$227,2,0))=M32,1,0)),\"\")","v":""},{"$f":"IFERROR(IF(R32=\"\",\"\",IF((VLOOKUP(AM32,Herramientas!$L$3:$M$227,2,0))=R32,1,0)),\"\")","v":""},{"$f":"IFERROR(IF(S32=\"\",\"\",IF((VLOOKUP(AN32,Herramientas!$L$3:$M$227,2,0))=S32,1,0)),\"\")","v":""},{"$f":"IFERROR(IF(T32=\"\",\"\",IF((VLOOKUP(AO32,Herramientas!$L$3:$M$227,2,0))=T32,1,0)),\"\")","v":""},{"$f":"IFERROR(IF(U32=\"\",\"\",IF((VLOOKUP(AP32,Herramientas!$L$3:$M$227,2,0))=U32,1,0)),\"\")","v":""},{"$f":"IFERROR(IF(V32=\"\",\"\",IF((VLOOKUP(AQ32,Herramientas!$L$3:$M$227,2,0))=V32,1,0)),\"\")","v":""},{"$f":"IFERROR(IF(W32=\"\",\"\",IF((VLOOKUP(AR32,Herramientas!$L$3:$M$227,2,0))=W32,1,0)),\"\")","v":""},{"$f":"IFERROR(IF(#REF!=\"\",\"\",IF((VLOOKUP(AS32,Herramientas!$L$3:$M$227,2,0))=#REF!,1,0)),\"\")","v":""},{"$f":"IFERROR(IF(#REF!=\"\",\"\",IF((VLOOKUP(AT32,Herramientas!$L$3:$M$227,2,0))=#REF!,1,0)),\"\")","v":""},{"$f":"IFERROR(IF(#REF!=\"\",\"\",IF((VLOOKUP(AU32,Herramientas!$L$3:$M$227,2,0))=#REF!,1,0)),\"\")","v":""},{"$f":"IFERROR(IF(#REF!=\"\",\"\",IF((VLOOKUP(AV32,Herramientas!$L$3:$M$227,2,0))=#REF!,1,0)),\"\")","v":""},{"$f":"IFERROR(IF(#REF!=\"\",\"\",IF((VLOOKUP(AW32,Herramientas!$L$3:$M$227,2,0))=#REF!,1,0)),\"\")","v":""},null,0,0,null,null,null,null,null,null,"it18",{"$f":"CY7","v":0},{"$f":"CY12","v":0},"",{"$f":"CY8","v":0},0,"",{"$f":"CY9","v":0},0,"",{"$f":"CY10","v":0},0,""]
[26,null,null,null,null,null,null,null,null,null,null,null,null,null,null,null,null,null,null,null,null,null,null,null,"6.°-1","6.°-2","6.°-3","6.°-4","6.°-5","6.°-6","6.°-7","6.°-8","6.°-9","6.°-10","6.°-11","6.°-12","6.°-13","6.°-14","6.°-15","6.°-16","6.°-17","6.°-18","6.°-19","6.°-20",{"$f":"CONCATENATE($B$2,\"-\",#REF!)","v":{"$error":"#REF!"}},{"$f":"CONCATENATE($B$2,\"-\",#REF!)","v":{"$error":"#REF!"}},{"$f":"CONCATENATE($B$2,\"-\",#REF!)","v":{"$error":"#REF!"}},{"$f":"CONCATENATE($B$2,\"-\",#REF!)","v":{"$error":"#REF!"}},{"$f":"CONCATENATE($B$2,\"-\",#REF!)","v":{"$error":"#REF!"}},null,{"$f":"IFERROR(IF(D33=\"\",\"\",IF((VLOOKUP(Y33,Herramientas!$L$3:$M$227,2,0))=D33,1,0)),\"\")","v":""},{"$f":"IFERROR(IF(E33=\"\",\"\",IF((VLOOKUP(Z33,Herramientas!$L$3:$M$227,2,0))=E33,1,0)),\"\")","v":""},{"$f":"IFERROR(IF(F33=\"\",\"\",IF((VLOOKUP(AA33,Herramientas!$L$3:$M$227,2,0))=F33,1,0)),\"\")","v":""},{"$f":"IFERROR(IF(G33=\"\",\"\",IF((VLOOKUP(AB33,Herramientas!$L$3:$M$227,2,0))=G33,1,0)),\"\")","v":""},{"$f":"IFERROR(IF(H33=\"\",\"\",IF((VLOOKUP(AC33,Herramientas!$L$3:$M$227,2,0))=H33,1,0)),\"\")","v":""},{"$f":"IFERROR(IF(I33=\"\",\"\",IF((VLOOKUP(AD33,Herramientas!$L$3:$M$227,2,0))=I33,1,0)),\"\")","v":""},{"$f":"IFERROR(IF(J33=\"\",\"\",IF((VLOOKUP(AE33,Herramientas!$L$3:$M$227,2,0))=J33,1,0)),\"\")","v":""},{"$f":"IFERROR(IF(K33=\"\",\"\",IF((VLOOKUP(AF33,Herramientas!$L$3:$M$227,2,0))=K33,1,0)),\"\")","v":""},{"$f":"IFERROR(IF(L33=\"\",\"\",IF((VLOOKUP(AG33,Herramientas!$L$3:$M$227,2,0))=L33,1,0)),\"\")","v":""},{"$f":"IFERROR(IF(M33=\"\",\"\",IF((VLOOKUP(AH33,Herramientas!$L$3:$M$227,2,0))=M33,1,0)),\"\")","v":""},{"$f":"IFERROR(IF(N33=\"\",\"\",IF((VLOOKUP(AI33,Herramientas!$L$3:$M$227,2,0))=N33,1,0)),\"\")","v":""},{"$f":"IFERROR(IF(O33=\"\",\"\",IF((VLOOKUP(AJ33,Herramientas!$L$3:$M$227,2,0))=O33,1,0)),\"\")","v":""},{"$f":"IFERROR(IF(L33=\"\",\"\",IF((VLOOKUP(AG33,Herramientas!$L$3:$M$227,2,0))=L33,1,0)),\"\")","v":""},{"$f":"IFERROR(IF(M33=\"\",\"\",IF((VLOOKUP(AH33,Herramientas!$L$3:$M$227,2,0))=M33,1,0)),\"\")","v":""},{"$f":"IFERROR(IF(R33=\"\",\"\",IF((VLOOKUP(AM33,Herramientas!$L$3:$M$227,2,0))=R33,1,0)),\"\")","v":""},{"$f":"IFERROR(IF(S33=\"\",\"\",IF((VLOOKUP(AN33,Herramientas!$L$3:$M$227,2,0))=S33,1,0)),\"\")","v":""},{"$f":"IFERROR(IF(T33=\"\",\"\",IF((VLOOKUP(AO33,Herramientas!$L$3:$M$227,2,0))=T33,1,0)),\"\")","v":""},{"$f":"IFERROR(IF(U33=\"\",\"\",IF((VLOOKUP(AP33,Herramientas!$L$3:$M$227,2,0))=U33,1,0)),\"\")","v":""},{"$f":"IFERROR(IF(V33=\"\",\"\",IF((VLOOKUP(AQ33,Herramientas!$L$3:$M$227,2,0))=V33,1,0)),\"\")","v":""},{"$f":"IFERROR(IF(W33=\"\",\"\",IF((VLOOKUP(AR33,Herramientas!$L$3:$M$227,2,0))=W33,1,0)),\"\")","v":""},{"$f":"IFERROR(IF(#REF!=\"\",\"\",IF((VLOOKUP(AS33,Herramientas!$L$3:$M$227,2,0))=#REF!,1,0)),\"\")","v":""},{"$f":"IFERROR(IF(#REF!=\"\",\"\",IF((VLOOKUP(AT33,Herramientas!$L$3:$M$227,2,0))=#REF!,1,0)),\"\")","v":""},{"$f":"IFERROR(IF(#REF!=\"\",\"\",IF((VLOOKUP(AU33,Herramientas!$L$3:$M$227,2,0))=#REF!,1,0)),\"\")","v":""},{"$f":"IFERROR(IF(#REF!=\"\",\"\",IF((VLOOKUP(AV33,Herramientas!$L$3:$M$227,2,0))=#REF!,1,0)),\"\")","v":""},{"$f":"IFERROR(IF(#REF!=\"\",\"\",IF((VLOOKUP(AW33,Herramientas!$L$3:$M$227,2,0))=#REF!,1,0)),\"\")","v":""},null,0,0,null,null,null,null,null,null,"it19",{"$f":"CZ7","v":0},{"$f":"CZ12","v":0},"",{"$f":"CZ8","v":0},0,"",{"$f":"CZ9","v":0},0,"",{"$f":"CZ10","v":0},0,""]
[27,null,null,null,null,null,null,null,null,null,null,null,null,null,null,null,null,null,null,null,null,null,null,null,"6.°-1","6.°-2","6.°-3","6.°-4","6.°-5","6.°-6","6.°-7","6.°-8","6.°-9","6.°-10","6.°-11","6.°-12","6.°-13","6.°-14","6.°-15","6.°-16","6.°-17","6.°-18","6.°-19","6.°-20",{"$f":"CONCATENATE($B$2,\"-\",#REF!)","v":{"$error":"#REF!"}},{"$f":"CONCATENATE($B$2,\"-\",#REF!)","v":{"$error":"#REF!"}},{"$f":"CONCATENATE($B$2,\"-\",#REF!)","v":{"$error":"#REF!"}},{"$f":"CONCATENATE($B$2,\"-\",#REF!)","v":{"$error":"#REF!"}},{"$f":"CONCATENATE($B$2,\"-\",#REF!)","v":{"$error":"#REF!"}},null,{"$f":"IFERROR(IF(D34=\"\",\"\",IF((VLOOKUP(Y34,Herramientas!$L$3:$M$227,2,0))=D34,1,0)),\"\")","v":""},{"$f":"IFERROR(IF(E34=\"\",\"\",IF((VLOOKUP(Z34,Herramientas!$L$3:$M$227,2,0))=E34,1,0)),\"\")","v":""},{"$f":"IFERROR(IF(F34=\"\",\"\",IF((VLOOKUP(AA34,Herramientas!$L$3:$M$227,2,0))=F34,1,0)),\"\")","v":""},{"$f":"IFERROR(IF(G34=\"\",\"\",IF((VLOOKUP(AB34,Herramientas!$L$3:$M$227,2,0))=G34,1,0)),\"\")","v":""},{"$f":"IFERROR(IF(H34=\"\",\"\",IF((VLOOKUP(AC34,Herramientas!$L$3:$M$227,2,0))=H34,1,0)),\"\")","v":""},{"$f":"IFERROR(IF(I34=\"\",\"\",IF((VLOOKUP(AD34,Herramientas!$L$3:$M$227,2,0))=I34,1,0)),\"\")","v":""},{"$f":"IFERROR(IF(J34=\"\",\"\",IF((VLOOKUP(AE34,Herramientas!$L$3:$M$227,2,0))=J34,1,0)),\"\")","v":""},{"$f":"IFERROR(IF(K34=\"\",\"\",IF((VLOOKUP(AF34,Herramientas!$L$3:$M$227,2,0))=K34,1,0)),\"\")","v":""},{"$f":"IFERROR(IF(L34=\"\",\"\",IF((VLOOKUP(AG34,Herramientas!$L$3:$M$227,2,0))=L34,1,0)),\"\")","v":""},{"$f":"IFERROR(IF(M34=\"\",\"\",IF((VLOOKUP(AH34,Herramientas!$L$3:$M$227,2,0))=M34,1,0)),\"\")","v":""},{"$f":"IFERROR(IF(N34=\"\",\"\",IF((VLOOKUP(AI34,Herramientas!$L$3:$M$227,2,0))=N34,1,0)),\"\")","v":""},{"$f":"IFERROR(IF(O34=\"\",\"\",IF((VLOOKUP(AJ34,Herramientas!$L$3:$M$227,2,0))=O34,1,0)),\"\")","v":""},{"$f":"IFERROR(IF(L34=\"\",\"\",IF((VLOOKUP(AG34,Herramientas!$L$3:$M$227,2,0))=L34,1,0)),\"\")","v":""},{"$f":"IFERROR(IF(M34=\"\",\"\",IF((VLOOKUP(AH34,Herramientas!$L$3:$M$227,2,0))=M34,1,0)),\"\")","v":""},{"$f":"IFERROR(IF(R34=\"\",\"\",IF((VLOOKUP(AM34,Herramientas!$L$3:$M$227,2,0))=R34,1,0)),\"\")","v":""},{"$f":"IFERROR(IF(S34=\"\",\"\",IF((VLOOKUP(AN34,Herramientas!$L$3:$M$227,2,0))=S34,1,0)),\"\")","v":""},{"$f":"IFERROR(IF(T34=\"\",\"\",IF((VLOOKUP(AO34,Herramientas!$L$3:$M$227,2,0))=T34,1,0)),\"\")","v":""},{"$f":"IFERROR(IF(U34=\"\",\"\",IF((VLOOKUP(AP34,Herramientas!$L$3:$M$227,2,0))=U34,1,0)),\"\")","v":""},{"$f":"IFERROR(IF(V34=\"\",\"\",IF((VLOOKUP(AQ34,Herramientas!$L$3:$M$227,2,0))=V34,1,0)),\"\")","v":""},{"$f":"IFERROR(IF(W34=\"\",\"\",IF((VLOOKUP(AR34,Herramientas!$L$3:$M$227,2,0))=W34,1,0)),\"\")","v":""},{"$f":"IFERROR(IF(#REF!=\"\",\"\",IF((VLOOKUP(AS34,Herramientas!$L$3:$M$227,2,0))=#REF!,1,0)),\"\")","v":""},{"$f":"IFERROR(IF(#REF!=\"\",\"\",IF((VLOOKUP(AT34,Herramientas!$L$3:$M$227,2,0))=#REF!,1,0)),\"\")","v":""},{"$f":"IFERROR(IF(#REF!=\"\",\"\",IF((VLOOKUP(AU34,Herramientas!$L$3:$M$227,2,0))=#REF!,1,0)),\"\")","v":""},{"$f":"IFERROR(IF(#REF!=\"\",\"\",IF((VLOOKUP(AV34,Herramientas!$L$3:$M$227,2,0))=#REF!,1,0)),\"\")","v":""},{"$f":"IFERROR(IF(#REF!=\"\",\"\",IF((VLOOKUP(AW34,Herramientas!$L$3:$M$227,2,0))=#REF!,1,0)),\"\")","v":""},null,0,0,null,null,null,null,null,null,"it20",{"$f":"DA7","v":0},{"$f":"DA12","v":0},"",{"$f":"DA8","v":0},0,"",{"$f":"DA9","v":0},0,"",{"$f":"DA10","v":0},0,""]
[28,null,null,null,null,null,null,null,null,null,null,null,null,null,null,null,null,null,null,null,null,null,null,null,"6.°-1","6.°-2","6.°-3","6.°-4","6.°-5","6.°-6","6.°-7","6.°-8","6.°-9","6.°-10","6.°-11","6.°-12","6.°-13","6.°-14","6.°-15","6.°-16","6.°-17","6.°-18","6.°-19","6.°-20",{"$f":"CONCATENATE($B$2,\"-\",#REF!)","v":{"$error":"#REF!"}},{"$f":"CONCATENATE($B$2,\"-\",#REF!)","v":{"$error":"#REF!"}},{"$f":"CONCATENATE($B$2,\"-\",#REF!)","v":{"$error":"#REF!"}},{"$f":"CONCATENATE($B$2,\"-\",#REF!)","v":{"$error":"#REF!"}},{"$f":"CONCATENATE($B$2,\"-\",#REF!)","v":{"$error":"#REF!"}},null,{"$f":"IFERROR(IF(D35=\"\",\"\",IF((VLOOKUP(Y35,Herramientas!$L$3:$M$227,2,0))=D35,1,0)),\"\")","v":""},{"$f":"IFERROR(IF(E35=\"\",\"\",IF((VLOOKUP(Z35,Herramientas!$L$3:$M$227,2,0))=E35,1,0)),\"\")","v":""},{"$f":"IFERROR(IF(F35=\"\",\"\",IF((VLOOKUP(AA35,Herramientas!$L$3:$M$227,2,0))=F35,1,0)),\"\")","v":""},{"$f":"IFERROR(IF(G35=\"\",\"\",IF((VLOOKUP(AB35,Herramientas!$L$3:$M$227,2,0))=G35,1,0)),\"\")","v":""},{"$f":"IFERROR(IF(H35=\"\",\"\",IF((VLOOKUP(AC35,Herramientas!$L$3:$M$227,2,0))=H35,1,0)),\"\")","v":""},{"$f":"IFERROR(IF(I35=\"\",\"\",IF((VLOOKUP(AD35,Herramientas!$L$3:$M$227,2,0))=I35,1,0)),\"\")","v":""},{"$f":"IFERROR(IF(J35=\"\",\"\",IF((VLOOKUP(AE35,Herramientas!$L$3:$M$227,2,0))=J35,1,0)),\"\")","v":""},{"$f":"IFERROR(IF(K35=\"\",\"\",IF((VLOOKUP(AF35,Herramientas!$L$3:$M$227,2,0))=K35,1,0)),\"\")","v":""},{"$f":"IFERROR(IF(L35=\"\",\"\",IF((VLOOKUP(AG35,Herramientas!$L$3:$M$227,2,0))=L35,1,0)),\"\")","v":""},{"$f":"IFERROR(IF(M35=\"\",\"\",IF((VLOOKUP(AH35,Herramientas!$L$3:$M$227,2,0))=M35,1,0)),\"\")","v":""},{"$f":"IFERROR(IF(N35=\"\",\"\",IF((VLOOKUP(AI35,Herramientas!$L$3:$M$227,2,0))=N35,1,0)),\"\")","v":""},{"$f":"IFERROR(IF(O35=\"\",\"\",IF((VLOOKUP(AJ35,Herramientas!$L$3:$M$227,2,0))=O35,1,0)),\"\")","v":""},{"$f":"IFERROR(IF(L35=\"\",\"\",IF((VLOOKUP(AG35,Herramientas!$L$3:$M$227,2,0))=L35,1,0)),\"\")","v":""},{"$f":"IFERROR(IF(M35=\"\",\"\",IF((VLOOKUP(AH35,Herramientas!$L$3:$M$227,2,0))=M35,1,0)),\"\")","v":""},{"$f":"IFERROR(IF(R35=\"\",\"\",IF((VLOOKUP(AM35,Herramientas!$L$3:$M$227,2,0))=R35,1,0)),\"\")","v":""},{"$f":"IFERROR(IF(S35=\"\",\"\",IF((VLOOKUP(AN35,Herramientas!$L$3:$M$227,2,0))=S35,1,0)),\"\")","v":""},{"$f":"IFERROR(IF(T35=\"\",\"\",IF((VLOOKUP(AO35,Herramientas!$L$3:$M$227,2,0))=T35,1,0)),\"\")","v":""},{"$f":"IFERROR(IF(U35=\"\",\"\",IF((VLOOKUP(AP35,Herramientas!$L$3:$M$227,2,0))=U35,1,0)),\"\")","v":""},{"$f":"IFERROR(IF(V35=\"\",\"\",IF((VLOOKUP(AQ35,Herramientas!$L$3:$M$227,2,0))=V35,1,0)),\"\")","v":""},{"$f":"IFERROR(IF(W35=\"\",\"\",IF((VLOOKUP(AR35,Herramientas!$L$3:$M$227,2,0))=W35,1,0)),\"\")","v":""},{"$f":"IFERROR(IF(#REF!=\"\",\"\",IF((VLOOKUP(AS35,Herramientas!$L$3:$M$227,2,0))=#REF!,1,0)),\"\")","v":""},{"$f":"IFERROR(IF(#REF!=\"\",\"\",IF((VLOOKUP(AT35,Herramientas!$L$3:$M$227,2,0))=#REF!,1,0)),\"\")","v":""},{"$f":"IFERROR(IF(#REF!=\"\",\"\",IF((VLOOKUP(AU35,Herramientas!$L$3:$M$227,2,0))=#REF!,1,0)),\"\")","v":""},{"$f":"IFERROR(IF(#REF!=\"\",\"\",IF((VLOOKUP(AV35,Herramientas!$L$3:$M$227,2,0))=#REF!,1,0)),\"\")","v":""},{"$f":"IFERROR(IF(#REF!=\"\",\"\",IF((VLOOKUP(AW35,Herramientas!$L$3:$M$227,2,0))=#REF!,1,0)),\"\")","v":""},null,0,0,null,null,null,null,null,null,"it21",null,null,"",null,null,"",null,null,"",null,null,""]
[29,null,null,null,null,null,null,null,null,null,null,null,null,null,null,null,null,null,null,null,null,null,null,null,"6.°-1","6.°-2","6.°-3","6.°-4","6.°-5","6.°-6","6.°-7","6.°-8","6.°-9","6.°-10","6.°-11","6.°-12","6.°-13","6.°-14","6.°-15","6.°-16","6.°-17","6.°-18","6.°-19","6.°-20",{"$f":"CONCATENATE($B$2,\"-\",#REF!)","v":{"$error":"#REF!"}},{"$f":"CONCATENATE($B$2,\"-\",#REF!)","v":{"$error":"#REF!"}},{"$f":"CONCATENATE($B$2,\"-\",#REF!)","v":{"$error":"#REF!"}},{"$f":"CONCATENATE($B$2,\"-\",#REF!)","v":{"$error":"#REF!"}},{"$f":"CONCATENATE($B$2,\"-\",#REF!)","v":{"$error":"#REF!"}},null,{"$f":"IFERROR(IF(D36=\"\",\"\",IF((VLOOKUP(Y36,Herramientas!$L$3:$M$227,2,0))=D36,1,0)),\"\")","v":""},{"$f":"IFERROR(IF(E36=\"\",\"\",IF((VLOOKUP(Z36,Herramientas!$L$3:$M$227,2,0))=E36,1,0)),\"\")","v":""},{"$f":"IFERROR(IF(F36=\"\",\"\",IF((VLOOKUP(AA36,Herramientas!$L$3:$M$227,2,0))=F36,1,0)),\"\")","v":""},{"$f":"IFERROR(IF(G36=\"\",\"\",IF((VLOOKUP(AB36,Herramientas!$L$3:$M$227,2,0))=G36,1,0)),\"\")","v":""},{"$f":"IFERROR(IF(H36=\"\",\"\",IF((VLOOKUP(AC36,Herramientas!$L$3:$M$227,2,0))=H36,1,0)),\"\")","v":""},{"$f":"IFERROR(IF(I36=\"\",\"\",IF((VLOOKUP(AD36,Herramientas!$L$3:$M$227,2,0))=I36,1,0)),\"\")","v":""},{"$f":"IFERROR(IF(J36=\"\",\"\",IF((VLOOKUP(AE36,Herramientas!$L$3:$M$227,2,0))=J36,1,0)),\"\")","v":""},{"$f":"IFERROR(IF(K36=\"\",\"\",IF((VLOOKUP(AF36,Herramientas!$L$3:$M$227,2,0))=K36,1,0)),\"\")","v":""},{"$f":"IFERROR(IF(L36=\"\",\"\",IF((VLOOKUP(AG36,Herramientas!$L$3:$M$227,2,0))=L36,1,0)),\"\")","v":""},{"$f":"IFERROR(IF(M36=\"\",\"\",IF((VLOOKUP(AH36,Herramientas!$L$3:$M$227,2,0))=M36,1,0)),\"\")","v":""},{"$f":"IFERROR(IF(N36=\"\",\"\",IF((VLOOKUP(AI36,Herramientas!$L$3:$M$227,2,0))=N36,1,0)),\"\")","v":""},{"$f":"IFERROR(IF(O36=\"\",\"\",IF((VLOOKUP(AJ36,Herramientas!$L$3:$M$227,2,0))=O36,1,0)),\"\")","v":""},{"$f":"IFERROR(IF(L36=\"\",\"\",IF((VLOOKUP(AG36,Herramientas!$L$3:$M$227,2,0))=L36,1,0)),\"\")","v":""},{"$f":"IFERROR(IF(M36=\"\",\"\",IF((VLOOKUP(AH36,Herramientas!$L$3:$M$227,2,0))=M36,1,0)),\"\")","v":""},{"$f":"IFERROR(IF(R36=\"\",\"\",IF((VLOOKUP(AM36,Herramientas!$L$3:$M$227,2,0))=R36,1,0)),\"\")","v":""},{"$f":"IFERROR(IF(S36=\"\",\"\",IF((VLOOKUP(AN36,Herramientas!$L$3:$M$227,2,0))=S36,1,0)),\"\")","v":""},{"$f":"IFERROR(IF(T36=\"\",\"\",IF((VLOOKUP(AO36,Herramientas!$L$3:$M$227,2,0))=T36,1,0)),\"\")","v":""},{"$f":"IFERROR(IF(U36=\"\",\"\",IF((VLOOKUP(AP36,Herramientas!$L$3:$M$227,2,0))=U36,1,0)),\"\")","v":""},{"$f":"IFERROR(IF(V36=\"\",\"\",IF((VLOOKUP(AQ36,Herramientas!$L$3:$M$227,2,0))=V36,1,0)),\"\")","v":""},{"$f":"IFERROR(IF(W36=\"\",\"\",IF((VLOOKUP(AR36,Herramientas!$L$3:$M$227,2,0))=W36,1,0)),\"\")","v":""},{"$f":"IFERROR(IF(#REF!=\"\",\"\",IF((VLOOKUP(AS36,Herramientas!$L$3:$M$227,2,0))=#REF!,1,0)),\"\")","v":""},{"$f":"IFERROR(IF(#REF!=\"\",\"\",IF((VLOOKUP(AT36,Herramientas!$L$3:$M$227,2,0))=#REF!,1,0)),\"\")","v":""},{"$f":"IFERROR(IF(#REF!=\"\",\"\",IF((VLOOKUP(AU36,Herramientas!$L$3:$M$227,2,0))=#REF!,1,0)),\"\")","v":""},{"$f":"IFERROR(IF(#REF!=\"\",\"\",IF((VLOOKUP(AV36,Herramientas!$L$3:$M$227,2,0))=#REF!,1,0)),\"\")","v":""},{"$f":"IFERROR(IF(#REF!=\"\",\"\",IF((VLOOKUP(AW36,Herramientas!$L$3:$M$227,2,0))=#REF!,1,0)),\"\")","v":""},null,0,0,null,null,null,null,null,null,"it22",null,null,"",null,null,"",null,null,"",null,null,""]
[30,null,null,null,null,null,null,null,null,null,null,null,null,null,null,null,null,null,null,null,null,null,null,null,"6.°-1","6.°-2","6.°-3","6.°-4","6.°-5","6.°-6","6.°-7","6.°-8","6.°-9","6.°-10","6.°-11","6.°-12","6.°-13","6.°-14","6.°-15","6.°-16","6.°-17","6.°-18","6.°-19","6.°-20",{"$f":"CONCATENATE($B$2,\"-\",#REF!)","v":{"$error":"#REF!"}},{"$f":"CONCATENATE($B$2,\"-\",#REF!)","v":{"$error":"#REF!"}},{"$f":"CONCATENATE($B$2,\"-\",#REF!)","v":{"$error":"#REF!"}},{"$f":"CONCATENATE($B$2,\"-\",#REF!)","v":{"$error":"#REF!"}},{"$f":"CONCATENATE($B$2,\"-\",#REF!)","v":{"$error":"#REF!"}},null,{"$f":"IFERROR(IF(D37=\"\",\"\",IF((VLOOKUP(Y37,Herramientas!$L$3:$M$227,2,0))=D37,1,0)),\"\")","v":""},{"$f":"IFERROR(IF(E37=\"\",\"\",IF((VLOOKUP(Z37,Herramientas!$L$3:$M$227,2,0))=E37,1,0)),\"\")","v":""},{"$f":"IFERROR(IF(F37=\"\",\"\",IF((VLOOKUP(AA37,Herramientas!$L$3:$M$227,2,0))=F37,1,0)),\"\")","v":""},{"$f":"IFERROR(IF(G37=\"\",\"\",IF((VLOOKUP(AB37,Herramientas!$L$3:$M$227,2,0))=G37,1,0)),\"\")","v":""},{"$f":"IFERROR(IF(H37=\"\",\"\",IF((VLOOKUP(AC37,Herramientas!$L$3:$M$227,2,0))=H37,1,0)),\"\")","v":""},{"$f":"IFERROR(IF(I37=\"\",\"\",IF((VLOOKUP(AD37,Herramientas!$L$3:$M$227,2,0))=I37,1,0)),\"\")","v":""},{"$f":"IFERROR(IF(J37=\"\",\"\",IF((VLOOKUP(AE37,Herramientas!$L$3:$M$227,2,0))=J37,1,0)),\"\")","v":""},{"$f":"IFERROR(IF(K37=\"\",\"\",IF((VLOOKUP(AF37,Herramientas!$L$3:$M$227,2,0))=K37,1,0)),\"\")","v":""},{"$f":"IFERROR(IF(L37=\"\",\"\",IF((VLOOKUP(AG37,Herramientas!$L$3:$M$227,2,0))=L37,1,0)),\"\")","v":""},{"$f":"IFERROR(IF(M37=\"\",\"\",IF((VLOOKUP(AH37,Herramientas!$L$3:$M$227,2,0))=M37,1,0)),\"\")","v":""},{"$f":"IFERROR(IF(N37=\"\",\"\",IF((VLOOKUP(AI37,Herramientas!$L$3:$M$227,2,0))=N37,1,0)),\"\")","v":""},{"$f":"IFERROR(IF(O37=\"\",\"\",IF((VLOOKUP(AJ37,Herramientas!$L$3:$M$227,2,0))=O37,1,0)),\"\")","v":""},{"$f":"IFERROR(IF(L37=\"\",\"\",IF((VLOOKUP(AG37,Herramientas!$L$3:$M$227,2,0))=L37,1,0)),\"\")","v":""},{"$f":"IFERROR(IF(M37=\"\",\"\",IF((VLOOKUP(AH37,Herramientas!$L$3:$M$227,2,0))=M37,1,0)),\"\")","v":""},{"$f":"IFERROR(IF(R37=\"\",\"\",IF((VLOOKUP(AM37,Herramientas!$L$3:$M$227,2,0))=R37,1,0)),\"\")","v":""},{"$f":"IFERROR(IF(S37=\"\",\"\",IF((VLOOKUP(AN37,Herramientas!$L$3:$M$227,2,0))=S37,1,0)),\"\")","v":""},{"$f":"IFERROR(IF(T37=\"\",\"\",IF((VLOOKUP(AO37,Herramientas!$L$3:$M$227,2,0))=T37,1,0)),\"\")","v":""},{"$f":"IFERROR(IF(U37=\"\",\"\",IF((VLOOKUP(AP37,Herramientas!$L$3:$M$227,2,0))=U37,1,0)),\"\")","v":""},{"$f":"IFERROR(IF(V37=\"\",\"\",IF((VLOOKUP(AQ37,Herramientas!$L$3:$M$227,2,0))=V37,1,0)),\"\")","v":""},{"$f":"IFERROR(IF(W37=\"\",\"\",IF((VLOOKUP(AR37,Herramientas!$L$3:$M$227,2,0))=W37,1,0)),\"\")","v":""},{"$f":"IFERROR(IF(#REF!=\"\",\"\",IF((VLOOKUP(AS37,Herramientas!$L$3:$M$227,2,0))=#REF!,1,0)),\"\")","v":""},{"$f":"IFERROR(IF(#REF!=\"\",\"\",IF((VLOOKUP(AT37,Herramientas!$L$3:$M$227,2,0))=#REF!,1,0)),\"\")","v":""},{"$f":"IFERROR(IF(#REF!=\"\",\"\",IF((VLOOKUP(AU37,Herramientas!$L$3:$M$227,2,0))=#REF!,1,0)),\"\")","v":""},{"$f":"IFERROR(IF(#REF!=\"\",\"\",IF((VLOOKUP(AV37,Herramientas!$L$3:$M$227,2,0))=#REF!,1,0)),\"\")","v":""},{"$f":"IFERROR(IF(#REF!=\"\",\"\",IF((VLOOKUP(AW37,Herramientas!$L$3:$M$227,2,0))=#REF!,1,0)),\"\")","v":""},null,0,0,null,null,null,null,null,null,"it23",null,null,"",null,null,"",null,null,"",null,null,""]
[31,null,null,null,null,null,null,null,null,null,null,null,null,null,null,null,null,null,null,null,null,null,null,null,"6.°-1","6.°-2","6.°-3","6.°-4","6.°-5","6.°-6","6.°-7","6.°-8","6.°-9","6.°-10","6.°-11","6.°-12","6.°-13","6.°-14","6.°-15","6.°-16","6.°-17","6.°-18","6.°-19","6.°-20",{"$f":"CONCATENATE($B$2,\"-\",#REF!)","v":{"$error":"#REF!"}},{"$f":"CONCATENATE($B$2,\"-\",#REF!)","v":{"$error":"#REF!"}},{"$f":"CONCATENATE($B$2,\"-\",#REF!)","v":{"$error":"#REF!"}},{"$f":"CONCATENATE($B$2,\"-\",#REF!)","v":{"$error":"#REF!"}},{"$f":"CONCATENATE($B$2,\"-\",#REF!)","v":{"$error":"#REF!"}},null,{"$f":"IFERROR(IF(D38=\"\",\"\",IF((VLOOKUP(Y38,Herramientas!$L$3:$M$227,2,0))=D38,1,0)),\"\")","v":""},{"$f":"IFERROR(IF(E38=\"\",\"\",IF((VLOOKUP(Z38,Herramientas!$L$3:$M$227,2,0))=E38,1,0)),\"\")","v":""},{"$f":"IFERROR(IF(F38=\"\",\"\",IF((VLOOKUP(AA38,Herramientas!$L$3:$M$227,2,0))=F38,1,0)),\"\")","v":""},{"$f":"IFERROR(IF(G38=\"\",\"\",IF((VLOOKUP(AB38,Herramientas!$L$3:$M$227,2,0))=G38,1,0)),\"\")","v":""},{"$f":"IFERROR(IF(H38=\"\",\"\",IF((VLOOKUP(AC38,Herramientas!$L$3:$M$227,2,0))=H38,1,0)),\"\")","v":""},{"$f":"IFERROR(IF(I38=\"\",\"\",IF((VLOOKUP(AD38,Herramientas!$L$3:$M$227,2,0))=I38,1,0)),\"\")","v":""},{"$f":"IFERROR(IF(J38=\"\",\"\",IF((VLOOKUP(AE38,Herramientas!$L$3:$M$227,2,0))=J38,1,0)),\"\")","v":""},{"$f":"IFERROR(IF(K38=\"\",\"\",IF((VLOOKUP(AF38,Herramientas!$L$3:$M$227,2,0))=K38,1,0)),\"\")","v":""},{"$f":"IFERROR(IF(L38=\"\",\"\",IF((VLOOKUP(AG38,Herramientas!$L$3:$M$227,2,0))=L38,1,0)),\"\")","v":""},{"$f":"IFERROR(IF(M38=\"\",\"\",IF((VLOOKUP(AH38,Herramientas!$L$3:$M$227,2,0))=M38,1,0)),\"\")","v":""},{"$f":"IFERROR(IF(N38=\"\",\"\",IF((VLOOKUP(AI38,Herramientas!$L$3:$M$227,2,0))=N38,1,0)),\"\")","v":""},{"$f":"IFERROR(IF(O38=\"\",\"\",IF((VLOOKUP(AJ38,Herramientas!$L$3:$M$227,2,0))=O38,1,0)),\"\")","v":""},{"$f":"IFERROR(IF(L38=\"\",\"\",IF((VLOOKUP(AG38,Herramientas!$L$3:$M$227,2,0))=L38,1,0)),\"\")","v":""},{"$f":"IFERROR(IF(M38=\"\",\"\",IF((VLOOKUP(AH38,Herramientas!$L$3:$M$227,2,0))=M38,1,0)),\"\")","v":""},{"$f":"IFERROR(IF(R38=\"\",\"\",IF((VLOOKUP(AM38,Herramientas!$L$3:$M$227,2,0))=R38,1,0)),\"\")","v":""},{"$f":"IFERROR(IF(S38=\"\",\"\",IF((VLOOKUP(AN38,Herramientas!$L$3:$M$227,2,0))=S38,1,0)),\"\")","v":""},{"$f":"IFERROR(IF(T38=\"\",\"\",IF((VLOOKUP(AO38,Herramientas!$L$3:$M$227,2,0))=T38,1,0)),\"\")","v":""},{"$f":"IFERROR(IF(U38=\"\",\"\",IF((VLOOKUP(AP38,Herramientas!$L$3:$M$227,2,0))=U38,1,0)),\"\")","v":""},{"$f":"IFERROR(IF(V38=\"\",\"\",IF((VLOOKUP(AQ38,Herramientas!$L$3:$M$227,2,0))=V38,1,0)),\"\")","v":""},{"$f":"IFERROR(IF(W38=\"\",\"\",IF((VLOOKUP(AR38,Herramientas!$L$3:$M$227,2,0))=W38,1,0)),\"\")","v":""},{"$f":"IFERROR(IF(#REF!=\"\",\"\",IF((VLOOKUP(AS38,Herramientas!$L$3:$M$227,2,0))=#REF!,1,0)),\"\")","v":""},{"$f":"IFERROR(IF(#REF!=\"\",\"\",IF((VLOOKUP(AT38,Herramientas!$L$3:$M$227,2,0))=#REF!,1,0)),\"\")","v":""},{"$f":"IFERROR(IF(#REF!=\"\",\"\",IF((VLOOKUP(AU38,Herramientas!$L$3:$M$227,2,0))=#REF!,1,0)),\"\")","v":""},{"$f":"IFERROR(IF(#REF!=\"\",\"\",IF((VLOOKUP(AV38,Herramientas!$L$3:$M$227,2,0))=#REF!,1,0)),\"\")","v":""},{"$f":"IFERROR(IF(#REF!=\"\",\"\",IF((VLOOKUP(AW38,Herramientas!$L$3:$M$227,2,0))=#REF!,1,0)),\"\")","v":""},null,0,0,null,null,null,null,null,null,"it24",null,null,"",null,null,"",null,null,"",null,null,""]
[32,null,null,null,null,null,null,null,null,null,null,null,null,null,null,null,null,null,null,null,null,null,null,null,"6.°-1","6.°-2","6.°-3","6.°-4","6.°-5","6.°-6","6.°-7","6.°-8","6.°-9","6.°-10","6.°-11","6.°-12","6.°-13","6.°-14","6.°-15","6.°-16","6.°-17","6.°-18","6.°-19","6.°-20",{"$f":"CONCATENATE($B$2,\"-\",#REF!)","v":{"$error":"#REF!"}},{"$f":"CONCATENATE($B$2,\"-\",#REF!)","v":{"$error":"#REF!"}},{"$f":"CONCATENATE($B$2,\"-\",#REF!)","v":{"$error":"#REF!"}},{"$f":"CONCATENATE($B$2,\"-\",#REF!)","v":{"$error":"#REF!"}},{"$f":"CONCATENATE($B$2,\"-\",#REF!)","v":{"$error":"#REF!"}},null,{"$f":"IFERROR(IF(D39=\"\",\"\",IF((VLOOKUP(Y39,Herramientas!$L$3:$M$227,2,0))=D39,1,0)),\"\")","v":""},{"$f":"IFERROR(IF(E39=\"\",\"\",IF((VLOOKUP(Z39,Herramientas!$L$3:$M$227,2,0))=E39,1,0)),\"\")","v":""},{"$f":"IFERROR(IF(F39=\"\",\"\",IF((VLOOKUP(AA39,Herramientas!$L$3:$M$227,2,0))=F39,1,0)),\"\")","v":""},{"$f":"IFERROR(IF(G39=\"\",\"\",IF((VLOOKUP(AB39,Herramientas!$L$3:$M$227,2,0))=G39,1,0)),\"\")","v":""},{"$f":"IFERROR(IF(H39=\"\",\"\",IF((VLOOKUP(AC39,Herramientas!$L$3:$M$227,2,0))=H39,1,0)),\"\")","v":""},{"$f":"IFERROR(IF(I39=\"\",\"\",IF((VLOOKUP(AD39,Herramientas!$L$3:$M$227,2,0))=I39,1,0)),\"\")","v":""},{"$f":"IFERROR(IF(J39=\"\",\"\",IF((VLOOKUP(AE39,Herramientas!$L$3:$M$227,2,0))=J39,1,0)),\"\")","v":""},{"$f":"IFERROR(IF(K39=\"\",\"\",IF((VLOOKUP(AF39,Herramientas!$L$3:$M$227,2,0))=K39,1,0)),\"\")","v":""},{"$f":"IFERROR(IF(L39=\"\",\"\",IF((VLOOKUP(AG39,Herramientas!$L$3:$M$227,2,0))=L39,1,0)),\"\")","v":""},{"$f":"IFERROR(IF(M39=\"\",\"\",IF((VLOOKUP(AH39,Herramientas!$L$3:$M$227,2,0))=M39,1,0)),\"\")","v":""},{"$f":"IFERROR(IF(N39=\"\",\"\",IF((VLOOKUP(AI39,Herramientas!$L$3:$M$227,2,0))=N39,1,0)),\"\")","v":""},{"$f":"IFERROR(IF(O39=\"\",\"\",IF((VLOOKUP(AJ39,Herramientas!$L$3:$M$227,2,0))=O39,1,0)),\"\")","v":""},{"$f":"IFERROR(IF(L39=\"\",\"\",IF((VLOOKUP(AG39,Herramientas!$L$3:$M$227,2,0))=L39,1,0)),\"\")","v":""},{"$f":"IFERROR(IF(M39=\"\",\"\",IF((VLOOKUP(AH39,Herramientas!$L$3:$M$227,2,0))=M39,1,0)),\"\")","v":""},{"$f":"IFERROR(IF(R39=\"\",\"\",IF((VLOOKUP(AM39,Herramientas!$L$3:$M$227,2,0))=R39,1,0)),\"\")","v":""},{"$f":"IFERROR(IF(S39=\"\",\"\",IF((VLOOKUP(AN39,Herramientas!$L$3:$M$227,2,0))=S39,1,0)),\"\")","v":""},{"$f":"IFERROR(IF(T39=\"\",\"\",IF((VLOOKUP(AO39,Herramientas!$L$3:$M$227,2,0))=T39,1,0)),\"\")","v":""},{"$f":"IFERROR(IF(U39=\"\",\"\",IF((VLOOKUP(AP39,Herramientas!$L$3:$M$227,2,0))=U39,1,0)),\"\")","v":""},{"$f":"IFERROR(IF(V39=\"\",\"\",IF((VLOOKUP(AQ39,Herramientas!$L$3:$M$227,2,0))=V39,1,0)),\"\")","v":""},{"$f":"IFERROR(IF(W39=\"\",\"\",IF((VLOOKUP(AR39,Herramientas!$L$3:$M$227,2,0))=W39,1,0)),\"\")","v":""},{"$f":"IFERROR(IF(#REF!=\"\",\"\",IF((VLOOKUP(AS39,Herramientas!$L$3:$M$227,2,0))=#REF!,1,0)),\"\")","v":""},{"$f":"IFERROR(IF(#REF!=\"\",\"\",IF((VLOOKUP(AT39,Herramientas!$L$3:$M$227,2,0))=#REF!,1,0)),\"\")","v":""},{"$f":"IFERROR(IF(#REF!=\"\",\"\",IF((VLOOKUP(AU39,Herramientas!$L$3:$M$227,2,0))=#REF!,1,0)),\"\")","v":""},{"$f":"IFERROR(IF(#REF!=\"\",\"\",IF((VLOOKUP(AV39,Herramientas!$L$3:$M$227,2,0))=#REF!,1,0)),\"\")","v":""},{"$f":"IFERROR(IF(#REF!=\"\",\"\",IF((VLOOKUP(AW39,Herramientas!$L$3:$M$227,2,0))=#REF!,1,0)),\"\")","v":""},null,0,0,null,null,null,null,null,null,"it25",null,null,"",null,null,"",null,null,"",null,null,""]
[33,null,null,null,null,null,null,null,null,null,null,null,null,null,null,null,null,null,null,null,null,null,null,null,{"$f":"CONCATENATE($B$2,\"-\",D$7)","v":"6.°-1"},{"$f":"CONCATENATE($B$2,\"-\",E$7)","v":"6.°-2"},{"$f":"CONCATENATE($B$2,\"-\",F$7)","v":"6.°-3"},{"$f":"CONCATENATE($B$2,\"-\",G$7)","v":"6.°-4"},{"$f":"CONCATENATE($B$2,\"-\",H$7)","v":"6.°-5"},{"$f":"CONCATENATE($B$2,\"-\",I$7)","v":"6.°-6"},{"$f":"CONCATENATE($B$2,\"-\",J$7)","v":"6.°-7"},{"$f":"CONCATENATE($B$2,\"-\",K$7)","v":"6.°-8"},{"$f":"CONCATENATE($B$2,\"-\",L$7)","v":"6.°-9"},{"$f":"CONCATENATE($B$2,\"-\",M$7)","v":"6.°-10"},{"$f":"CONCATENATE($B$2,\"-\",N$7)","v":"6.°-11"},{"$f":"CONCATENATE($B$2,\"-\",O$7)","v":"6.°-12"},{"$f":"CONCATENATE($B$2,\"-\",P$7)","v":"6.°-13"},{"$f":"CONCATENATE($B$2,\"-\",Q$7)","v":"6.°-14"},{"$f":"CONCATENATE($B$2,\"-\",R$7)","v":"6.°-15"},{"$f":"CONCATENATE($B$2,\"-\",S$7)","v":"6.°-16"},{"$f":"CONCATENATE($B$2,\"-\",T$7)","v":"6.°-17"},{"$f":"CONCATENATE($B$2,\"-\",U$7)","v":"6.°-18"},{"$f":"CONCATENATE($B$2,\"-\",V$7)","v":"6.°-19"},{"$f":"CONCATENATE($B$2,\"-\",W$7)","v":"6.°-20"},{"$f":"CONCATENATE($B$2,\"-\",#REF!)","v":{"$error":"#REF!"}},{"$f":"CONCATENATE($B$2,\"-\",#REF!)","v":{"$error":"#REF!"}},{"$f":"CONCATENATE($B$2,\"-\",#REF!)","v":{"$error":"#REF!"}},{"$f":"CONCATENATE($B$2,\"-\",#REF!)","v":{"$error":"#REF!"}},{"$f":"CONCATENATE($B$2,\"-\",#REF!)","v":{"$error":"#REF!"}},null,{"$f":"IFERROR(IF(D40=\"\",\"\",IF((VLOOKUP(Y40,Herramientas!$L$3:$M$227,2,0))=D40,1,0)),\"\")","v":""},{"$f":"IFERROR(IF(E40=\"\",\"\",IF((VLOOKUP(Z40,Herramientas!$L$3:$M$227,2,0))=E40,1,0)),\"\")","v":""},{"$f":"IFERROR(IF(F40=\"\",\"\",IF((VLOOKUP(AA40,Herramientas!$L$3:$M$227,2,0))=F40,1,0)),\"\")","v":""},{"$f":"IFERROR(IF(G40=\"\",\"\",IF((VLOOKUP(AB40,Herramientas!$L$3:$M$227,2,0))=G40,1,0)),\"\")","v":""},{"$f":"IFERROR(IF(H40=\"\",\"\",IF((VLOOKUP(AC40,Herramientas!$L$3:$M$227,2,0))=H40,1,0)),\"\")","v":""},{"$f":"IFERROR(IF(I40=\"\",\"\",IF((VLOOKUP(AD40,Herramientas!$L$3:$M$227,2,0))=I40,1,0)),\"\")","v":""},{"$f":"IFERROR(IF(J40=\"\",\"\",IF((VLOOKUP(AE40,Herramientas!$L$3:$M$227,2,0))=J40,1,0)),\"\")","v":""},{"$f":"IFERROR(IF(K40=\"\",\"\",IF((VLOOKUP(AF40,Herramientas!$L$3:$M$227,2,0))=K40,1,0)),\"\")","v":""},{"$f":"IFERROR(IF(L40=\"\",\"\",IF((VLOOKUP(AG40,Herramientas!$L$3:$M$227,2,0))=L40,1,0)),\"\")","v":""},{"$f":"IFERROR(IF(M40=\"\",\"\",IF((VLOOKUP(AH40,Herramientas!$L$3:$M$227,2,0))=M40,1,0)),\"\")","v":""},{"$f":"IFERROR(IF(N40=\"\",\"\",IF((VLOOKUP(AI40,Herramientas!$L$3:$M$227,2,0))=N40,1,0)),\"\")","v":""},{"$f":"IFERROR(IF(O40=\"\",\"\",IF((VLOOKUP(AJ40,Herramientas!$L$3:$M$227,2,0))=O40,1,0)),\"\")","v":""},{"$f":"IFERROR(IF(L40=\"\",\"\",IF((VLOOKUP(AG40,Herramientas!$L$3:$M$227,2,0))=L40,1,0)),\"\")","v":""},{"$f":"IFERROR(IF(M40=\"\",\"\",IF((VLOOKUP(AH40,Herramientas!$L$3:$M$227,2,0))=M40,1,0)),\"\")","v":""},{"$f":"IFERROR(IF(R40=\"\",\"\",IF((VLOOKUP(AM40,Herramientas!$L$3:$M$227,2,0))=R40,1,0)),\"\")","v":""},{"$f":"IFERROR(IF(S40=\"\",\"\",IF((VLOOKUP(AN40,Herramientas!$L$3:$M$227,2,0))=S40,1,0)),\"\")","v":""},{"$f":"IFERROR(IF(T40=\"\",\"\",IF((VLOOKUP(AO40,Herramientas!$L$3:$M$227,2,0))=T40,1,0)),\"\")","v":""},{"$f":"IFERROR(IF(U40=\"\",\"\",IF((VLOOKUP(AP40,Herramientas!$L$3:$M$227,2,0))=U40,1,0)),\"\")","v":""},{"$f":"IFERROR(IF(V40=\"\",\"\",IF((VLOOKUP(AQ40,Herramientas!$L$3:$M$227,2,0))=V40,1,0)),\"\")","v":""},{"$f":"IFERROR(IF(W40=\"\",\"\",IF((VLOOKUP(AR40,Herramientas!$L$3:$M$227,2,0))=W40,1,0)),\"\")","v":""},{"$f":"IFERROR(IF(#REF!=\"\",\"\",IF((VLOOKUP(AS40,Herramientas!$L$3:$M$227,2,0))=#REF!,1,0)),\"\")","v":""},{"$f":"IFERROR(IF(#REF!=\"\",\"\",IF((VLOOKUP(AT40,Herramientas!$L$3:$M$227,2,0))=#REF!,1,0)),\"\")","v":""},{"$f":"IFERROR(IF(#REF!=\"\",\"\",IF((VLOOKUP(AU40,Herramientas!$L$3:$M$227,2,0))=#REF!,1,0)),\"\")","v":""},{"$f":"IFERROR(IF(#REF!=\"\",\"\",IF((VLOOKUP(AV40,Herramientas!$L$3:$M$227,2,0))=#REF!,1,0)),\"\")","v":""},{"$f":"IFERROR(IF(#REF!=\"\",\"\",IF((VLOOKUP(AW40,Herramientas!$L$3:$M$227,2,0))=#REF!,1,0)),\"\")","v":""},null,0,0]
[34,null,null,null,null,null,null,null,null,null,null,null,null,null,null,null,null,null,null,null,null,null,null,null,"6.°-1","6.°-2","6.°-3","6.°-4","6.°-5","6.°-6","6.°-7","6.°-8","6.°-9","6.°-10","6.°-11","6.°-12","6.°-13","6.°-14","6.°-15","6.°-16","6.°-17","6.°-18","6.°-19","6.°-20",{"$f":"CONCATENATE($B$2,\"-\",#REF!)","v":{"$error":"#REF!"}},{"$f":"CONCATENATE($B$2,\"-\",#REF!)","v":{"$error":"#REF!"}},{"$f":"CONCATENATE($B$2,\"-\",#REF!)","v":{"$error":"#REF!"}},{"$f":"CONCATENATE($B$2,\"-\",#REF!)","v":{"$error":"#REF!"}},{"$f":"CONCATENATE($B$2,\"-\",#REF!)","v":{"$error":"#REF!"}},null,{"$f":"IFERROR(IF(D41=\"\",\"\",IF((VLOOKUP(Y41,Herramientas!$L$3:$M$227,2,0))=D41,1,0)),\"\")","v":""},{"$f":"IFERROR(IF(E41=\"\",\"\",IF((VLOOKUP(Z41,Herramientas!$L$3:$M$227,2,0))=E41,1,0)),\"\")","v":""},{"$f":"IFERROR(IF(F41=\"\",\"\",IF((VLOOKUP(AA41,Herramientas!$L$3:$M$227,2,0))=F41,1,0)),\"\")","v":""},{"$f":"IFERROR(IF(G41=\"\",\"\",IF((VLOOKUP(AB41,Herramientas!$L$3:$M$227,2,0))=G41,1,0)),\"\")","v":""},{"$f":"IFERROR(IF(H41=\"\",\"\",IF((VLOOKUP(AC41,Herramientas!$L$3:$M$227,2,0))=H41,1,0)),\"\")","v":""},{"$f":"IFERROR(IF(I41=\"\",\"\",IF((VLOOKUP(AD41,Herramientas!$L$3:$M$227,2,0))=I41,1,0)),\"\")","v":""},{"$f":"IFERROR(IF(J41=\"\",\"\",IF((VLOOKUP(AE41,Herramientas!$L$3:$M$227,2,0))=J41,1,0)),\"\")","v":""},{"$f":"IFERROR(IF(K41=\"\",\"\",IF((VLOOKUP(AF41,Herramientas!$L$3:$M$227,2,0))=K41,1,0)),\"\")","v":""},{"$f":"IFERROR(IF(L41=\"\",\"\",IF((VLOOKUP(AG41,Herramientas!$L$3:$M$227,2,0))=L41,1,0)),\"\")","v":""},{"$f":"IFERROR(IF(M41=\"\",\"\",IF((VLOOKUP(AH41,Herramientas!$L$3:$M$227,2,0))=M41,1,0)),\"\")","v":""},{"$f":"IFERROR(IF(N41=\"\",\"\",IF((VLOOKUP(AI41,Herramientas!$L$3:$M$227,2,0))=N41,1,0)),\"\")","v":""},{"$f":"IFERROR(IF(O41=\"\",\"\",IF((VLOOKUP(AJ41,Herramientas!$L$3:$M$227,2,0))=O41,1,0)),\"\")","v":""},{"$f":"IFERROR(IF(L41=\"\",\"\",IF((VLOOKUP(AG41,Herramientas!$L$3:$M$227,2,0))=L41,1,0)),\"\")","v":""},{"$f":"IFERROR(IF(M41=\"\",\"\",IF((VLOOKUP(AH41,Herramientas!$L$3:$M$227,2,0))=M41,1,0)),\"\")","v":""},{"$f":"IFERROR(IF(R41=\"\",\"\",IF((VLOOKUP(AM41,Herramientas!$L$3:$M$227,2,0))=R41,1,0)),\"\")","v":""},{"$f":"IFERROR(IF(S41=\"\",\"\",IF((VLOOKUP(AN41,Herramientas!$L$3:$M$227,2,0))=S41,1,0)),\"\")","v":""},{"$f":"IFERROR(IF(T41=\"\",\"\",IF((VLOOKUP(AO41,Herramientas!$L$3:$M$227,2,0))=T41,1,0)),\"\")","v":""},{"$f":"IFERROR(IF(U41=\"\",\"\",IF((VLOOKUP(AP41,Herramientas!$L$3:$M$227,2,0))=U41,1,0)),\"\")","v":""},{"$f":"IFERROR(IF(V41=\"\",\"\",IF((VLOOKUP(AQ41,Herramientas!$L$3:$M$227,2,0))=V41,1,0)),\"\")","v":""},{"$f":"IFERROR(IF(W41=\"\",\"\",IF((VLOOKUP(AR41,Herramientas!$L$3:$M$227,2,0))=W41,1,0)),\"\")","v":""},{"$f":"IFERROR(IF(#REF!=\"\",\"\",IF((VLOOKUP(AS41,Herramientas!$L$3:$M$227,2,0))=#REF!,1,0)),\"\")","v":""},{"$f":"IFERROR(IF(#REF!=\"\",\"\",IF((VLOOKUP(AT41,Herramientas!$L$3:$M$227,2,0))=#REF!,1,0)),\"\")","v":""},{"$f":"IFERROR(IF(#REF!=\"\",\"\",IF((VLOOKUP(AU41,Herramientas!$L$3:$M$227,2,0))=#REF!,1,0)),\"\")","v":""},{"$f":"IFERROR(IF(#REF!=\"\",\"\",IF((VLOOKUP(AV41,Herramientas!$L$3:$M$227,2,0))=#REF!,1,0)),\"\")","v":""},{"$f":"IFERROR(IF(#REF!=\"\",\"\",IF((VLOOKUP(AW41,Herramientas!$L$3:$M$227,2,0))=#REF!,1,0)),\"\")","v":""},null,0,0]
[35,null,null,null,null,null,null,null,null,null,null,null,null,null,null,null,null,null,null,null,null,null,null,null,"6.°-1","6.°-2","6.°-3","6.°-4","6.°-5","6.°-6","6.°-7","6.°-8","6.°-9","6.°-10","6.°-11","6.°-12","6.°-13","6.°-14","6.°-15","6.°-16","6.°-17","6.°-18","6.°-19","6.°-20",{"$f":"CONCATENATE($B$2,\"-\",#REF!)","v":{"$error":"#REF!"}},{"$f":"CONCATENATE($B$2,\"-\",#REF!)","v":{"$error":"#REF!"}},{"$f":"CONCATENATE($B$2,\"-\",#REF!)","v":{"$error":"#REF!"}},{"$f":"CONCATENATE($B$2,\"-\",#REF!)","v":{"$error":"#REF!"}},{"$f":"CONCATENATE($B$2,\"-\",#REF!)","v":{"$error":"#REF!"}},null,{"$f":"IFERROR(IF(D42=\"\",\"\",IF((VLOOKUP(Y42,Herramientas!$L$3:$M$227,2,0))=D42,1,0)),\"\")","v":""},{"$f":"IFERROR(IF(E42=\"\",\"\",IF((VLOOKUP(Z42,Herramientas!$L$3:$M$227,2,0))=E42,1,0)),\"\")","v":""},{"$f":"IFERROR(IF(F42=\"\",\"\",IF((VLOOKUP(AA42,Herramientas!$L$3:$M$227,2,0))=F42,1,0)),\"\")","v":""},{"$f":"IFERROR(IF(G42=\"\",\"\",IF((VLOOKUP(AB42,Herramientas!$L$3:$M$227,2,0))=G42,1,0)),\"\")","v":""},{"$f":"IFERROR(IF(H42=\"\",\"\",IF((VLOOKUP(AC42,Herramientas!$L$3:$M$227,2,0))=H42,1,0)),\"\")","v":""},{"$f":"IFERROR(IF(I42=\"\",\"\",IF((VLOOKUP(AD42,Herramientas!$L$3:$M$227,2,0))=I42,1,0)),\"\")","v":""},{"$f":"IFERROR(IF(J42=\"\",\"\",IF((VLOOKUP(AE42,Herramientas!$L$3:$M$227,2,0))=J42,1,0)),\"\")","v":""},{"$f":"IFERROR(IF(K42=\"\",\"\",IF((VLOOKUP(AF42,Herramientas!$L$3:$M$227,2,0))=K42,1,0)),\"\")","v":""},{"$f":"IFERROR(IF(L42=\"\",\"\",IF((VLOOKUP(AG42,Herramientas!$L$3:$M$227,2,0))=L42,1,0)),\"\")","v":""},{"$f":"IFERROR(IF(M42=\"\",\"\",IF((VLOOKUP(AH42,Herramientas!$L$3:$M$227,2,0))=M42,1,0)),\"\")","v":""},{"$f":"IFERROR(IF(N42=\"\",\"\",IF((VLOOKUP(AI42,Herramientas!$L$3:$M$227,2,0))=N42,1,0)),\"\")","v":""},{"$f":"IFERROR(IF(O42=\"\",\"\",IF((VLOOKUP(AJ42,Herramientas!$L$3:$M$227,2,0))=O42,1,0)),\"\")","v":""},{"$f":"IFERROR(IF(L42=\"\",\"\",IF((VLOOKUP(AG42,Herramientas!$L$3:$M$227,2,0))=L42,1,0)),\"\")","v":""},{"$f":"IFERROR(IF(M42=\"\",\"\",IF((VLOOKUP(AH42,Herramientas!$L$3:$M$227,2,0))=M42,1,0)),\"\")","v":""},{"$f":"IFERROR(IF(R42=\"\",\"\",IF((VLOOKUP(AM42,Herramientas!$L$3:$M$227,2,0))=R42,1,0)),\"\")","v":""},{"$f":"IFERROR(IF(S42=\"\",\"\",IF((VLOOKUP(AN42,Herramientas!$L$3:$M$227,2,0))=S42,1,0)),\"\")","v":""},{"$f":"IFERROR(IF(T42=\"\",\"\",IF((VLOOKUP(AO42,Herramientas!$L$3:$M$227,2,0))=T42,1,0)),\"\")","v":""},{"$f":"IFERROR(IF(U42=\"\",\"\",IF((VLOOKUP(AP42,Herramientas!$L$3:$M$227,2,0))=U42,1,0)),\"\")","v":""},{"$f":"IFERROR(IF(V42=\"\",\"\",IF((VLOOKUP(AQ42,Herramientas!$L$3:$M$227,2,0))=V42,1,0)),\"\")","v":""},{"$f":"IFERROR(IF(W42=\"\",\"\",IF((VLOOKUP(AR42,Herramientas!$L$3:$M$227,2,0))=W42,1,0)),\"\")","v":""},{"$f":"IFERROR(IF(#REF!=\"\",\"\",IF((VLOOKUP(AS42,Herramientas!$L$3:$M$227,2,0))=#REF!,1,0)),\"\")","v":""},{"$f":"IFERROR(IF(#REF!=\"\",\"\",IF((VLOOKUP(AT42,Herramientas!$L$3:$M$227,2,0))=#REF!,1,0)),\"\")","v":""},{"$f":"IFERROR(IF(#REF!=\"\",\"\",IF((VLOOKUP(AU42,Herramientas!$L$3:$M$227,2,0))=#REF!,1,0)),\"\")","v":""},{"$f":"IFERROR(IF(#REF!=\"\",\"\",IF((VLOOKUP(AV42,Herramientas!$L$3:$M$227,2,0))=#REF!,1,0)),\"\")","v":""},{"$f":"IFERROR(IF(#REF!=\"\",\"\",IF((VLOOKUP(AW42,Herramientas!$L$3:$M$227,2,0))=#REF!,1,0)),\"\")","v":""},null,0,0]
[36,null,null,null,null,null,null,null,null,null,null,null,null,null,null,null,null,null,null,null,null,null,null,null,"6.°-1","6.°-2","6.°-3","6.°-4","6.°-5","6.°-6","6.°-7","6.°-8","6.°-9","6.°-10","6.°-11","6.°-12","6.°-13","6.°-14","6.°-15","6.°-16","6.°-17","6.°-18","6.°-19","6.°-20",{"$f":"CONCATENATE($B$2,\"-\",#REF!)","v":{"$error":"#REF!"}},{"$f":"CONCATENATE($B$2,\"-\",#REF!)","v":{"$error":"#REF!"}},{"$f":"CONCATENATE($B$2,\"-\",#REF!)","v":{"$error":"#REF!"}},{"$f":"CONCATENATE($B$2,\"-\",#REF!)","v":{"$error":"#REF!"}},{"$f":"CONCATENATE($B$2,\"-\",#REF!)","v":{"$error":"#REF!"}},null,{"$f":"IFERROR(IF(D43=\"\",\"\",IF((VLOOKUP(Y43,Herramientas!$L$3:$M$227,2,0))=D43,1,0)),\"\")","v":""},{"$f":"IFERROR(IF(E43=\"\",\"\",IF((VLOOKUP(Z43,Herramientas!$L$3:$M$227,2,0))=E43,1,0)),\"\")","v":""},{"$f":"IFERROR(IF(F43=\"\",\"\",IF((VLOOKUP(AA43,Herramientas!$L$3:$M$227,2,0))=F43,1,0)),\"\")","v":""},{"$f":"IFERROR(IF(G43=\"\",\"\",IF((VLOOKUP(AB43,Herramientas!$L$3:$M$227,2,0))=G43,1,0)),\"\")","v":""},{"$f":"IFERROR(IF(H43=\"\",\"\",IF((VLOOKUP(AC43,Herramientas!$L$3:$M$227,2,0))=H43,1,0)),\"\")","v":""},{"$f":"IFERROR(IF(I43=\"\",\"\",IF((VLOOKUP(AD43,Herramientas!$L$3:$M$227,2,0))=I43,1,0)),\"\")","v":""},{"$f":"IFERROR(IF(J43=\"\",\"\",IF((VLOOKUP(AE43,Herramientas!$L$3:$M$227,2,0))=J43,1,0)),\"\")","v":""},{"$f":"IFERROR(IF(K43=\"\",\"\",IF((VLOOKUP(AF43,Herramientas!$L$3:$M$227,2,0))=K43,1,0)),\"\")","v":""},{"$f":"IFERROR(IF(L43=\"\",\"\",IF((VLOOKUP(AG43,Herramientas!$L$3:$M$227,2,0))=L43,1,0)),\"\")","v":""},{"$f":"IFERROR(IF(M43=\"\",\"\",IF((VLOOKUP(AH43,Herramientas!$L$3:$M$227,2,0))=M43,1,0)),\"\")","v":""},{"$f":"IFERROR(IF(N43=\"\",\"\",IF((VLOOKUP(AI43,Herramientas!$L$3:$M$227,2,0))=N43,1,0)),\"\")","v":""},{"$f":"IFERROR(IF(O43=\"\",\"\",IF((VLOOKUP(AJ43,Herramientas!$L$3:$M$227,2,0))=O43,1,0)),\"\")","v":""},{"$f":"IFERROR(IF(L43=\"\",\"\",IF((VLOOKUP(AG43,Herramientas!$L$3:$M$227,2,0))=L43,1,0)),\"\")","v":""},{"$f":"IFERROR(IF(M43=\"\",\"\",IF((VLOOKUP(AH43,Herramientas!$L$3:$M$227,2,0))=M43,1,0)),\"\")","v":""},{"$f":"IFERROR(IF(R43=\"\",\"\",IF((VLOOKUP(AM43,Herramientas!$L$3:$M$227,2,0))=R43,1,0)),\"\")","v":""},{"$f":"IFERROR(IF(S43=\"\",\"\",IF((VLOOKUP(AN43,Herramientas!$L$3:$M$227,2,0))=S43,1,0)),\"\")","v":""},{"$f":"IFERROR(IF(T43=\"\",\"\",IF((VLOOKUP(AO43,Herramientas!$L$3:$M$227,2,0))=T43,1,0)),\"\")","v":""},{"$f":"IFERROR(IF(U43=\"\",\"\",IF((VLOOKUP(AP43,Herramientas!$L$3:$M$227,2,0))=U43,1,0)),\"\")","v":""},{"$f":"IFERROR(IF(V43=\"\",\"\",IF((VLOOKUP(AQ43,Herramientas!$L$3:$M$227,2,0))=V43,1,0)),\"\")","v":""},{"$f":"IFERROR(IF(W43=\"\",\"\",IF((VLOOKUP(AR43,Herramientas!$L$3:$M$227,2,0))=W43,1,0)),\"\")","v":""},{"$f":"IFERROR(IF(#REF!=\"\",\"\",IF((VLOOKUP(AS43,Herramientas!$L$3:$M$227,2,0))=#REF!,1,0)),\"\")","v":""},{"$f":"IFERROR(IF(#REF!=\"\",\"\",IF((VLOOKUP(AT43,Herramientas!$L$3:$M$227,2,0))=#REF!,1,0)),\"\")","v":""},{"$f":"IFERROR(IF(#REF!=\"\",\"\",IF((VLOOKUP(AU43,Herramientas!$L$3:$M$227,2,0))=#REF!,1,0)),\"\")","v":""},{"$f":"IFERROR(IF(#REF!=\"\",\"\",IF((VLOOKUP(AV43,Herramientas!$L$3:$M$227,2,0))=#REF!,1,0)),\"\")","v":""},{"$f":"IFERROR(IF(#REF!=\"\",\"\",IF((VLOOKUP(AW43,Herramientas!$L$3:$M$227,2,0))=#REF!,1,0)),\"\")","v":""},null,0,0]
[37,null,null,null,null,null,null,null,null,null,null,null,null,null,null,null,null,null,null,null,null,null,null,null,"6.°-1","6.°-2","6.°-3","6.°-4","6.°-5","6.°-6","6.°-7","6.°-8","6.°-9","6.°-10","6.°-11","6.°-12","6.°-13","6.°-14","6.°-15","6.°-16","6.°-17","6.°-18","6.°-19","6.°-20",{"$f":"CONCATENATE($B$2,\"-\",#REF!)","v":{"$error":"#REF!"}},{"$f":"CONCATENATE($B$2,\"-\",#REF!)","v":{"$error":"#REF!"}},{"$f":"CONCATENATE($B$2,\"-\",#REF!)","v":{"$error":"#REF!"}},{"$f":"CONCATENATE($B$2,\"-\",#REF!)","v":{"$error":"#REF!"}},{"$f":"CONCATENATE($B$2,\"-\",#REF!)","v":{"$error":"#REF!"}},null,{"$f":"IFERROR(IF(D44=\"\",\"\",IF((VLOOKUP(Y44,Herramientas!$L$3:$M$227,2,0))=D44,1,0)),\"\")","v":""},{"$f":"IFERROR(IF(E44=\"\",\"\",IF((VLOOKUP(Z44,Herramientas!$L$3:$M$227,2,0))=E44,1,0)),\"\")","v":""},{"$f":"IFERROR(IF(F44=\"\",\"\",IF((VLOOKUP(AA44,Herramientas!$L$3:$M$227,2,0))=F44,1,0)),\"\")","v":""},{"$f":"IFERROR(IF(G44=\"\",\"\",IF((VLOOKUP(AB44,Herramientas!$L$3:$M$227,2,0))=G44,1,0)),\"\")","v":""},{"$f":"IFERROR(IF(H44=\"\",\"\",IF((VLOOKUP(AC44,Herramientas!$L$3:$M$227,2,0))=H44,1,0)),\"\")","v":""},{"$f":"IFERROR(IF(I44=\"\",\"\",IF((VLOOKUP(AD44,Herramientas!$L$3:$M$227,2,0))=I44,1,0)),\"\")","v":""},{"$f":"IFERROR(IF(J44=\"\",\"\",IF((VLOOKUP(AE44,Herramientas!$L$3:$M$227,2,0))=J44,1,0)),\"\")","v":""},{"$f":"IFERROR(IF(K44=\"\",\"\",IF((VLOOKUP(AF44,Herramientas!$L$3:$M$227,2,0))=K44,1,0)),\"\")","v":""},{"$f":"IFERROR(IF(L44=\"\",\"\",IF((VLOOKUP(AG44,Herramientas!$L$3:$M$227,2,0))=L44,1,0)),\"\")","v":""},{"$f":"IFERROR(IF(M44=\"\",\"\",IF((VLOOKUP(AH44,Herramientas!$L$3:$M$227,2,0))=M44,1,0)),\"\")","v":""},{"$f":"IFERROR(IF(N44=\"\",\"\",IF((VLOOKUP(AI44,Herramientas!$L$3:$M$227,2,0))=N44,1,0)),\"\")","v":""},{"$f":"IFERROR(IF(O44=\"\",\"\",IF((VLOOKUP(AJ44,Herramientas!$L$3:$M$227,2,0))=O44,1,0)),\"\")","v":""},{"$f":"IFERROR(IF(L44=\"\",\"\",IF((VLOOKUP(AG44,Herramientas!$L$3:$M$227,2,0))=L44,1,0)),\"\")","v":""},{"$f":"IFERROR(IF(M44=\"\",\"\",IF((VLOOKUP(AH44,Herramientas!$L$3:$M$227,2,0))=M44,1,0)),\"\")","v":""},{"$f":"IFERROR(IF(R44=\"\",\"\",IF((VLOOKUP(AM44,Herramientas!$L$3:$M$227,2,0))=R44,1,0)),\"\")","v":""},{"$f":"IFERROR(IF(S44=\"\",\"\",IF((VLOOKUP(AN44,Herramientas!$L$3:$M$227,2,0))=S44,1,0)),\"\")","v":""},{"$f":"IFERROR(IF(T44=\"\",\"\",IF((VLOOKUP(AO44,Herramientas!$L$3:$M$227,2,0))=T44,1,0)),\"\")","v":""},{"$f":"IFERROR(IF(U44=\"\",\"\",IF((VLOOKUP(AP44,Herramientas!$L$3:$M$227,2,0))=U44,1,0)),\"\")","v":""},{"$f":"IFERROR(IF(V44=\"\",\"\",IF((VLOOKUP(AQ44,Herramientas!$L$3:$M$227,2,0))=V44,1,0)),\"\")","v":""},{"$f":"IFERROR(IF(W44=\"\",\"\",IF((VLOOKUP(AR44,Herramientas!$L$3:$M$227,2,0))=W44,1,0)),\"\")","v":""},{"$f":"IFERROR(IF(#REF!=\"\",\"\",IF((VLOOKUP(AS44,Herramientas!$L$3:$M$227,2,0))=#REF!,1,0)),\"\")","v":""},{"$f":"IFERROR(IF(#REF!=\"\",\"\",IF((VLOOKUP(AT44,Herramientas!$L$3:$M$227,2,0))=#REF!,1,0)),\"\")","v":""},{"$f":"IFERROR(IF(#REF!=\"\",\"\",IF((VLOOKUP(AU44,Herramientas!$L$3:$M$227,2,0))=#REF!,1,0)),\"\")","v":""},{"$f":"IFERROR(IF(#REF!=\"\",\"\",IF((VLOOKUP(AV44,Herramientas!$L$3:$M$227,2,0))=#REF!,1,0)),\"\")","v":""},{"$f":"IFERROR(IF(#REF!=\"\",\"\",IF((VLOOKUP(AW44,Herramientas!$L$3:$M$227,2,0))=#REF!,1,0)),\"\")","v":""},null,0,0]
[38,null,null,null,null,null,null,null,null,null,null,null,null,null,null,null,null,null,null,null,null,null,null,null,"6.°-1","6.°-2","6.°-3","6.°-4","6.°-5","6.°-6","6.°-7","6.°-8","6.°-9","6.°-10","6.°-11","6.°-12","6.°-13","6.°-14","6.°-15","6.°-16","6.°-17","6.°-18","6.°-19","6.°-20",{"$f":"CONCATENATE($B$2,\"-\",#REF!)","v":{"$error":"#REF!"}},{"$f":"CONCATENATE($B$2,\"-\",#REF!)","v":{"$error":"#REF!"}},{"$f":"CONCATENATE($B$2,\"-\",#REF!)","v":{"$error":"#REF!"}},{"$f":"CONCATENATE($B$2,\"-\",#REF!)","v":{"$error":"#REF!"}},{"$f":"CONCATENATE($B$2,\"-\",#REF!)","v":{"$error":"#REF!"}},null,{"$f":"IFERROR(IF(D45=\"\",\"\",IF((VLOOKUP(Y45,Herramientas!$L$3:$M$227,2,0))=D45,1,0)),\"\")","v":""},{"$f":"IFERROR(IF(E45=\"\",\"\",IF((VLOOKUP(Z45,Herramientas!$L$3:$M$227,2,0))=E45,1,0)),\"\")","v":""},{"$f":"IFERROR(IF(F45=\"\",\"\",IF((VLOOKUP(AA45,Herramientas!$L$3:$M$227,2,0))=F45,1,0)),\"\")","v":""},{"$f":"IFERROR(IF(G45=\"\",\"\",IF((VLOOKUP(AB45,Herramientas!$L$3:$M$227,2,0))=G45,1,0)),\"\")","v":""},{"$f":"IFERROR(IF(H45=\"\",\"\",IF((VLOOKUP(AC45,Herramientas!$L$3:$M$227,2,0))=H45,1,0)),\"\")","v":""},{"$f":"IFERROR(IF(I45=\"\",\"\",IF((VLOOKUP(AD45,Herramientas!$L$3:$M$227,2,0))=I45,1,0)),\"\")","v":""},{"$f":"IFERROR(IF(J45=\"\",\"\",IF((VLOOKUP(AE45,Herramientas!$L$3:$M$227,2,0))=J45,1,0)),\"\")","v":""},{"$f":"IFERROR(IF(K45=\"\",\"\",IF((VLOOKUP(AF45,Herramientas!$L$3:$M$227,2,0))=K45,1,0)),\"\")","v":""},{"$f":"IFERROR(IF(L45=\"\",\"\",IF((VLOOKUP(AG45,Herramientas!$L$3:$M$227,2,0))=L45,1,0)),\"\")","v":""},{"$f":"IFERROR(IF(M45=\"\",\"\",IF((VLOOKUP(AH45,Herramientas!$L$3:$M$227,2,0))=M45,1,0)),\"\")","v":""},{"$f":"IFERROR(IF(N45=\"\",\"\",IF((VLOOKUP(AI45,Herramientas!$L$3:$M$227,2,0))=N45,1,0)),\"\")","v":""},{"$f":"IFERROR(IF(O45=\"\",\"\",IF((VLOOKUP(AJ45,Herramientas!$L$3:$M$227,2,0))=O45,1,0)),\"\")","v":""},{"$f":"IFERROR(IF(L45=\"\",\"\",IF((VLOOKUP(AG45,Herramientas!$L$3:$M$227,2,0))=L45,1,0)),\"\")","v":""},{"$f":"IFERROR(IF(M45=\"\",\"\",IF((VLOOKUP(AH45,Herramientas!$L$3:$M$227,2,0))=M45,1,0)),\"\")","v":""},{"$f":"IFERROR(IF(R45=\"\",\"\",IF((VLOOKUP(AM45,Herramientas!$L$3:$M$227,2,0))=R45,1,0)),\"\")","v":""},{"$f":"IFERROR(IF(S45=\"\",\"\",IF((VLOOKUP(AN45,Herramientas!$L$3:$M$227,2,0))=S45,1,0)),\"\")","v":""},{"$f":"IFERROR(IF(T45=\"\",\"\",IF((VLOOKUP(AO45,Herramientas!$L$3:$M$227,2,0))=T45,1,0)),\"\")","v":""},{"$f":"IFERROR(IF(U45=\"\",\"\",IF((VLOOKUP(AP45,Herramientas!$L$3:$M$227,2,0))=U45,1,0)),\"\")","v":""},{"$f":"IFERROR(IF(V45=\"\",\"\",IF((VLOOKUP(AQ45,Herramientas!$L$3:$M$227,2,0))=V45,1,0)),\"\")","v":""},{"$f":"IFERROR(IF(W45=\"\",\"\",IF((VLOOKUP(AR45,Herramientas!$L$3:$M$227,2,0))=W45,1,0)),\"\")","v":""},{"$f":"IFERROR(IF(#REF!=\"\",\"\",IF((VLOOKUP(AS45,Herramientas!$L$3:$M$227,2,0))=#REF!,1,0)),\"\")","v":""},{"$f":"IFERROR(IF(#REF!=\"\",\"\",IF((VLOOKUP(AT45,Herramientas!$L$3:$M$227,2,0))=#REF!,1,0)),\"\")","v":""},{"$f":"IFERROR(IF(#REF!=\"\",\"\",IF((VLOOKUP(AU45,Herramientas!$L$3:$M$227,2,0))=#REF!,1,0)),\"\")","v":""},{"$f":"IFERROR(IF(#REF!=\"\",\"\",IF((VLOOKUP(AV45,Herramientas!$L$3:$M$227,2,0))=#REF!,1,0)),\"\")","v":""},{"$f":"IFERROR(IF(#REF!=\"\",\"\",IF((VLOOKUP(AW45,Herramientas!$L$3:$M$227,2,0))=#REF!,1,0)),\"\")","v":""},null,0,0]
[39,null,null,null,null,null,null,null,null,null,null,null,null,null,null,null,null,null,null,null,null,null,null,null,"6.°-1","6.°-2","6.°-3","6.°-4","6.°-5","6.°-6","6.°-7","6.°-8","6.°-9","6.°-10","6.°-11","6.°-12","6.°-13","6.°-14","6.°-15","6.°-16","6.°-17","6.°-18","6.°-19","6.°-20",{"$f":"CONCATENATE($B$2,\"-\",#REF!)","v":{"$error":"#REF!"}},{"$f":"CONCATENATE($B$2,\"-\",#REF!)","v":{"$error":"#REF!"}},{"$f":"CONCATENATE($B$2,\"-\",#REF!)","v":{"$error":"#REF!"}},{"$f":"CONCATENATE($B$2,\"-\",#REF!)","v":{"$error":"#REF!"}},{"$f":"CONCATENATE($B$2,\"-\",#REF!)","v":{"$error":"#REF!"}},null,{"$f":"IFERROR(IF(D46=\"\",\"\",IF((VLOOKUP(Y46,Herramientas!$L$3:$M$227,2,0))=D46,1,0)),\"\")","v":""},{"$f":"IFERROR(IF(E46=\"\",\"\",IF((VLOOKUP(Z46,Herramientas!$L$3:$M$227,2,0))=E46,1,0)),\"\")","v":""},{"$f":"IFERROR(IF(F46=\"\",\"\",IF((VLOOKUP(AA46,Herramientas!$L$3:$M$227,2,0))=F46,1,0)),\"\")","v":""},{"$f":"IFERROR(IF(G46=\"\",\"\",IF((VLOOKUP(AB46,Herramientas!$L$3:$M$227,2,0))=G46,1,0)),\"\")","v":""},{"$f":"IFERROR(IF(H46=\"\",\"\",IF((VLOOKUP(AC46,Herramientas!$L$3:$M$227,2,0))=H46,1,0)),\"\")","v":""},{"$f":"IFERROR(IF(I46=\"\",\"\",IF((VLOOKUP(AD46,Herramientas!$L$3:$M$227,2,0))=I46,1,0)),\"\")","v":""},{"$f":"IFERROR(IF(J46=\"\",\"\",IF((VLOOKUP(AE46,Herramientas!$L$3:$M$227,2,0))=J46,1,0)),\"\")","v":""},{"$f":"IFERROR(IF(K46=\"\",\"\",IF((VLOOKUP(AF46,Herramientas!$L$3:$M$227,2,0))=K46,1,0)),\"\")","v":""},{"$f":"IFERROR(IF(L46=\"\",\"\",IF((VLOOKUP(AG46,Herramientas!$L$3:$M$227,2,0))=L46,1,0)),\"\")","v":""},{"$f":"IFERROR(IF(M46=\"\",\"\",IF((VLOOKUP(AH46,Herramientas!$L$3:$M$227,2,0))=M46,1,0)),\"\")","v":""},{"$f":"IFERROR(IF(N46=\"\",\"\",IF((VLOOKUP(AI46,Herramientas!$L$3:$M$227,2,0))=N46,1,0)),\"\")","v":""},{"$f":"IFERROR(IF(O46=\"\",\"\",IF((VLOOKUP(AJ46,Herramientas!$L$3:$M$227,2,0))=O46,1,0)),\"\")","v":""},{"$f":"IFERROR(IF(L46=\"\",\"\",IF((VLOOKUP(AG46,Herramientas!$L$3:$M$227,2,0))=L46,1,0)),\"\")","v":""},{"$f":"IFERROR(IF(M46=\"\",\"\",IF((VLOOKUP(AH46,Herramientas!$L$3:$M$227,2,0))=M46,1,0)),\"\")","v":""},{"$f":"IFERROR(IF(R46=\"\",\"\",IF((VLOOKUP(AM46,Herramientas!$L$3:$M$227,2,0))=R46,1,0)),\"\")","v":""},{"$f":"IFERROR(IF(S46=\"\",\"\",IF((VLOOKUP(AN46,Herramientas!$L$3:$M$227,2,0))=S46,1,0)),\"\")","v":""},{"$f":"IFERROR(IF(T46=\"\",\"\",IF((VLOOKUP(AO46,Herramientas!$L$3:$M$227,2,0))=T46,1,0)),\"\")","v":""},{"$f":"IFERROR(IF(U46=\"\",\"\",IF((VLOOKUP(AP46,Herramientas!$L$3:$M$227,2,0))=U46,1,0)),\"\")","v":""},{"$f":"IFERROR(IF(V46=\"\",\"\",IF((VLOOKUP(AQ46,Herramientas!$L$3:$M$227,2,0))=V46,1,0)),\"\")","v":""},{"$f":"IFERROR(IF(W46=\"\",\"\",IF((VLOOKUP(AR46,Herramientas!$L$3:$M$227,2,0))=W46,1,0)),\"\")","v":""},{"$f":"IFERROR(IF(#REF!=\"\",\"\",IF((VLOOKUP(AS46,Herramientas!$L$3:$M$227,2,0))=#REF!,1,0)),\"\")","v":""},{"$f":"IFERROR(IF(#REF!=\"\",\"\",IF((VLOOKUP(AT46,Herramientas!$L$3:$M$227,2,0))=#REF!,1,0)),\"\")","v":""},{"$f":"IFERROR(IF(#REF!=\"\",\"\",IF((VLOOKUP(AU46,Herramientas!$L$3:$M$227,2,0))=#REF!,1,0)),\"\")","v":""},{"$f":"IFERROR(IF(#REF!=\"\",\"\",IF((VLOOKUP(AV46,Herramientas!$L$3:$M$227,2,0))=#REF!,1,0)),\"\")","v":""},{"$f":"IFERROR(IF(#REF!=\"\",\"\",IF((VLOOKUP(AW46,Herramientas!$L$3:$M$227,2,0))=#REF!,1,0)),\"\")","v":""},null,0,0]
[40,null,null,null,null,null,null,null,null,null,null,null,null,null,null,null,null,null,null,null,null,null,null,null,"6.°-1","6.°-2","6.°-3","6.°-4","6.°-5","6.°-6","6.°-7","6.°-8","6.°-9","6.°-10","6.°-11","6.°-12","6.°-13","6.°-14","6.°-15","6.°-16","6.°-17","6.°-18","6.°-19","6.°-20",{"$f":"CONCATENATE($B$2,\"-\",#REF!)","v":{"$error":"#REF!"}},{"$f":"CONCATENATE($B$2,\"-\",#REF!)","v":{"$error":"#REF!"}},{"$f":"CONCATENATE($B$2,\"-\",#REF!)","v":{"$error":"#REF!"}},{"$f":"CONCATENATE($B$2,\"-\",#REF!)","v":{"$error":"#REF!"}},{"$f":"CONCATENATE($B$2,\"-\",#REF!)","v":{"$error":"#REF!"}},null,{"$f":"IFERROR(IF(D47=\"\",\"\",IF((VLOOKUP(Y47,Herramientas!$L$3:$M$227,2,0))=D47,1,0)),\"\")","v":""},{"$f":"IFERROR(IF(E47=\"\",\"\",IF((VLOOKUP(Z47,Herramientas!$L$3:$M$227,2,0))=E47,1,0)),\"\")","v":""},{"$f":"IFERROR(IF(F47=\"\",\"\",IF((VLOOKUP(AA47,Herramientas!$L$3:$M$227,2,0))=F47,1,0)),\"\")","v":""},{"$f":"IFERROR(IF(G47=\"\",\"\",IF((VLOOKUP(AB47,Herramientas!$L$3:$M$227,2,0))=G47,1,0)),\"\")","v":""},{"$f":"IFERROR(IF(H47=\"\",\"\",IF((VLOOKUP(AC47,Herramientas!$L$3:$M$227,2,0))=H47,1,0)),\"\")","v":""},{"$f":"IFERROR(IF(I47=\"\",\"\",IF((VLOOKUP(AD47,Herramientas!$L$3:$M$227,2,0))=I47,1,0)),\"\")","v":""},{"$f":"IFERROR(IF(J47=\"\",\"\",IF((VLOOKUP(AE47,Herramientas!$L$3:$M$227,2,0))=J47,1,0)),\"\")","v":""},{"$f":"IFERROR(IF(K47=\"\",\"\",IF((VLOOKUP(AF47,Herramientas!$L$3:$M$227,2,0))=K47,1,0)),\"\")","v":""},{"$f":"IFERROR(IF(L47=\"\",\"\",IF((VLOOKUP(AG47,Herramientas!$L$3:$M$227,2,0))=L47,1,0)),\"\")","v":""},{"$f":"IFERROR(IF(M47=\"\",\"\",IF((VLOOKUP(AH47,Herramientas!$L$3:$M$227,2,0))=M47,1,0)),\"\")","v":""},{"$f":"IFERROR(IF(N47=\"\",\"\",IF((VLOOKUP(AI47,Herramientas!$L$3:$M$227,2,0))=N47,1,0)),\"\")","v":""},{"$f":"IFERROR(IF(O47=\"\",\"\",IF((VLOOKUP(AJ47,Herramientas!$L$3:$M$227,2,0))=O47,1,0)),\"\")","v":""},{"$f":"IFERROR(IF(L47=\"\",\"\",IF((VLOOKUP(AG47,Herramientas!$L$3:$M$227,2,0))=L47,1,0)),\"\")","v":""},{"$f":"IFERROR(IF(M47=\"\",\"\",IF((VLOOKUP(AH47,Herramientas!$L$3:$M$227,2,0))=M47,1,0)),\"\")","v":""},{"$f":"IFERROR(IF(R47=\"\",\"\",IF((VLOOKUP(AM47,Herramientas!$L$3:$M$227,2,0))=R47,1,0)),\"\")","v":""},{"$f":"IFERROR(IF(S47=\"\",\"\",IF((VLOOKUP(AN47,Herramientas!$L$3:$M$227,2,0))=S47,1,0)),\"\")","v":""},{"$f":"IFERROR(IF(T47=\"\",\"\",IF((VLOOKUP(AO47,Herramientas!$L$3:$M$227,2,0))=T47,1,0)),\"\")","v":""},{"$f":"IFERROR(IF(U47=\"\",\"\",IF((VLOOKUP(AP47,Herramientas!$L$3:$M$227,2,0))=U47,1,0)),\"\")","v":""},{"$f":"IFERROR(IF(V47=\"\",\"\",IF((VLOOKUP(AQ47,Herramientas!$L$3:$M$227,2,0))=V47,1,0)),\"\")","v":""},{"$f":"IFERROR(IF(W47=\"\",\"\",IF((VLOOKUP(AR47,Herramientas!$L$3:$M$227,2,0))=W47,1,0)),\"\")","v":""},{"$f":"IFERROR(IF(#REF!=\"\",\"\",IF((VLOOKUP(AS47,Herramientas!$L$3:$M$227,2,0))=#REF!,1,0)),\"\")","v":""},{"$f":"IFERROR(IF(#REF!=\"\",\"\",IF((VLOOKUP(AT47,Herramientas!$L$3:$M$227,2,0))=#REF!,1,0)),\"\")","v":""},{"$f":"IFERROR(IF(#REF!=\"\",\"\",IF((VLOOKUP(AU47,Herramientas!$L$3:$M$227,2,0))=#REF!,1,0)),\"\")","v":""},{"$f":"IFERROR(IF(#REF!=\"\",\"\",IF((VLOOKUP(AV47,Herramientas!$L$3:$M$227,2,0))=#REF!,1,0)),\"\")","v":""},{"$f":"IFERROR(IF(#REF!=\"\",\"\",IF((VLOOKUP(AW47,Herramientas!$L$3:$M$227,2,0))=#REF!,1,0)),\"\")","v":""},null,0,0]
[41,null,null,null,null,null,null,null,null,null,null,null,null,null,null,null,null,null,null,null,null,null,null,null,"6.°-1","6.°-2","6.°-3","6.°-4","6.°-5","6.°-6","6.°-7","6.°-8","6.°-9","6.°-10","6.°-11","6.°-12","6.°-13","6.°-14","6.°-15","6.°-16","6.°-17","6.°-18","6.°-19","6.°-20",{"$f":"CONCATENATE($B$2,\"-\",#REF!)","v":{"$error":"#REF!"}},{"$f":"CONCATENATE($B$2,\"-\",#REF!)","v":{"$error":"#REF!"}},{"$f":"CONCATENATE($B$2,\"-\",#REF!)","v":{"$error":"#REF!"}},{"$f":"CONCATENATE($B$2,\"-\",#REF!)","v":{"$error":"#REF!"}},{"$f":"CONCATENATE($B$2,\"-\",#REF!)","v":{"$error":"#REF!"}},null,{"$f":"IFERROR(IF(D48=\"\",\"\",IF((VLOOKUP(Y48,Herramientas!$L$3:$M$227,2,0))=D48,1,0)),\"\")","v":""},{"$f":"IFERROR(IF(E48=\"\",\"\",IF((VLOOKUP(Z48,Herramientas!$L$3:$M$227,2,0))=E48,1,0)),\"\")","v":""},{"$f":"IFERROR(IF(F48=\"\",\"\",IF((VLOOKUP(AA48,Herramientas!$L$3:$M$227,2,0))=F48,1,0)),\"\")","v":""},{"$f":"IFERROR(IF(G48=\"\",\"\",IF((VLOOKUP(AB48,Herramientas!$L$3:$M$227,2,0))=G48,1,0)),\"\")","v":""},{"$f":"IFERROR(IF(H48=\"\",\"\",IF((VLOOKUP(AC48,Herramientas!$L$3:$M$227,2,0))=H48,1,0)),\"\")","v":""},{"$f":"IFERROR(IF(I48=\"\",\"\",IF((VLOOKUP(AD48,Herramientas!$L$3:$M$227,2,0))=I48,1,0)),\"\")","v":""},{"$f":"IFERROR(IF(J48=\"\",\"\",IF((VLOOKUP(AE48,Herramientas!$L$3:$M$227,2,0))=J48,1,0)),\"\")","v":""},{"$f":"IFERROR(IF(K48=\"\",\"\",IF((VLOOKUP(AF48,Herramientas!$L$3:$M$227,2,0))=K48,1,0)),\"\")","v":""},{"$f":"IFERROR(IF(L48=\"\",\"\",IF((VLOOKUP(AG48,Herramientas!$L$3:$M$227,2,0))=L48,1,0)),\"\")","v":""},{"$f":"IFERROR(IF(M48=\"\",\"\",IF((VLOOKUP(AH48,Herramientas!$L$3:$M$227,2,0))=M48,1,0)),\"\")","v":""},{"$f":"IFERROR(IF(N48=\"\",\"\",IF((VLOOKUP(AI48,Herramientas!$L$3:$M$227,2,0))=N48,1,0)),\"\")","v":""},{"$f":"IFERROR(IF(O48=\"\",\"\",IF((VLOOKUP(AJ48,Herramientas!$L$3:$M$227,2,0))=O48,1,0)),\"\")","v":""},{"$f":"IFERROR(IF(L48=\"\",\"\",IF((VLOOKUP(AG48,Herramientas!$L$3:$M$227,2,0))=L48,1,0)),\"\")","v":""},{"$f":"IFERROR(IF(M48=\"\",\"\",IF((VLOOKUP(AH48,Herramientas!$L$3:$M$227,2,0))=M48,1,0)),\"\")","v":""},{"$f":"IFERROR(IF(R48=\"\",\"\",IF((VLOOKUP(AM48,Herramientas!$L$3:$M$227,2,0))=R48,1,0)),\"\")","v":""},{"$f":"IFERROR(IF(S48=\"\",\"\",IF((VLOOKUP(AN48,Herramientas!$L$3:$M$227,2,0))=S48,1,0)),\"\")","v":""},{"$f":"IFERROR(IF(T48=\"\",\"\",IF((VLOOKUP(AO48,Herramientas!$L$3:$M$227,2,0))=T48,1,0)),\"\")","v":""},{"$f":"IFERROR(IF(U48=\"\",\"\",IF((VLOOKUP(AP48,Herramientas!$L$3:$M$227,2,0))=U48,1,0)),\"\")","v":""},{"$f":"IFERROR(IF(V48=\"\",\"\",IF((VLOOKUP(AQ48,Herramientas!$L$3:$M$227,2,0))=V48,1,0)),\"\")","v":""},{"$f":"IFERROR(IF(W48=\"\",\"\",IF((VLOOKUP(AR48,Herramientas!$L$3:$M$227,2,0))=W48,1,0)),\"\")","v":""},{"$f":"IFERROR(IF(#REF!=\"\",\"\",IF((VLOOKUP(AS48,Herramientas!$L$3:$M$227,2,0))=#REF!,1,0)),\"\")","v":""},{"$f":"IFERROR(IF(#REF!=\"\",\"\",IF((VLOOKUP(AT48,Herramientas!$L$3:$M$227,2,0))=#REF!,1,0)),\"\")","v":""},{"$f":"IFERROR(IF(#REF!=\"\",\"\",IF((VLOOKUP(AU48,Herramientas!$L$3:$M$227,2,0))=#REF!,1,0)),\"\")","v":""},{"$f":"IFERROR(IF(#REF!=\"\",\"\",IF((VLOOKUP(AV48,Herramientas!$L$3:$M$227,2,0))=#REF!,1,0)),\"\")","v":""},{"$f":"IFERROR(IF(#REF!=\"\",\"\",IF((VLOOKUP(AW48,Herramientas!$L$3:$M$227,2,0))=#REF!,1,0)),\"\")","v":""},null,0,0]
[42,null,null,null,null,null,null,null,null,null,null,null,null,null,null,null,null,null,null,null,null,null,null,null,"6.°-1","6.°-2","6.°-3","6.°-4","6.°-5","6.°-6","6.°-7","6.°-8","6.°-9","6.°-10","6.°-11","6.°-12","6.°-13","6.°-14","6.°-15","6.°-16","6.°-17","6.°-18","6.°-19","6.°-20",{"$f":"CONCATENATE($B$2,\"-\",#REF!)","v":{"$error":"#REF!"}},{"$f":"CONCATENATE($B$2,\"-\",#REF!)","v":{"$error":"#REF!"}},{"$f":"CONCATENATE($B$2,\"-\",#REF!)","v":{"$error":"#REF!"}},{"$f":"CONCATENATE($B$2,\"-\",#REF!)","v":{"$error":"#REF!"}},{"$f":"CONCATENATE($B$2,\"-\",#REF!)","v":{"$error":"#REF!"}},null,{"$f":"IFERROR(IF(D49=\"\",\"\",IF((VLOOKUP(Y49,Herramientas!$L$3:$M$227,2,0))=D49,1,0)),\"\")","v":""},{"$f":"IFERROR(IF(E49=\"\",\"\",IF((VLOOKUP(Z49,Herramientas!$L$3:$M$227,2,0))=E49,1,0)),\"\")","v":""},{"$f":"IFERROR(IF(F49=\"\",\"\",IF((VLOOKUP(AA49,Herramientas!$L$3:$M$227,2,0))=F49,1,0)),\"\")","v":""},{"$f":"IFERROR(IF(G49=\"\",\"\",IF((VLOOKUP(AB49,Herramientas!$L$3:$M$227,2,0))=G49,1,0)),\"\")","v":""},{"$f":"IFERROR(IF(H49=\"\",\"\",IF((VLOOKUP(AC49,Herramientas!$L$3:$M$227,2,0))=H49,1,0)),\"\")","v":""},{"$f":"IFERROR(IF(I49=\"\",\"\",IF((VLOOKUP(AD49,Herramientas!$L$3:$M$227,2,0))=I49,1,0)),\"\")","v":""},{"$f":"IFERROR(IF(J49=\"\",\"\",IF((VLOOKUP(AE49,Herramientas!$L$3:$M$227,2,0))=J49,1,0)),\"\")","v":""},{"$f":"IFERROR(IF(K49=\"\",\"\",IF((VLOOKUP(AF49,Herramientas!$L$3:$M$227,2,0))=K49,1,0)),\"\")","v":""},{"$f":"IFERROR(IF(L49=\"\",\"\",IF((VLOOKUP(AG49,Herramientas!$L$3:$M$227,2,0))=L49,1,0)),\"\")","v":""},{"$f":"IFERROR(IF(M49=\"\",\"\",IF((VLOOKUP(AH49,Herramientas!$L$3:$M$227,2,0))=M49,1,0)),\"\")","v":""},{"$f":"IFERROR(IF(N49=\"\",\"\",IF((VLOOKUP(AI49,Herramientas!$L$3:$M$227,2,0))=N49,1,0)),\"\")","v":""},{"$f":"IFERROR(IF(O49=\"\",\"\",IF((VLOOKUP(AJ49,Herramientas!$L$3:$M$227,2,0))=O49,1,0)),\"\")","v":""},{"$f":"IFERROR(IF(L49=\"\",\"\",IF((VLOOKUP(AG49,Herramientas!$L$3:$M$227,2,0))=L49,1,0)),\"\")","v":""},{"$f":"IFERROR(IF(M49=\"\",\"\",IF((VLOOKUP(AH49,Herramientas!$L$3:$M$227,2,0))=M49,1,0)),\"\")","v":""},{"$f":"IFERROR(IF(R49=\"\",\"\",IF((VLOOKUP(AM49,Herramientas!$L$3:$M$227,2,0))=R49,1,0)),\"\")","v":""},{"$f":"IFERROR(IF(S49=\"\",\"\",IF((VLOOKUP(AN49,Herramientas!$L$3:$M$227,2,0))=S49,1,0)),\"\")","v":""},{"$f":"IFERROR(IF(T49=\"\",\"\",IF((VLOOKUP(AO49,Herramientas!$L$3:$M$227,2,0))=T49,1,0)),\"\")","v":""},{"$f":"IFERROR(IF(U49=\"\",\"\",IF((VLOOKUP(AP49,Herramientas!$L$3:$M$227,2,0))=U49,1,0)),\"\")","v":""},{"$f":"IFERROR(IF(V49=\"\",\"\",IF((VLOOKUP(AQ49,Herramientas!$L$3:$M$227,2,0))=V49,1,0)),\"\")","v":""},{"$f":"IFERROR(IF(W49=\"\",\"\",IF((VLOOKUP(AR49,Herramientas!$L$3:$M$227,2,0))=W49,1,0)),\"\")","v":""},{"$f":"IFERROR(IF(#REF!=\"\",\"\",IF((VLOOKUP(AS49,Herramientas!$L$3:$M$227,2,0))=#REF!,1,0)),\"\")","v":""},{"$f":"IFERROR(IF(#REF!=\"\",\"\",IF((VLOOKUP(AT49,Herramientas!$L$3:$M$227,2,0))=#REF!,1,0)),\"\")","v":""},{"$f":"IFERROR(IF(#REF!=\"\",\"\",IF((VLOOKUP(AU49,Herramientas!$L$3:$M$227,2,0))=#REF!,1,0)),\"\")","v":""},{"$f":"IFERROR(IF(#REF!=\"\",\"\",IF((VLOOKUP(AV49,Herramientas!$L$3:$M$227,2,0))=#REF!,1,0)),\"\")","v":""},{"$f":"IFERROR(IF(#REF!=\"\",\"\",IF((VLOOKUP(AW49,Herramientas!$L$3:$M$227,2,0))=#REF!,1,0)),\"\")","v":""},null,0,0]
[43,null,null,null,null,null,null,null,null,null,null,null,null,null,null,null,null,null,null,null,null,null,null,null,"6.°-1","6.°-2","6.°-3","6.°-4","6.°-5","6.°-6","6.°-7","6.°-8","6.°-9","6.°-10","6.°-11","6.°-12","6.°-13","6.°-14","6.°-15","6.°-16","6.°-17","6.°-18","6.°-19","6.°-20",{"$f":"CONCATENATE($B$2,\"-\",#REF!)","v":{"$error":"#REF!"}},{"$f":"CONCATENATE($B$2,\"-\",#REF!)","v":{"$error":"#REF!"}},{"$f":"CONCATENATE($B$2,\"-\",#REF!)","v":{"$error":"#REF!"}},{"$f":"CONCATENATE($B$2,\"-\",#REF!)","v":{"$error":"#REF!"}},{"$f":"CONCATENATE($B$2,\"-\",#REF!)","v":{"$error":"#REF!"}},null,{"$f":"IFERROR(IF(D50=\"\",\"\",IF((VLOOKUP(Y50,Herramientas!$L$3:$M$227,2,0))=D50,1,0)),\"\")","v":""},{"$f":"IFERROR(IF(E50=\"\",\"\",IF((VLOOKUP(Z50,Herramientas!$L$3:$M$227,2,0))=E50,1,0)),\"\")","v":""},{"$f":"IFERROR(IF(F50=\"\",\"\",IF((VLOOKUP(AA50,Herramientas!$L$3:$M$227,2,0))=F50,1,0)),\"\")","v":""},{"$f":"IFERROR(IF(G50=\"\",\"\",IF((VLOOKUP(AB50,Herramientas!$L$3:$M$227,2,0))=G50,1,0)),\"\")","v":""},{"$f":"IFERROR(IF(H50=\"\",\"\",IF((VLOOKUP(AC50,Herramientas!$L$3:$M$227,2,0))=H50,1,0)),\"\")","v":""},{"$f":"IFERROR(IF(I50=\"\",\"\",IF((VLOOKUP(AD50,Herramientas!$L$3:$M$227,2,0))=I50,1,0)),\"\")","v":""},{"$f":"IFERROR(IF(J50=\"\",\"\",IF((VLOOKUP(AE50,Herramientas!$L$3:$M$227,2,0))=J50,1,0)),\"\")","v":""},{"$f":"IFERROR(IF(K50=\"\",\"\",IF((VLOOKUP(AF50,Herramientas!$L$3:$M$227,2,0))=K50,1,0)),\"\")","v":""},{"$f":"IFERROR(IF(L50=\"\",\"\",IF((VLOOKUP(AG50,Herramientas!$L$3:$M$227,2,0))=L50,1,0)),\"\")","v":""},{"$f":"IFERROR(IF(M50=\"\",\"\",IF((VLOOKUP(AH50,Herramientas!$L$3:$M$227,2,0))=M50,1,0)),\"\")","v":""},{"$f":"IFERROR(IF(N50=\"\",\"\",IF((VLOOKUP(AI50,Herramientas!$L$3:$M$227,2,0))=N50,1,0)),\"\")","v":""},{"$f":"IFERROR(IF(O50=\"\",\"\",IF((VLOOKUP(AJ50,Herramientas!$L$3:$M$227,2,0))=O50,1,0)),\"\")","v":""},{"$f":"IFERROR(IF(L50=\"\",\"\",IF((VLOOKUP(AG50,Herramientas!$L$3:$M$227,2,0))=L50,1,0)),\"\")","v":""},{"$f":"IFERROR(IF(M50=\"\",\"\",IF((VLOOKUP(AH50,Herramientas!$L$3:$M$227,2,0))=M50,1,0)),\"\")","v":""},{"$f":"IFERROR(IF(R50=\"\",\"\",IF((VLOOKUP(AM50,Herramientas!$L$3:$M$227,2,0))=R50,1,0)),\"\")","v":""},{"$f":"IFERROR(IF(S50=\"\",\"\",IF((VLOOKUP(AN50,Herramientas!$L$3:$M$227,2,0))=S50,1,0)),\"\")","v":""},{"$f":"IFERROR(IF(T50=\"\",\"\",IF((VLOOKUP(AO50,Herramientas!$L$3:$M$227,2,0))=T50,1,0)),\"\")","v":""},{"$f":"IFERROR(IF(U50=\"\",\"\",IF((VLOOKUP(AP50,Herramientas!$L$3:$M$227,2,0))=U50,1,0)),\"\")","v":""},{"$f":"IFERROR(IF(V50=\"\",\"\",IF((VLOOKUP(AQ50,Herramientas!$L$3:$M$227,2,0))=V50,1,0)),\"\")","v":""},{"$f":"IFERROR(IF(W50=\"\",\"\",IF((VLOOKUP(AR50,Herramientas!$L$3:$M$227,2,0))=W50,1,0)),\"\")","v":""},{"$f":"IFERROR(IF(#REF!=\"\",\"\",IF((VLOOKUP(AS50,Herramientas!$L$3:$M$227,2,0))=#REF!,1,0)),\"\")","v":""},{"$f":"IFERROR(IF(#REF!=\"\",\"\",IF((VLOOKUP(AT50,Herramientas!$L$3:$M$227,2,0))=#REF!,1,0)),\"\")","v":""},{"$f":"IFERROR(IF(#REF!=\"\",\"\",IF((VLOOKUP(AU50,Herramientas!$L$3:$M$227,2,0))=#REF!,1,0)),\"\")","v":""},{"$f":"IFERROR(IF(#REF!=\"\",\"\",IF((VLOOKUP(AV50,Herramientas!$L$3:$M$227,2,0))=#REF!,1,0)),\"\")","v":""},{"$f":"IFERROR(IF(#REF!=\"\",\"\",IF((VLOOKUP(AW50,Herramientas!$L$3:$M$227,2,0))=#REF!,1,0)),\"\")","v":""},null,0,0]
[44,null,null,null,null,null,null,null,null,null,null,null,null,null,null,null,null,null,null,null,null,null,null,null,"6.°-1","6.°-2","6.°-3","6.°-4","6.°-5","6.°-6","6.°-7","6.°-8","6.°-9","6.°-10","6.°-11","6.°-12","6.°-13","6.°-14","6.°-15","6.°-16","6.°-17","6.°-18","6.°-19","6.°-20",{"$f":"CONCATENATE($B$2,\"-\",#REF!)","v":{"$error":"#REF!"}},{"$f":"CONCATENATE($B$2,\"-\",#REF!)","v":{"$error":"#REF!"}},{"$f":"CONCATENATE($B$2,\"-\",#REF!)","v":{"$error":"#REF!"}},{"$f":"CONCATENATE($B$2,\"-\",#REF!)","v":{"$error":"#REF!"}},{"$f":"CONCATENATE($B$2,\"-\",#REF!)","v":{"$error":"#REF!"}},null,{"$f":"IFERROR(IF(D51=\"\",\"\",IF((VLOOKUP(Y51,Herramientas!$L$3:$M$227,2,0))=D51,1,0)),\"\")","v":""},{"$f":"IFERROR(IF(E51=\"\",\"\",IF((VLOOKUP(Z51,Herramientas!$L$3:$M$227,2,0))=E51,1,0)),\"\")","v":""},{"$f":"IFERROR(IF(F51=\"\",\"\",IF((VLOOKUP(AA51,Herramientas!$L$3:$M$227,2,0))=F51,1,0)),\"\")","v":""},{"$f":"IFERROR(IF(G51=\"\",\"\",IF((VLOOKUP(AB51,Herramientas!$L$3:$M$227,2,0))=G51,1,0)),\"\")","v":""},{"$f":"IFERROR(IF(H51=\"\",\"\",IF((VLOOKUP(AC51,Herramientas!$L$3:$M$227,2,0))=H51,1,0)),\"\")","v":""},{"$f":"IFERROR(IF(I51=\"\",\"\",IF((VLOOKUP(AD51,Herramientas!$L$3:$M$227,2,0))=I51,1,0)),\"\")","v":""},{"$f":"IFERROR(IF(J51=\"\",\"\",IF((VLOOKUP(AE51,Herramientas!$L$3:$M$227,2,0))=J51,1,0)),\"\")","v":""},{"$f":"IFERROR(IF(K51=\"\",\"\",IF((VLOOKUP(AF51,Herramientas!$L$3:$M$227,2,0))=K51,1,0)),\"\")","v":""},{"$f":"IFERROR(IF(L51=\"\",\"\",IF((VLOOKUP(AG51,Herramientas!$L$3:$M$227,2,0))=L51,1,0)),\"\")","v":""},{"$f":"IFERROR(IF(M51=\"\",\"\",IF((VLOOKUP(AH51,Herramientas!$L$3:$M$227,2,0))=M51,1,0)),\"\")","v":""},{"$f":"IFERROR(IF(N51=\"\",\"\",IF((VLOOKUP(AI51,Herramientas!$L$3:$M$227,2,0))=N51,1,0)),\"\")","v":""},{"$f":"IFERROR(IF(O51=\"\",\"\",IF((VLOOKUP(AJ51,Herramientas!$L$3:$M$227,2,0))=O51,1,0)),\"\")","v":""},{"$f":"IFERROR(IF(L51=\"\",\"\",IF((VLOOKUP(AG51,Herramientas!$L$3:$M$227,2,0))=L51,1,0)),\"\")","v":""},{"$f":"IFERROR(IF(M51=\"\",\"\",IF((VLOOKUP(AH51,Herramientas!$L$3:$M$227,2,0))=M51,1,0)),\"\")","v":""},{"$f":"IFERROR(IF(R51=\"\",\"\",IF((VLOOKUP(AM51,Herramientas!$L$3:$M$227,2,0))=R51,1,0)),\"\")","v":""},{"$f":"IFERROR(IF(S51=\"\",\"\",IF((VLOOKUP(AN51,Herramientas!$L$3:$M$227,2,0))=S51,1,0)),\"\")","v":""},{"$f":"IFERROR(IF(T51=\"\",\"\",IF((VLOOKUP(AO51,Herramientas!$L$3:$M$227,2,0))=T51,1,0)),\"\")","v":""},{"$f":"IFERROR(IF(U51=\"\",\"\",IF((VLOOKUP(AP51,Herramientas!$L$3:$M$227,2,0))=U51,1,0)),\"\")","v":""},{"$f":"IFERROR(IF(V51=\"\",\"\",IF((VLOOKUP(AQ51,Herramientas!$L$3:$M$227,2,0))=V51,1,0)),\"\")","v":""},{"$f":"IFERROR(IF(W51=\"\",\"\",IF((VLOOKUP(AR51,Herramientas!$L$3:$M$227,2,0))=W51,1,0)),\"\")","v":""},{"$f":"IFERROR(IF(#REF!=\"\",\"\",IF((VLOOKUP(AS51,Herramientas!$L$3:$M$227,2,0))=#REF!,1,0)),\"\")","v":""},{"$f":"IFERROR(IF(#REF!=\"\",\"\",IF((VLOOKUP(AT51,Herramientas!$L$3:$M$227,2,0))=#REF!,1,0)),\"\")","v":""},{"$f":"IFERROR(IF(#REF!=\"\",\"\",IF((VLOOKUP(AU51,Herramientas!$L$3:$M$227,2,0))=#REF!,1,0)),\"\")","v":""},{"$f":"IFERROR(IF(#REF!=\"\",\"\",IF((VLOOKUP(AV51,Herramientas!$L$3:$M$227,2,0))=#REF!,1,0)),\"\")","v":""},{"$f":"IFERROR(IF(#REF!=\"\",\"\",IF((VLOOKUP(AW51,Herramientas!$L$3:$M$227,2,0))=#REF!,1,0)),\"\")","v":""},null,0,0]
[45,null,null,null,null,null,null,null,null,null,null,null,null,null,null,null,null,null,null,null,null,null,null,null,"6.°-1","6.°-2","6.°-3","6.°-4","6.°-5","6.°-6","6.°-7","6.°-8","6.°-9","6.°-10","6.°-11","6.°-12","6.°-13","6.°-14","6.°-15","6.°-16","6.°-17","6.°-18","6.°-19","6.°-20",{"$f":"CONCATENATE($B$2,\"-\",#REF!)","v":{"$error":"#REF!"}},{"$f":"CONCATENATE($B$2,\"-\",#REF!)","v":{"$error":"#REF!"}},{"$f":"CONCATENATE($B$2,\"-\",#REF!)","v":{"$error":"#REF!"}},{"$f":"CONCATENATE($B$2,\"-\",#REF!)","v":{"$error":"#REF!"}},{"$f":"CONCATENATE($B$2,\"-\",#REF!)","v":{"$error":"#REF!"}},null,{"$f":"IFERROR(IF(D52=\"\",\"\",IF((VLOOKUP(Y52,Herramientas!$L$3:$M$227,2,0))=D52,1,0)),\"\")","v":""},{"$f":"IFERROR(IF(E52=\"\",\"\",IF((VLOOKUP(Z52,Herramientas!$L$3:$M$227,2,0))=E52,1,0)),\"\")","v":""},{"$f":"IFERROR(IF(F52=\"\",\"\",IF((VLOOKUP(AA52,Herramientas!$L$3:$M$227,2,0))=F52,1,0)),\"\")","v":""},{"$f":"IFERROR(IF(G52=\"\",\"\",IF((VLOOKUP(AB52,Herramientas!$L$3:$M$227,2,0))=G52,1,0)),\"\")","v":""},{"$f":"IFERROR(IF(H52=\"\",\"\",IF((VLOOKUP(AC52,Herramientas!$L$3:$M$227,2,0))=H52,1,0)),\"\")","v":""},{"$f":"IFERROR(IF(I52=\"\",\"\",IF((VLOOKUP(AD52,Herramientas!$L$3:$M$227,2,0))=I52,1,0)),\"\")","v":""},{"$f":"IFERROR(IF(J52=\"\",\"\",IF((VLOOKUP(AE52,Herramientas!$L$3:$M$227,2,0))=J52,1,0)),\"\")","v":""},{"$f":"IFERROR(IF(K52=\"\",\"\",IF((VLOOKUP(AF52,Herramientas!$L$3:$M$227,2,0))=K52,1,0)),\"\")","v":""},{"$f":"IFERROR(IF(L52=\"\",\"\",IF((VLOOKUP(AG52,Herramientas!$L$3:$M$227,2,0))=L52,1,0)),\"\")","v":""},{"$f":"IFERROR(IF(M52=\"\",\"\",IF((VLOOKUP(AH52,Herramientas!$L$3:$M$227,2,0))=M52,1,0)),\"\")","v":""},{"$f":"IFERROR(IF(N52=\"\",\"\",IF((VLOOKUP(AI52,Herramientas!$L$3:$M$227,2,0))=N52,1,0)),\"\")","v":""},{"$f":"IFERROR(IF(O52=\"\",\"\",IF((VLOOKUP(AJ52,Herramientas!$L$3:$M$227,2,0))=O52,1,0)),\"\")","v":""},{"$f":"IFERROR(IF(L52=\"\",\"\",IF((VLOOKUP(AG52,Herramientas!$L$3:$M$227,2,0))=L52,1,0)),\"\")","v":""},{"$f":"IFERROR(IF(M52=\"\",\"\",IF((VLOOKUP(AH52,Herramientas!$L$3:$M$227,2,0))=M52,1,0)),\"\")","v":""},{"$f":"IFERROR(IF(R52=\"\",\"\",IF((VLOOKUP(AM52,Herramientas!$L$3:$M$227,2,0))=R52,1,0)),\"\")","v":""},{"$f":"IFERROR(IF(S52=\"\",\"\",IF((VLOOKUP(AN52,Herramientas!$L$3:$M$227,2,0))=S52,1,0)),\"\")","v":""},{"$f":"IFERROR(IF(T52=\"\",\"\",IF((VLOOKUP(AO52,Herramientas!$L$3:$M$227,2,0))=T52,1,0)),\"\")","v":""},{"$f":"IFERROR(IF(U52=\"\",\"\",IF((VLOOKUP(AP52,Herramientas!$L$3:$M$227,2,0))=U52,1,0)),\"\")","v":""},{"$f":"IFERROR(IF(V52=\"\",\"\",IF((VLOOKUP(AQ52,Herramientas!$L$3:$M$227,2,0))=V52,1,0)),\"\")","v":""},{"$f":"IFERROR(IF(W52=\"\",\"\",IF((VLOOKUP(AR52,Herramientas!$L$3:$M$227,2,0))=W52,1,0)),\"\")","v":""},{"$f":"IFERROR(IF(#REF!=\"\",\"\",IF((VLOOKUP(AS52,Herramientas!$L$3:$M$227,2,0))=#REF!,1,0)),\"\")","v":""},{"$f":"IFERROR(IF(#REF!=\"\",\"\",IF((VLOOKUP(AT52,Herramientas!$L$3:$M$227,2,0))=#REF!,1,0)),\"\")","v":""},{"$f":"IFERROR(IF(#REF!=\"\",\"\",IF((VLOOKUP(AU52,Herramientas!$L$3:$M$227,2,0))=#REF!,1,0)),\"\")","v":""},{"$f":"IFERROR(IF(#REF!=\"\",\"\",IF((VLOOKUP(AV52,Herramientas!$L$3:$M$227,2,0))=#REF!,1,0)),\"\")","v":""},{"$f":"IFERROR(IF(#REF!=\"\",\"\",IF((VLOOKUP(AW52,Herramientas!$L$3:$M$227,2,0))=#REF!,1,0)),\"\")","v":""},null,0,0]
[46,null,null,null,null,null,null,null,null,null,null,null,null,null,null,null,null,null,null,null,null,null,null,null,"6.°-1","6.°-2","6.°-3","6.°-4","6.°-5","6.°-6","6.°-7","6.°-8","6.°-9","6.°-10","6.°-11","6.°-12","6.°-13","6.°-14","6.°-15","6.°-16","6.°-17","6.°-18","6.°-19","6.°-20",{"$f":"CONCATENATE($B$2,\"-\",#REF!)","v":{"$error":"#REF!"}},{"$f":"CONCATENATE($B$2,\"-\",#REF!)","v":{"$error":"#REF!"}},{"$f":"CONCATENATE($B$2,\"-\",#REF!)","v":{"$error":"#REF!"}},{"$f":"CONCATENATE($B$2,\"-\",#REF!)","v":{"$error":"#REF!"}},{"$f":"CONCATENATE($B$2,\"-\",#REF!)","v":{"$error":"#REF!"}},null,{"$f":"IFERROR(IF(D53=\"\",\"\",IF((VLOOKUP(Y53,Herramientas!$L$3:$M$227,2,0))=D53,1,0)),\"\")","v":""},{"$f":"IFERROR(IF(E53=\"\",\"\",IF((VLOOKUP(Z53,Herramientas!$L$3:$M$227,2,0))=E53,1,0)),\"\")","v":""},{"$f":"IFERROR(IF(F53=\"\",\"\",IF((VLOOKUP(AA53,Herramientas!$L$3:$M$227,2,0))=F53,1,0)),\"\")","v":""},{"$f":"IFERROR(IF(G53=\"\",\"\",IF((VLOOKUP(AB53,Herramientas!$L$3:$M$227,2,0))=G53,1,0)),\"\")","v":""},{"$f":"IFERROR(IF(H53=\"\",\"\",IF((VLOOKUP(AC53,Herramientas!$L$3:$M$227,2,0))=H53,1,0)),\"\")","v":""},{"$f":"IFERROR(IF(I53=\"\",\"\",IF((VLOOKUP(AD53,Herramientas!$L$3:$M$227,2,0))=I53,1,0)),\"\")","v":""},{"$f":"IFERROR(IF(J53=\"\",\"\",IF((VLOOKUP(AE53,Herramientas!$L$3:$M$227,2,0))=J53,1,0)),\"\")","v":""},{"$f":"IFERROR(IF(K53=\"\",\"\",IF((VLOOKUP(AF53,Herramientas!$L$3:$M$227,2,0))=K53,1,0)),\"\")","v":""},{"$f":"IFERROR(IF(L53=\"\",\"\",IF((VLOOKUP(AG53,Herramientas!$L$3:$M$227,2,0))=L53,1,0)),\"\")","v":""},{"$f":"IFERROR(IF(M53=\"\",\"\",IF((VLOOKUP(AH53,Herramientas!$L$3:$M$227,2,0))=M53,1,0)),\"\")","v":""},{"$f":"IFERROR(IF(N53=\"\",\"\",IF((VLOOKUP(AI53,Herramientas!$L$3:$M$227,2,0))=N53,1,0)),\"\")","v":""},{"$f":"IFERROR(IF(O53=\"\",\"\",IF((VLOOKUP(AJ53,Herramientas!$L$3:$M$227,2,0))=O53,1,0)),\"\")","v":""},{"$f":"IFERROR(IF(L53=\"\",\"\",IF((VLOOKUP(AG53,Herramientas!$L$3:$M$227,2,0))=L53,1,0)),\"\")","v":""},{"$f":"IFERROR(IF(M53=\"\",\"\",IF((VLOOKUP(AH53,Herramientas!$L$3:$M$227,2,0))=M53,1,0)),\"\")","v":""},{"$f":"IFERROR(IF(R53=\"\",\"\",IF((VLOOKUP(AM53,Herramientas!$L$3:$M$227,2,0))=R53,1,0)),\"\")","v":""},{"$f":"IFERROR(IF(S53=\"\",\"\",IF((VLOOKUP(AN53,Herramientas!$L$3:$M$227,2,0))=S53,1,0)),\"\")","v":""},{"$f":"IFERROR(IF(T53=\"\",\"\",IF((VLOOKUP(AO53,Herramientas!$L$3:$M$227,2,0))=T53,1,0)),\"\")","v":""},{"$f":"IFERROR(IF(U53=\"\",\"\",IF((VLOOKUP(AP53,Herramientas!$L$3:$M$227,2,0))=U53,1,0)),\"\")","v":""},{"$f":"IFERROR(IF(V53=\"\",\"\",IF((VLOOKUP(AQ53,Herramientas!$L$3:$M$227,2,0))=V53,1,0)),\"\")","v":""},{"$f":"IFERROR(IF(W53=\"\",\"\",IF((VLOOKUP(AR53,Herramientas!$L$3:$M$227,2,0))=W53,1,0)),\"\")","v":""},{"$f":"IFERROR(IF(#REF!=\"\",\"\",IF((VLOOKUP(AS53,Herramientas!$L$3:$M$227,2,0))=#REF!,1,0)),\"\")","v":""},{"$f":"IFERROR(IF(#REF!=\"\",\"\",IF((VLOOKUP(AT53,Herramientas!$L$3:$M$227,2,0))=#REF!,1,0)),\"\")","v":""},{"$f":"IFERROR(IF(#REF!=\"\",\"\",IF((VLOOKUP(AU53,Herramientas!$L$3:$M$227,2,0))=#REF!,1,0)),\"\")","v":""},{"$f":"IFERROR(IF(#REF!=\"\",\"\",IF((VLOOKUP(AV53,Herramientas!$L$3:$M$227,2,0))=#REF!,1,0)),\"\")","v":""},{"$f":"IFERROR(IF(#REF!=\"\",\"\",IF((VLOOKUP(AW53,Herramientas!$L$3:$M$227,2,0))=#REF!,1,0)),\"\")","v":""},null,0,0]
[47,null,null,null,null,null,null,null,null,null,null,null,null,null,null,null,null,null,null,null,null,null,null,null,"6.°-1","6.°-2","6.°-3","6.°-4","6.°-5","6.°-6","6.°-7","6.°-8","6.°-9","6.°-10","6.°-11","6.°-12","6.°-13","6.°-14","6.°-15","6.°-16","6.°-17","6.°-18","6.°-19","6.°-20",{"$f":"CONCATENATE($B$2,\"-\",#REF!)","v":{"$error":"#REF!"}},{"$f":"CONCATENATE($B$2,\"-\",#REF!)","v":{"$error":"#REF!"}},{"$f":"CONCATENATE($B$2,\"-\",#REF!)","v":{"$error":"#REF!"}},{"$f":"CONCATENATE($B$2,\"-\",#REF!)","v":{"$error":"#REF!"}},{"$f":"CONCATENATE($B$2,\"-\",#REF!)","v":{"$error":"#REF!"}},null,{"$f":"IFERROR(IF(D54=\"\",\"\",IF((VLOOKUP(Y54,Herramientas!$L$3:$M$227,2,0))=D54,1,0)),\"\")","v":""},{"$f":"IFERROR(IF(E54=\"\",\"\",IF((VLOOKUP(Z54,Herramientas!$L$3:$M$227,2,0))=E54,1,0)),\"\")","v":""},{"$f":"IFERROR(IF(F54=\"\",\"\",IF((VLOOKUP(AA54,Herramientas!$L$3:$M$227,2,0))=F54,1,0)),\"\")","v":""},{"$f":"IFERROR(IF(G54=\"\",\"\",IF((VLOOKUP(AB54,Herramientas!$L$3:$M$227,2,0))=G54,1,0)),\"\")","v":""},{"$f":"IFERROR(IF(H54=\"\",\"\",IF((VLOOKUP(AC54,Herramientas!$L$3:$M$227,2,0))=H54,1,0)),\"\")","v":""},{"$f":"IFERROR(IF(I54=\"\",\"\",IF((VLOOKUP(AD54,Herramientas!$L$3:$M$227,2,0))=I54,1,0)),\"\")","v":""},{"$f":"IFERROR(IF(J54=\"\",\"\",IF((VLOOKUP(AE54,Herramientas!$L$3:$M$227,2,0))=J54,1,0)),\"\")","v":""},{"$f":"IFERROR(IF(K54=\"\",\"\",IF((VLOOKUP(AF54,Herramientas!$L$3:$M$227,2,0))=K54,1,0)),\"\")","v":""},{"$f":"IFERROR(IF(L54=\"\",\"\",IF((VLOOKUP(AG54,Herramientas!$L$3:$M$227,2,0))=L54,1,0)),\"\")","v":""},{"$f":"IFERROR(IF(M54=\"\",\"\",IF((VLOOKUP(AH54,Herramientas!$L$3:$M$227,2,0))=M54,1,0)),\"\")","v":""},{"$f":"IFERROR(IF(N54=\"\",\"\",IF((VLOOKUP(AI54,Herramientas!$L$3:$M$227,2,0))=N54,1,0)),\"\")","v":""},{"$f":"IFERROR(IF(O54=\"\",\"\",IF((VLOOKUP(AJ54,Herramientas!$L$3:$M$227,2,0))=O54,1,0)),\"\")","v":""},{"$f":"IFERROR(IF(L54=\"\",\"\",IF((VLOOKUP(AG54,Herramientas!$L$3:$M$227,2,0))=L54,1,0)),\"\")","v":""},{"$f":"IFERROR(IF(M54=\"\",\"\",IF((VLOOKUP(AH54,Herramientas!$L$3:$M$227,2,0))=M54,1,0)),\"\")","v":""},{"$f":"IFERROR(IF(R54=\"\",\"\",IF((VLOOKUP(AM54,Herramientas!$L$3:$M$227,2,0))=R54,1,0)),\"\")","v":""},{"$f":"IFERROR(IF(S54=\"\",\"\",IF((VLOOKUP(AN54,Herramientas!$L$3:$M$227,2,0))=S54,1,0)),\"\")","v":""},{"$f":"IFERROR(IF(T54=\"\",\"\",IF((VLOOKUP(AO54,Herramientas!$L$3:$M$227,2,0))=T54,1,0)),\"\")","v":""},{"$f":"IFERROR(IF(U54=\"\",\"\",IF((VLOOKUP(AP54,Herramientas!$L$3:$M$227,2,0))=U54,1,0)),\"\")","v":""},{"$f":"IFERROR(IF(V54=\"\",\"\",IF((VLOOKUP(AQ54,Herramientas!$L$3:$M$227,2,0))=V54,1,0)),\"\")","v":""},{"$f":"IFERROR(IF(W54=\"\",\"\",IF((VLOOKUP(AR54,Herramientas!$L$3:$M$227,2,0))=W54,1,0)),\"\")","v":""},{"$f":"IFERROR(IF(#REF!=\"\",\"\",IF((VLOOKUP(AS54,Herramientas!$L$3:$M$227,2,0))=#REF!,1,0)),\"\")","v":""},{"$f":"IFERROR(IF(#REF!=\"\",\"\",IF((VLOOKUP(AT54,Herramientas!$L$3:$M$227,2,0))=#REF!,1,0)),\"\")","v":""},{"$f":"IFERROR(IF(#REF!=\"\",\"\",IF((VLOOKUP(AU54,Herramientas!$L$3:$M$227,2,0))=#REF!,1,0)),\"\")","v":""},{"$f":"IFERROR(IF(#REF!=\"\",\"\",IF((VLOOKUP(AV54,Herramientas!$L$3:$M$227,2,0))=#REF!,1,0)),\"\")","v":""},{"$f":"IFERROR(IF(#REF!=\"\",\"\",IF((VLOOKUP(AW54,Herramientas!$L$3:$M$227,2,0))=#REF!,1,0)),\"\")","v":""},null,0,0]
[48,null,null,null,null,null,null,null,null,null,null,null,null,null,null,null,null,null,null,null,null,null,null,null,"6.°-1","6.°-2","6.°-3","6.°-4","6.°-5","6.°-6","6.°-7","6.°-8","6.°-9","6.°-10","6.°-11","6.°-12","6.°-13","6.°-14","6.°-15","6.°-16","6.°-17","6.°-18","6.°-19","6.°-20",{"$f":"CONCATENATE($B$2,\"-\",#REF!)","v":{"$error":"#REF!"}},{"$f":"CONCATENATE($B$2,\"-\",#REF!)","v":{"$error":"#REF!"}},{"$f":"CONCATENATE($B$2,\"-\",#REF!)","v":{"$error":"#REF!"}},{"$f":"CONCATENATE($B$2,\"-\",#REF!)","v":{"$error":"#REF!"}},{"$f":"CONCATENATE($B$2,\"-\",#REF!)","v":{"$error":"#REF!"}},null,{"$f":"IFERROR(IF(D55=\"\",\"\",IF((VLOOKUP(Y55,Herramientas!$L$3:$M$227,2,0))=D55,1,0)),\"\")","v":""},{"$f":"IFERROR(IF(E55=\"\",\"\",IF((VLOOKUP(Z55,Herramientas!$L$3:$M$227,2,0))=E55,1,0)),\"\")","v":""},{"$f":"IFERROR(IF(F55=\"\",\"\",IF((VLOOKUP(AA55,Herramientas!$L$3:$M$227,2,0))=F55,1,0)),\"\")","v":""},{"$f":"IFERROR(IF(G55=\"\",\"\",IF((VLOOKUP(AB55,Herramientas!$L$3:$M$227,2,0))=G55,1,0)),\"\")","v":""},{"$f":"IFERROR(IF(H55=\"\",\"\",IF((VLOOKUP(AC55,Herramientas!$L$3:$M$227,2,0))=H55,1,0)),\"\")","v":""},{"$f":"IFERROR(IF(I55=\"\",\"\",IF((VLOOKUP(AD55,Herramientas!$L$3:$M$227,2,0))=I55,1,0)),\"\")","v":""},{"$f":"IFERROR(IF(J55=\"\",\"\",IF((VLOOKUP(AE55,Herramientas!$L$3:$M$227,2,0))=J55,1,0)),\"\")","v":""},{"$f":"IFERROR(IF(K55=\"\",\"\",IF((VLOOKUP(AF55,Herramientas!$L$3:$M$227,2,0))=K55,1,0)),\"\")","v":""},{"$f":"IFERROR(IF(L55=\"\",\"\",IF((VLOOKUP(AG55,Herramientas!$L$3:$M$227,2,0))=L55,1,0)),\"\")","v":""},{"$f":"IFERROR(IF(M55=\"\",\"\",IF((VLOOKUP(AH55,Herramientas!$L$3:$M$227,2,0))=M55,1,0)),\"\")","v":""},{"$f":"IFERROR(IF(N55=\"\",\"\",IF((VLOOKUP(AI55,Herramientas!$L$3:$M$227,2,0))=N55,1,0)),\"\")","v":""},{"$f":"IFERROR(IF(O55=\"\",\"\",IF((VLOOKUP(AJ55,Herramientas!$L$3:$M$227,2,0))=O55,1,0)),\"\")","v":""},{"$f":"IFERROR(IF(L55=\"\",\"\",IF((VLOOKUP(AG55,Herramientas!$L$3:$M$227,2,0))=L55,1,0)),\"\")","v":""},{"$f":"IFERROR(IF(M55=\"\",\"\",IF((VLOOKUP(AH55,Herramientas!$L$3:$M$227,2,0))=M55,1,0)),\"\")","v":""},{"$f":"IFERROR(IF(R55=\"\",\"\",IF((VLOOKUP(AM55,Herramientas!$L$3:$M$227,2,0))=R55,1,0)),\"\")","v":""},{"$f":"IFERROR(IF(S55=\"\",\"\",IF((VLOOKUP(AN55,Herramientas!$L$3:$M$227,2,0))=S55,1,0)),\"\")","v":""},{"$f":"IFERROR(IF(T55=\"\",\"\",IF((VLOOKUP(AO55,Herramientas!$L$3:$M$227,2,0))=T55,1,0)),\"\")","v":""},{"$f":"IFERROR(IF(U55=\"\",\"\",IF((VLOOKUP(AP55,Herramientas!$L$3:$M$227,2,0))=U55,1,0)),\"\")","v":""},{"$f":"IFERROR(IF(V55=\"\",\"\",IF((VLOOKUP(AQ55,Herramientas!$L$3:$M$227,2,0))=V55,1,0)),\"\")","v":""},{"$f":"IFERROR(IF(W55=\"\",\"\",IF((VLOOKUP(AR55,Herramientas!$L$3:$M$227,2,0))=W55,1,0)),\"\")","v":""},{"$f":"IFERROR(IF(#REF!=\"\",\"\",IF((VLOOKUP(AS55,Herramientas!$L$3:$M$227,2,0))=#REF!,1,0)),\"\")","v":""},{"$f":"IFERROR(IF(#REF!=\"\",\"\",IF((VLOOKUP(AT55,Herramientas!$L$3:$M$227,2,0))=#REF!,1,0)),\"\")","v":""},{"$f":"IFERROR(IF(#REF!=\"\",\"\",IF((VLOOKUP(AU55,Herramientas!$L$3:$M$227,2,0))=#REF!,1,0)),\"\")","v":""},{"$f":"IFERROR(IF(#REF!=\"\",\"\",IF((VLOOKUP(AV55,Herramientas!$L$3:$M$227,2,0))=#REF!,1,0)),\"\")","v":""},{"$f":"IFERROR(IF(#REF!=\"\",\"\",IF((VLOOKUP(AW55,Herramientas!$L$3:$M$227,2,0))=#REF!,1,0)),\"\")","v":""},null,0,0]
[49,null,null,null,null,null,null,null,null,null,null,null,null,null,null,null,null,null,null,null,null,null,null,null,"6.°-1","6.°-2","6.°-3","6.°-4","6.°-5","6.°-6","6.°-7","6.°-8","6.°-9","6.°-10","6.°-11","6.°-12","6.°-13","6.°-14","6.°-15","6.°-16","6.°-17","6.°-18","6.°-19","6.°-20",{"$f":"CONCATENATE($B$2,\"-\",#REF!)","v":{"$error":"#REF!"}},{"$f":"CONCATENATE($B$2,\"-\",#REF!)","v":{"$error":"#REF!"}},{"$f":"CONCATENATE($B$2,\"-\",#REF!)","v":{"$error":"#REF!"}},{"$f":"CONCATENATE($B$2,\"-\",#REF!)","v":{"$error":"#REF!"}},{"$f":"CONCATENATE($B$2,\"-\",#REF!)","v":{"$error":"#REF!"}},null,{"$f":"IFERROR(IF(D56=\"\",\"\",IF((VLOOKUP(Y56,Herramientas!$L$3:$M$227,2,0))=D56,1,0)),\"\")","v":""},{"$f":"IFERROR(IF(E56=\"\",\"\",IF((VLOOKUP(Z56,Herramientas!$L$3:$M$227,2,0))=E56,1,0)),\"\")","v":""},{"$f":"IFERROR(IF(F56=\"\",\"\",IF((VLOOKUP(AA56,Herramientas!$L$3:$M$227,2,0))=F56,1,0)),\"\")","v":""},{"$f":"IFERROR(IF(G56=\"\",\"\",IF((VLOOKUP(AB56,Herramientas!$L$3:$M$227,2,0))=G56,1,0)),\"\")","v":""},{"$f":"IFERROR(IF(H56=\"\",\"\",IF((VLOOKUP(AC56,Herramientas!$L$3:$M$227,2,0))=H56,1,0)),\"\")","v":""},{"$f":"IFERROR(IF(I56=\"\",\"\",IF((VLOOKUP(AD56,Herramientas!$L$3:$M$227,2,0))=I56,1,0)),\"\")","v":""},{"$f":"IFERROR(IF(J56=\"\",\"\",IF((VLOOKUP(AE56,Herramientas!$L$3:$M$227,2,0))=J56,1,0)),\"\")","v":""},{"$f":"IFERROR(IF(K56=\"\",\"\",IF((VLOOKUP(AF56,Herramientas!$L$3:$M$227,2,0))=K56,1,0)),\"\")","v":""},{"$f":"IFERROR(IF(L56=\"\",\"\",IF((VLOOKUP(AG56,Herramientas!$L$3:$M$227,2,0))=L56,1,0)),\"\")","v":""},{"$f":"IFERROR(IF(M56=\"\",\"\",IF((VLOOKUP(AH56,Herramientas!$L$3:$M$227,2,0))=M56,1,0)),\"\")","v":""},{"$f":"IFERROR(IF(N56=\"\",\"\",IF((VLOOKUP(AI56,Herramientas!$L$3:$M$227,2,0))=N56,1,0)),\"\")","v":""},{"$f":"IFERROR(IF(O56=\"\",\"\",IF((VLOOKUP(AJ56,Herramientas!$L$3:$M$227,2,0))=O56,1,0)),\"\")","v":""},{"$f":"IFERROR(IF(L56=\"\",\"\",IF((VLOOKUP(AG56,Herramientas!$L$3:$M$227,2,0))=L56,1,0)),\"\")","v":""},{"$f":"IFERROR(IF(M56=\"\",\"\",IF((VLOOKUP(AH56,Herramientas!$L$3:$M$227,2,0))=M56,1,0)),\"\")","v":""},{"$f":"IFERROR(IF(R56=\"\",\"\",IF((VLOOKUP(AM56,Herramientas!$L$3:$M$227,2,0))=R56,1,0)),\"\")","v":""},{"$f":"IFERROR(IF(S56=\"\",\"\",IF((VLOOKUP(AN56,Herramientas!$L$3:$M$227,2,0))=S56,1,0)),\"\")","v":""},{"$f":"IFERROR(IF(T56=\"\",\"\",IF((VLOOKUP(AO56,Herramientas!$L$3:$M$227,2,0))=T56,1,0)),\"\")","v":""},{"$f":"IFERROR(IF(U56=\"\",\"\",IF((VLOOKUP(AP56,Herramientas!$L$3:$M$227,2,0))=U56,1,0)),\"\")","v":""},{"$f":"IFERROR(IF(V56=\"\",\"\",IF((VLOOKUP(AQ56,Herramientas!$L$3:$M$227,2,0))=V56,1,0)),\"\")","v":""},{"$f":"IFERROR(IF(W56=\"\",\"\",IF((VLOOKUP(AR56,Herramientas!$L$3:$M$227,2,0))=W56,1,0)),\"\")","v":""},{"$f":"IFERROR(IF(#REF!=\"\",\"\",IF((VLOOKUP(AS56,Herramientas!$L$3:$M$227,2,0))=#REF!,1,0)),\"\")","v":""},{"$f":"IFERROR(IF(#REF!=\"\",\"\",IF((VLOOKUP(AT56,Herramientas!$L$3:$M$227,2,0))=#REF!,1,0)),\"\")","v":""},{"$f":"IFERROR(IF(#REF!=\"\",\"\",IF((VLOOKUP(AU56,Herramientas!$L$3:$M$227,2,0))=#REF!,1,0)),\"\")","v":""},{"$f":"IFERROR(IF(#REF!=\"\",\"\",IF((VLOOKUP(AV56,Herramientas!$L$3:$M$227,2,0))=#REF!,1,0)),\"\")","v":""},{"$f":"IFERROR(IF(#REF!=\"\",\"\",IF((VLOOKUP(AW56,Herramientas!$L$3:$M$227,2,0))=#REF!,1,0)),\"\")","v":""},null,0,0]
[50,null,null,null,null,null,null,null,null,null,null,null,null,null,null,null,null,null,null,null,null,null,null,null,"6.°-1","6.°-2","6.°-3","6.°-4","6.°-5","6.°-6","6.°-7","6.°-8","6.°-9","6.°-10","6.°-11","6.°-12","6.°-13","6.°-14","6.°-15","6.°-16","6.°-17","6.°-18","6.°-19","6.°-20",{"$f":"CONCATENATE($B$2,\"-\",#REF!)","v":{"$error":"#REF!"}},{"$f":"CONCATENATE($B$2,\"-\",#REF!)","v":{"$error":"#REF!"}},{"$f":"CONCATENATE($B$2,\"-\",#REF!)","v":{"$error":"#REF!"}},{"$f":"CONCATENATE($B$2,\"-\",#REF!)","v":{"$error":"#REF!"}},{"$f":"CONCATENATE($B$2,\"-\",#REF!)","v":{"$error":"#REF!"}},null,{"$f":"IFERROR(IF(D57=\"\",\"\",IF((VLOOKUP(Y57,Herramientas!$L$3:$M$227,2,0))=D57,1,0)),\"\")","v":""},{"$f":"IFERROR(IF(E57=\"\",\"\",IF((VLOOKUP(Z57,Herramientas!$L$3:$M$227,2,0))=E57,1,0)),\"\")","v":""},{"$f":"IFERROR(IF(F57=\"\",\"\",IF((VLOOKUP(AA57,Herramientas!$L$3:$M$227,2,0))=F57,1,0)),\"\")","v":""},{"$f":"IFERROR(IF(G57=\"\",\"\",IF((VLOOKUP(AB57,Herramientas!$L$3:$M$227,2,0))=G57,1,0)),\"\")","v":""},{"$f":"IFERROR(IF(H57=\"\",\"\",IF((VLOOKUP(AC57,Herramientas!$L$3:$M$227,2,0))=H57,1,0)),\"\")","v":""},{"$f":"IFERROR(IF(I57=\"\",\"\",IF((VLOOKUP(AD57,Herramientas!$L$3:$M$227,2,0))=I57,1,0)),\"\")","v":""},{"$f":"IFERROR(IF(J57=\"\",\"\",IF((VLOOKUP(AE57,Herramientas!$L$3:$M$227,2,0))=J57,1,0)),\"\")","v":""},{"$f":"IFERROR(IF(K57=\"\",\"\",IF((VLOOKUP(AF57,Herramientas!$L$3:$M$227,2,0))=K57,1,0)),\"\")","v":""},{"$f":"IFERROR(IF(L57=\"\",\"\",IF((VLOOKUP(AG57,Herramientas!$L$3:$M$227,2,0))=L57,1,0)),\"\")","v":""},{"$f":"IFERROR(IF(M57=\"\",\"\",IF((VLOOKUP(AH57,Herramientas!$L$3:$M$227,2,0))=M57,1,0)),\"\")","v":""},{"$f":"IFERROR(IF(N57=\"\",\"\",IF((VLOOKUP(AI57,Herramientas!$L$3:$M$227,2,0))=N57,1,0)),\"\")","v":""},{"$f":"IFERROR(IF(O57=\"\",\"\",IF((VLOOKUP(AJ57,Herramientas!$L$3:$M$227,2,0))=O57,1,0)),\"\")","v":""},{"$f":"IFERROR(IF(L57=\"\",\"\",IF((VLOOKUP(AG57,Herramientas!$L$3:$M$227,2,0))=L57,1,0)),\"\")","v":""},{"$f":"IFERROR(IF(M57=\"\",\"\",IF((VLOOKUP(AH57,Herramientas!$L$3:$M$227,2,0))=M57,1,0)),\"\")","v":""},{"$f":"IFERROR(IF(R57=\"\",\"\",IF((VLOOKUP(AM57,Herramientas!$L$3:$M$227,2,0))=R57,1,0)),\"\")","v":""},{"$f":"IFERROR(IF(S57=\"\",\"\",IF((VLOOKUP(AN57,Herramientas!$L$3:$M$227,2,0))=S57,1,0)),\"\")","v":""},{"$f":"IFERROR(IF(T57=\"\",\"\",IF((VLOOKUP(AO57,Herramientas!$L$3:$M$227,2,0))=T57,1,0)),\"\")","v":""},{"$f":"IFERROR(IF(U57=\"\",\"\",IF((VLOOKUP(AP57,Herramientas!$L$3:$M$227,2,0))=U57,1,0)),\"\")","v":""},{"$f":"IFERROR(IF(V57=\"\",\"\",IF((VLOOKUP(AQ57,Herramientas!$L$3:$M$227,2,0))=V57,1,0)),\"\")","v":""},{"$f":"IFERROR(IF(W57=\"\",\"\",IF((VLOOKUP(AR57,Herramientas!$L$3:$M$227,2,0))=W57,1,0)),\"\")","v":""},{"$f":"IFERROR(IF(#REF!=\"\",\"\",IF((VLOOKUP(AS57,Herramientas!$L$3:$M$227,2,0))=#REF!,1,0)),\"\")","v":""},{"$f":"IFERROR(IF(#REF!=\"\",\"\",IF((VLOOKUP(AT57,Herramientas!$L$3:$M$227,2,0))=#REF!,1,0)),\"\")","v":""},{"$f":"IFERROR(IF(#REF!=\"\",\"\",IF((VLOOKUP(AU57,Herramientas!$L$3:$M$227,2,0))=#REF!,1,0)),\"\")","v":""},{"$f":"IFERROR(IF(#REF!=\"\",\"\",IF((VLOOKUP(AV57,Herramientas!$L$3:$M$227,2,0))=#REF!,1,0)),\"\")","v":""},{"$f":"IFERROR(IF(#REF!=\"\",\"\",IF((VLOOKUP(AW57,Herramientas!$L$3:$M$227,2,0))=#REF!,1,0)),\"\")","v":""},null,0,0]

{"sheet":"Ciencias","index":4,"n_rows":57,"n_cols":115,"rows_kept":57,"cut":false,"hidden":false,"merged":[[13,90,13,92],[13,93,13,95],[13,96,13,98],[13,99,13,101],[52,1,52,2],[40,1,40,2],[41,1,41,2],[42,1,42,2],[43,1,43,2],[44,1,44,2],[45,1,45,2],[46,1,46,2],[47,1,47,2],[48,1,48,2],[49,1,49,2],[50,1,50,2],[53,1,53,2],[54,1,54,2],[55,1,55,2],[56,1,56,2],[51,1,51,2],[39,1,39,2],[28,1,28,2],[29,1,29,2],[30,1,30,2],[31,1,31,2],[32,1,32,2],[33,1,33,2],[34,1,34,2],[35,1,35,2],[36,1,36,2],[37,1,37,2],[38,1,38,2],[27,1,27,2],[16,1,16,2],[17,1,17,2],[18,1,18,2],[19,1,19,2],[20,1,20,2],[21,1,21,2],[22,1,22,2],[23,1,23,2],[24,1,24,2],[25,1,25,2],[26,1,26,2],[15,1,15,2],[5,0,6,0],[5,1,6,2],[5,3,5,27],[7,1,7,2],[8,1,8,2],[9,1,9,2],[10,1,10,2],[11,1,11,2],[12,1,12,2],[13,1,13,2],[14,1,14,2],[0,0,0,27],[4,0,4,27],[1,3,1,27],[2,0,2,2],[2,3,2,27],[3,0,3,2],[3,3,3,27]]}
["Hoja de registro de respuestas de Ciencias Naturales"]
["Grado","9.°"]
["Código de infraestructura",null,null,20210]
["Nombre de Institución",null,null,{"$f":"IFERROR((VLOOKUP(D3,Herramientas!$S$3:$T$5816,2,0)),\"CÓDIGO NO ENCONTRADO\")","v":"LICEO FRANCES"}]
[]
["N.°","Nombre",null,"Preguntas",null,null,null,null,null,null,null,null,null,null,null,null,null,null,null,null,null,null,null,null,null,null,null,null,null,null,null,null,null,null,null,null,null,null,null,null,null,null,null,null,null,null,null,null,null,null,null,null,null,null,null,null,null,null,null,null,null,null,null,null,null,null,null,null,null,null,null,null,null,null,null,null,null,null,null,null,null,null,null,null,null,"Aciertos","Fallos","Participan",null,"ítem",1,2,3,4,5,6,7,8,9,10,11,12,13,14,15,16,17,18,19,20,21,22,23,24,25]
[null,null,null,1,2,3,4,5,6,7,8,9,10,11,12,13,14,15,16,17,18,19,20,21,22,23,24,25,null,"IT1","IT2","IT3","IT4","IT5","IT6","IT7","IT8","IT9","IT10","IT11","IT12","IT13","IT14","IT15","IT16","IT17","IT18","IT19","IT20","IT21","IT22","IT23","IT24","IT25",null,"IT1","IT2","IT3","IT4","IT5","IT6","IT7","IT8","IT9","IT10","IT11","IT12","IT13","IT14","IT15","IT16","IT17","IT18","IT19","IT20","IT21","IT22","IT23","IT24","IT25",null,"Aciertos","Nota",null,"SUMIT1",{"$f":"SUM(BD$8:BD$57)","v":0},{"$f":"COUNTIF(BD8:BD57,0)","v":0},{"$f":"SUM(CH7:CI7)","v":0},null,"a",{"$f":"COUNTIF(D8:D107,\"A\")","v":0},{"$f":"COUNTIF(E8:E107,\"A\")","v":0},{"$f":"COUNTIF(F8:F107,\"A\")","v":0},0,0,0,0,0,0,0,0,0,0,0,0,0,0,0,0,0,0,0,0,0,0]
[1,null,null,null,null,null,null,null,null,null,null,null,null,null,null,null,null,null,null,null,null,null,null,null,null,null,null,null,null,{"$f":"CONCATENATE($B$2,\"-\",D$7)","v":"9.°-1"},{"$f":"CONCATENATE($B$2,\"-\",E$7)","v":"9.°-2"},{"$f":"CONCATENATE($B$2,\"-\",F$7)","v":"9.°-3"},"9.°-4","9.°-5","9.°-6","9.°-7","9.°-8","9.°-9","9.°-10","9.°-11","9.°-12","9.°-13","9.°-14","9.°-15","9.°-16","9.°-17","9.°-18",{"$f":"CONCATENATE($B$2,\"-\",V$7)","v":"9.°-19"},"9.°-20","9.°-21","9.°-22","9.°-23","9.°-24","9.°-25",null,{"$f":"IFERROR(IF(D8=\"\",\"\",IF((VLOOKUP(AD8,Herramientas!$P$3:$Q$227,2,0))=D8,1,0)),\"\")","v":""},{"$f":"IFERROR(IF(E8=\"\",\"\",IF((VLOOKUP(AE8,Herramientas!$P$3:$Q$227,2,0))=E8,1,0)),\"\")","v":""},{"$f":"IFERROR(IF(F8=\"\",\"\",IF((VLOOKUP(AF8,Herramientas!$P$3:$Q$227,2,0))=F8,1,0)),\"\")","v":""},{"$f":"IFERROR(IF(G8=\"\",\"\",IF((VLOOKUP(AG8,Herramientas!$P$3:$Q$227,2,0))=G8,1,0)),\"\")","v":""},{"$f":"IFERROR(IF(H8=\"\",\"\",IF((VLOOKUP(AH8,Herramientas!$P$3:$Q$227,2,0))=H8,1,0)),\"\")","v":""},{"$f":"IFERROR(IF(I8=\"\",\"\",IF((VLOOKUP(AI8,Herramientas!$P$3:$Q$227,2,0))=I8,1,0)),\"\")","v":""},{"$f":"IFERROR(IF(J8=\"\",\"\",IF((VLOOKUP(AJ8,Herramientas!$P$3:$Q$227,2,0))=J8,1,0)),\"\")","v":""},{"$f":"IFERROR(IF(K8=\"\",\"\",IF((VLOOKUP(AK8,Herramientas!$P$3:$Q$227,2,0))=K8,1,0)),\"\")","v":""},{"$f":"IFERROR(IF(L8=\"\",\"\",IF((VLOOKUP(AL8,Herramientas!$P$3:$Q$227,2,0))=L8,1,0)),\"\")","v":""},{"$f":"IFERROR(IF(M8=\"\",\"\",IF((VLOOKUP(AM8,Herramientas!$P$3:$Q$227,2,0))=M8,1,0)),\"\")","v":""},{"$f":"IFERROR(IF(N8=\"\",\"\",IF((VLOOKUP(AN8,Herramientas!$P$3:$Q$227,2,0))=N8,1,0)),\"\")","v":""},{"$f":"IFERROR(IF(O8=\"\",\"\",IF((VLOOKUP(AO8,Herramientas!$P$3:$Q$227,2,0))=O8,1,0)),\"\")","v":""},{"$f":"IFERROR(IF(P8=\"\",\"\",IF((VLOOKUP(AP8,Herramientas!$P$3:$Q$227,2,0))=P8,1,0)),\"\")","v":""},{"$f":"IFERROR(IF(Q8=\"\",\"\",IF((VLOOKUP(AQ8,Herramientas!$P$3:$Q$227,2,0))=Q8,1,0)),\"\")","v":""},{"$f":"IFERROR(IF(R8=\"\",\"\",IF((VLOOKUP(AR8,Herramientas!$P$3:$Q$227,2,0))=R8,1,0)),\"\")","v":""},{"$f":"IFERROR(IF(S8=\"\",\"\",IF((VLOOKUP(AS8,Herramientas!$P$3:$Q$227,2,0))=S8,1,0)),\"\")","v":""},{"$f":"IFERROR(IF(T8=\"\",\"\",IF((VLOOKUP(AT8,Herramientas!$P$3:$Q$227,2,0))=T8,1,0)),\"\")","v":""},{"$f":"IFERROR(IF(U8=\"\",\"\",IF((VLOOKUP(AU8,Herramientas!$P$3:$Q$227,2,0))=U8,1,0)),\"\")","v":""},{"$f":"IFERROR(IF(V8=\"\",\"\",IF((VLOOKUP(AV8,Herramientas!$P$3:$Q$227,2,0))=V8,1,0)),\"\")","v":""},{"$f":"IFERROR(IF(W8=\"\",\"\",IF((VLOOKUP(AW8,Herramientas!$P$3:$Q$227,2,0))=W8,1,0)),\"\")","v":""},{"$f":"IFERROR(IF(X8=\"\",\"\",IF((VLOOKUP(AX8,Herramientas!$P$3:$Q$227,2,0))=X8,1,0)),\"\")","v":""},{"$f":"IFERROR(IF(Y8=\"\",\"\",IF((VLOOKUP(AY8,Herramientas!$P$3:$Q$227,2,0))=Y8,1,0)),\"\")","v":""},{"$f":"IFERROR(IF(Z8=\"\",\"\",IF((VLOOKUP(AZ8,Herramientas!$P$3:$Q$227,2,0))=Z8,1,0)),\"\")","v":""},{"$f":"IFERROR(IF(AA8=\"\",\"\",IF((VLOOKUP(BA8,Herramientas!$P$3:$Q$227,2,0))=AA8,1,0)),\"\")","v":""},{"$f":"IFERROR(IF(AB8=\"\",\"\",IF((VLOOKUP(BB8,Herramientas!$P$3:$Q$227,2,0))=AB8,1,0)),\"\")","v":""},null,{"$f":"SUM(BD8:CB8)","v":0},{"$f":"CD8/25*10","v":0},null,"SUMIT2",{"$f":"SUM(BE$8:BE$57)","v":0},{"$f":"COUNTIF(BE8:BE58,0)","v":0},{"$f":"SUM(CH8:CI8)","v":0},null,"b",{"$f":"COUNTIF(D8:D107,\"B\")","v":0},{"$f":"COUNTIF(E8:E107,\"B\")","v":0},0,0,0,0,0,0,0,0,0,0,0,0,0,0,0,0,0,0,0,0,0,0,0]
[2,null,null,null,null,null,null,null,null,null,null,null,null,null,null,null,null,null,null,null,null,null,null,null,null,null,null,null,null,{"$f":"CONCATENATE($B$2,\"-\",D$7)","v":"9.°-1"},"9.°-2","9.°-3","9.°-4","9.°-5","9.°-6","9.°-7","9.°-8","9.°-9","9.°-10","9.°-11","9.°-12","9.°-13","9.°-14","9.°-15","9.°-16","9.°-17","9.°-18","9.°-19","9.°-20","9.°-21","9.°-22","9.°-23","9.°-24","9.°-25",null,{"$f":"IFERROR(IF(D9=\"\",\"\",IF((VLOOKUP(AD9,Herramientas!$P$3:$Q$227,2,0))=D9,1,0)),\"\")","v":""},{"$f":"IFERROR(IF(E9=\"\",\"\",IF((VLOOKUP(AE9,Herramientas!$P$3:$Q$227,2,0))=E9,1,0)),\"\")","v":""},{"$f":"IFERROR(IF(F9=\"\",\"\",IF((VLOOKUP(AF9,Herramientas!$P$3:$Q$227,2,0))=F9,1,0)),\"\")","v":""},{"$f":"IFERROR(IF(G9=\"\",\"\",IF((VLOOKUP(AG9,Herramientas!$P$3:$Q$227,2,0))=G9,1,0)),\"\")","v":""},{"$f":"IFERROR(IF(H9=\"\",\"\",IF((VLOOKUP(AH9,Herramientas!$P$3:$Q$227,2,0))=H9,1,0)),\"\")","v":""},{"$f":"IFERROR(IF(I9=\"\",\"\",IF((VLOOKUP(AI9,Herramientas!$P$3:$Q$227,2,0))=I9,1,0)),\"\")","v":""},{"$f":"IFERROR(IF(J9=\"\",\"\",IF((VLOOKUP(AJ9,Herramientas!$P$3:$Q$227,2,0))=J9,1,0)),\"\")","v":""},{"$f":"IFERROR(IF(K9=\"\",\"\",IF((VLOOKUP(AK9,Herramientas!$P$3:$Q$227,2,0))=K9,1,0)),\"\")","v":""},{"$f":"IFERROR(IF(L9=\"\",\"\",IF((VLOOKUP(AL9,Herramientas!$P$3:$Q$227,2,0))=L9,1,0)),\"\")","v":""},{"$f":"IFERROR(IF(M9=\"\",\"\",IF((VLOOKUP(AM9,Herramientas!$P$3:$Q$227,2,0))=M9,1,0)),\"\")","v":""},{"$f":"IFERROR(IF(N9=\"\",\"\",IF((VLOOKUP(AN9,Herramientas!$P$3:$Q$227,2,0))=N9,1,0)),\"\")","v":""},{"$f":"IFERROR(IF(O9=\"\",\"\",IF((VLOOKUP(AO9,Herramientas!$P$3:$Q$227,2,0))=O9,1,0)),\"\")","v":""},{"$f":"IFERROR(IF(P9=\"\",\"\",IF((VLOOKUP(AP9,Herramientas!$P$3:$Q$227,2,0))=P9,1,0)),\"\")","v":""},{"$f":"IFERROR(IF(Q9=\"\",\"\",IF((VLOOKUP(AQ9,Herramientas!$P$3:$Q$227,2,0))=Q9,1,0)),\"\")","v":""},{"$f":"IFERROR(IF(R9=\"\",\"\",IF((VLOOKUP(AR9,Herramientas!$P$3:$Q$227,2,0))=R9,1,0)),\"\")","v":""},{"$f":"IFERROR(IF(S9=\"\",\"\",IF((VLOOKUP(AS9,Herramientas!$P$3:$Q$227,2,0))=S9,1,0)),\"\")","v":""},{"$f":"IFERROR(IF(T9=\"\",\"\",IF((VLOOKUP(AT9,Herramientas!$P$3:$Q$227,2,0))=T9,1,0)),\"\")","v":""},{"$f":"IFERROR(IF(U9=\"\",\"\",IF((VLOOKUP(AU9,Herramientas!$P$3:$Q$227,2,0))=U9,1,0)),\"\")","v":""},{"$f":"IFERROR(IF(V9=\"\",\"\",IF((VLOOKUP(AV9,Herramientas!$P$3:$Q$227,2,0))=V9,1,0)),\"\")","v":""},{"$f":"IFERROR(IF(W9=\"\",\"\",IF((VLOOKUP(AW9,Herramientas!$P$3:$Q$227,2,0))=W9,1,0)),\"\")","v":""},{"$f":"IFERROR(IF(X9=\"\",\"\",IF((VLOOKUP(AX9,Herramientas!$P$3:$Q$227,2,0))=X9,1,0)),\"\")","v":""},{"$f":"IFERROR(IF(Y9=\"\",\"\",IF((VLOOKUP(AY9,Herramientas!$P$3:$Q$227,2,0))=Y9,1,0)),\"\")","v":""},{"$f":"IFERROR(IF(Z9=\"\",\"\",IF((VLOOKUP(AZ9,Herramientas!$P$3:$Q$227,2,0))=Z9,1,0)),\"\")","v":""},{"$f":"IFERROR(IF(AA9=\"\",\"\",IF((VLOOKUP(BA9,Herramientas!$P$3:$Q$227,2,0))=AA9,1,0)),\"\")","v":""},{"$f":"IFERROR(IF(AB9=\"\",\"\",IF((VLOOKUP(BB9,Herramientas!$P$3:$Q$227,2,0))=AB9,1,0)),\"\")","v":""},null,{"$f":"SUM(BD9:CB9)","v":0},{"$f":"CD9/25*10","v":0},null,"SUMIT3",{"$f":"SUM(BF$8:BF$57)","v":0},{"$f":"COUNTIF(BF8:BF59,0)","v":0},0,null,"c",{"$f":"COUNTIF(D8:D107,\"c\")","v":0},{"$f":"COUNTIF(E8:E107,\"c\")","v":0},0,0,0,0,0,0,0,0,0,0,0,0,0,0,0,0,0,0,0,0,0,0,0]
[3,null,null,null,null,null,null,null,null,null,null,null,null,null,null,null,null,null,null,null,null,null,null,null,null,null,null,null,null,"9.°-1","9.°-2","9.°-3","9.°-4","9.°-5","9.°-6","9.°-7","9.°-8","9.°-9","9.°-10","9.°-11","9.°-12","9.°-13","9.°-14","9.°-15","9.°-16","9.°-17","9.°-18","9.°-19","9.°-20","9.°-21","9.°-22","9.°-23","9.°-24","9.°-25",null,{"$f":"IFERROR(IF(D10=\"\",\"\",IF((VLOOKUP(AD10,Herramientas!$P$3:$Q$227,2,0))=D10,1,0)),\"\")","v":""},{"$f":"IFERROR(IF(E10=\"\",\"\",IF((VLOOKUP(AE10,Herramientas!$P$3:$Q$227,2,0))=E10,1,0)),\"\")","v":""},{"$f":"IFERROR(IF(F10=\"\",\"\",IF((VLOOKUP(AF10,Herramientas!$P$3:$Q$227,2,0))=F10,1,0)),\"\")","v":""},{"$f":"IFERROR(IF(G10=\"\",\"\",IF((VLOOKUP(AG10,Herramientas!$P$3:$Q$227,2,0))=G10,1,0)),\"\")","v":""},{"$f":"IFERROR(IF(H10=\"\",\"\",IF((VLOOKUP(AH10,Herramientas!$P$3:$Q$227,2,0))=H10,1,0)),\"\")","v":""},{"$f":"IFERROR(IF(I10=\"\",\"\",IF((VLOOKUP(AI10,Herramientas!$P$3:$Q$227,2,0))=I10,1,0)),\"\")","v":""},{"$f":"IFERROR(IF(J10=\"\",\"\",IF((VLOOKUP(AJ10,Herramientas!$P$3:$Q$227,2,0))=J10,1,0)),\"\")","v":""},{"$f":"IFERROR(IF(K10=\"\",\"\",IF((VLOOKUP(AK10,Herramientas!$P$3:$Q$227,2,0))=K10,1,0)),\"\")","v":""},{"$f":"IFERROR(IF(L10=\"\",\"\",IF((VLOOKUP(AL10,Herramientas!$P$3:$Q$227,2,0))=L10,1,0)),\"\")","v":""},{"$f":"IFERROR(IF(M10=\"\",\"\",IF((VLOOKUP(AM10,Herramientas!$P$3:$Q$227,2,0))=M10,1,0)),\"\")","v":""},{"$f":"IFERROR(IF(N10=\"\",\"\",IF((VLOOKUP(AN10,Herramientas!$P$3:$Q$227,2,0))=N10,1,0)),\"\")","v":""},{"$f":"IFERROR(IF(O10=\"\",\"\",IF((VLOOKUP(AO10,Herramientas!$P$3:$Q$227,2,0))=O10,1,0)),\"\")","v":""},{"$f":"IFERROR(IF(P10=\"\",\"\",IF((VLOOKUP(AP10,Herramientas!$P$3:$Q$227,2,0))=P10,1,0)),\"\")","v":""},{"$f":"IFERROR(IF(Q10=\"\",\"\",IF((VLOOKUP(AQ10,Herramientas!$P$3:$Q$227,2,0))=Q10,1,0)),\"\")","v":""},{"$f":"IFERROR(IF(R10=\"\",\"\",IF((VLOOKUP(AR10,Herramientas!$P$3:$Q$227,2,0))=R10,1,0)),\"\")","v":""},{"$f":"IFERROR(IF(S10=\"\",\"\",IF((VLOOKUP(AS10,Herramientas!$P$3:$Q$227,2,0))=S10,1,0)),\"\")","v":""},{"$f":"IFERROR(IF(T10=\"\",\"\",IF((VLOOKUP(AT10,Herramientas!$P$3:$Q$227,2,0))=T10,1,0)),\"\")","v":""},{"$f":"IFERROR(IF(U10=\"\",\"\",IF((VLOOKUP(AU10,Herramientas!$P$3:$Q$227,2,0))=U10,1,0)),\"\")","v":""},{"$f":"IFERROR(IF(V10=\"\",\"\",IF((VLOOKUP(AV10,Herramientas!$P$3:$Q$227,2,0))=V10,1,0)),\"\")","v":""},{"$f":"IFERROR(IF(W10=\"\",\"\",IF((VLOOKUP(AW10,Herramientas!$P$3:$Q$227,2,0))=W10,1,0)),\"\")","v":""},{"$f":"IFERROR(IF(X10=\"\",\"\",IF((VLOOKUP(AX10,Herramientas!$P$3:$Q$227,2,0))=X10,1,0)),\"\")","v":""},{"$f":"IFERROR(IF(Y10=\"\",\"\",IF((VLOOKUP(AY10,Herramientas!$P$3:$Q$227,2,0))=Y10,1,0)),\"\")","v":""},{"$f":"IFERROR(IF(Z10=\"\",\"\",IF((VLOOKUP(AZ10,Herramientas!$P$3:$Q$227,2,0))=Z10,1,0)),\"\")","v":""},{"$f":"IFERROR(IF(AA10=\"\",\"\",IF((VLOOKUP(BA10,Herramientas!$P$3:$Q$227,2,0))=AA10,1,0)),\"\")","v":""},{"$f":"IFERROR(IF(AB10=\"\",\"\",IF((VLOOKUP(BB10,Herramientas!$P$3:$Q$227,2,0))=AB10,1,0)),\"\")","v":""},null,0,0,null,"SUMIT4",{"$f":"SUM(BG$8:BG$57)","v":0},{"$f":"COUNTIF(BG8:BG59,0)","v":0},0,null,"d",{"$f":"COUNTIF(D8:D107,\"d\")","v":0},{"$f":"COUNTIF(E8:E107,\"d\")","v":0},0,0,0,0,0,0,0,0,0,0,0,0,0,0,0,0,0,0,0,0,0,0,0]
[4,null,null,null,null,null,null,null,null,null,null,null,null,null,null,null,null,null,null,null,null,null,null,null,null,null,null,null,null,"9.°-1","9.°-2","9.°-3","9.°-4","9.°-5","9.°-6","9.°-7","9.°-8","9.°-9","9.°-10","9.°-11","9.°-12","9.°-13","9.°-14","9.°-15","9.°-16","9.°-17","9.°-18","9.°-19","9.°-20","9.°-21","9.°-22","9.°-23","9.°-24","9.°-25",null,{"$f":"IFERROR(IF(D11=\"\",\"\",IF((VLOOKUP(AD11,Herramientas!$P$3:$Q$227,2,0))=D11,1,0)),\"\")","v":""},{"$f":"IFERROR(IF(E11=\"\",\"\",IF((VLOOKUP(AE11,Herramientas!$P$3:$Q$227,2,0))=E11,1,0)),\"\")","v":""},{"$f":"IFERROR(IF(F11=\"\",\"\",IF((VLOOKUP(AF11,Herramientas!$P$3:$Q$227,2,0))=F11,1,0)),\"\")","v":""},{"$f":"IFERROR(IF(G11=\"\",\"\",IF((VLOOKUP(AG11,Herramientas!$P$3:$Q$227,2,0))=G11,1,0)),\"\")","v":""},{"$f":"IFERROR(IF(H11=\"\",\"\",IF((VLOOKUP(AH11,Herramientas!$P$3:$Q$227,2,0))=H11,1,0)),\"\")","v":""},{"$f":"IFERROR(IF(I11=\"\",\"\",IF((VLOOKUP(AI11,Herramientas!$P$3:$Q$227,2,0))=I11,1,0)),\"\")","v":""},{"$f":"IFERROR(IF(J11=\"\",\"\",IF((VLOOKUP(AJ11,Herramientas!$P$3:$Q$227,2,0))=J11,1,0)),\"\")","v":""},{"$f":"IFERROR(IF(K11=\"\",\"\",IF((VLOOKUP(AK11,Herramientas!$P$3:$Q$227,2,0))=K11,1,0)),\"\")","v":""},{"$f":"IFERROR(IF(L11=\"\",\"\",IF((VLOOKUP(AL11,Herramientas!$P$3:$Q$227,2,0))=L11,1,0)),\"\")","v":""},{"$f":"IFERROR(IF(M11=\"\",\"\",IF((VLOOKUP(AM11,Herramientas!$P$3:$Q$227,2,0))=M11,1,0)),\"\")","v":""},{"$f":"IFERROR(IF(N11=\"\",\"\",IF((VLOOKUP(AN11,Herramientas!$P$3:$Q$227,2,0))=N11,1,0)),\"\")","v":""},{"$f":"IFERROR(IF(O11=\"\",\"\",IF((VLOOKUP(AO11,Herramientas!$P$3:$Q$227,2,0))=O11,1,0)),\"\")","v":""},{"$f":"IFERROR(IF(P11=\"\",\"\",IF((VLOOKUP(AP11,Herramientas!$P$3:$Q$227,2,0))=P11,1,0)),\"\")","v":""},{"$f":"IFERROR(IF(Q11=\"\",\"\",IF((VLOOKUP(AQ11,Herramientas!$P$3:$Q$227,2,0))=Q11,1,0)),\"\")","v":""},{"$f":"IFERROR(IF(R11=\"\",\"\",IF((VLOOKUP(AR11,Herramientas!$P$3:$Q$227,2,0))=R11,1,0)),\"\")","v":""},{"$f":"IFERROR(IF(S11=\"\",\"\",IF((VLOOKUP(AS11,Herramientas!$P$3:$Q$227,2,0))=S11,1,0)),\"\")","v":""},{"$f":"IFERROR(IF(T11=\"\",\"\",IF((VLOOKUP(AT11,Herramientas!$P$3:$Q$227,2,0))=T11,1,0)),\"\")","v":""},{"$f":"IFERROR(IF(U11=\"\",\"\",IF((VLOOKUP(AU11,Herramientas!$P$3:$Q$227,2,0))=U11,1,0)),\"\")","v":""},{"$f":"IFERROR(IF(V11=\"\",\"\",IF((VLOOKUP(AV11,Herramientas!$P$3:$Q$227,2,0))=V11,1,0)),\"\")","v":""},{"$f":"IFERROR(IF(W11=\"\",\"\",IF((VLOOKUP(AW11,Herramientas!$P$3:$Q$227,2,0))=W11,1,0)),\"\")","v":""},{"$f":"IFERROR(IF(X11=\"\",\"\",IF((VLOOKUP(AX11,Herramientas!$P$3:$Q$227,2,0))=X11,1,0)),\"\")","v":""},{"$f":"IFERROR(IF(Y11=\"\",\"\",IF((VLOOKUP(AY11,Herramientas!$P$3:$Q$227,2,0))=Y11,1,0)),\"\")","v":""},{"$f":"IFERROR(IF(Z11=\"\",\"\",IF((VLOOKUP(AZ11,Herramientas!$P$3:$Q$227,2,0))=Z11,1,0)),\"\")","v":""},{"$f":"IFERROR(IF(AA11=\"\",\"\",IF((VLOOKUP(BA11,Herramientas!$P$3:$Q$227,2,0))=AA11,1,0)),\"\")","v":""},{"$f":"IFERROR(IF(AB11=\"\",\"\",IF((VLOOKUP(BB11,Herramientas!$P$3:$Q$227,2,0))=AB11,1,0)),\"\")","v":""},null,0,0,null,"SUMIT5",{"$f":"SUM(BH$8:BH$57)","v":0},{"$f":"COUNTIF(BH8:BH60,0)","v":0},0]
[5,null,null,null,null,null,null,null,null,null,null,null,null,null,null,null,null,null,null,null,null,null,null,null,null,null,null,null,null,"9.°-1","9.°-2","9.°-3","9.°-4","9.°-5","9.°-6","9.°-7","9.°-8","9.°-9","9.°-10","9.°-11","9.°-12","9.°-13","9.°-14","9.°-15","9.°-16","9.°-17","9.°-18","9.°-19","9.°-20","9.°-21","9.°-22","9.°-23","9.°-24","9.°-25",null,{"$f":"IFERROR(IF(D12=\"\",\"\",IF((VLOOKUP(AD12,Herramientas!$P$3:$Q$227,2,0))=D12,1,0)),\"\")","v":""},{"$f":"IFERROR(IF(E12=\"\",\"\",IF((VLOOKUP(AE12,Herramientas!$P$3:$Q$227,2,0))=E12,1,0)),\"\")","v":""},{"$f":"IFERROR(IF(F12=\"\",\"\",IF((VLOOKUP(AF12,Herramientas!$P$3:$Q$227,2,0))=F12,1,0)),\"\")","v":""},{"$f":"IFERROR(IF(G12=\"\",\"\",IF((VLOOKUP(AG12,Herramientas!$P$3:$Q$227,2,0))=G12,1,0)),\"\")","v":""},{"$f":"IFERROR(IF(H12=\"\",\"\",IF((VLOOKUP(AH12,Herramientas!$P$3:$Q$227,2,0))=H12,1,0)),\"\")","v":""},{"$f":"IFERROR(IF(I12=\"\",\"\",IF((VLOOKUP(AI12,Herramientas!$P$3:$Q$227,2,0))=I12,1,0)),\"\")","v":""},{"$f":"IFERROR(IF(J12=\"\",\"\",IF((VLOOKUP(AJ12,Herramientas!$P$3:$Q$227,2,0))=J12,1,0)),\"\")","v":""},{"$f":"IFERROR(IF(K12=\"\",\"\",IF((VLOOKUP(AK12,Herramientas!$P$3:$Q$227,2,0))=K12,1,0)),\"\")","v":""},{"$f":"IFERROR(IF(L12=\"\",\"\",IF((VLOOKUP(AL12,Herramientas!$P$3:$Q$227,2,0))=L12,1,0)),\"\")","v":""},{"$f":"IFERROR(IF(M12=\"\",\"\",IF((VLOOKUP(AM12,Herramientas!$P$3:$Q$227,2,0))=M12,1,0)),\"\")","v":""},{"$f":"IFERROR(IF(N12=\"\",\"\",IF((VLOOKUP(AN12,Herramientas!$P$3:$Q$227,2,0))=N12,1,0)),\"\")","v":""},{"$f":"IFERROR(IF(O12=\"\",\"\",IF((VLOOKUP(AO12,Herramientas!$P$3:$Q$227,2,0))=O12,1,0)),\"\")","v":""},{"$f":"IFERROR(IF(P12=\"\",\"\",IF((VLOOKUP(AP12,Herramientas!$P$3:$Q$227,2,0))=P12,1,0)),\"\")","v":""},{"$f":"IFERROR(IF(Q12=\"\",\"\",IF((VLOOKUP(AQ12,Herramientas!$P$3:$Q$227,2,0))=Q12,1,0)),\"\")","v":""},{"$f":"IFERROR(IF(R12=\"\",\"\",IF((VLOOKUP(AR12,Herramientas!$P$3:$Q$227,2,0))=R12,1,0)),\"\")","v":""},{"$f":"IFERROR(IF(S12=\"\",\"\",IF((VLOOKUP(AS12,Herramientas!$P$3:$Q$227,2,0))=S12,1,0)),\"\")","v":""},{"$f":"IFERROR(IF(T12=\"\",\"\",IF((VLOOKUP(AT12,Herramientas!$P$3:$Q$227,2,0))=T12,1,0)),\"\")","v":""},{"$f":"IFERROR(IF(U12=\"\",\"\",IF((VLOOKUP(AU12,Herramientas!$P$3:$Q$227,2,0))=U12,1,0)),\"\")","v":""},{"$f":"IFERROR(IF(V12=\"\",\"\",IF((VLOOKUP(AV12,Herramientas!$P$3:$Q$227,2,0))=V12,1,0)),\"\")","v":""},{"$f":"IFERROR(IF(W12=\"\",\"\",IF((VLOOKUP(AW12,Herramientas!$P$3:$Q$227,2,0))=W12,1,0)),\"\")","v":""},{"$f":"IFERROR(IF(X12=\"\",\"\",IF((VLOOKUP(AX12,Herramientas!$P$3:$Q$227,2,0))=X12,1,0)),\"\")","v":""},{"$f":"IFERROR(IF(Y12=\"\",\"\",IF((VLOOKUP(AY12,Herramientas!$P$3:$Q$227,2,0))=Y12,1,0)),\"\")","v":""},{"$f":"IFERROR(IF(Z12=\"\",\"\",IF((VLOOKUP(AZ12,Herramientas!$P$3:$Q$227,2,0))=Z12,1,0)),\"\")","v":""},{"$f":"IFERROR(IF(AA12=\"\",\"\",IF((VLOOKUP(BA12,Herramientas!$P$3:$Q$227,2,0))=AA12,1,0)),\"\")","v":""},{"$f":"IFERROR(IF(AB12=\"\",\"\",IF((VLOOKUP(BB12,Herramientas!$P$3:$Q$227,2,0))=AB12,1,0)),\"\")","v":""},null,0,0,null,"SUMIT6",{"$f":"SUM(BI$8:BI$57)","v":0},{"$f":"COUNTIF(BI$8:BI$57,0)","v":0},0,null,null,{"$f":"SUM(CM7:CM10)","v":0},{"$f":"SUM(CN7:CN10)","v":0},0,0,0,0,0,0,0,0,0,0,0,0,0,0,0,0,0,0,0,0,0,0,0]
[6,null,null,null,null,null,null,null,null,null,null,null,null,null,null,null,null,null,null,null,null,null,null,null,null,null,null,null,null,"9.°-1","9.°-2","9.°-3","9.°-4","9.°-5","9.°-6","9.°-7","9.°-8","9.°-9","9.°-10","9.°-11","9.°-12","9.°-13","9.°-14","9.°-15","9.°-16","9.°-17","9.°-18","9.°-19","9.°-20","9.°-21","9.°-22","9.°-23","9.°-24","9.°-25",null,{"$f":"IFERROR(IF(D13=\"\",\"\",IF((VLOOKUP(AD13,Herramientas!$P$3:$Q$227,2,0))=D13,1,0)),\"\")","v":""},{"$f":"IFERROR(IF(E13=\"\",\"\",IF((VLOOKUP(AE13,Herramientas!$P$3:$Q$227,2,0))=E13,1,0)),\"\")","v":""},{"$f":"IFERROR(IF(F13=\"\",\"\",IF((VLOOKUP(AF13,Herramientas!$P$3:$Q$227,2,0))=F13,1,0)),\"\")","v":""},{"$f":"IFERROR(IF(G13=\"\",\"\",IF((VLOOKUP(AG13,Herramientas!$P$3:$Q$227,2,0))=G13,1,0)),\"\")","v":""},{"$f":"IFERROR(IF(H13=\"\",\"\",IF((VLOOKUP(AH13,Herramientas!$P$3:$Q$227,2,0))=H13,1,0)),\"\")","v":""},{"$f":"IFERROR(IF(I13=\"\",\"\",IF((VLOOKUP(AI13,Herramientas!$P$3:$Q$227,2,0))=I13,1,0)),\"\")","v":""},{"$f":"IFERROR(IF(J13=\"\",\"\",IF((VLOOKUP(AJ13,Herramientas!$P$3:$Q$227,2,0))=J13,1,0)),\"\")","v":""},{"$f":"IFERROR(IF(K13=\"\",\"\",IF((VLOOKUP(AK13,Herramientas!$P$3:$Q$227,2,0))=K13,1,0)),\"\")","v":""},{"$f":"IFERROR(IF(L13=\"\",\"\",IF((VLOOKUP(AL13,Herramientas!$P$3:$Q$227,2,0))=L13,1,0)),\"\")","v":""},{"$f":"IFERROR(IF(M13=\"\",\"\",IF((VLOOKUP(AM13,Herramientas!$P$3:$Q$227,2,0))=M13,1,0)),\"\")","v":""},{"$f":"IFERROR(IF(N13=\"\",\"\",IF((VLOOKUP(AN13,Herramientas!$P$3:$Q$227,2,0))=N13,1,0)),\"\")","v":""},{"$f":"IFERROR(IF(O13=\"\",\"\",IF((VLOOKUP(AO13,Herramientas!$P$3:$Q$227,2,0))=O13,1,0)),\"\")","v":""},{"$f":"IFERROR(IF(P13=\"\",\"\",IF((VLOOKUP(AP13,Herramientas!$P$3:$Q$227,2,0))=P13,1,0)),\"\")","v":""},{"$f":"IFERROR(IF(Q13=\"\",\"\",IF((VLOOKUP(AQ13,Herramientas!$P$3:$Q$227,2,0))=Q13,1,0)),\"\")","v":""},{"$f":"IFERROR(IF(R13=\"\",\"\",IF((VLOOKUP(AR13,Herramientas!$P$3:$Q$227,2,0))=R13,1,0)),\"\")","v":""},{"$f":"IFERROR(IF(S13=\"\",\"\",IF((VLOOKUP(AS13,Herramientas!$P$3:$Q$227,2,0))=S13,1,0)),\"\")","v":""},{"$f":"IFERROR(IF(T13=\"\",\"\",IF((VLOOKUP(AT13,Herramientas!$P$3:$Q$227,2,0))=T13,1,0)),\"\")","v":""},{"$f":"IFERROR(IF(U13=\"\",\"\",IF((VLOOKUP(AU13,Herramientas!$P$3:$Q$227,2,0))=U13,1,0)),\"\")","v":""},{"$f":"IFERROR(IF(V13=\"\",\"\",IF((VLOOKUP(AV13,Herramientas!$P$3:$Q$227,2,0))=V13,1,0)),\"\")","v":""},{"$f":"IFERROR(IF(W13=\"\",\"\",IF((VLOOKUP(AW13,Herramientas!$P$3:$Q$227,2,0))=W13,1,0)),\"\")","v":""},{"$f":"IFERROR(IF(X13=\"\",\"\",IF((VLOOKUP(AX13,Herramientas!$P$3:$Q$227,2,0))=X13,1,0)),\"\")","v":""},{"$f":"IFERROR(IF(Y13=\"\",\"\",IF((VLOOKUP(AY13,Herramientas!$P$3:$Q$227,2,0))=Y13,1,0)),\"\")","v":""},{"$f":"IFERROR(IF(Z13=\"\",\"\",IF((VLOOKUP(AZ13,Herramientas!$P$3:$Q$227,2,0))=Z13,1,0)),\"\")","v":""},{"$f":"IFERROR(IF(AA13=\"\",\"\",IF((VLOOKUP(BA13,Herramientas!$P$3:$Q$227,2,0))=AA13,1,0)),\"\")","v":""},{"$f":"IFERROR(IF(AB13=\"\",\"\",IF((VLOOKUP(BB13,Herramientas!$P$3:$Q$227,2,0))=AB13,1,0)),\"\")","v":""},null,0,0,null,"SUMIT7",{"$f":"SUM(BJ$8:BJ$57)","v":0},{"$f":"COUNTIF(BJ$8:BJ$57,0)","v":0},0]
[7,null,null,null,null,null,null,null,null,null,null,null,null,null,null,null,null,null,null,null,null,null,null,null,null,null,null,null,null,"9.°-1","9.°-2","9.°-3","9.°-4","9.°-5","9.°-6","9.°-7","9.°-8","9.°-9","9.°-10","9.°-11","9.°-12","9.°-13","9.°-14","9.°-15","9.°-16","9.°-17","9.°-18","9.°-19","9.°-20","9.°-21","9.°-22","9.°-23","9.°-24","9.°-25",null,{"$f":"IFERROR(IF(D14=\"\",\"\",IF((VLOOKUP(AD14,Herramientas!$P$3:$Q$227,2,0))=D14,1,0)),\"\")","v":""},{"$f":"IFERROR(IF(E14=\"\",\"\",IF((VLOOKUP(AE14,Herramientas!$P$3:$Q$227,2,0))=E14,1,0)),\"\")","v":""},{"$f":"IFERROR(IF(F14=\"\",\"\",IF((VLOOKUP(AF14,Herramientas!$P$3:$Q$227,2,0))=F14,1,0)),\"\")","v":""},{"$f":"IFERROR(IF(G14=\"\",\"\",IF((VLOOKUP(AG14,Herramientas!$P$3:$Q$227,2,0))=G14,1,0)),\"\")","v":""},{"$f":"IFERROR(IF(H14=\"\",\"\",IF((VLOOKUP(AH14,Herramientas!$P$3:$Q$227,2,0))=H14,1,0)),\"\")","v":""},{"$f":"IFERROR(IF(I14=\"\",\"\",IF((VLOOKUP(AI14,Herramientas!$P$3:$Q$227,2,0))=I14,1,0)),\"\")","v":""},{"$f":"IFERROR(IF(J14=\"\",\"\",IF((VLOOKUP(AJ14,Herramientas!$P$3:$Q$227,2,0))=J14,1,0)),\"\")","v":""},{"$f":"IFERROR(IF(K14=\"\",\"\",IF((VLOOKUP(AK14,Herramientas!$P$3:$Q$227,2,0))=K14,1,0)),\"\")","v":""},{"$f":"IFERROR(IF(L14=\"\",\"\",IF((VLOOKUP(AL14,Herramientas!$P$3:$Q$227,2,0))=L14,1,0)),\"\")","v":""},{"$f":"IFERROR(IF(M14=\"\",\"\",IF((VLOOKUP(AM14,Herramientas!$P$3:$Q$227,2,0))=M14,1,0)),\"\")","v":""},{"$f":"IFERROR(IF(N14=\"\",\"\",IF((VLOOKUP(AN14,Herramientas!$P$3:$Q$227,2,0))=N14,1,0)),\"\")","v":""},{"$f":"IFERROR(IF(O14=\"\",\"\",IF((VLOOKUP(AO14,Herramientas!$P$3:$Q$227,2,0))=O14,1,0)),\"\")","v":""},{"$f":"IFERROR(IF(P14=\"\",\"\",IF((VLOOKUP(AP14,Herramientas!$P$3:$Q$227,2,0))=P14,1,0)),\"\")","v":""},{"$f":"IFERROR(IF(Q14=\"\",\"\",IF((VLOOKUP(AQ14,Herramientas!$P$3:$Q$227,2,0))=Q14,1,0)),\"\")","v":""},{"$f":"IFERROR(IF(R14=\"\",\"\",IF((VLOOKUP(AR14,Herramientas!$P$3:$Q$227,2,0))=R14,1,0)),\"\")","v":""},{"$f":"IFERROR(IF(S14=\"\",\"\",IF((VLOOKUP(AS14,Herramientas!$P$3:$Q$227,2,0))=S14,1,0)),\"\")","v":""},{"$f":"IFERROR(IF(T14=\"\",\"\",IF((VLOOKUP(AT14,Herramientas!$P$3:$Q$227,2,0))=T14,1,0)),\"\")","v":""},{"$f":"IFERROR(IF(U14=\"\",\"\",IF((VLOOKUP(AU14,Herramientas!$P$3:$Q$227,2,0))=U14,1,0)),\"\")","v":""},{"$f":"IFERROR(IF(V14=\"\",\"\",IF((VLOOKUP(AV14,Herramientas!$P$3:$Q$227,2,0))=V14,1,0)),\"\")","v":""},{"$f":"IFERROR(IF(W14=\"\",\"\",IF((VLOOKUP(AW14,Herramientas!$P$3:$Q$227,2,0))=W14,1,0)),\"\")","v":""},{"$f":"IFERROR(IF(X14=\"\",\"\",IF((VLOOKUP(AX14,Herramientas!$P$3:$Q$227,2,0))=X14,1,0)),\"\")","v":""},{"$f":"IFERROR(IF(Y14=\"\",\"\",IF((VLOOKUP(AY14,Herramientas!$P$3:$Q$227,2,0))=Y14,1,0)),\"\")","v":""},{"$f":"IFERROR(IF(Z14=\"\",\"\",IF((VLOOKUP(AZ14,Herramientas!$P$3:$Q$227,2,0))=Z14,1,0)),\"\")","v":""},{"$f":"IFERROR(IF(AA14=\"\",\"\",IF((VLOOKUP(BA14,Herramientas!$P$3:$Q$227,2,0))=AA14,1,0)),\"\")","v":""},{"$f":"IFERROR(IF(AB14=\"\",\"\",IF((VLOOKUP(BB14,Herramientas!$P$3:$Q$227,2,0))=AB14,1,0)),\"\")","v":""},null,0,0,null,"SUMIT8",{"$f":"SUM(BK$8:BK$57)","v":0},{"$f":"COUNTIF(BK$8:BK$57,0)","v":0},0,null,null,"a",null,null,"b",null,null,"c",null,null,"d"]
[8,null,null,null,null,null,null,null,null,null,null,null,null,null,null,null,null,null,null,null,null,null,null,null,null,null,null,null,null,"9.°-1","9.°-2","9.°-3","9.°-4","9.°-5","9.°-6","9.°-7","9.°-8","9.°-9","9.°-10","9.°-11","9.°-12","9.°-13","9.°-14","9.°-15","9.°-16","9.°-17","9.°-18","9.°-19","9.°-20","9.°-21","9.°-22","9.°-23","9.°-24","9.°-25",null,{"$f":"IFERROR(IF(D15=\"\",\"\",IF((VLOOKUP(AD15,Herramientas!$P$3:$Q$227,2,0))=D15,1,0)),\"\")","v":""},{"$f":"IFERROR(IF(E15=\"\",\"\",IF((VLOOKUP(AE15,Herramientas!$P$3:$Q$227,2,0))=E15,1,0)),\"\")","v":""},{"$f":"IFERROR(IF(F15=\"\",\"\",IF((VLOOKUP(AF15,Herramientas!$P$3:$Q$227,2,0))=F15,1,0)),\"\")","v":""},{"$f":"IFERROR(IF(G15=\"\",\"\",IF((VLOOKUP(AG15,Herramientas!$P$3:$Q$227,2,0))=G15,1,0)),\"\")","v":""},{"$f":"IFERROR(IF(H15=\"\",\"\",IF((VLOOKUP(AH15,Herramientas!$P$3:$Q$227,2,0))=H15,1,0)),\"\")","v":""},{"$f":"IFERROR(IF(I15=\"\",\"\",IF((VLOOKUP(AI15,Herramientas!$P$3:$Q$227,2,0))=I15,1,0)),\"\")","v":""},{"$f":"IFERROR(IF(J15=\"\",\"\",IF((VLOOKUP(AJ15,Herramientas!$P$3:$Q$227,2,0))=J15,1,0)),\"\")","v":""},{"$f":"IFERROR(IF(K15=\"\",\"\",IF((VLOOKUP(AK15,Herramientas!$P$3:$Q$227,2,0))=K15,1,0)),\"\")","v":""},{"$f":"IFERROR(IF(L15=\"\",\"\",IF((VLOOKUP(AL15,Herramientas!$P$3:$Q$227,2,0))=L15,1,0)),\"\")","v":""},{"$f":"IFERROR(IF(M15=\"\",\"\",IF((VLOOKUP(AM15,Herramientas!$P$3:$Q$227,2,0))=M15,1,0)),\"\")","v":""},{"$f":"IFERROR(IF(N15=\"\",\"\",IF((VLOOKUP(AN15,Herramientas!$P$3:$Q$227,2,0))=N15,1,0)),\"\")","v":""},{"$f":"IFERROR(IF(O15=\"\",\"\",IF((VLOOKUP(AO15,Herramientas!$P$3:$Q$227,2,0))=O15,1,0)),\"\")","v":""},{"$f":"IFERROR(IF(P15=\"\",\"\",IF((VLOOKUP(AP15,Herramientas!$P$3:$Q$227,2,0))=P15,1,0)),\"\")","v":""},{"$f":"IFERROR(IF(Q15=\"\",\"\",IF((VLOOKUP(AQ15,Herramientas!$P$3:$Q$227,2,0))=Q15,1,0)),\"\")","v":""},{"$f":"IFERROR(IF(R15=\"\",\"\",IF((VLOOKUP(AR15,Herramientas!$P$3:$Q$227,2,0))=R15,1,0)),\"\")","v":""},{"$f":"IFERROR(IF(S15=\"\",\"\",IF((VLOOKUP(AS15,Herramientas!$P$3:$Q$227,2,0))=S15,1,0)),\"\")","v":""},{"$f":"IFERROR(IF(T15=\"\",\"\",IF((VLOOKUP(AT15,Herramientas!$P$3:$Q$227,2,0))=T15,1,0)),\"\")","v":""},{"$f":"IFERROR(IF(U15=\"\",\"\",IF((VLOOKUP(AU15,Herramientas!$P$3:$Q$227,2,0))=U15,1,0)),\"\")","v":""},{"$f":"IFERROR(IF(V15=\"\",\"\",IF((VLOOKUP(AV15,Herramientas!$P$3:$Q$227,2,0))=V15,1,0)),\"\")","v":""},{"$f":"IFERROR(IF(W15=\"\",\"\",IF((VLOOKUP(AW15,Herramientas!$P$3:$Q$227,2,0))=W15,1,0)),\"\")","v":""},{"$f":"IFERROR(IF(X15=\"\",\"\",IF((VLOOKUP(AX15,Herramientas!$P$3:$Q$227,2,0))=X15,1,0)),\"\")","v":""},{"$f":"IFERROR(IF(Y15=\"\",\"\",IF((VLOOKUP(AY15,Herramientas!$P$3:$Q$227,2,0))=Y15,1,0)),\"\")","v":""},{"$f":"IFERROR(IF(Z15=\"\",\"\",IF((VLOOKUP(AZ15,Herramientas!$P$3:$Q$227,2,0))=Z15,1,0)),\"\")","v":""},{"$f":"IFERROR(IF(AA15=\"\",\"\",IF((VLOOKUP(BA15,Herramientas!$P$3:$Q$227,2,0))=AA15,1,0)),\"\")","v":""},{"$f":"IFERROR(IF(AB15=\"\",\"\",IF((VLOOKUP(BB15,Herramientas!$P$3:$Q$227,2,0))=AB15,1,0)),\"\")","v":""},null,0,0,null,"SUMIT9",{"$f":"SUM(BL$8:BL$57)","v":0},{"$f":"COUNTIF(BL$8:BL$57,0)","v":0},0,null,"it1",{"$f":"CM7","v":0},{"$f":"CM12","v":0},{"$f":"IF(CN15=0,\"\",CM15/CN15*100)","v":""},{"$f":"CM8","v":0},{"$f":"CN15","v":0},{"$f":"IF(CQ15=0,\"\",CP15/CQ15*100)","v":""},{"$f":"CM9","v":0},{"$f":"CQ15","v":0},{"$f":"IF(CT15=0,\"\",CS15/CT15*100)","v":""},{"$f":"CM10","v":0},{"$f":"CT15","v":0},{"$f":"IF(CW15=0,\"\",CV15/CW15*100)","v":""}]
[9,null,null,null,null,null,null,null,null,null,null,null,null,null,null,null,null,null,null,null,null,null,null,null,null,null,null,null,null,"9.°-1","9.°-2","9.°-3","9.°-4","9.°-5","9.°-6","9.°-7","9.°-8","9.°-9","9.°-10","9.°-11","9.°-12","9.°-13","9.°-14","9.°-15","9.°-16","9.°-17","9.°-18","9.°-19","9.°-20","9.°-21","9.°-22","9.°-23","9.°-24","9.°-25",null,{"$f":"IFERROR(IF(D16=\"\",\"\",IF((VLOOKUP(AD16,Herramientas!$P$3:$Q$227,2,0))=D16,1,0)),\"\")","v":""},{"$f":"IFERROR(IF(E16=\"\",\"\",IF((VLOOKUP(AE16,Herramientas!$P$3:$Q$227,2,0))=E16,1,0)),\"\")","v":""},{"$f":"IFERROR(IF(F16=\"\",\"\",IF((VLOOKUP(AF16,Herramientas!$P$3:$Q$227,2,0))=F16,1,0)),\"\")","v":""},{"$f":"IFERROR(IF(G16=\"\",\"\",IF((VLOOKUP(AG16,Herramientas!$P$3:$Q$227,2,0))=G16,1,0)),\"\")","v":""},{"$f":"IFERROR(IF(H16=\"\",\"\",IF((VLOOKUP(AH16,Herramientas!$P$3:$Q$227,2,0))=H16,1,0)),\"\")","v":""},{"$f":"IFERROR(IF(I16=\"\",\"\",IF((VLOOKUP(AI16,Herramientas!$P$3:$Q$227,2,0))=I16,1,0)),\"\")","v":""},{"$f":"IFERROR(IF(J16=\"\",\"\",IF((VLOOKUP(AJ16,Herramientas!$P$3:$Q$227,2,0))=J16,1,0)),\"\")","v":""},{"$f":"IFERROR(IF(K16=\"\",\"\",IF((VLOOKUP(AK16,Herramientas!$P$3:$Q$227,2,0))=K16,1,0)),\"\")","v":""},{"$f":"IFERROR(IF(L16=\"\",\"\",IF((VLOOKUP(AL16,Herramientas!$P$3:$Q$227,2,0))=L16,1,0)),\"\")","v":""},{"$f":"IFERROR(IF(M16=\"\",\"\",IF((VLOOKUP(AM16,Herramientas!$P$3:$Q$227,2,0))=M16,1,0)),\"\")","v":""},{"$f":"IFERROR(IF(N16=\"\",\"\",IF((VLOOKUP(AN16,Herramientas!$P$3:$Q$227,2,0))=N16,1,0)),\"\")","v":""},{"$f":"IFERROR(IF(O16=\"\",\"\",IF((VLOOKUP(AO16,Herramientas!$P$3:$Q$227,2,0))=O16,1,0)),\"\")","v":""},{"$f":"IFERROR(IF(P16=\"\",\"\",IF((VLOOKUP(AP16,Herramientas!$P$3:$Q$227,2,0))=P16,1,0)),\"\")","v":""},{"$f":"IFERROR(IF(Q16=\"\",\"\",IF((VLOOKUP(AQ16,Herramientas!$P$3:$Q$227,2,0))=Q16,1,0)),\"\")","v":""},{"$f":"IFERROR(IF(R16=\"\",\"\",IF((VLOOKUP(AR16,Herramientas!$P$3:$Q$227,2,0))=R16,1,0)),\"\")","v":""},{"$f":"IFERROR(IF(S16=\"\",\"\",IF((VLOOKUP(AS16,Herramientas!$P$3:$Q$227,2,0))=S16,1,0)),\"\")","v":""},{"$f":"IFERROR(IF(T16=\"\",\"\",IF((VLOOKUP(AT16,Herramientas!$P$3:$Q$227,2,0))=T16,1,0)),\"\")","v":""},{"$f":"IFERROR(IF(U16=\"\",\"\",IF((VLOOKUP(AU16,Herramientas!$P$3:$Q$227,2,0))=U16,1,0)),\"\")","v":""},{"$f":"IFERROR(IF(V16=\"\",\"\",IF((VLOOKUP(AV16,Herramientas!$P$3:$Q$227,2,0))=V16,1,0)),\"\")","v":""},{"$f":"IFERROR(IF(W16=\"\",\"\",IF((VLOOKUP(AW16,Herramientas!$P$3:$Q$227,2,0))=W16,1,0)),\"\")","v":""},{"$f":"IFERROR(IF(X16=\"\",\"\",IF((VLOOKUP(AX16,Herramientas!$P$3:$Q$227,2,0))=X16,1,0)),\"\")","v":""},{"$f":"IFERROR(IF(Y16=\"\",\"\",IF((VLOOKUP(AY16,Herramientas!$P$3:$Q$227,2,0))=Y16,1,0)),\"\")","v":""},{"$f":"IFERROR(IF(Z16=\"\",\"\",IF((VLOOKUP(AZ16,Herramientas!$P$3:$Q$227,2,0))=Z16,1,0)),\"\")","v":""},{"$f":"IFERROR(IF(AA16=\"\",\"\",IF((VLOOKUP(BA16,Herramientas!$P$3:$Q$227,2,0))=AA16,1,0)),\"\")","v":""},{"$f":"IFERROR(IF(AB16=\"\",\"\",IF((VLOOKUP(BB16,Herramientas!$P$3:$Q$227,2,0))=AB16,1,0)),\"\")","v":""},null,0,0,null,"SUMIT10",{"$f":"SUM(BM$8:BM$57)","v":0},{"$f":"COUNTIF(BM$8:BM$57,0)","v":0},0,null,"it2",{"$f":"CN7","v":0},{"$f":"CN12","v":0},{"$f":"IF(CN16=0,\"\",CM16/CN16*100)","v":""},{"$f":"CN8","v":0},{"$f":"CN16","v":0},{"$f":"IF(CQ16=0,\"\",CP16/CQ16*100)","v":""},{"$f":"CN9","v":0},{"$f":"CQ16","v":0},{"$f":"IF(CT16=0,\"\",CS16/CT16*100)","v":""},{"$f":"CN10","v":0},{"$f":"CT16","v":0},{"$f":"IF(CW16=0,\"\",CV16/CW16*100)","v":""}]
[10,null,null,null,null,null,null,null,null,null,null,null,null,null,null,null,null,null,null,null,null,null,null,null,null,null,null,null,null,"9.°-1","9.°-2","9.°-3","9.°-4","9.°-5","9.°-6","9.°-7","9.°-8","9.°-9","9.°-10","9.°-11","9.°-12","9.°-13","9.°-14","9.°-15","9.°-16","9.°-17","9.°-18","9.°-19","9.°-20","9.°-21","9.°-22","9.°-23","9.°-24","9.°-25",null,{"$f":"IFERROR(IF(D17=\"\",\"\",IF((VLOOKUP(AD17,Herramientas!$P$3:$Q$227,2,0))=D17,1,0)),\"\")","v":""},{"$f":"IFERROR(IF(E17=\"\",\"\",IF((VLOOKUP(AE17,Herramientas!$P$3:$Q$227,2,0))=E17,1,0)),\"\")","v":""},{"$f":"IFERROR(IF(F17=\"\",\"\",IF((VLOOKUP(AF17,Herramientas!$P$3:$Q$227,2,0))=F17,1,0)),\"\")","v":""},{"$f":"IFERROR(IF(G17=\"\",\"\",IF((VLOOKUP(AG17,Herramientas!$P$3:$Q$227,2,0))=G17,1,0)),\"\")","v":""},{"$f":"IFERROR(IF(H17=\"\",\"\",IF((VLOOKUP(AH17,Herramientas!$P$3:$Q$227,2,0))=H17,1,0)),\"\")","v":""},{"$f":"IFERROR(IF(I17=\"\",\"\",IF((VLOOKUP(AI17,Herramientas!$P$3:$Q$227,2,0))=I17,1,0)),\"\")","v":""},{"$f":"IFERROR(IF(J17=\"\",\"\",IF((VLOOKUP(AJ17,Herramientas!$P$3:$Q$227,2,0))=J17,1,0)),\"\")","v":""},{"$f":"IFERROR(IF(K17=\"\",\"\",IF((VLOOKUP(AK17,Herramientas!$P$3:$Q$227,2,0))=K17,1,0)),\"\")","v":""},{"$f":"IFERROR(IF(L17=\"\",\"\",IF((VLOOKUP(AL17,Herramientas!$P$3:$Q$227,2,0))=L17,1,0)),\"\")","v":""},{"$f":"IFERROR(IF(M17=\"\",\"\",IF((VLOOKUP(AM17,Herramientas!$P$3:$Q$227,2,0))=M17,1,0)),\"\")","v":""},{"$f":"IFERROR(IF(N17=\"\",\"\",IF((VLOOKUP(AN17,Herramientas!$P$3:$Q$227,2,0))=N17,1,0)),\"\")","v":""},{"$f":"IFERROR(IF(O17=\"\",\"\",IF((VLOOKUP(AO17,Herramientas!$P$3:$Q$227,2,0))=O17,1,0)),\"\")","v":""},{"$f":"IFERROR(IF(P17=\"\",\"\",IF((VLOOKUP(AP17,Herramientas!$P$3:$Q$227,2,0))=P17,1,0)),\"\")","v":""},{"$f":"IFERROR(IF(Q17=\"\",\"\",IF((VLOOKUP(AQ17,Herramientas!$P$3:$Q$227,2,0))=Q17,1,0)),\"\")","v":""},{"$f":"IFERROR(IF(R17=\"\",\"\",IF((VLOOKUP(AR17,Herramientas!$P$3:$Q$227,2,0))=R17,1,0)),\"\")","v":""},{"$f":"IFERROR(IF(S17=\"\",\"\",IF((VLOOKUP(AS17,Herramientas!$P$3:$Q$227,2,0))=S17,1,0)),\"\")","v":""},{"$f":"IFERROR(IF(T17=\"\",\"\",IF((VLOOKUP(AT17,Herramientas!$P$3:$Q$227,2,0))=T17,1,0)),\"\")","v":""},{"$f":"IFERROR(IF(U17=\"\",\"\",IF((VLOOKUP(AU17,Herramientas!$P$3:$Q$227,2,0))=U17,1,0)),\"\")","v":""},{"$f":"IFERROR(IF(V17=\"\",\"\",IF((VLOOKUP(AV17,Herramientas!$P$3:$Q$227,2,0))=V17,1,0)),\"\")","v":""},{"$f":"IFERROR(IF(W17=\"\",\"\",IF((VLOOKUP(AW17,Herramientas!$P$3:$Q$227,2,0))=W17,1,0)),\"\")","v":""},{"$f":"IFERROR(IF(X17=\"\",\"\",IF((VLOOKUP(AX17,Herramientas!$P$3:$Q$227,2,0))=X17,1,0)),\"\")","v":""},{"$f":"IFERROR(IF(Y17=\"\",\"\",IF((VLOOKUP(AY17,Herramientas!$P$3:$Q$227,2,0))=Y17,1,0)),\"\")","v":""},{"$f":"IFERROR(IF(Z17=\"\",\"\",IF((VLOOKUP(AZ17,Herramientas!$P$3:$Q$227,2,0))=Z17,1,0)),\"\")","v":""},{"$f":"IFERROR(IF(AA17=\"\",\"\",IF((VLOOKUP(BA17,Herramientas!$P$3:$Q$227,2,0))=AA17,1,0)),\"\")","v":""},{"$f":"IFERROR(IF(AB17=\"\",\"\",IF((VLOOKUP(BB17,Herramientas!$P$3:$Q$227,2,0))=AB17,1,0)),\"\")","v":""},null,0,0,null,"SUMIT11",{"$f":"SUM(BN$8:BN$57)","v":0},{"$f":"COUNTIF(BN$8:BN$57,0)","v":0},0,null,"it3",{"$f":"CO7","v":0},{"$f":"CO12","v":0},"",{"$f":"CO8","v":0},{"$f":"CN17","v":0},"",{"$f":"CO9","v":0},{"$f":"CQ17","v":0},"",{"$f":"CO10","v":0},{"$f":"CT17","v":0},""]
[11,null,null,null,null,null,null,null,null,null,null,null,null,null,null,null,null,null,null,null,null,null,null,null,null,null,null,null,null,"9.°-1","9.°-2","9.°-3","9.°-4","9.°-5","9.°-6","9.°-7","9.°-8","9.°-9","9.°-10","9.°-11","9.°-12","9.°-13","9.°-14","9.°-15","9.°-16","9.°-17","9.°-18","9.°-19","9.°-20","9.°-21","9.°-22","9.°-23","9.°-24","9.°-25",null,{"$f":"IFERROR(IF(D18=\"\",\"\",IF((VLOOKUP(AD18,Herramientas!$P$3:$Q$227,2,0))=D18,1,0)),\"\")","v":""},{"$f":"IFERROR(IF(E18=\"\",\"\",IF((VLOOKUP(AE18,Herramientas!$P$3:$Q$227,2,0))=E18,1,0)),\"\")","v":""},{"$f":"IFERROR(IF(F18=\"\",\"\",IF((VLOOKUP(AF18,Herramientas!$P$3:$Q$227,2,0))=F18,1,0)),\"\")","v":""},{"$f":"IFERROR(IF(G18=\"\",\"\",IF((VLOOKUP(AG18,Herramientas!$P$3:$Q$227,2,0))=G18,1,0)),\"\")","v":""},{"$f":"IFERROR(IF(H18=\"\",\"\",IF((VLOOKUP(AH18,Herramientas!$P$3:$Q$227,2,0))=H18,1,0)),\"\")","v":""},{"$f":"IFERROR(IF(I18=\"\",\"\",IF((VLOOKUP(AI18,Herramientas!$P$3:$Q$227,2,0))=I18,1,0)),\"\")","v":""},{"$f":"IFERROR(IF(J18=\"\",\"\",IF((VLOOKUP(AJ18,Herramientas!$P$3:$Q$227,2,0))=J18,1,0)),\"\")","v":""},{"$f":"IFERROR(IF(K18=\"\",\"\",IF((VLOOKUP(AK18,Herramientas!$P$3:$Q$227,2,0))=K18,1,0)),\"\")","v":""},{"$f":"IFERROR(IF(L18=\"\",\"\",IF((VLOOKUP(AL18,Herramientas!$P$3:$Q$227,2,0))=L18,1,0)),\"\")","v":""},{"$f":"IFERROR(IF(M18=\"\",\"\",IF((VLOOKUP(AM18,Herramientas!$P$3:$Q$227,2,0))=M18,1,0)),\"\")","v":""},{"$f":"IFERROR(IF(N18=\"\",\"\",IF((VLOOKUP(AN18,Herramientas!$P$3:$Q$227,2,0))=N18,1,0)),\"\")","v":""},{"$f":"IFERROR(IF(O18=\"\",\"\",IF((VLOOKUP(AO18,Herramientas!$P$3:$Q$227,2,0))=O18,1,0)),\"\")","v":""},{"$f":"IFERROR(IF(P18=\"\",\"\",IF((VLOOKUP(AP18,Herramientas!$P$3:$Q$227,2,0))=P18,1,0)),\"\")","v":""},{"$f":"IFERROR(IF(Q18=\"\",\"\",IF((VLOOKUP(AQ18,Herramientas!$P$3:$Q$227,2,0))=Q18,1,0)),\"\")","v":""},{"$f":"IFERROR(IF(R18=\"\",\"\",IF((VLOOKUP(AR18,Herramientas!$P$3:$Q$227,2,0))=R18,1,0)),\"\")","v":""},{"$f":"IFERROR(IF(S18=\"\",\"\",IF((VLOOKUP(AS18,Herramientas!$P$3:$Q$227,2,0))=S18,1,0)),\"\")","v":""},{"$f":"IFERROR(IF(T18=\"\",\"\",IF((VLOOKUP(AT18,Herramientas!$P$3:$Q$227,2,0))=T18,1,0)),\"\")","v":""},{"$f":"IFERROR(IF(U18=\"\",\"\",IF((VLOOKUP(AU18,Herramientas!$P$3:$Q$227,2,0))=U18,1,0)),\"\")","v":""},{"$f":"IFERROR(IF(V18=\"\",\"\",IF((VLOOKUP(AV18,Herramientas!$P$3:$Q$227,2,0))=V18,1,0)),\"\")","v":""},{"$f":"IFERROR(IF(W18=\"\",\"\",IF((VLOOKUP(AW18,Herramientas!$P$3:$Q$227,2,0))=W18,1,0)),\"\")","v":""},{"$f":"IFERROR(IF(X18=\"\",\"\",IF((VLOOKUP(AX18,Herramientas!$P$3:$Q$227,2,0))=X18,1,0)),\"\")","v":""},{"$f":"IFERROR(IF(Y18=\"\",\"\",IF((VLOOKUP(AY18,Herramientas!$P$3:$Q$227,2,0))=Y18,1,0)),\"\")","v":""},{"$f":"IFERROR(IF(Z18=\"\",\"\",IF((VLOOKUP(AZ18,Herramientas!$P$3:$Q$227,2,0))=Z18,1,0)),\"\")","v":""},{"$f":"IFERROR(IF(AA18=\"\",\"\",IF((VLOOKUP(BA18,Herramientas!$P$3:$Q$227,2,0))=AA18,1,0)),\"\")","v":""},{"$f":"IFERROR(IF(AB18=\"\",\"\",IF((VLOOKUP(BB18,Herramientas!$P$3:$Q$227,2,0))=AB18,1,0)),\"\")","v":""},null,0,0,null,"SUMIT12",{"$f":"SUM(BO$8:BO$57)","v":0},{"$f":"COUNTIF(BO$8:BO$57,0)","v":0},0,null,"it4",{"$f":"CP7","v":0},{"$f":"CP12","v":0},"",{"$f":"CP8","v":0},{"$f":"CN18","v":0},"",{"$f":"CP9","v":0},0,"",{"$f":"CP10","v":0},{"$f":"CT18","v":0},""]
[12,null,null,null,null,null,null,null,null,null,null,null,null,null,null,null,null,null,null,null,null,null,null,null,null,null,null,null,null,"9.°-1","9.°-2","9.°-3","9.°-4","9.°-5","9.°-6","9.°-7","9.°-8","9.°-9","9.°-10","9.°-11","9.°-12","9.°-13","9.°-14","9.°-15","9.°-16","9.°-17","9.°-18","9.°-19","9.°-20","9.°-21","9.°-22","9.°-23","9.°-24","9.°-25",null,{"$f":"IFERROR(IF(D19=\"\",\"\",IF((VLOOKUP(AD19,Herramientas!$P$3:$Q$227,2,0))=D19,1,0)),\"\")","v":""},{"$f":"IFERROR(IF(E19=\"\",\"\",IF((VLOOKUP(AE19,Herramientas!$P$3:$Q$227,2,0))=E19,1,0)),\"\")","v":""},{"$f":"IFERROR(IF(F19=\"\",\"\",IF((VLOOKUP(AF19,Herramientas!$P$3:$Q$227,2,0))=F19,1,0)),\"\")","v":""},{"$f":"IFERROR(IF(G19=\"\",\"\",IF((VLOOKUP(AG19,Herramientas!$P$3:$Q$227,2,0))=G19,1,0)),\"\")","v":""},{"$f":"IFERROR(IF(H19=\"\",\"\",IF((VLOOKUP(AH19,Herramientas!$P$3:$Q$227,2,0))=H19,1,0)),\"\")","v":""},{"$f":"IFERROR(IF(I19=\"\",\"\",IF((VLOOKUP(AI19,Herramientas!$P$3:$Q$227,2,0))=I19,1,0)),\"\")","v":""},{"$f":"IFERROR(IF(J19=\"\",\"\",IF((VLOOKUP(AJ19,Herramientas!$P$3:$Q$227,2,0))=J19,1,0)),\"\")","v":""},{"$f":"IFERROR(IF(K19=\"\",\"\",IF((VLOOKUP(AK19,Herramientas!$P$3:$Q$227,2,0))=K19,1,0)),\"\")","v":""},{"$f":"IFERROR(IF(L19=\"\",\"\",IF((VLOOKUP(AL19,Herramientas!$P$3:$Q$227,2,0))=L19,1,0)),\"\")","v":""},{"$f":"IFERROR(IF(M19=\"\",\"\",IF((VLOOKUP(AM19,Herramientas!$P$3:$Q$227,2,0))=M19,1,0)),\"\")","v":""},{"$f":"IFERROR(IF(N19=\"\",\"\",IF((VLOOKUP(AN19,Herramientas!$P$3:$Q$227,2,0))=N19,1,0)),\"\")","v":""},{"$f":"IFERROR(IF(O19=\"\",\"\",IF((VLOOKUP(AO19,Herramientas!$P$3:$Q$227,2,0))=O19,1,0)),\"\")","v":""},{"$f":"IFERROR(IF(P19=\"\",\"\",IF((VLOOKUP(AP19,Herramientas!$P$3:$Q$227,2,0))=P19,1,0)),\"\")","v":""},{"$f":"IFERROR(IF(Q19=\"\",\"\",IF((VLOOKUP(AQ19,Herramientas!$P$3:$Q$227,2,0))=Q19,1,0)),\"\")","v":""},{"$f":"IFERROR(IF(R19=\"\",\"\",IF((VLOOKUP(AR19,Herramientas!$P$3:$Q$227,2,0))=R19,1,0)),\"\")","v":""},{"$f":"IFERROR(IF(S19=\"\",\"\",IF((VLOOKUP(AS19,Herramientas!$P$3:$Q$227,2,0))=S19,1,0)),\"\")","v":""},{"$f":"IFERROR(IF(T19=\"\",\"\",IF((VLOOKUP(AT19,Herramientas!$P$3:$Q$227,2,0))=T19,1,0)),\"\")","v":""},{"$f":"IFERROR(IF(U19=\"\",\"\",IF((VLOOKUP(AU19,Herramientas!$P$3:$Q$227,2,0))=U19,1,0)),\"\")","v":""},{"$f":"IFERROR(IF(V19=\"\",\"\",IF((VLOOKUP(AV19,Herramientas!$P$3:$Q$227,2,0))=V19,1,0)),\"\")","v":""},{"$f":"IFERROR(IF(W19=\"\",\"\",IF((VLOOKUP(AW19,Herramientas!$P$3:$Q$227,2,0))=W19,1,0)),\"\")","v":""},{"$f":"IFERROR(IF(X19=\"\",\"\",IF((VLOOKUP(AX19,Herramientas!$P$3:$Q$227,2,0))=X19,1,0)),\"\")","v":""},{"$f":"IFERROR(IF(Y19=\"\",\"\",IF((VLOOKUP(AY19,Herramientas!$P$3:$Q$227,2,0))=Y19,1,0)),\"\")","v":""},{"$f":"IFERROR(IF(Z19=\"\",\"\",IF((VLOOKUP(AZ19,Herramientas!$P$3:$Q$227,2,0))=Z19,1,0)),\"\")","v":""},{"$f":"IFERROR(IF(AA19=\"\",\"\",IF((VLOOKUP(BA19,Herramientas!$P$3:$Q$227,2,0))=AA19,1,0)),\"\")","v":""},{"$f":"IFERROR(IF(AB19=\"\",\"\",IF((VLOOKUP(BB19,Herramientas!$P$3:$Q$227,2,0))=AB19,1,0)),\"\")","v":""},null,0,0,null,"SUMIT13",{"$f":"SUM(BP$8:BP$57)","v":0},{"$f":"COUNTIF(BP$8:BP$57,0)","v":0},0,null,"it5",{"$f":"CQ7","v":0},{"$f":"CQ12","v":0},"",{"$f":"CQ8","v":0},0,"",{"$f":"CQ9","v":0},0,"",{"$f":"CQ10","v":0},0,""]
[13,null,null,null,null,null,null,null,null,null,null,null,null,null,null,null,null,null,null,null,null,null,null,null,null,null,null,null,null,"9.°-1","9.°-2","9.°-3","9.°-4","9.°-5","9.°-6","9.°-7","9.°-8","9.°-9","9.°-10","9.°-11","9.°-12","9.°-13","9.°-14","9.°-15","9.°-16","9.°-17","9.°-18","9.°-19","9.°-20","9.°-21","9.°-22","9.°-23","9.°-24","9.°-25",null,{"$f":"IFERROR(IF(D20=\"\",\"\",IF((VLOOKUP(AD20,Herramientas!$P$3:$Q$227,2,0))=D20,1,0)),\"\")","v":""},{"$f":"IFERROR(IF(E20=\"\",\"\",IF((VLOOKUP(AE20,Herramientas!$P$3:$Q$227,2,0))=E20,1,0)),\"\")","v":""},{"$f":"IFERROR(IF(F20=\"\",\"\",IF((VLOOKUP(AF20,Herramientas!$P$3:$Q$227,2,0))=F20,1,0)),\"\")","v":""},{"$f":"IFERROR(IF(G20=\"\",\"\",IF((VLOOKUP(AG20,Herramientas!$P$3:$Q$227,2,0))=G20,1,0)),\"\")","v":""},{"$f":"IFERROR(IF(H20=\"\",\"\",IF((VLOOKUP(AH20,Herramientas!$P$3:$Q$227,2,0))=H20,1,0)),\"\")","v":""},{"$f":"IFERROR(IF(I20=\"\",\"\",IF((VLOOKUP(AI20,Herramientas!$P$3:$Q$227,2,0))=I20,1,0)),\"\")","v":""},{"$f":"IFERROR(IF(J20=\"\",\"\",IF((VLOOKUP(AJ20,Herramientas!$P$3:$Q$227,2,0))=J20,1,0)),\"\")","v":""},{"$f":"IFERROR(IF(K20=\"\",\"\",IF((VLOOKUP(AK20,Herramientas!$P$3:$Q$227,2,0))=K20,1,0)),\"\")","v":""},{"$f":"IFERROR(IF(L20=\"\",\"\",IF((VLOOKUP(AL20,Herramientas!$P$3:$Q$227,2,0))=L20,1,0)),\"\")","v":""},{"$f":"IFERROR(IF(M20=\"\",\"\",IF((VLOOKUP(AM20,Herramientas!$P$3:$Q$227,2,0))=M20,1,0)),\"\")","v":""},{"$f":"IFERROR(IF(N20=\"\",\"\",IF((VLOOKUP(AN20,Herramientas!$P$3:$Q$227,2,0))=N20,1,0)),\"\")","v":""},{"$f":"IFERROR(IF(O20=\"\",\"\",IF((VLOOKUP(AO20,Herramientas!$P$3:$Q$227,2,0))=O20,1,0)),\"\")","v":""},{"$f":"IFERROR(IF(P20=\"\",\"\",IF((VLOOKUP(AP20,Herramientas!$P$3:$Q$227,2,0))=P20,1,0)),\"\")","v":""},{"$f":"IFERROR(IF(Q20=\"\",\"\",IF((VLOOKUP(AQ20,Herramientas!$P$3:$Q$227,2,0))=Q20,1,0)),\"\")","v":""},{"$f":"IFERROR(IF(R20=\"\",\"\",IF((VLOOKUP(AR20,Herramientas!$P$3:$Q$227,2,0))=R20,1,0)),\"\")","v":""},{"$f":"IFERROR(IF(S20=\"\",\"\",IF((VLOOKUP(AS20,Herramientas!$P$3:$Q$227,2,0))=S20,1,0)),\"\")","v":""},{"$f":"IFERROR(IF(T20=\"\",\"\",IF((VLOOKUP(AT20,Herramientas!$P$3:$Q$227,2,0))=T20,1,0)),\"\")","v":""},{"$f":"IFERROR(IF(U20=\"\",\"\",IF((VLOOKUP(AU20,Herramientas!$P$3:$Q$227,2,0))=U20,1,0)),\"\")","v":""},{"$f":"IFERROR(IF(V20=\"\",\"\",IF((VLOOKUP(AV20,Herramientas!$P$3:$Q$227,2,0))=V20,1,0)),\"\")","v":""},{"$f":"IFERROR(IF(W20=\"\",\"\",IF((VLOOKUP(AW20,Herramientas!$P$3:$Q$227,2,0))=W20,1,0)),\"\")","v":""},{"$f":"IFERROR(IF(X20=\"\",\"\",IF((VLOOKUP(AX20,Herramientas!$P$3:$Q$227,2,0))=X20,1,0)),\"\")","v":""},{"$f":"IFERROR(IF(Y20=\"\",\"\",IF((VLOOKUP(AY20,Herramientas!$P$3:$Q$227,2,0))=Y20,1,0)),\"\")","v":""},{"$f":"IFERROR(IF(Z20=\"\",\"\",IF((VLOOKUP(AZ20,Herramientas!$P$3:$Q$227,2,0))=Z20,1,0)),\"\")","v":""},{"$f":"IFERROR(IF(AA20=\"\",\"\",IF((VLOOKUP(BA20,Herramientas!$P$3:$Q$227,2,0))=AA20,1,0)),\"\")","v":""},{"$f":"IFERROR(IF(AB20=\"\",\"\",IF((VLOOKUP(BB20,Herramientas!$P$3:$Q$227,2,0))=AB20,1,0)),\"\")","v":""},null,0,0,null,"SUMIT14",{"$f":"SUM(BQ$8:BQ$57)","v":0},{"$f":"COUNTIF(BQ$8:BQ$57,0)","v":0},0,null,"it6",{"$f":"CR7","v":0},{"$f":"CR12","v":0},"",{"$f":"CR8","v":0},0,"",{"$f":"CR9","v":0},0,"",{"$f":"CR10","v":0},0,""]
[14,null,null,null,null,null,null,null,null,null,null,null,null,null,null,null,null,null,null,null,null,null,null,null,null,null,null,null,null,"9.°-1","9.°-2","9.°-3","9.°-4","9.°-5","9.°-6","9.°-7","9.°-8","9.°-9","9.°-10","9.°-11","9.°-12","9.°-13","9.°-14","9.°-15","9.°-16","9.°-17","9.°-18","9.°-19","9.°-20","9.°-21","9.°-22","9.°-23","9.°-24","9.°-25",null,{"$f":"IFERROR(IF(D21=\"\",\"\",IF((VLOOKUP(AD21,Herramientas!$P$3:$Q$227,2,0))=D21,1,0)),\"\")","v":""},{"$f":"IFERROR(IF(E21=\"\",\"\",IF((VLOOKUP(AE21,Herramientas!$P$3:$Q$227,2,0))=E21,1,0)),\"\")","v":""},{"$f":"IFERROR(IF(F21=\"\",\"\",IF((VLOOKUP(AF21,Herramientas!$P$3:$Q$227,2,0))=F21,1,0)),\"\")","v":""},{"$f":"IFERROR(IF(G21=\"\",\"\",IF((VLOOKUP(AG21,Herramientas!$P$3:$Q$227,2,0))=G21,1,0)),\"\")","v":""},{"$f":"IFERROR(IF(H21=\"\",\"\",IF((VLOOKUP(AH21,Herramientas!$P$3:$Q$227,2,0))=H21,1,0)),\"\")","v":""},{"$f":"IFERROR(IF(I21=\"\",\"\",IF((VLOOKUP(AI21,Herramientas!$P$3:$Q$227,2,0))=I21,1,0)),\"\")","v":""},{"$f":"IFERROR(IF(J21=\"\",\"\",IF((VLOOKUP(AJ21,Herramientas!$P$3:$Q$227,2,0))=J21,1,0)),\"\")","v":""},{"$f":"IFERROR(IF(K21=\"\",\"\",IF((VLOOKUP(AK21,Herramientas!$P$3:$Q$227,2,0))=K21,1,0)),\"\")","v":""},{"$f":"IFERROR(IF(L21=\"\",\"\",IF((VLOOKUP(AL21,Herramientas!$P$3:$Q$227,2,0))=L21,1,0)),\"\")","v":""},{"$f":"IFERROR(IF(M21=\"\",\"\",IF((VLOOKUP(AM21,Herramientas!$P$3:$Q$227,2,0))=M21,1,0)),\"\")","v":""},{"$f":"IFERROR(IF(N21=\"\",\"\",IF((VLOOKUP(AN21,Herramientas!$P$3:$Q$227,2,0))=N21,1,0)),\"\")","v":""},{"$f":"IFERROR(IF(O21=\"\",\"\",IF((VLOOKUP(AO21,Herramientas!$P$3:$Q$227,2,0))=O21,1,0)),\"\")","v":""},{"$f":"IFERROR(IF(P21=\"\",\"\",IF((VLOOKUP(AP21,Herramientas!$P$3:$Q$227,2,0))=P21,1,0)),\"\")","v":""},{"$f":"IFERROR(IF(Q21=\"\",\"\",IF((VLOOKUP(AQ21,Herramientas!$P$3:$Q$227,2,0))=Q21,1,0)),\"\")","v":""},{"$f":"IFERROR(IF(R21=\"\",\"\",IF((VLOOKUP(AR21,Herramientas!$P$3:$Q$227,2,0))=R21,1,0)),\"\")","v":""},{"$f":"IFERROR(IF(S21=\"\",\"\",IF((VLOOKUP(AS21,Herramientas!$P$3:$Q$227,2,0))=S21,1,0)),\"\")","v":""},{"$f":"IFERROR(IF(T21=\"\",\"\",IF((VLOOKUP(AT21,Herramientas!$P$3:$Q$227,2,0))=T21,1,0)),\"\")","v":""},{"$f":"IFERROR(IF(U21=\"\",\"\",IF((VLOOKUP(AU21,Herramientas!$P$3:$Q$227,2,0))=U21,1,0)),\"\")","v":""},{"$f":"IFERROR(IF(V21=\"\",\"\",IF((VLOOKUP(AV21,Herramientas!$P$3:$Q$227,2,0))=V21,1,0)),\"\")","v":""},{"$f":"IFERROR(IF(W21=\"\",\"\",IF((VLOOKUP(AW21,Herramientas!$P$3:$Q$227,2,0))=W21,1,0)),\"\")","v":""},{"$f":"IFERROR(IF(X21=\"\",\"\",IF((VLOOKUP(AX21,Herramientas!$P$3:$Q$227,2,0))=X21,1,0)),\"\")","v":""},{"$f":"IFERROR(IF(Y21=\"\",\"\",IF((VLOOKUP(AY21,Herramientas!$P$3:$Q$227,2,0))=Y21,1,0)),\"\")","v":""},{"$f":"IFERROR(IF(Z21=\"\",\"\",IF((VLOOKUP(AZ21,Herramientas!$P$3:$Q$227,2,0))=Z21,1,0)),\"\")","v":""},{"$f":"IFERROR(IF(AA21=\"\",\"\",IF((VLOOKUP(BA21,Herramientas!$P$3:$Q$227,2,0))=AA21,1,0)),\"\")","v":""},{"$f":"IFERROR(IF(AB21=\"\",\"\",IF((VLOOKUP(BB21,Herramientas!$P$3:$Q$227,2,0))=AB21,1,0)),\"\")","v":""},null,0,0,null,"SUMIT15",{"$f":"SUM(BR$8:BR$57)","v":0},{"$f":"COUNTIF(BR$8:BR$57,0)","v":0},0,null,"it7",{"$f":"CS7","v":0},{"$f":"CS12","v":0},"",{"$f":"CS8","v":0},0,"",{"$f":"CS9","v":0},0,"",{"$f":"CS10","v":0},0,""]
[15,null,null,null,null,null,null,null,null,null,null,null,null,null,null,null,null,null,null,null,null,null,null,null,null,null,null,null,null,"9.°-1","9.°-2","9.°-3","9.°-4","9.°-5","9.°-6","9.°-7","9.°-8","9.°-9","9.°-10","9.°-11","9.°-12","9.°-13","9.°-14","9.°-15","9.°-16","9.°-17","9.°-18","9.°-19","9.°-20","9.°-21","9.°-22","9.°-23","9.°-24","9.°-25",null,{"$f":"IFERROR(IF(D22=\"\",\"\",IF((VLOOKUP(AD22,Herramientas!$P$3:$Q$227,2,0))=D22,1,0)),\"\")","v":""},{"$f":"IFERROR(IF(E22=\"\",\"\",IF((VLOOKUP(AE22,Herramientas!$P$3:$Q$227,2,0))=E22,1,0)),\"\")","v":""},{"$f":"IFERROR(IF(F22=\"\",\"\",IF((VLOOKUP(AF22,Herramientas!$P$3:$Q$227,2,0))=F22,1,0)),\"\")","v":""},{"$f":"IFERROR(IF(G22=\"\",\"\",IF((VLOOKUP(AG22,Herramientas!$P$3:$Q$227,2,0))=G22,1,0)),\"\")","v":""},{"$f":"IFERROR(IF(H22=\"\",\"\",IF((VLOOKUP(AH22,Herramientas!$P$3:$Q$227,2,0))=H22,1,0)),\"\")","v":""},{"$f":"IFERROR(IF(I22=\"\",\"\",IF((VLOOKUP(AI22,Herramientas!$P$3:$Q$227,2,0))=I22,1,0)),\"\")","v":""},{"$f":"IFERROR(IF(J22=\"\",\"\",IF((VLOOKUP(AJ22,Herramientas!$P$3:$Q$227,2,0))=J22,1,0)),\"\")","v":""},{"$f":"IFERROR(IF(K22=\"\",\"\",IF((VLOOKUP(AK22,Herramientas!$P$3:$Q$227,2,0))=K22,1,0)),\"\")","v":""},{"$f":"IFERROR(IF(L22=\"\",\"\",IF((VLOOKUP(AL22,Herramientas!$P$3:$Q$227,2,0))=L22,1,0)),\"\")","v":""},{"$f":"IFERROR(IF(M22=\"\",\"\",IF((VLOOKUP(AM22,Herramientas!$P$3:$Q$227,2,0))=M22,1,0)),\"\")","v":""},{"$f":"IFERROR(IF(N22=\"\",\"\",IF((VLOOKUP(AN22,Herramientas!$P$3:$Q$227,2,0))=N22,1,0)),\"\")","v":""},{"$f":"IFERROR(IF(O22=\"\",\"\",IF((VLOOKUP(AO22,Herramientas!$P$3:$Q$227,2,0))=O22,1,0)),\"\")","v":""},{"$f":"IFERROR(IF(P22=\"\",\"\",IF((VLOOKUP(AP22,Herramientas!$P$3:$Q$227,2,0))=P22,1,0)),\"\")","v":""},{"$f":"IFERROR(IF(Q22=\"\",\"\",IF((VLOOKUP(AQ22,Herramientas!$P$3:$Q$227,2,0))=Q22,1,0)),\"\")","v":""},{"$f":"IFERROR(IF(R22=\"\",\"\",IF((VLOOKUP(AR22,Herramientas!$P$3:$Q$227,2,0))=R22,1,0)),\"\")","v":""},{"$f":"IFERROR(IF(S22=\"\",\"\",IF((VLOOKUP(AS22,Herramientas!$P$3:$Q$227,2,0))=S22,1,0)),\"\")","v":""},{"$f":"IFERROR(IF(T22=\"\",\"\",IF((VLOOKUP(AT22,Herramientas!$P$3:$Q$227,2,0))=T22,1,0)),\"\")","v":""},{"$f":"IFERROR(IF(U22=\"\",\"\",IF((VLOOKUP(AU22,Herramientas!$P$3:$Q$227,2,0))=U22,1,0)),\"\")","v":""},{"$f":"IFERROR(IF(V22=\"\",\"\",IF((VLOOKUP(AV22,Herramientas!$P$3:$Q$227,2,0))=V22,1,0)),\"\")","v":""},{"$f":"IFERROR(IF(W22=\"\",\"\",IF((VLOOKUP(AW22,Herramientas!$P$3:$Q$227,2,0))=W22,1,0)),\"\")","v":""},{"$f":"IFERROR(IF(X22=\"\",\"\",IF((VLOOKUP(AX22,Herramientas!$P$3:$Q$227,2,0))=X22,1,0)),\"\")","v":""},{"$f":"IFERROR(IF(Y22=\"\",\"\",IF((VLOOKUP(AY22,Herramientas!$P$3:$Q$227,2,0))=Y22,1,0)),\"\")","v":""},{"$f":"IFERROR(IF(Z22=\"\",\"\",IF((VLOOKUP(AZ22,Herramientas!$P$3:$Q$227,2,0))=Z22,1,0)),\"\")","v":""},{"$f":"IFERROR(IF(AA22=\"\",\"\",IF((VLOOKUP(BA22,Herramientas!$P$3:$Q$227,2,0))=AA22,1,0)),\"\")","v":""},{"$f":"IFERROR(IF(AB22=\"\",\"\",IF((VLOOKUP(BB22,Herramientas!$P$3:$Q$227,2,0))=AB22,1,0)),\"\")","v":""},null,0,0,null,"SUMIT16",{"$f":"SUM(BS$8:BS$57)","v":0},{"$f":"COUNTIF(BS$8:BS$57,0)","v":0},0,null,"it8",{"$f":"CT7","v":0},{"$f":"CT12","v":0},"",{"$f":"CT8","v":0},0,"",{"$f":"CT9","v":0},0,"",{"$f":"CT10","v":0},0,""]
[16,null,null,null,null,null,null,null,null,null,null,null,null,null,null,null,null,null,null,null,null,null,null,null,null,null,null,null,null,"9.°-1","9.°-2","9.°-3","9.°-4","9.°-5","9.°-6","9.°-7","9.°-8","9.°-9","9.°-10","9.°-11","9.°-12","9.°-13","9.°-14","9.°-15","9.°-16","9.°-17","9.°-18","9.°-19","9.°-20","9.°-21","9.°-22","9.°-23","9.°-24","9.°-25",null,{"$f":"IFERROR(IF(D23=\"\",\"\",IF((VLOOKUP(AD23,Herramientas!$P$3:$Q$227,2,0))=D23,1,0)),\"\")","v":""},{"$f":"IFERROR(IF(E23=\"\",\"\",IF((VLOOKUP(AE23,Herramientas!$P$3:$Q$227,2,0))=E23,1,0)),\"\")","v":""},{"$f":"IFERROR(IF(F23=\"\",\"\",IF((VLOOKUP(AF23,Herramientas!$P$3:$Q$227,2,0))=F23,1,0)),\"\")","v":""},{"$f":"IFERROR(IF(G23=\"\",\"\",IF((VLOOKUP(AG23,Herramientas!$P$3:$Q$227,2,0))=G23,1,0)),\"\")","v":""},{"$f":"IFERROR(IF(H23=\"\",\"\",IF((VLOOKUP(AH23,Herramientas!$P$3:$Q$227,2,0))=H23,1,0)),\"\")","v":""},{"$f":"IFERROR(IF(I23=\"\",\"\",IF((VLOOKUP(AI23,Herramientas!$P$3:$Q$227,2,0))=I23,1,0)),\"\")","v":""},{"$f":"IFERROR(IF(J23=\"\",\"\",IF((VLOOKUP(AJ23,Herramientas!$P$3:$Q$227,2,0))=J23,1,0)),\"\")","v":""},{"$f":"IFERROR(IF(K23=\"\",\"\",IF((VLOOKUP(AK23,Herramientas!$P$3:$Q$227,2,0))=K23,1,0)),\"\")","v":""},{"$f":"IFERROR(IF(L23=\"\",\"\",IF((VLOOKUP(AL23,Herramientas!$P$3:$Q$227,2,0))=L23,1,0)),\"\")","v":""},{"$f":"IFERROR(IF(M23=\"\",\"\",IF((VLOOKUP(AM23,Herramientas!$P$3:$Q$227,2,0))=M23,1,0)),\"\")","v":""},{"$f":"IFERROR(IF(N23=\"\",\"\",IF((VLOOKUP(AN23,Herramientas!$P$3:$Q$227,2,0))=N23,1,0)),\"\")","v":""},{"$f":"IFERROR(IF(O23=\"\",\"\",IF((VLOOKUP(AO23,Herramientas!$P$3:$Q$227,2,0))=O23,1,0)),\"\")","v":""},{"$f":"IFERROR(IF(P23=\"\",\"\",IF((VLOOKUP(AP23,Herramientas!$P$3:$Q$227,2,0))=P23,1,0)),\"\")","v":""},{"$f":"IFERROR(IF(Q23=\"\",\"\",IF((VLOOKUP(AQ23,Herramientas!$P$3:$Q$227,2,0))=Q23,1,0)),\"\")","v":""},{"$f":"IFERROR(IF(R23=\"\",\"\",IF((VLOOKUP(AR23,Herramientas!$P$3:$Q$227,2,0))=R23,1,0)),\"\")","v":""},{"$f":"IFERROR(IF(S23=\"\",\"\",IF((VLOOKUP(AS23,Herramientas!$P$3:$Q$227,2,0))=S23,1,0)),\"\")","v":""},{"$f":"IFERROR(IF(T23=\"\",\"\",IF((VLOOKUP(AT23,Herramientas!$P$3:$Q$227,2,0))=T23,1,0)),\"\")","v":""},{"$f":"IFERROR(IF(U23=\"\",\"\",IF((VLOOKUP(AU23,Herramientas!$P$3:$Q$227,2,0))=U23,1,0)),\"\")","v":""},{"$f":"IFERROR(IF(V23=\"\",\"\",IF((VLOOKUP(AV23,Herramientas!$P$3:$Q$227,2,0))=V23,1,0)),\"\")","v":""},{"$f":"IFERROR(IF(W23=\"\",\"\",IF((VLOOKUP(AW23,Herramientas!$P$3:$Q$227,2,0))=W23,1,0)),\"\")","v":""},{"$f":"IFERROR(IF(X23=\"\",\"\",IF((VLOOKUP(AX23,Herramientas!$P$3:$Q$227,2,0))=X23,1,0)),\"\")","v":""},{"$f":"IFERROR(IF(Y23=\"\",\"\",IF((VLOOKUP(AY23,Herramientas!$P$3:$Q$227,2,0))=Y23,1,0)),\"\")","v":""},{"$f":"IFERROR(IF(Z23=\"\",\"\",IF((VLOOKUP(AZ23,Herramientas!$P$3:$Q$227,2,0))=Z23,1,0)),\"\")","v":""},{"$f":"IFERROR(IF(AA23=\"\",\"\",IF((VLOOKUP(BA23,Herramientas!$P$3:$Q$227,2,0))=AA23,1,0)),\"\")","v":""},{"$f":"IFERROR(IF(AB23=\"\",\"\",IF((VLOOKUP(BB23,Herramientas!$P$3:$Q$227,2,0))=AB23,1,0)),\"\")","v":""},null,0,0,null,"SUMIT17",{"$f":"SUM(BT$8:BT$57)","v":0},{"$f":"COUNTIF(BT$8:BT$57,0)","v":0},0,null,"it9",{"$f":"CU7","v":0},{"$f":"CU12","v":0},"",{"$f":"CU8","v":0},0,"",{"$f":"CU9","v":0},0,"",{"$f":"CU10","v":0},0,""]
[17,null,null,null,null,null,null,null,null,null,null,null,null,null,null,null,null,null,null,null,null,null,null,null,null,null,null,null,null,"9.°-1","9.°-2","9.°-3","9.°-4","9.°-5","9.°-6","9.°-7","9.°-8","9.°-9","9.°-10","9.°-11","9.°-12","9.°-13","9.°-14","9.°-15","9.°-16",{"$f":"CONCATENATE($B$2,\"-\",T$7)","v":"9.°-17"},"9.°-18","9.°-19","9.°-20","9.°-21","9.°-22","9.°-23","9.°-24","9.°-25",null,{"$f":"IFERROR(IF(D24=\"\",\"\",IF((VLOOKUP(AD24,Herramientas!$P$3:$Q$227,2,0))=D24,1,0)),\"\")","v":""},{"$f":"IFERROR(IF(E24=\"\",\"\",IF((VLOOKUP(AE24,Herramientas!$P$3:$Q$227,2,0))=E24,1,0)),\"\")","v":""},{"$f":"IFERROR(IF(F24=\"\",\"\",IF((VLOOKUP(AF24,Herramientas!$P$3:$Q$227,2,0))=F24,1,0)),\"\")","v":""},{"$f":"IFERROR(IF(G24=\"\",\"\",IF((VLOOKUP(AG24,Herramientas!$P$3:$Q$227,2,0))=G24,1,0)),\"\")","v":""},{"$f":"IFERROR(IF(H24=\"\",\"\",IF((VLOOKUP(AH24,Herramientas!$P$3:$Q$227,2,0))=H24,1,0)),\"\")","v":""},{"$f":"IFERROR(IF(I24=\"\",\"\",IF((VLOOKUP(AI24,Herramientas!$P$3:$Q$227,2,0))=I24,1,0)),\"\")","v":""},{"$f":"IFERROR(IF(J24=\"\",\"\",IF((VLOOKUP(AJ24,Herramientas!$P$3:$Q$227,2,0))=J24,1,0)),\"\")","v":""},{"$f":"IFERROR(IF(K24=\"\",\"\",IF((VLOOKUP(AK24,Herramientas!$P$3:$Q$227,2,0))=K24,1,0)),\"\")","v":""},{"$f":"IFERROR(IF(L24=\"\",\"\",IF((VLOOKUP(AL24,Herramientas!$P$3:$Q$227,2,0))=L24,1,0)),\"\")","v":""},{"$f":"IFERROR(IF(M24=\"\",\"\",IF((VLOOKUP(AM24,Herramientas!$P$3:$Q$227,2,0))=M24,1,0)),\"\")","v":""},{"$f":"IFERROR(IF(N24=\"\",\"\",IF((VLOOKUP(AN24,Herramientas!$P$3:$Q$227,2,0))=N24,1,0)),\"\")","v":""},{"$f":"IFERROR(IF(O24=\"\",\"\",IF((VLOOKUP(AO24,Herramientas!$P$3:$Q$227,2,0))=O24,1,0)),\"\")","v":""},{"$f":"IFERROR(IF(P24=\"\",\"\",IF((VLOOKUP(AP24,Herramientas!$P$3:$Q$227,2,0))=P24,1,0)),\"\")","v":""},{"$f":"IFERROR(IF(Q24=\"\",\"\",IF((VLOOKUP(AQ24,Herramientas!$P$3:$Q$227,2,0))=Q24,1,0)),\"\")","v":""},{"$f":"IFERROR(IF(R24=\"\",\"\",IF((VLOOKUP(AR24,Herramientas!$P$3:$Q$227,2,0))=R24,1,0)),\"\")","v":""},{"$f":"IFERROR(IF(S24=\"\",\"\",IF((VLOOKUP(AS24,Herramientas!$P$3:$Q$227,2,0))=S24,1,0)),\"\")","v":""},{"$f":"IFERROR(IF(T24=\"\",\"\",IF((VLOOKUP(AT24,Herramientas!$P$3:$Q$227,2,0))=T24,1,0)),\"\")","v":""},{"$f":"IFERROR(IF(U24=\"\",\"\",IF((VLOOKUP(AU24,Herramientas!$P$3:$Q$227,2,0))=U24,1,0)),\"\")","v":""},{"$f":"IFERROR(IF(V24=\"\",\"\",IF((VLOOKUP(AV24,Herramientas!$P$3:$Q$227,2,0))=V24,1,0)),\"\")","v":""},{"$f":"IFERROR(IF(W24=\"\",\"\",IF((VLOOKUP(AW24,Herramientas!$P$3:$Q$227,2,0))=W24,1,0)),\"\")","v":""},{"$f":"IFERROR(IF(X24=\"\",\"\",IF((VLOOKUP(AX24,Herramientas!$P$3:$Q$227,2,0))=X24,1,0)),\"\")","v":""},{"$f":"IFERROR(IF(Y24=\"\",\"\",IF((VLOOKUP(AY24,Herramientas!$P$3:$Q$227,2,0))=Y24,1,0)),\"\")","v":""},{"$f":"IFERROR(IF(Z24=\"\",\"\",IF((VLOOKUP(AZ24,Herramientas!$P$3:$Q$227,2,0))=Z24,1,0)),\"\")","v":""},{"$f":"IFERROR(IF(AA24=\"\",\"\",IF((VLOOKUP(BA24,Herramientas!$P$3:$Q$227,2,0))=AA24,1,0)),\"\")","v":""},{"$f":"IFERROR(IF(AB24=\"\",\"\",IF((VLOOKUP(BB24,Herramientas!$P$3:$Q$227,2,0))=AB24,1,0)),\"\")","v":""},null,0,0,null,"SUMIT18",{"$f":"SUM(BU$8:BU$57)","v":0},{"$f":"COUNTIF(BU$8:BU$57,0)","v":0},0,null,"it10",{"$f":"CV7","v":0},{"$f":"CV12","v":0},"",{"$f":"CV8","v":0},0,"",{"$f":"CV9","v":0},0,"",{"$f":"CV10","v":0},0,""]
[18,null,null,null,null,null,null,null,null,null,null,null,null,null,null,null,null,null,null,null,null,null,null,null,null,null,null,null,null,"9.°-1","9.°-2","9.°-3","9.°-4","9.°-5","9.°-6","9.°-7","9.°-8","9.°-9","9.°-10","9.°-11","9.°-12","9.°-13","9.°-14","9.°-15","9.°-16","9.°-17","9.°-18","9.°-19","9.°-20","9.°-21","9.°-22","9.°-23","9.°-24","9.°-25",null,{"$f":"IFERROR(IF(D25=\"\",\"\",IF((VLOOKUP(AD25,Herramientas!$P$3:$Q$227,2,0))=D25,1,0)),\"\")","v":""},{"$f":"IFERROR(IF(E25=\"\",\"\",IF((VLOOKUP(AE25,Herramientas!$P$3:$Q$227,2,0))=E25,1,0)),\"\")","v":""},{"$f":"IFERROR(IF(F25=\"\",\"\",IF((VLOOKUP(AF25,Herramientas!$P$3:$Q$227,2,0))=F25,1,0)),\"\")","v":""},{"$f":"IFERROR(IF(G25=\"\",\"\",IF((VLOOKUP(AG25,Herramientas!$P$3:$Q$227,2,0))=G25,1,0)),\"\")","v":""},{"$f":"IFERROR(IF(H25=\"\",\"\",IF((VLOOKUP(AH25,Herramientas!$P$3:$Q$227,2,0))=H25,1,0)),\"\")","v":""},{"$f":"IFERROR(IF(I25=\"\",\"\",IF((VLOOKUP(AI25,Herramientas!$P$3:$Q$227,2,0))=I25,1,0)),\"\")","v":""},{"$f":"IFERROR(IF(J25=\"\",\"\",IF((VLOOKUP(AJ25,Herramientas!$P$3:$Q$227,2,0))=J25,1,0)),\"\")","v":""},{"$f":"IFERROR(IF(K25=\"\",\"\",IF((VLOOKUP(AK25,Herramientas!$P$3:$Q$227,2,0))=K25,1,0)),\"\")","v":""},{"$f":"IFERROR(IF(L25=\"\",\"\",IF((VLOOKUP(AL25,Herramientas!$P$3:$Q$227,2,0))=L25,1,0)),\"\")","v":""},{"$f":"IFERROR(IF(M25=\"\",\"\",IF((VLOOKUP(AM25,Herramientas!$P$3:$Q$227,2,0))=M25,1,0)),\"\")","v":""},{"$f":"IFERROR(IF(N25=\"\",\"\",IF((VLOOKUP(AN25,Herramientas!$P$3:$Q$227,2,0))=N25,1,0)),\"\")","v":""},{"$f":"IFERROR(IF(O25=\"\",\"\",IF((VLOOKUP(AO25,Herramientas!$P$3:$Q$227,2,0))=O25,1,0)),\"\")","v":""},{"$f":"IFERROR(IF(P25=\"\",\"\",IF((VLOOKUP(AP25,Herramientas!$P$3:$Q$227,2,0))=P25,1,0)),\"\")","v":""},{"$f":"IFERROR(IF(Q25=\"\",\"\",IF((VLOOKUP(AQ25,Herramientas!$P$3:$Q$227,2,0))=Q25,1,0)),\"\")","v":""},{"$f":"IFERROR(IF(R25=\"\",\"\",IF((VLOOKUP(AR25,Herramientas!$P$3:$Q$227,2,0))=R25,1,0)),\"\")","v":""},{"$f":"IFERROR(IF(S25=\"\",\"\",IF((VLOOKUP(AS25,Herramientas!$P$3:$Q$227,2,0))=S25,1,0)),\"\")","v":""},{"$f":"IFERROR(IF(T25=\"\",\"\",IF((VLOOKUP(AT25,Herramientas!$P$3:$Q$227,2,0))=T25,1,0)),\"\")","v":""},{"$f":"IFERROR(IF(U25=\"\",\"\",IF((VLOOKUP(AU25,Herramientas!$P$3:$Q$227,2,0))=U25,1,0)),\"\")","v":""},{"$f":"IFERROR(IF(V25=\"\",\"\",IF((VLOOKUP(AV25,Herramientas!$P$3:$Q$227,2,0))=V25,1,0)),\"\")","v":""},{"$f":"IFERROR(IF(W25=\"\",\"\",IF((VLOOKUP(AW25,Herramientas!$P$3:$Q$227,2,0))=W25,1,0)),\"\")","v":""},{"$f":"IFERROR(IF(X25=\"\",\"\",IF((VLOOKUP(AX25,Herramientas!$P$3:$Q$227,2,0))=X25,1,0)),\"\")","v":""},{"$f":"IFERROR(IF(Y25=\"\",\"\",IF((VLOOKUP(AY25,Herramientas!$P$3:$Q$227,2,0))=Y25,1,0)),\"\")","v":""},{"$f":"IFERROR(IF(Z25=\"\",\"\",IF((VLOOKUP(AZ25,Herramientas!$P$3:$Q$227,2,0))=Z25,1,0)),\"\")","v":""},{"$f":"IFERROR(IF(AA25=\"\",\"\",IF((VLOOKUP(BA25,Herramientas!$P$3:$Q$227,2,0))=AA25,1,0)),\"\")","v":""},{"$f":"IFERROR(IF(AB25=\"\",\"\",IF((VLOOKUP(BB25,Herramientas!$P$3:$Q$227,2,0))=AB25,1,0)),\"\")","v":""},null,0,0,null,"SUMIT19",{"$f":"SUM(BV$8:BV$57)","v":0},{"$f":"COUNTIF(BV$8:BV$57,0)","v":0},0,null,"it11",{"$f":"CW7","v":0},{"$f":"CW12","v":0},"",{"$f":"CW8","v":0},0,"",{"$f":"CW9","v":0},0,"",{"$f":"CW10","v":0},0,""]
[19,null,null,null,null,null,null,null,null,null,null,null,null,null,null,null,null,null,null,null,null,null,null,null,null,null,null,null,null,"9.°-1","9.°-2","9.°-3","9.°-4","9.°-5","9.°-6","9.°-7","9.°-8","9.°-9","9.°-10","9.°-11","9.°-12","9.°-13","9.°-14","9.°-15","9.°-16","9.°-17","9.°-18","9.°-19","9.°-20","9.°-21","9.°-22","9.°-23","9.°-24","9.°-25",null,{"$f":"IFERROR(IF(D26=\"\",\"\",IF((VLOOKUP(AD26,Herramientas!$P$3:$Q$227,2,0))=D26,1,0)),\"\")","v":""},{"$f":"IFERROR(IF(E26=\"\",\"\",IF((VLOOKUP(AE26,Herramientas!$P$3:$Q$227,2,0))=E26,1,0)),\"\")","v":""},{"$f":"IFERROR(IF(F26=\"\",\"\",IF((VLOOKUP(AF26,Herramientas!$P$3:$Q$227,2,0))=F26,1,0)),\"\")","v":""},{"$f":"IFERROR(IF(G26=\"\",\"\",IF((VLOOKUP(AG26,Herramientas!$P$3:$Q$227,2,0))=G26,1,0)),\"\")","v":""},{"$f":"IFERROR(IF(H26=\"\",\"\",IF((VLOOKUP(AH26,Herramientas!$P$3:$Q$227,2,0))=H26,1,0)),\"\")","v":""},{"$f":"IFERROR(IF(I26=\"\",\"\",IF((VLOOKUP(AI26,Herramientas!$P$3:$Q$227,2,0))=I26,1,0)),\"\")","v":""},{"$f":"IFERROR(IF(J26=\"\",\"\",IF((VLOOKUP(AJ26,Herramientas!$P$3:$Q$227,2,0))=J26,1,0)),\"\")","v":""},{"$f":"IFERROR(IF(K26=\"\",\"\",IF((VLOOKUP(AK26,Herramientas!$P$3:$Q$227,2,0))=K26,1,0)),\"\")","v":""},{"$f":"IFERROR(IF(L26=\"\",\"\",IF((VLOOKUP(AL26,Herramientas!$P$3:$Q$227,2,0))=L26,1,0)),\"\")","v":""},{"$f":"IFERROR(IF(M26=\"\",\"\",IF((VLOOKUP(AM26,Herramientas!$P$3:$Q$227,2,0))=M26,1,0)),\"\")","v":""},{"$f":"IFERROR(IF(N26=\"\",\"\",IF((VLOOKUP(AN26,Herramientas!$P$3:$Q$227,2,0))=N26,1,0)),\"\")","v":""},{"$f":"IFERROR(IF(O26=\"\",\"\",IF((VLOOKUP(AO26,Herramientas!$P$3:$Q$227,2,0))=O26,1,0)),\"\")","v":""},{"$f":"IFERROR(IF(P26=\"\",\"\",IF((VLOOKUP(AP26,Herramientas!$P$3:$Q$227,2,0))=P26,1,0)),\"\")","v":""},{"$f":"IFERROR(IF(Q26=\"\",\"\",IF((VLOOKUP(AQ26,Herramientas!$P$3:$Q$227,2,0))=Q26,1,0)),\"\")","v":""},{"$f":"IFERROR(IF(R26=\"\",\"\",IF((VLOOKUP(AR26,Herramientas!$P$3:$Q$227,2,0))=R26,1,0)),\"\")","v":""},{"$f":"IFERROR(IF(S26=\"\",\"\",IF((VLOOKUP(AS26,Herramientas!$P$3:$Q$227,2,0))=S26,1,0)),\"\")","v":""},{"$f":"IFERROR(IF(T26=\"\",\"\",IF((VLOOKUP(AT26,Herramientas!$P$3:$Q$227,2,0))=T26,1,0)),\"\")","v":""},{"$f":"IFERROR(IF(U26=\"\",\"\",IF((VLOOKUP(AU26,Herramientas!$P$3:$Q$227,2,0))=U26,1,0)),\"\")","v":""},{"$f":"IFERROR(IF(V26=\"\",\"\",IF((VLOOKUP(AV26,Herramientas!$P$3:$Q$227,2,0))=V26,1,0)),\"\")","v":""},{"$f":"IFERROR(IF(W26=\"\",\"\",IF((VLOOKUP(AW26,Herramientas!$P$3:$Q$227,2,0))=W26,1,0)),\"\")","v":""},{"$f":"IFERROR(IF(X26=\"\",\"\",IF((VLOOKUP(AX26,Herramientas!$P$3:$Q$227,2,0))=X26,1,0)),\"\")","v":""},{"$f":"IFERROR(IF(Y26=\"\",\"\",IF((VLOOKUP(AY26,Herramientas!$P$3:$Q$227,2,0))=Y26,1,0)),\"\")","v":""},{"$f":"IFERROR(IF(Z26=\"\",\"\",IF((VLOOKUP(AZ26,Herramientas!$P$3:$Q$227,2,0))=Z26,1,0)),\"\")","v":""},{"$f":"IFERROR(IF(AA26=\"\",\"\",IF((VLOOKUP(BA26,Herramientas!$P$3:$Q$227,2,0))=AA26,1,0)),\"\")","v":""},{"$f":"IFERROR(IF(AB26=\"\",\"\",IF((VLOOKUP(BB26,Herramientas!$P$3:$Q$227,2,0))=AB26,1,0)),\"\")","v":""},null,0,0,null,"SUMIT20",{"$f":"SUM(BW$8:BW$57)","v":0},{"$f":"COUNTIF(BW$8:BW$57,0)","v":0},0,null,"it12",{"$f":"CX7","v":0},{"$f":"CX12","v":0},"",{"$f":"CX8","v":0},0,"",{"$f":"CX9","v":0},0,"",{"$f":"CX10","v":0},0,""]
[20,null,null,null,null,null,null,null,null,null,null,null,null,null,null,null,null,null,null,null,null,null,null,null,null,null,null,null,null,{"$f":"CONCATENATE($B$2,\"-\",D$7)","v":"9.°-1"},"9.°-2","9.°-3","9.°-4","9.°-5","9.°-6","9.°-7","9.°-8","9.°-9","9.°-10","9.°-11","9.°-12","9.°-13","9.°-14","9.°-15","9.°-16","9.°-17","9.°-18","9.°-19","9.°-20","9.°-21","9.°-22","9.°-23","9.°-24","9.°-25",null,{"$f":"IFERROR(IF(D27=\"\",\"\",IF((VLOOKUP(AD27,Herramientas!$P$3:$Q$227,2,0))=D27,1,0)),\"\")","v":""},{"$f":"IFERROR(IF(E27=\"\",\"\",IF((VLOOKUP(AE27,Herramientas!$P$3:$Q$227,2,0))=E27,1,0)),\"\")","v":""},{"$f":"IFERROR(IF(F27=\"\",\"\",IF((VLOOKUP(AF27,Herramientas!$P$3:$Q$227,2,0))=F27,1,0)),\"\")","v":""},{"$f":"IFERROR(IF(G27=\"\",\"\",IF((VLOOKUP(AG27,Herramientas!$P$3:$Q$227,2,0))=G27,1,0)),\"\")","v":""},{"$f":"IFERROR(IF(H27=\"\",\"\",IF((VLOOKUP(AH27,Herramientas!$P$3:$Q$227,2,0))=H27,1,0)),\"\")","v":""},{"$f":"IFERROR(IF(I27=\"\",\"\",IF((VLOOKUP(AI27,Herramientas!$P$3:$Q$227,2,0))=I27,1,0)),\"\")","v":""},{"$f":"IFERROR(IF(J27=\"\",\"\",IF((VLOOKUP(AJ27,Herramientas!$P$3:$Q$227,2,0))=J27,1,0)),\"\")","v":""},{"$f":"IFERROR(IF(K27=\"\",\"\",IF((VLOOKUP(AK27,Herramientas!$P$3:$Q$227,2,0))=K27,1,0)),\"\")","v":""},{"$f":"IFERROR(IF(L27=\"\",\"\",IF((VLOOKUP(AL27,Herramientas!$P$3:$Q$227,2,0))=L27,1,0)),\"\")","v":""},{"$f":"IFERROR(IF(M27=\"\",\"\",IF((VLOOKUP(AM27,Herramientas!$P$3:$Q$227,2,0))=M27,1,0)),\"\")","v":""},{"$f":"IFERROR(IF(N27=\"\",\"\",IF((VLOOKUP(AN27,Herramientas!$P$3:$Q$227,2,0))=N27,1,0)),\"\")","v":""},{"$f":"IFERROR(IF(O27=\"\",\"\",IF((VLOOKUP(AO27,Herramientas!$P$3:$Q$227,2,0))=O27,1,0)),\"\")","v":""},{"$f":"IFERROR(IF(P27=\"\",\"\",IF((VLOOKUP(AP27,Herramientas!$P$3:$Q$227,2,0))=P27,1,0)),\"\")","v":""},{"$f":"IFERROR(IF(Q27=\"\",\"\",IF((VLOOKUP(AQ27,Herramientas!$P$3:$Q$227,2,0))=Q27,1,0)),\"\")","v":""},{"$f":"IFERROR(IF(R27=\"\",\"\",IF((VLOOKUP(AR27,Herramientas!$P$3:$Q$227,2,0))=R27,1,0)),\"\")","v":""},{"$f":"IFERROR(IF(S27=\"\",\"\",IF((VLOOKUP(AS27,Herramientas!$P$3:$Q$227,2,0))=S27,1,0)),\"\")","v":""},{"$f":"IFERROR(IF(T27=\"\",\"\",IF((VLOOKUP(AT27,Herramientas!$P$3:$Q$227,2,0))=T27,1,0)),\"\")","v":""},{"$f":"IFERROR(IF(U27=\"\",\"\",IF((VLOOKUP(AU27,Herramientas!$P$3:$Q$227,2,0))=U27,1,0)),\"\")","v":""},{"$f":"IFERROR(IF(V27=\"\",\"\",IF((VLOOKUP(AV27,Herramientas!$P$3:$Q$227,2,0))=V27,1,0)),\"\")","v":""},{"$f":"IFERROR(IF(W27=\"\",\"\",IF((VLOOKUP(AW27,Herramientas!$P$3:$Q$227,2,0))=W27,1,0)),\"\")","v":""},{"$f":"IFERROR(IF(X27=\"\",\"\",IF((VLOOKUP(AX27,Herramientas!$P$3:$Q$227,2,0))=X27,1,0)),\"\")","v":""},{"$f":"IFERROR(IF(Y27=\"\",\"\",IF((VLOOKUP(AY27,Herramientas!$P$3:$Q$227,2,0))=Y27,1,0)),\"\")","v":""},{"$f":"IFERROR(IF(Z27=\"\",\"\",IF((VLOOKUP(AZ27,Herramientas!$P$3:$Q$227,2,0))=Z27,1,0)),\"\")","v":""},{"$f":"IFERROR(IF(AA27=\"\",\"\",IF((VLOOKUP(BA27,Herramientas!$P$3:$Q$227,2,0))=AA27,1,0)),\"\")","v":""},{"$f":"IFERROR(IF(AB27=\"\",\"\",IF((VLOOKUP(BB27,Herramientas!$P$3:$Q$227,2,0))=AB27,1,0)),\"\")","v":""},null,0,0,null,"SUMIT21",{"$f":"SUM(BX$8:BX$57)","v":0},{"$f":"COUNTIF(BX$8:BX$57,0)","v":0},0,null,"it13",{"$f":"CY7","v":0},{"$f":"CY12","v":0},"",{"$f":"CY8","v":0},0,"",{"$f":"CY9","v":0},0,"",{"$f":"CY10","v":0},0,""]
[21,null,null,null,null,null,null,null,null,null,null,null,null,null,null,null,null,null,null,null,null,null,null,null,null,null,null,null,null,"9.°-1","9.°-2","9.°-3","9.°-4","9.°-5","9.°-6","9.°-7","9.°-8","9.°-9","9.°-10","9.°-11","9.°-12","9.°-13","9.°-14","9.°-15","9.°-16","9.°-17","9.°-18","9.°-19","9.°-20","9.°-21","9.°-22","9.°-23","9.°-24","9.°-25",null,{"$f":"IFERROR(IF(D28=\"\",\"\",IF((VLOOKUP(AD28,Herramientas!$P$3:$Q$227,2,0))=D28,1,0)),\"\")","v":""},{"$f":"IFERROR(IF(E28=\"\",\"\",IF((VLOOKUP(AE28,Herramientas!$P$3:$Q$227,2,0))=E28,1,0)),\"\")","v":""},{"$f":"IFERROR(IF(F28=\"\",\"\",IF((VLOOKUP(AF28,Herramientas!$P$3:$Q$227,2,0))=F28,1,0)),\"\")","v":""},{"$f":"IFERROR(IF(G28=\"\",\"\",IF((VLOOKUP(AG28,Herramientas!$P$3:$Q$227,2,0))=G28,1,0)),\"\")","v":""},{"$f":"IFERROR(IF(H28=\"\",\"\",IF((VLOOKUP(AH28,Herramientas!$P$3:$Q$227,2,0))=H28,1,0)),\"\")","v":""},{"$f":"IFERROR(IF(I28=\"\",\"\",IF((VLOOKUP(AI28,Herramientas!$P$3:$Q$227,2,0))=I28,1,0)),\"\")","v":""},{"$f":"IFERROR(IF(J28=\"\",\"\",IF((VLOOKUP(AJ28,Herramientas!$P$3:$Q$227,2,0))=J28,1,0)),\"\")","v":""},{"$f":"IFERROR(IF(K28=\"\",\"\",IF((VLOOKUP(AK28,Herramientas!$P$3:$Q$227,2,0))=K28,1,0)),\"\")","v":""},{"$f":"IFERROR(IF(L28=\"\",\"\",IF((VLOOKUP(AL28,Herramientas!$P$3:$Q$227,2,0))=L28,1,0)),\"\")","v":""},{"$f":"IFERROR(IF(M28=\"\",\"\",IF((VLOOKUP(AM28,Herramientas!$P$3:$Q$227,2,0))=M28,1,0)),\"\")","v":""},{"$f":"IFERROR(IF(N28=\"\",\"\",IF((VLOOKUP(AN28,Herramientas!$P$3:$Q$227,2,0))=N28,1,0)),\"\")","v":""},{"$f":"IFERROR(IF(O28=\"\",\"\",IF((VLOOKUP(AO28,Herramientas!$P$3:$Q$227,2,0))=O28,1,0)),\"\")","v":""},{"$f":"IFERROR(IF(P28=\"\",\"\",IF((VLOOKUP(AP28,Herramientas!$P$3:$Q$227,2,0))=P28,1,0)),\"\")","v":""},{"$f":"IFERROR(IF(Q28=\"\",\"\",IF((VLOOKUP(AQ28,Herramientas!$P$3:$Q$227,2,0))=Q28,1,0)),\"\")","v":""},{"$f":"IFERROR(IF(R28=\"\",\"\",IF((VLOOKUP(AR28,Herramientas!$P$3:$Q$227,2,0))=R28,1,0)),\"\")","v":""},{"$f":"IFERROR(IF(S28=\"\",\"\",IF((VLOOKUP(AS28,Herramientas!$P$3:$Q$227,2,0))=S28,1,0)),\"\")","v":""},{"$f":"IFERROR(IF(T28=\"\",\"\",IF((VLOOKUP(AT28,Herramientas!$P$3:$Q$227,2,0))=T28,1,0)),\"\")","v":""},{"$f":"IFERROR(IF(U28=\"\",\"\",IF((VLOOKUP(AU28,Herramientas!$P$3:$Q$227,2,0))=U28,1,0)),\"\")","v":""},{"$f":"IFERROR(IF(V28=\"\",\"\",IF((VLOOKUP(AV28,Herramientas!$P$3:$Q$227,2,0))=V28,1,0)),\"\")","v":""},{"$f":"IFERROR(IF(W28=\"\",\"\",IF((VLOOKUP(AW28,Herramientas!$P$3:$Q$227,2,0))=W28,1,0)),\"\")","v":""},{"$f":"IFERROR(IF(X28=\"\",\"\",IF((VLOOKUP(AX28,Herramientas!$P$3:$Q$227,2,0))=X28,1,0)),\"\")","v":""},{"$f":"IFERROR(IF(Y28=\"\",\"\",IF((VLOOKUP(AY28,Herramientas!$P$3:$Q$227,2,0))=Y28,1,0)),\"\")","v":""},{"$f":"IFERROR(IF(Z28=\"\",\"\",IF((VLOOKUP(AZ28,Herramientas!$P$3:$Q$227,2,0))=Z28,1,0)),\"\")","v":""},{"$f":"IFERROR(IF(AA28=\"\",\"\",IF((VLOOKUP(BA28,Herramientas!$P$3:$Q$227,2,0))=AA28,1,0)),\"\")","v":""},{"$f":"IFERROR(IF(AB28=\"\",\"\",IF((VLOOKUP(BB28,Herramientas!$P$3:$Q$227,2,0))=AB28,1,0)),\"\")","v":""},null,0,0,null,"SUMIT22",{"$f":"SUM(BY$8:BY$57)","v":0},{"$f":"COUNTIF(BY$8:BY$57,0)","v":0},0,null,"it14",{"$f":"CZ7","v":0},{"$f":"CZ12","v":0},"",{"$f":"CZ8","v":0},0,"",{"$f":"CZ9","v":0},0,"",{"$f":"CZ10","v":0},0,""]
[22,null,null,null,null,null,null,null,null,null,null,null,null,null,null,null,null,null,null,null,null,null,null,null,null,null,null,null,null,"9.°-1","9.°-2","9.°-3","9.°-4","9.°-5","9.°-6","9.°-7","9.°-8","9.°-9","9.°-10","9.°-11","9.°-12","9.°-13","9.°-14","9.°-15","9.°-16","9.°-17","9.°-18","9.°-19","9.°-20","9.°-21","9.°-22","9.°-23","9.°-24","9.°-25",null,{"$f":"IFERROR(IF(D29=\"\",\"\",IF((VLOOKUP(AD29,Herramientas!$P$3:$Q$227,2,0))=D29,1,0)),\"\")","v":""},{"$f":"IFERROR(IF(E29=\"\",\"\",IF((VLOOKUP(AE29,Herramientas!$P$3:$Q$227,2,0))=E29,1,0)),\"\")","v":""},{"$f":"IFERROR(IF(F29=\"\",\"\",IF((VLOOKUP(AF29,Herramientas!$P$3:$Q$227,2,0))=F29,1,0)),\"\")","v":""},{"$f":"IFERROR(IF(G29=\"\",\"\",IF((VLOOKUP(AG29,Herramientas!$P$3:$Q$227,2,0))=G29,1,0)),\"\")","v":""},{"$f":"IFERROR(IF(H29=\"\",\"\",IF((VLOOKUP(AH29,Herramientas!$P$3:$Q$227,2,0))=H29,1,0)),\"\")","v":""},{"$f":"IFERROR(IF(I29=\"\",\"\",IF((VLOOKUP(AI29,Herramientas!$P$3:$Q$227,2,0))=I29,1,0)),\"\")","v":""},{"$f":"IFERROR(IF(J29=\"\",\"\",IF((VLOOKUP(AJ29,Herramientas!$P$3:$Q$227,2,0))=J29,1,0)),\"\")","v":""},{"$f":"IFERROR(IF(K29=\"\",\"\",IF((VLOOKUP(AK29,Herramientas!$P$3:$Q$227,2,0))=K29,1,0)),\"\")","v":""},{"$f":"IFERROR(IF(L29=\"\",\"\",IF((VLOOKUP(AL29,Herramientas!$P$3:$Q$227,2,0))=L29,1,0)),\"\")","v":""},{"$f":"IFERROR(IF(M29=\"\",\"\",IF((VLOOKUP(AM29,Herramientas!$P$3:$Q$227,2,0))=M29,1,0)),\"\")","v":""},{"$f":"IFERROR(IF(N29=\"\",\"\",IF((VLOOKUP(AN29,Herramientas!$P$3:$Q$227,2,0))=N29,1,0)),\"\")","v":""},{"$f":"IFERROR(IF(O29=\"\",\"\",IF((VLOOKUP(AO29,Herramientas!$P$3:$Q$227,2,0))=O29,1,0)),\"\")","v":""},{"$f":"IFERROR(IF(P29=\"\",\"\",IF((VLOOKUP(AP29,Herramientas!$P$3:$Q$227,2,0))=P29,1,0)),\"\")","v":""},{"$f":"IFERROR(IF(Q29=\"\",\"\",IF((VLOOKUP(AQ29,Herramientas!$P$3:$Q$227,2,0))=Q29,1,0)),\"\")","v":""},{"$f":"IFERROR(IF(R29=\"\",\"\",IF((VLOOKUP(AR29,Herramientas!$P$3:$Q$227,2,0))=R29,1,0)),\"\")","v":""},{"$f":"IFERROR(IF(S29=\"\",\"\",IF((VLOOKUP(AS29,Herramientas!$P$3:$Q$227,2,0))=S29,1,0)),\"\")","v":""},{"$f":"IFERROR(IF(T29=\"\",\"\",IF((VLOOKUP(AT29,Herramientas!$P$3:$Q$227,2,0))=T29,1,0)),\"\")","v":""},{"$f":"IFERROR(IF(U29=\"\",\"\",IF((VLOOKUP(AU29,Herramientas!$P$3:$Q$227,2,0))=U29,1,0)),\"\")","v":""},{"$f":"IFERROR(IF(V29=\"\",\"\",IF((VLOOKUP(AV29,Herramientas!$P$3:$Q$227,2,0))=V29,1,0)),\"\")","v":""},{"$f":"IFERROR(IF(W29=\"\",\"\",IF((VLOOKUP(AW29,Herramientas!$P$3:$Q$227,2,0))=W29,1,0)),\"\")","v":""},{"$f":"IFERROR(IF(X29=\"\",\"\",IF((VLOOKUP(AX29,Herramientas!$P$3:$Q$227,2,0))=X29,1,0)),\"\")","v":""},{"$f":"IFERROR(IF(Y29=\"\",\"\",IF((VLOOKUP(AY29,Herramientas!$P$3:$Q$227,2,0))=Y29,1,0)),\"\")","v":""},{"$f":"IFERROR(IF(Z29=\"\",\"\",IF((VLOOKUP(AZ29,Herramientas!$P$3:$Q$227,2,0))=Z29,1,0)),\"\")","v":""},{"$f":"IFERROR(IF(AA29=\"\",\"\",IF((VLOOKUP(BA29,Herramientas!$P$3:$Q$227,2,0))=AA29,1,0)),\"\")","v":""},{"$f":"IFERROR(IF(AB29=\"\",\"\",IF((VLOOKUP(BB29,Herramientas!$P$3:$Q$227,2,0))=AB29,1,0)),\"\")","v":""},null,0,0,null,"SUMIT23",{"$f":"SUM(BZ$8:BZ$57)","v":0},{"$f":"COUNTIF(BZ$8:BZ$57,0)","v":0},0,null,"it15",{"$f":"DA7","v":0},{"$f":"DA12","v":0},"",{"$f":"DA8","v":0},0,"",{"$f":"DA9","v":0},0,"",{"$f":"DA10","v":0},0,""]
[23,null,null,null,null,null,null,null,null,null,null,null,null,null,null,null,null,null,null,null,null,null,null,null,null,null,null,null,null,"9.°-1","9.°-2","9.°-3","9.°-4","9.°-5","9.°-6","9.°-7","9.°-8","9.°-9","9.°-10","9.°-11","9.°-12","9.°-13","9.°-14","9.°-15","9.°-16","9.°-17","9.°-18","9.°-19","9.°-20","9.°-21","9.°-22","9.°-23","9.°-24","9.°-25",null,{"$f":"IFERROR(IF(D30=\"\",\"\",IF((VLOOKUP(AD30,Herramientas!$P$3:$Q$227,2,0))=D30,1,0)),\"\")","v":""},{"$f":"IFERROR(IF(E30=\"\",\"\",IF((VLOOKUP(AE30,Herramientas!$P$3:$Q$227,2,0))=E30,1,0)),\"\")","v":""},{"$f":"IFERROR(IF(F30=\"\",\"\",IF((VLOOKUP(AF30,Herramientas!$P$3:$Q$227,2,0))=F30,1,0)),\"\")","v":""},{"$f":"IFERROR(IF(G30=\"\",\"\",IF((VLOOKUP(AG30,Herramientas!$P$3:$Q$227,2,0))=G30,1,0)),\"\")","v":""},{"$f":"IFERROR(IF(H30=\"\",\"\",IF((VLOOKUP(AH30,Herramientas!$P$3:$Q$227,2,0))=H30,1,0)),\"\")","v":""},{"$f":"IFERROR(IF(I30=\"\",\"\",IF((VLOOKUP(AI30,Herramientas!$P$3:$Q$227,2,0))=I30,1,0)),\"\")","v":""},{"$f":"IFERROR(IF(J30=\"\",\"\",IF((VLOOKUP(AJ30,Herramientas!$P$3:$Q$227,2,0))=J30,1,0)),\"\")","v":""},{"$f":"IFERROR(IF(K30=\"\",\"\",IF((VLOOKUP(AK30,Herramientas!$P$3:$Q$227,2,0))=K30,1,0)),\"\")","v":""},{"$f":"IFERROR(IF(L30=\"\",\"\",IF((VLOOKUP(AL30,Herramientas!$P$3:$Q$227,2,0))=L30,1,0)),\"\")","v":""},{"$f":"IFERROR(IF(M30=\"\",\"\",IF((VLOOKUP(AM30,Herramientas!$P$3:$Q$227,2,0))=M30,1,0)),\"\")","v":""},{"$f":"IFERROR(IF(N30=\"\",\"\",IF((VLOOKUP(AN30,Herramientas!$P$3:$Q$227,2,0))=N30,1,0)),\"\")","v":""},{"$f":"IFERROR(IF(O30=\"\",\"\",IF((VLOOKUP(AO30,Herramientas!$P$3:$Q$227,2,0))=O30,1,0)),\"\")","v":""},{"$f":"IFERROR(IF(P30=\"\",\"\",IF((VLOOKUP(AP30,Herramientas!$P$3:$Q$227,2,0))=P30,1,0)),\"\")","v":""},{"$f":"IFERROR(IF(Q30=\"\",\"\",IF((VLOOKUP(AQ30,Herramientas!$P$3:$Q$227,2,0))=Q30,1,0)),\"\")","v":""},{"$f":"IFERROR(IF(R30=\"\",\"\",IF((VLOOKUP(AR30,Herramientas!$P$3:$Q$227,2,0))=R30,1,0)),\"\")","v":""},{"$f":"IFERROR(IF(S30=\"\",\"\",IF((VLOOKUP(AS30,Herramientas!$P$3:$Q$227,2,0))=S30,1,0)),\"\")","v":""},{"$f":"IFERROR(IF(T30=\"\",\"\",IF((VLOOKUP(AT30,Herramientas!$P$3:$Q$227,2,0))=T30,1,0)),\"\")","v":""},{"$f":"IFERROR(IF(U30=\"\",\"\",IF((VLOOKUP(AU30,Herramientas!$P$3:$Q$227,2,0))=U30,1,0)),\"\")","v":""},{"$f":"IFERROR(IF(V30=\"\",\"\",IF((VLOOKUP(AV30,Herramientas!$P$3:$Q$227,2,0))=V30,1,0)),\"\")","v":""},{"$f":"IFERROR(IF(W30=\"\",\"\",IF((VLOOKUP(AW30,Herramientas!$P$3:$Q$227,2,0))=W30,1,0)),\"\")","v":""},{"$f":"IFERROR(IF(X30=\"\",\"\",IF((VLOOKUP(AX30,Herramientas!$P$3:$Q$227,2,0))=X30,1,0)),\"\")","v":""},{"$f":"IFERROR(IF(Y30=\"\",\"\",IF((VLOOKUP(AY30,Herramientas!$P$3:$Q$227,2,0))=Y30,1,0)),\"\")","v":""},{"$f":"IFERROR(IF(Z30=\"\",\"\",IF((VLOOKUP(AZ30,Herramientas!$P$3:$Q$227,2,0))=Z30,1,0)),\"\")","v":""},{"$f":"IFERROR(IF(AA30=\"\",\"\",IF((VLOOKUP(BA30,Herramientas!$P$3:$Q$227,2,0))=AA30,1,0)),\"\")","v":""},{"$f":"IFERROR(IF(AB30=\"\",\"\",IF((VLOOKUP(BB30,Herramientas!$P$3:$Q$227,2,0))=AB30,1,0)),\"\")","v":""},null,0,0,null,"SUMIT24",{"$f":"SUM(CA$8:CA$57)","v":0},{"$f":"COUNTIF(CA$8:CA$57,0)","v":0},0,null,"it16",{"$f":"DB7","v":0},{"$f":"DB12","v":0},"",{"$f":"DB8","v":0},0,"",{"$f":"DB9","v":0},0,"",{"$f":"DB10","v":0},0,""]
[24,null,null,null,null,null,null,null,null,null,null,null,null,null,null,null,null,null,null,null,null,null,null,null,null,null,null,null,null,"9.°-1","9.°-2","9.°-3","9.°-4","9.°-5","9.°-6","9.°-7","9.°-8","9.°-9","9.°-10","9.°-11","9.°-12","9.°-13","9.°-14","9.°-15","9.°-16","9.°-17","9.°-18","9.°-19","9.°-20","9.°-21","9.°-22","9.°-23","9.°-24","9.°-25",null,{"$f":"IFERROR(IF(D31=\"\",\"\",IF((VLOOKUP(AD31,Herramientas!$P$3:$Q$227,2,0))=D31,1,0)),\"\")","v":""},{"$f":"IFERROR(IF(E31=\"\",\"\",IF((VLOOKUP(AE31,Herramientas!$P$3:$Q$227,2,0))=E31,1,0)),\"\")","v":""},{"$f":"IFERROR(IF(F31=\"\",\"\",IF((VLOOKUP(AF31,Herramientas!$P$3:$Q$227,2,0))=F31,1,0)),\"\")","v":""},{"$f":"IFERROR(IF(G31=\"\",\"\",IF((VLOOKUP(AG31,Herramientas!$P$3:$Q$227,2,0))=G31,1,0)),\"\")","v":""},{"$f":"IFERROR(IF(H31=\"\",\"\",IF((VLOOKUP(AH31,Herramientas!$P$3:$Q$227,2,0))=H31,1,0)),\"\")","v":""},{"$f":"IFERROR(IF(I31=\"\",\"\",IF((VLOOKUP(AI31,Herramientas!$P$3:$Q$227,2,0))=I31,1,0)),\"\")","v":""},{"$f":"IFERROR(IF(J31=\"\",\"\",IF((VLOOKUP(AJ31,Herramientas!$P$3:$Q$227,2,0))=J31,1,0)),\"\")","v":""},{"$f":"IFERROR(IF(K31=\"\",\"\",IF((VLOOKUP(AK31,Herramientas!$P$3:$Q$227,2,0))=K31,1,0)),\"\")","v":""},{"$f":"IFERROR(IF(L31=\"\",\"\",IF((VLOOKUP(AL31,Herramientas!$P$3:$Q$227,2,0))=L31,1,0)),\"\")","v":""},{"$f":"IFERROR(IF(M31=\"\",\"\",IF((VLOOKUP(AM31,Herramientas!$P$3:$Q$227,2,0))=M31,1,0)),\"\")","v":""},{"$f":"IFERROR(IF(N31=\"\",\"\",IF((VLOOKUP(AN31,Herramientas!$P$3:$Q$227,2,0))=N31,1,0)),\"\")","v":""},{"$f":"IFERROR(IF(O31=\"\",\"\",IF((VLOOKUP(AO31,Herramientas!$P$3:$Q$227,2,0))=O31,1,0)),\"\")","v":""},{"$f":"IFERROR(IF(P31=\"\",\"\",IF((VLOOKUP(AP31,Herramientas!$P$3:$Q$227,2,0))=P31,1,0)),\"\")","v":""},{"$f":"IFERROR(IF(Q31=\"\",\"\",IF((VLOOKUP(AQ31,Herramientas!$P$3:$Q$227,2,0))=Q31,1,0)),\"\")","v":""},{"$f":"IFERROR(IF(R31=\"\",\"\",IF((VLOOKUP(AR31,Herramientas!$P$3:$Q$227,2,0))=R31,1,0)),\"\")","v":""},{"$f":"IFERROR(IF(S31=\"\",\"\",IF((VLOOKUP(AS31,Herramientas!$P$3:$Q$227,2,0))=S31,1,0)),\"\")","v":""},{"$f":"IFERROR(IF(T31=\"\",\"\",IF((VLOOKUP(AT31,Herramientas!$P$3:$Q$227,2,0))=T31,1,0)),\"\")","v":""},{"$f":"IFERROR(IF(U31=\"\",\"\",IF((VLOOKUP(AU31,Herramientas!$P$3:$Q$227,2,0))=U31,1,0)),\"\")","v":""},{"$f":"IFERROR(IF(V31=\"\",\"\",IF((VLOOKUP(AV31,Herramientas!$P$3:$Q$227,2,0))=V31,1,0)),\"\")","v":""},{"$f":"IFERROR(IF(W31=\"\",\"\",IF((VLOOKUP(AW31,Herramientas!$P$3:$Q$227,2,0))=W31,1,0)),\"\")","v":""},{"$f":"IFERROR(IF(X31=\"\",\"\",IF((VLOOKUP(AX31,Herramientas!$P$3:$Q$227,2,0))=X31,1,0)),\"\")","v":""},{"$f":"IFERROR(IF(Y31=\"\",\"\",IF((VLOOKUP(AY31,Herramientas!$P$3:$Q$227,2,0))=Y31,1,0)),\"\")","v":""},{"$f":"IFERROR(IF(Z31=\"\",\"\",IF((VLOOKUP(AZ31,Herramientas!$P$3:$Q$227,2,0))=Z31,1,0)),\"\")","v":""},{"$f":"IFERROR(IF(AA31=\"\",\"\",IF((VLOOKUP(BA31,Herramientas!$P$3:$Q$227,2,0))=AA31,1,0)),\"\")","v":""},{"$f":"IFERROR(IF(AB31=\"\",\"\",IF((VLOOKUP(BB31,Herramientas!$P$3:$Q$227,2,0))=AB31,1,0)),\"\")","v":""},null,0,0,null,"SUMIT25",{"$f":"SUM(CB$8:CB$57)","v":0},{"$f":"COUNTIF(CB$8:CB$57,0)","v":0},0,null,"it17",{"$f":"DC7","v":0},{"$f":"DC12","v":0},"",{"$f":"DC8","v":0},0,"",{"$f":"DC9","v":0},0,"",{"$f":"DC10","v":0},0,""]
[25,null,null,null,null,null,null,null,null,null,null,null,null,null,null,null,null,null,null,null,null,null,null,null,null,null,null,null,null,"9.°-1","9.°-2","9.°-3","9.°-4","9.°-5","9.°-6","9.°-7","9.°-8","9.°-9","9.°-10","9.°-11","9.°-12","9.°-13","9.°-14","9.°-15","9.°-16","9.°-17","9.°-18","9.°-19","9.°-20","9.°-21","9.°-22","9.°-23","9.°-24","9.°-25",null,{"$f":"IFERROR(IF(D32=\"\",\"\",IF((VLOOKUP(AD32,Herramientas!$P$3:$Q$227,2,0))=D32,1,0)),\"\")","v":""},{"$f":"IFERROR(IF(E32=\"\",\"\",IF((VLOOKUP(AE32,Herramientas!$P$3:$Q$227,2,0))=E32,1,0)),\"\")","v":""},{"$f":"IFERROR(IF(F32=\"\",\"\",IF((VLOOKUP(AF32,Herramientas!$P$3:$Q$227,2,0))=F32,1,0)),\"\")","v":""},{"$f":"IFERROR(IF(G32=\"\",\"\",IF((VLOOKUP(AG32,Herramientas!$P$3:$Q$227,2,0))=G32,1,0)),\"\")","v":""},{"$f":"IFERROR(IF(H32=\"\",\"\",IF((VLOOKUP(AH32,Herramientas!$P$3:$Q$227,2,0))=H32,1,0)),\"\")","v":""},{"$f":"IFERROR(IF(I32=\"\",\"\",IF((VLOOKUP(AI32,Herramientas!$P$3:$Q$227,2,0))=I32,1,0)),\"\")","v":""},{"$f":"IFERROR(IF(J32=\"\",\"\",IF((VLOOKUP(AJ32,Herramientas!$P$3:$Q$227,2,0))=J32,1,0)),\"\")","v":""},{"$f":"IFERROR(IF(K32=\"\",\"\",IF((VLOOKUP(AK32,Herramientas!$P$3:$Q$227,2,0))=K32,1,0)),\"\")","v":""},{"$f":"IFERROR(IF(L32=\"\",\"\",IF((VLOOKUP(AL32,Herramientas!$P$3:$Q$227,2,0))=L32,1,0)),\"\")","v":""},{"$f":"IFERROR(IF(M32=\"\",\"\",IF((VLOOKUP(AM32,Herramientas!$P$3:$Q$227,2,0))=M32,1,0)),\"\")","v":""},{"$f":"IFERROR(IF(N32=\"\",\"\",IF((VLOOKUP(AN32,Herramientas!$P$3:$Q$227,2,0))=N32,1,0)),\"\")","v":""},{"$f":"IFERROR(IF(O32=\"\",\"\",IF((VLOOKUP(AO32,Herramientas!$P$3:$Q$227,2,0))=O32,1,0)),\"\")","v":""},{"$f":"IFERROR(IF(P32=\"\",\"\",IF((VLOOKUP(AP32,Herramientas!$P$3:$Q$227,2,0))=P32,1,0)),\"\")","v":""},{"$f":"IFERROR(IF(Q32=\"\",\"\",IF((VLOOKUP(AQ32,Herramientas!$P$3:$Q$227,2,0))=Q32,1,0)),\"\")","v":""},{"$f":"IFERROR(IF(R32=\"\",\"\",IF((VLOOKUP(AR32,Herramientas!$P$3:$Q$227,2,0))=R32,1,0)),\"\")","v":""},{"$f":"IFERROR(IF(S32=\"\",\"\",IF((VLOOKUP(AS32,Herramientas!$P$3:$Q$227,2,0))=S32,1,0)),\"\")","v":""},{"$f":"IFERROR(IF(T32=\"\",\"\",IF((VLOOKUP(AT32,Herramientas!$P$3:$Q$227,2,0))=T32,1,0)),\"\")","v":""},{"$f":"IFERROR(IF(U32=\"\",\"\",IF((VLOOKUP(AU32,Herramientas!$P$3:$Q$227,2,0))=U32,1,0)),\"\")","v":""},{"$f":"IFERROR(IF(V32=\"\",\"\",IF((VLOOKUP(AV32,Herramientas!$P$3:$Q$227,2,0))=V32,1,0)),\"\")","v":""},{"$f":"IFERROR(IF(W32=\"\",\"\",IF((VLOOKUP(AW32,Herramientas!$P$3:$Q$227,2,0))=W32,1,0)),\"\")","v":""},{"$f":"IFERROR(IF(X32=\"\",\"\",IF((VLOOKUP(AX32,Herramientas!$P$3:$Q$227,2,0))=X32,1,0)),\"\")","v":""},{"$f":"IFERROR(IF(Y32=\"\",\"\",IF((VLOOKUP(AY32,Herramientas!$P$3:$Q$227,2,0))=Y32,1,0)),\"\")","v":""},{"$f":"IFERROR(IF(Z32=\"\",\"\",IF((VLOOKUP(AZ32,Herramientas!$P$3:$Q$227,2,0))=Z32,1,0)),\"\")","v":""},{"$f":"IFERROR(IF(AA32=\"\",\"\",IF((VLOOKUP(BA32,Herramientas!$P$3:$Q$227,2,0))=AA32,1,0)),\"\")","v":""},{"$f":"IFERROR(IF(AB32=\"\",\"\",IF((VLOOKUP(BB32,Herramientas!$P$3:$Q$227,2,0))=AB32,1,0)),\"\")","v":""},null,0,0,null,null,null,null,null,null,"it18",{"$f":"DD7","v":0},{"$f":"DD12","v":0},"",{"$f":"DD8","v":0},0,"",{"$f":"DD9","v":0},0,"",{"$f":"DD10","v":0},0,""]
[26,null,null,null,null,null,null,null,null,null,null,null,null,null,null,null,null,null,null,null,null,null,null,null,null,null,null,null,null,"9.°-1","9.°-2","9.°-3","9.°-4","9.°-5","9.°-6","9.°-7","9.°-8","9.°-9","9.°-10","9.°-11","9.°-12","9.°-13","9.°-14","9.°-15","9.°-16","9.°-17","9.°-18","9.°-19","9.°-20","9.°-21","9.°-22","9.°-23","9.°-24","9.°-25",null,{"$f":"IFERROR(IF(D33=\"\",\"\",IF((VLOOKUP(AD33,Herramientas!$P$3:$Q$227,2,0))=D33,1,0)),\"\")","v":""},{"$f":"IFERROR(IF(E33=\"\",\"\",IF((VLOOKUP(AE33,Herramientas!$P$3:$Q$227,2,0))=E33,1,0)),\"\")","v":""},{"$f":"IFERROR(IF(F33=\"\",\"\",IF((VLOOKUP(AF33,Herramientas!$P$3:$Q$227,2,0))=F33,1,0)),\"\")","v":""},{"$f":"IFERROR(IF(G33=\"\",\"\",IF((VLOOKUP(AG33,Herramientas!$P$3:$Q$227,2,0))=G33,1,0)),\"\")","v":""},{"$f":"IFERROR(IF(H33=\"\",\"\",IF((VLOOKUP(AH33,Herramientas!$P$3:$Q$227,2,0))=H33,1,0)),\"\")","v":""},{"$f":"IFERROR(IF(I33=\"\",\"\",IF((VLOOKUP(AI33,Herramientas!$P$3:$Q$227,2,0))=I33,1,0)),\"\")","v":""},{"$f":"IFERROR(IF(J33=\"\",\"\",IF((VLOOKUP(AJ33,Herramientas!$P$3:$Q$227,2,0))=J33,1,0)),\"\")","v":""},{"$f":"IFERROR(IF(K33=\"\",\"\",IF((VLOOKUP(AK33,Herramientas!$P$3:$Q$227,2,0))=K33,1,0)),\"\")","v":""},{"$f":"IFERROR(IF(L33=\"\",\"\",IF((VLOOKUP(AL33,Herramientas!$P$3:$Q$227,2,0))=L33,1,0)),\"\")","v":""},{"$f":"IFERROR(IF(M33=\"\",\"\",IF((VLOOKUP(AM33,Herramientas!$P$3:$Q$227,2,0))=M33,1,0)),\"\")","v":""},{"$f":"IFERROR(IF(N33=\"\",\"\",IF((VLOOKUP(AN33,Herramientas!$P$3:$Q$227,2,0))=N33,1,0)),\"\")","v":""},{"$f":"IFERROR(IF(O33=\"\",\"\",IF((VLOOKUP(AO33,Herramientas!$P$3:$Q$227,2,0))=O33,1,0)),\"\")","v":""},{"$f":"IFERROR(IF(P33=\"\",\"\",IF((VLOOKUP(AP33,Herramientas!$P$3:$Q$227,2,0))=P33,1,0)),\"\")","v":""},{"$f":"IFERROR(IF(Q33=\"\",\"\",IF((VLOOKUP(AQ33,Herramientas!$P$3:$Q$227,2,0))=Q33,1,0)),\"\")","v":""},{"$f":"IFERROR(IF(R33=\"\",\"\",IF((VLOOKUP(AR33,Herramientas!$P$3:$Q$227,2,0))=R33,1,0)),\"\")","v":""},{"$f":"IFERROR(IF(S33=\"\",\"\",IF((VLOOKUP(AS33,Herramientas!$P$3:$Q$227,2,0))=S33,1,0)),\"\")","v":""},{"$f":"IFERROR(IF(T33=\"\",\"\",IF((VLOOKUP(AT33,Herramientas!$P$3:$Q$227,2,0))=T33,1,0)),\"\")","v":""},{"$f":"IFERROR(IF(U33=\"\",\"\",IF((VLOOKUP(AU33,Herramientas!$P$3:$Q$227,2,0))=U33,1,0)),\"\")","v":""},{"$f":"IFERROR(IF(V33=\"\",\"\",IF((VLOOKUP(AV33,Herramientas!$P$3:$Q$227,2,0))=V33,1,0)),\"\")","v":""},{"$f":"IFERROR(IF(W33=\"\",\"\",IF((VLOOKUP(AW33,Herramientas!$P$3:$Q$227,2,0))=W33,1,0)),\"\")","v":""},{"$f":"IFERROR(IF(X33=\"\",\"\",IF((VLOOKUP(AX33,Herramientas!$P$3:$Q$227,2,0))=X33,1,0)),\"\")","v":""},{"$f":"IFERROR(IF(Y33=\"\",\"\",IF((VLOOKUP(AY33,Herramientas!$P$3:$Q$227,2,0))=Y33,1,0)),\"\")","v":""},{"$f":"IFERROR(IF(Z33=\"\",\"\",IF((VLOOKUP(AZ33,Herramientas!$P$3:$Q$227,2,0))=Z33,1,0)),\"\")","v":""},{"$f":"IFERROR(IF(AA33=\"\",\"\",IF((VLOOKUP(BA33,Herramientas!$P$3:$Q$227,2,0))=AA33,1,0)),\"\")","v":""},{"$f":"IFERROR(IF(AB33=\"\",\"\",IF((VLOOKUP(BB33,Herramientas!$P$3:$Q$227,2,0))=AB33,1,0)),\"\")","v":""},null,0,0,null,null,null,null,null,null,"it19",{"$f":"DE7","v":0},{"$f":"DE12","v":0},"",{"$f":"DE8","v":0},0,"",{"$f":"DE9","v":0},0,"",{"$f":"DE10","v":0},0,""]
[27,null,null,null,null,null,null,null,null,null,null,null,null,null,null,null,null,null,null,null,null,null,null,null,null,null,null,null,null,"9.°-1","9.°-2","9.°-3","9.°-4","9.°-5","9.°-6","9.°-7","9.°-8","9.°-9","9.°-10","9.°-11","9.°-12","9.°-13","9.°-14","9.°-15","9.°-16","9.°-17","9.°-18","9.°-19","9.°-20","9.°-21","9.°-22","9.°-23","9.°-24","9.°-25",null,{"$f":"IFERROR(IF(D34=\"\",\"\",IF((VLOOKUP(AD34,Herramientas!$P$3:$Q$227,2,0))=D34,1,0)),\"\")","v":""},{"$f":"IFERROR(IF(E34=\"\",\"\",IF((VLOOKUP(AE34,Herramientas!$P$3:$Q$227,2,0))=E34,1,0)),\"\")","v":""},{"$f":"IFERROR(IF(F34=\"\",\"\",IF((VLOOKUP(AF34,Herramientas!$P$3:$Q$227,2,0))=F34,1,0)),\"\")","v":""},{"$f":"IFERROR(IF(G34=\"\",\"\",IF((VLOOKUP(AG34,Herramientas!$P$3:$Q$227,2,0))=G34,1,0)),\"\")","v":""},{"$f":"IFERROR(IF(H34=\"\",\"\",IF((VLOOKUP(AH34,Herramientas!$P$3:$Q$227,2,0))=H34,1,0)),\"\")","v":""},{"$f":"IFERROR(IF(I34=\"\",\"\",IF((VLOOKUP(AI34,Herramientas!$P$3:$Q$227,2,0))=I34,1,0)),\"\")","v":""},{"$f":"IFERROR(IF(J34=\"\",\"\",IF((VLOOKUP(AJ34,Herramientas!$P$3:$Q$227,2,0))=J34,1,0)),\"\")","v":""},{"$f":"IFERROR(IF(K34=\"\",\"\",IF((VLOOKUP(AK34,Herramientas!$P$3:$Q$227,2,0))=K34,1,0)),\"\")","v":""},{"$f":"IFERROR(IF(L34=\"\",\"\",IF((VLOOKUP(AL34,Herramientas!$P$3:$Q$227,2,0))=L34,1,0)),\"\")","v":""},{"$f":"IFERROR(IF(M34=\"\",\"\",IF((VLOOKUP(AM34,Herramientas!$P$3:$Q$227,2,0))=M34,1,0)),\"\")","v":""},{"$f":"IFERROR(IF(N34=\"\",\"\",IF((VLOOKUP(AN34,Herramientas!$P$3:$Q$227,2,0))=N34,1,0)),\"\")","v":""},{"$f":"IFERROR(IF(O34=\"\",\"\",IF((VLOOKUP(AO34,Herramientas!$P$3:$Q$227,2,0))=O34,1,0)),\"\")","v":""},{"$f":"IFERROR(IF(P34=\"\",\"\",IF((VLOOKUP(AP34,Herramientas!$P$3:$Q$227,2,0))=P34,1,0)),\"\")","v":""},{"$f":"IFERROR(IF(Q34=\"\",\"\",IF((VLOOKUP(AQ34,Herramientas!$P$3:$Q$227,2,0))=Q34,1,0)),\"\")","v":""},{"$f":"IFERROR(IF(R34=\"\",\"\",IF((VLOOKUP(AR34,Herramientas!$P$3:$Q$227,2,0))=R34,1,0)),\"\")","v":""},{"$f":"IFERROR(IF(S34=\"\",\"\",IF((VLOOKUP(AS34,Herramientas!$P$3:$Q$227,2,0))=S34,1,0)),\"\")","v":""},{"$f":"IFERROR(IF(T34=\"\",\"\",IF((VLOOKUP(AT34,Herramientas!$P$3:$Q$227,2,0))=T34,1,0)),\"\")","v":""},{"$f":"IFERROR(IF(U34=\"\",\"\",IF((VLOOKUP(AU34,Herramientas!$P$3:$Q$227,2,0))=U34,1,0)),\"\")","v":""},{"$f":"IFERROR(IF(V34=\"\",\"\",IF((VLOOKUP(AV34,Herramientas!$P$3:$Q$227,2,0))=V34,1,0)),\"\")","v":""},{"$f":"IFERROR(IF(W34=\"\",\"\",IF((VLOOKUP(AW34,Herramientas!$P$3:$Q$227,2,0))=W34,1,0)),\"\")","v":""},{"$f":"IFERROR(IF(X34=\"\",\"\",IF((VLOOKUP(AX34,Herramientas!$P$3:$Q$227,2,0))=X34,1,0)),\"\")","v":""},{"$f":"IFERROR(IF(Y34=\"\",\"\",IF((VLOOKUP(AY34,Herramientas!$P$3:$Q$227,2,0))=Y34,1,0)),\"\")","v":""},{"$f":"IFERROR(IF(Z34=\"\",\"\",IF((VLOOKUP(AZ34,Herramientas!$P$3:$Q$227,2,0))=Z34,1,0)),\"\")","v":""},{"$f":"IFERROR(IF(AA34=\"\",\"\",IF((VLOOKUP(BA34,Herramientas!$P$3:$Q$227,2,0))=AA34,1,0)),\"\")","v":""},{"$f":"IFERROR(IF(AB34=\"\",\"\",IF((VLOOKUP(BB34,Herramientas!$P$3:$Q$227,2,0))=AB34,1,0)),\"\")","v":""},null,0,0,null,null,null,null,null,null,"it20",{"$f":"DF7","v":0},{"$f":"DF12","v":0},"",{"$f":"DF8","v":0},0,"",{"$f":"DF9","v":0},0,"",{"$f":"DF10","v":0},0,""]
[28,null,null,null,null,null,null,null,null,null,null,null,null,null,null,null,null,null,null,null,null,null,null,null,null,null,null,null,null,{"$f":"CONCATENATE($B$2,\"-\",D$7)","v":"9.°-1"},{"$f":"CONCATENATE($B$2,\"-\",E$7)","v":"9.°-2"},"9.°-3","9.°-4","9.°-5","9.°-6","9.°-7","9.°-8","9.°-9","9.°-10","9.°-11","9.°-12","9.°-13","9.°-14","9.°-15","9.°-16","9.°-17","9.°-18","9.°-19","9.°-20","9.°-21","9.°-22","9.°-23","9.°-24","9.°-25",null,{"$f":"IFERROR(IF(D35=\"\",\"\",IF((VLOOKUP(AD35,Herramientas!$P$3:$Q$227,2,0))=D35,1,0)),\"\")","v":""},{"$f":"IFERROR(IF(E35=\"\",\"\",IF((VLOOKUP(AE35,Herramientas!$P$3:$Q$227,2,0))=E35,1,0)),\"\")","v":""},{"$f":"IFERROR(IF(F35=\"\",\"\",IF((VLOOKUP(AF35,Herramientas!$P$3:$Q$227,2,0))=F35,1,0)),\"\")","v":""},{"$f":"IFERROR(IF(G35=\"\",\"\",IF((VLOOKUP(AG35,Herramientas!$P$3:$Q$227,2,0))=G35,1,0)),\"\")","v":""},{"$f":"IFERROR(IF(H35=\"\",\"\",IF((VLOOKUP(AH35,Herramientas!$P$3:$Q$227,2,0))=H35,1,0)),\"\")","v":""},{"$f":"IFERROR(IF(I35=\"\",\"\",IF((VLOOKUP(AI35,Herramientas!$P$3:$Q$227,2,0))=I35,1,0)),\"\")","v":""},{"$f":"IFERROR(IF(J35=\"\",\"\",IF((VLOOKUP(AJ35,Herramientas!$P$3:$Q$227,2,0))=J35,1,0)),\"\")","v":""},{"$f":"IFERROR(IF(K35=\"\",\"\",IF((VLOOKUP(AK35,Herramientas!$P$3:$Q$227,2,0))=K35,1,0)),\"\")","v":""},{"$f":"IFERROR(IF(L35=\"\",\"\",IF((VLOOKUP(AL35,Herramientas!$P$3:$Q$227,2,0))=L35,1,0)),\"\")","v":""},{"$f":"IFERROR(IF(M35=\"\",\"\",IF((VLOOKUP(AM35,Herramientas!$P$3:$Q$227,2,0))=M35,1,0)),\"\")","v":""},{"$f":"IFERROR(IF(N35=\"\",\"\",IF((VLOOKUP(AN35,Herramientas!$P$3:$Q$227,2,0))=N35,1,0)),\"\")","v":""},{"$f":"IFERROR(IF(O35=\"\",\"\",IF((VLOOKUP(AO35,Herramientas!$P$3:$Q$227,2,0))=O35,1,0)),\"\")","v":""},{"$f":"IFERROR(IF(P35=\"\",\"\",IF((VLOOKUP(AP35,Herramientas!$P$3:$Q$227,2,0))=P35,1,0)),\"\")","v":""},{"$f":"IFERROR(IF(Q35=\"\",\"\",IF((VLOOKUP(AQ35,Herramientas!$P$3:$Q$227,2,0))=Q35,1,0)),\"\")","v":""},{"$f":"IFERROR(IF(R35=\"\",\"\",IF((VLOOKUP(AR35,Herramientas!$P$3:$Q$227,2,0))=R35,1,0)),\"\")","v":""},{"$f":"IFERROR(IF(S35=\"\",\"\",IF((VLOOKUP(AS35,Herramientas!$P$3:$Q$227,2,0))=S35,1,0)),\"\")","v":""},{"$f":"IFERROR(IF(T35=\"\",\"\",IF((VLOOKUP(AT35,Herramientas!$P$3:$Q$227,2,0))=T35,1,0)),\"\")","v":""},{"$f":"IFERROR(IF(U35=\"\",\"\",IF((VLOOKUP(AU35,Herramientas!$P$3:$Q$227,2,0))=U35,1,0)),\"\")","v":""},{"$f":"IFERROR(IF(V35=\"\",\"\",IF((VLOOKUP(AV35,Herramientas!$P$3:$Q$227,2,0))=V35,1,0)),\"\")","v":""},{"$f":"IFERROR(IF(W35=\"\",\"\",IF((VLOOKUP(AW35,Herramientas!$P$3:$Q$227,2,0))=W35,1,0)),\"\")","v":""},{"$f":"IFERROR(IF(X35=\"\",\"\",IF((VLOOKUP(AX35,Herramientas!$P$3:$Q$227,2,0))=X35,1,0)),\"\")","v":""},{"$f":"IFERROR(IF(Y35=\"\",\"\",IF((VLOOKUP(AY35,Herramientas!$P$3:$Q$227,2,0))=Y35,1,0)),\"\")","v":""},{"$f":"IFERROR(IF(Z35=\"\",\"\",IF((VLOOKUP(AZ35,Herramientas!$P$3:$Q$227,2,0))=Z35,1,0)),\"\")","v":""},{"$f":"IFERROR(IF(AA35=\"\",\"\",IF((VLOOKUP(BA35,Herramientas!$P$3:$Q$227,2,0))=AA35,1,0)),\"\")","v":""},{"$f":"IFERROR(IF(AB35=\"\",\"\",IF((VLOOKUP(BB35,Herramientas!$P$3:$Q$227,2,0))=AB35,1,0)),\"\")","v":""},null,0,0,null,null,null,null,null,null,"it21",{"$f":"DG7","v":0},{"$f":"DG12","v":0},"",{"$f":"DG8","v":0},0,"",{"$f":"DG9","v":0},0,"",{"$f":"DG10","v":0},0,""]
[29,null,null,null,null,null,null,null,null,null,null,null,null,null,null,null,null,null,null,null,null,null,null,null,null,null,null,null,null,{"$f":"CONCATENATE($B$2,\"-\",D$7)","v":"9.°-1"},"9.°-2","9.°-3","9.°-4","9.°-5","9.°-6","9.°-7","9.°-8","9.°-9","9.°-10","9.°-11","9.°-12","9.°-13","9.°-14","9.°-15","9.°-16","9.°-17","9.°-18","9.°-19","9.°-20","9.°-21","9.°-22","9.°-23","9.°-24","9.°-25",null,{"$f":"IFERROR(IF(D36=\"\",\"\",IF((VLOOKUP(AD36,Herramientas!$P$3:$Q$227,2,0))=D36,1,0)),\"\")","v":""},{"$f":"IFERROR(IF(E36=\"\",\"\",IF((VLOOKUP(AE36,Herramientas!$P$3:$Q$227,2,0))=E36,1,0)),\"\")","v":""},{"$f":"IFERROR(IF(F36=\"\",\"\",IF((VLOOKUP(AF36,Herramientas!$P$3:$Q$227,2,0))=F36,1,0)),\"\")","v":""},{"$f":"IFERROR(IF(G36=\"\",\"\",IF((VLOOKUP(AG36,Herramientas!$P$3:$Q$227,2,0))=G36,1,0)),\"\")","v":""},{"$f":"IFERROR(IF(H36=\"\",\"\",IF((VLOOKUP(AH36,Herramientas!$P$3:$Q$227,2,0))=H36,1,0)),\"\")","v":""},{"$f":"IFERROR(IF(I36=\"\",\"\",IF((VLOOKUP(AI36,Herramientas!$P$3:$Q$227,2,0))=I36,1,0)),\"\")","v":""},{"$f":"IFERROR(IF(J36=\"\",\"\",IF((VLOOKUP(AJ36,Herramientas!$P$3:$Q$227,2,0))=J36,1,0)),\"\")","v":""},{"$f":"IFERROR(IF(K36=\"\",\"\",IF((VLOOKUP(AK36,Herramientas!$P$3:$Q$227,2,0))=K36,1,0)),\"\")","v":""},{"$f":"IFERROR(IF(L36=\"\",\"\",IF((VLOOKUP(AL36,Herramientas!$P$3:$Q$227,2,0))=L36,1,0)),\"\")","v":""},{"$f":"IFERROR(IF(M36=\"\",\"\",IF((VLOOKUP(AM36,Herramientas!$P$3:$Q$227,2,0))=M36,1,0)),\"\")","v":""},{"$f":"IFERROR(IF(N36=\"\",\"\",IF((VLOOKUP(AN36,Herramientas!$P$3:$Q$227,2,0))=N36,1,0)),\"\")","v":""},{"$f":"IFERROR(IF(O36=\"\",\"\",IF((VLOOKUP(AO36,Herramientas!$P$3:$Q$227,2,0))=O36,1,0)),\"\")","v":""},{"$f":"IFERROR(IF(P36=\"\",\"\",IF((VLOOKUP(AP36,Herramientas!$P$3:$Q$227,2,0))=P36,1,0)),\"\")","v":""},{"$f":"IFERROR(IF(Q36=\"\",\"\",IF((VLOOKUP(AQ36,Herramientas!$P$3:$Q$227,2,0))=Q36,1,0)),\"\")","v":""},{"$f":"IFERROR(IF(R36=\"\",\"\",IF((VLOOKUP(AR36,Herramientas!$P$3:$Q$227,2,0))=R36,1,0)),\"\")","v":""},{"$f":"IFERROR(IF(S36=\"\",\"\",IF((VLOOKUP(AS36,Herramientas!$P$3:$Q$227,2,0))=S36,1,0)),\"\")","v":""},{"$f":"IFERROR(IF(T36=\"\",\"\",IF((VLOOKUP(AT36,Herramientas!$P$3:$Q$227,2,0))=T36,1,0)),\"\")","v":""},{"$f":"IFERROR(IF(U36=\"\",\"\",IF((VLOOKUP(AU36,Herramientas!$P$3:$Q$227,2,0))=U36,1,0)),\"\")","v":""},{"$f":"IFERROR(IF(V36=\"\",\"\",IF((VLOOKUP(AV36,Herramientas!$P$3:$Q$227,2,0))=V36,1,0)),\"\")","v":""},{"$f":"IFERROR(IF(W36=\"\",\"\",IF((VLOOKUP(AW36,Herramientas!$P$3:$Q$227,2,0))=W36,1,0)),\"\")","v":""},{"$f":"IFERROR(IF(X36=\"\",\"\",IF((VLOOKUP(AX36,Herramientas!$P$3:$Q$227,2,0))=X36,1,0)),\"\")","v":""},{"$f":"IFERROR(IF(Y36=\"\",\"\",IF((VLOOKUP(AY36,Herramientas!$P$3:$Q$227,2,0))=Y36,1,0)),\"\")","v":""},{"$f":"IFERROR(IF(Z36=\"\",\"\",IF((VLOOKUP(AZ36,Herramientas!$P$3:$Q$227,2,0))=Z36,1,0)),\"\")","v":""},{"$f":"IFERROR(IF(AA36=\"\",\"\",IF((VLOOKUP(BA36,Herramientas!$P$3:$Q$227,2,0))=AA36,1,0)),\"\")","v":""},{"$f":"IFERROR(IF(AB36=\"\",\"\",IF((VLOOKUP(BB36,Herramientas!$P$3:$Q$227,2,0))=AB36,1,0)),\"\")","v":""},null,0,0,null,null,null,null,null,null,"it22",{"$f":"DH7","v":0},{"$f":"DH12","v":0},"",{"$f":"DH8","v":0},0,"",{"$f":"DH9","v":0},0,"",{"$f":"DH10","v":0},0,""]
[30,null,null,null,null,null,null,null,null,null,null,null,null,null,null,null,null,null,null,null,null,null,null,null,null,null,null,null,null,"9.°-1","9.°-2","9.°-3","9.°-4","9.°-5","9.°-6","9.°-7","9.°-8","9.°-9","9.°-10","9.°-11","9.°-12","9.°-13","9.°-14","9.°-15","9.°-16","9.°-17","9.°-18","9.°-19","9.°-20","9.°-21","9.°-22","9.°-23","9.°-24","9.°-25",null,{"$f":"IFERROR(IF(D37=\"\",\"\",IF((VLOOKUP(AD37,Herramientas!$P$3:$Q$227,2,0))=D37,1,0)),\"\")","v":""},{"$f":"IFERROR(IF(E37=\"\",\"\",IF((VLOOKUP(AE37,Herramientas!$P$3:$Q$227,2,0))=E37,1,0)),\"\")","v":""},{"$f":"IFERROR(IF(F37=\"\",\"\",IF((VLOOKUP(AF37,Herramientas!$P$3:$Q$227,2,0))=F37,1,0)),\"\")","v":""},{"$f":"IFERROR(IF(G37=\"\",\"\",IF((VLOOKUP(AG37,Herramientas!$P$3:$Q$227,2,0))=G37,1,0)),\"\")","v":""},{"$f":"IFERROR(IF(H37=\"\",\"\",IF((VLOOKUP(AH37,Herramientas!$P$3:$Q$227,2,0))=H37,1,0)),\"\")","v":""},{"$f":"IFERROR(IF(I37=\"\",\"\",IF((VLOOKUP(AI37,Herramientas!$P$3:$Q$227,2,0))=I37,1,0)),\"\")","v":""},{"$f":"IFERROR(IF(J37=\"\",\"\",IF((VLOOKUP(AJ37,Herramientas!$P$3:$Q$227,2,0))=J37,1,0)),\"\")","v":""},{"$f":"IFERROR(IF(K37=\"\",\"\",IF((VLOOKUP(AK37,Herramientas!$P$3:$Q$227,2,0))=K37,1,0)),\"\")","v":""},{"$f":"IFERROR(IF(L37=\"\",\"\",IF((VLOOKUP(AL37,Herramientas!$P$3:$Q$227,2,0))=L37,1,0)),\"\")","v":""},{"$f":"IFERROR(IF(M37=\"\",\"\",IF((VLOOKUP(AM37,Herramientas!$P$3:$Q$227,2,0))=M37,1,0)),\"\")","v":""},{"$f":"IFERROR(IF(N37=\"\",\"\",IF((VLOOKUP(AN37,Herramientas!$P$3:$Q$227,2,0))=N37,1,0)),\"\")","v":""},{"$f":"IFERROR(IF(O37=\"\",\"\",IF((VLOOKUP(AO37,Herramientas!$P$3:$Q$227,2,0))=O37,1,0)),\"\")","v":""},{"$f":"IFERROR(IF(P37=\"\",\"\",IF((VLOOKUP(AP37,Herramientas!$P$3:$Q$227,2,0))=P37,1,0)),\"\")","v":""},{"$f":"IFERROR(IF(Q37=\"\",\"\",IF((VLOOKUP(AQ37,Herramientas!$P$3:$Q$227,2,0))=Q37,1,0)),\"\")","v":""},{"$f":"IFERROR(IF(R37=\"\",\"\",IF((VLOOKUP(AR37,Herramientas!$P$3:$Q$227,2,0))=R37,1,0)),\"\")","v":""},{"$f":"IFERROR(IF(S37=\"\",\"\",IF((VLOOKUP(AS37,Herramientas!$P$3:$Q$227,2,0))=S37,1,0)),\"\")","v":""},{"$f":"IFERROR(IF(T37=\"\",\"\",IF((VLOOKUP(AT37,Herramientas!$P$3:$Q$227,2,0))=T37,1,0)),\"\")","v":""},{"$f":"IFERROR(IF(U37=\"\",\"\",IF((VLOOKUP(AU37,Herramientas!$P$3:$Q$227,2,0))=U37,1,0)),\"\")","v":""},{"$f":"IFERROR(IF(V37=\"\",\"\",IF((VLOOKUP(AV37,Herramientas!$P$3:$Q$227,2,0))=V37,1,0)),\"\")","v":""},{"$f":"IFERROR(IF(W37=\"\",\"\",IF((VLOOKUP(AW37,Herramientas!$P$3:$Q$227,2,0))=W37,1,0)),\"\")","v":""},{"$f":"IFERROR(IF(X37=\"\",\"\",IF((VLOOKUP(AX37,Herramientas!$P$3:$Q$227,2,0))=X37,1,0)),\"\")","v":""},{"$f":"IFERROR(IF(Y37=\"\",\"\",IF((VLOOKUP(AY37,Herramientas!$P$3:$Q$227,2,0))=Y37,1,0)),\"\")","v":""},{"$f":"IFERROR(IF(Z37=\"\",\"\",IF((VLOOKUP(AZ37,Herramientas!$P$3:$Q$227,2,0))=Z37,1,0)),\"\")","v":""},{"$f":"IFERROR(IF(AA37=\"\",\"\",IF((VLOOKUP(BA37,Herramientas!$P$3:$Q$227,2,0))=AA37,1,0)),\"\")","v":""},{"$f":"IFERROR(IF(AB37=\"\",\"\",IF((VLOOKUP(BB37,Herramientas!$P$3:$Q$227,2,0))=AB37,1,0)),\"\")","v":""},null,0,0,null,null,null,null,null,null,"it23",{"$f":"DI7","v":0},{"$f":"DI12","v":0},"",{"$f":"DI8","v":0},0,"",{"$f":"DI9","v":0},0,"",{"$f":"DI10","v":0},0,""]
[31,null,null,null,null,null,null,null,null,null,null,null,null,null,null,null,null,null,null,null,null,null,null,null,null,null,null,null,null,"9.°-1","9.°-2","9.°-3","9.°-4","9.°-5","9.°-6","9.°-7","9.°-8","9.°-9","9.°-10","9.°-11","9.°-12","9.°-13","9.°-14","9.°-15","9.°-16","9.°-17","9.°-18","9.°-19","9.°-20","9.°-21","9.°-22","9.°-23","9.°-24","9.°-25",null,{"$f":"IFERROR(IF(D38=\"\",\"\",IF((VLOOKUP(AD38,Herramientas!$P$3:$Q$227,2,0))=D38,1,0)),\"\")","v":""},{"$f":"IFERROR(IF(E38=\"\",\"\",IF((VLOOKUP(AE38,Herramientas!$P$3:$Q$227,2,0))=E38,1,0)),\"\")","v":""},{"$f":"IFERROR(IF(F38=\"\",\"\",IF((VLOOKUP(AF38,Herramientas!$P$3:$Q$227,2,0))=F38,1,0)),\"\")","v":""},{"$f":"IFERROR(IF(G38=\"\",\"\",IF((VLOOKUP(AG38,Herramientas!$P$3:$Q$227,2,0))=G38,1,0)),\"\")","v":""},{"$f":"IFERROR(IF(H38=\"\",\"\",IF((VLOOKUP(AH38,Herramientas!$P$3:$Q$227,2,0))=H38,1,0)),\"\")","v":""},{"$f":"IFERROR(IF(I38=\"\",\"\",IF((VLOOKUP(AI38,Herramientas!$P$3:$Q$227,2,0))=I38,1,0)),\"\")","v":""},{"$f":"IFERROR(IF(J38=\"\",\"\",IF((VLOOKUP(AJ38,Herramientas!$P$3:$Q$227,2,0))=J38,1,0)),\"\")","v":""},{"$f":"IFERROR(IF(K38=\"\",\"\",IF((VLOOKUP(AK38,Herramientas!$P$3:$Q$227,2,0))=K38,1,0)),\"\")","v":""},{"$f":"IFERROR(IF(L38=\"\",\"\",IF((VLOOKUP(AL38,Herramientas!$P$3:$Q$227,2,0))=L38,1,0)),\"\")","v":""},{"$f":"IFERROR(IF(M38=\"\",\"\",IF((VLOOKUP(AM38,Herramientas!$P$3:$Q$227,2,0))=M38,1,0)),\"\")","v":""},{"$f":"IFERROR(IF(N38=\"\",\"\",IF((VLOOKUP(AN38,Herramientas!$P$3:$Q$227,2,0))=N38,1,0)),\"\")","v":""},{"$f":"IFERROR(IF(O38=\"\",\"\",IF((VLOOKUP(AO38,Herramientas!$P$3:$Q$227,2,0))=O38,1,0)),\"\")","v":""},{"$f":"IFERROR(IF(P38=\"\",\"\",IF((VLOOKUP(AP38,Herramientas!$P$3:$Q$227,2,0))=P38,1,0)),\"\")","v":""},{"$f":"IFERROR(IF(Q38=\"\",\"\",IF((VLOOKUP(AQ38,Herramientas!$P$3:$Q$227,2,0))=Q38,1,0)),\"\")","v":""},{"$f":"IFERROR(IF(R38=\"\",\"\",IF((VLOOKUP(AR38,Herramientas!$P$3:$Q$227,2,0))=R38,1,0)),\"\")","v":""},{"$f":"IFERROR(IF(S38=\"\",\"\",IF((VLOOKUP(AS38,Herramientas!$P$3:$Q$227,2,0))=S38,1,0)),\"\")","v":""},{"$f":"IFERROR(IF(T38=\"\",\"\",IF((VLOOKUP(AT38,Herramientas!$P$3:$Q$227,2,0))=T38,1,0)),\"\")","v":""},{"$f":"IFERROR(IF(U38=\"\",\"\",IF((VLOOKUP(AU38,Herramientas!$P$3:$Q$227,2,0))=U38,1,0)),\"\")","v":""},{"$f":"IFERROR(IF(V38=\"\",\"\",IF((VLOOKUP(AV38,Herramientas!$P$3:$Q$227,2,0))=V38,1,0)),\"\")","v":""},{"$f":"IFERROR(IF(W38=\"\",\"\",IF((VLOOKUP(AW38,Herramientas!$P$3:$Q$227,2,0))=W38,1,0)),\"\")","v":""},{"$f":"IFERROR(IF(X38=\"\",\"\",IF((VLOOKUP(AX38,Herramientas!$P$3:$Q$227,2,0))=X38,1,0)),\"\")","v":""},{"$f":"IFERROR(IF(Y38=\"\",\"\",IF((VLOOKUP(AY38,Herramientas!$P$3:$Q$227,2,0))=Y38,1,0)),\"\")","v":""},{"$f":"IFERROR(IF(Z38=\"\",\"\",IF((VLOOKUP(AZ38,Herramientas!$P$3:$Q$227,2,0))=Z38,1,0)),\"\")","v":""},{"$f":"IFERROR(IF(AA38=\"\",\"\",IF((VLOOKUP(BA38,Herramientas!$P$3:$Q$227,2,0))=AA38,1,0)),\"\")","v":""},{"$f":"IFERROR(IF(AB38=\"\",\"\",IF((VLOOKUP(BB38,Herramientas!$P$3:$Q$227,2,0))=AB38,1,0)),\"\")","v":""},null,0,0,null,null,null,null,null,null,"it24",{"$f":"DJ7","v":0},{"$f":"DJ12","v":0},"",{"$f":"DJ8","v":0},0,"",{"$f":"DJ9","v":0},0,"",{"$f":"DJ10","v":0},0,""]
[32,null,null,null,null,null,null,null,null,null,null,null,null,null,null,null,null,null,null,null,null,null,null,null,null,null,null,null,null,"9.°-1","9.°-2","9.°-3","9.°-4","9.°-5","9.°-6","9.°-7","9.°-8","9.°-9","9.°-10","9.°-11","9.°-12","9.°-13","9.°-14","9.°-15","9.°-16","9.°-17","9.°-18","9.°-19","9.°-20","9.°-21","9.°-22","9.°-23","9.°-24","9.°-25",null,{"$f":"IFERROR(IF(D39=\"\",\"\",IF((VLOOKUP(AD39,Herramientas!$P$3:$Q$227,2,0))=D39,1,0)),\"\")","v":""},{"$f":"IFERROR(IF(E39=\"\",\"\",IF((VLOOKUP(AE39,Herramientas!$P$3:$Q$227,2,0))=E39,1,0)),\"\")","v":""},{"$f":"IFERROR(IF(F39=\"\",\"\",IF((VLOOKUP(AF39,Herramientas!$P$3:$Q$227,2,0))=F39,1,0)),\"\")","v":""},{"$f":"IFERROR(IF(G39=\"\",\"\",IF((VLOOKUP(AG39,Herramientas!$P$3:$Q$227,2,0))=G39,1,0)),\"\")","v":""},{"$f":"IFERROR(IF(H39=\"\",\"\",IF((VLOOKUP(AH39,Herramientas!$P$3:$Q$227,2,0))=H39,1,0)),\"\")","v":""},{"$f":"IFERROR(IF(I39=\"\",\"\",IF((VLOOKUP(AI39,Herramientas!$P$3:$Q$227,2,0))=I39,1,0)),\"\")","v":""},{"$f":"IFERROR(IF(J39=\"\",\"\",IF((VLOOKUP(AJ39,Herramientas!$P$3:$Q$227,2,0))=J39,1,0)),\"\")","v":""},{"$f":"IFERROR(IF(K39=\"\",\"\",IF((VLOOKUP(AK39,Herramientas!$P$3:$Q$227,2,0))=K39,1,0)),\"\")","v":""},{"$f":"IFERROR(IF(L39=\"\",\"\",IF((VLOOKUP(AL39,Herramientas!$P$3:$Q$227,2,0))=L39,1,0)),\"\")","v":""},{"$f":"IFERROR(IF(M39=\"\",\"\",IF((VLOOKUP(AM39,Herramientas!$P$3:$Q$227,2,0))=M39,1,0)),\"\")","v":""},{"$f":"IFERROR(IF(N39=\"\",\"\",IF((VLOOKUP(AN39,Herramientas!$P$3:$Q$227,2,0))=N39,1,0)),\"\")","v":""},{"$f":"IFERROR(IF(O39=\"\",\"\",IF((VLOOKUP(AO39,Herramientas!$P$3:$Q$227,2,0))=O39,1,0)),\"\")","v":""},{"$f":"IFERROR(IF(P39=\"\",\"\",IF((VLOOKUP(AP39,Herramientas!$P$3:$Q$227,2,0))=P39,1,0)),\"\")","v":""},{"$f":"IFERROR(IF(Q39=\"\",\"\",IF((VLOOKUP(AQ39,Herramientas!$P$3:$Q$227,2,0))=Q39,1,0)),\"\")","v":""},{"$f":"IFERROR(IF(R39=\"\",\"\",IF((VLOOKUP(AR39,Herramientas!$P$3:$Q$227,2,0))=R39,1,0)),\"\")","v":""},{"$f":"IFERROR(IF(S39=\"\",\"\",IF((VLOOKUP(AS39,Herramientas!$P$3:$Q$227,2,0))=S39,1,0)),\"\")","v":""},{"$f":"IFERROR(IF(T39=\"\",\"\",IF((VLOOKUP(AT39,Herramientas!$P$3:$Q$227,2,0))=T39,1,0)),\"\")","v":""},{"$f":"IFERROR(IF(U39=\"\",\"\",IF((VLOOKUP(AU39,Herramientas!$P$3:$Q$227,2,0))=U39,1,0)),\"\")","v":""},{"$f":"IFERROR(IF(V39=\"\",\"\",IF((VLOOKUP(AV39,Herramientas!$P$3:$Q$227,2,0))=V39,1,0)),\"\")","v":""},{"$f":"IFERROR(IF(W39=\"\",\"\",IF((VLOOKUP(AW39,Herramientas!$P$3:$Q$227,2,0))=W39,1,0)),\"\")","v":""},{"$f":"IFERROR(IF(X39=\"\",\"\",IF((VLOOKUP(AX39,Herramientas!$P$3:$Q$227,2,0))=X39,1,0)),\"\")","v":""},{"$f":"IFERROR(IF(Y39=\"\",\"\",IF((VLOOKUP(AY39,Herramientas!$P$3:$Q$227,2,0))=Y39,1,0)),\"\")","v":""},{"$f":"IFERROR(IF(Z39=\"\",\"\",IF((VLOOKUP(AZ39,Herramientas!$P$3:$Q$227,2,0))=Z39,1,0)),\"\")","v":""},{"$f":"IFERROR(IF(AA39=\"\",\"\",IF((VLOOKUP(BA39,Herramientas!$P$3:$Q$227,2,0))=AA39,1,0)),\"\")","v":""},{"$f":"IFERROR(IF(AB39=\"\",\"\",IF((VLOOKUP(BB39,Herramientas!$P$3:$Q$227,2,0))=AB39,1,0)),\"\")","v":""},null,0,0,null,null,null,null,null,null,"it25",{"$f":"DK7","v":0},{"$f":"DK12","v":0},"",{"$f":"DK8","v":0},0,"",{"$f":"DK9","v":0},0,"",{"$f":"DK10","v":0},0,""]
[33,null,null,null,null,null,null,null,null,null,null,null,null,null,null,null,null,null,null,null,null,null,null,null,null,null,null,null,null,"9.°-1","9.°-2","9.°-3","9.°-4","9.°-5","9.°-6","9.°-7","9.°-8","9.°-9","9.°-10","9.°-11","9.°-12","9.°-13","9.°-14","9.°-15","9.°-16","9.°-17",{"$f":"CONCATENATE($B$2,\"-\",U$7)","v":"9.°-18"},"9.°-19","9.°-20","9.°-21","9.°-22","9.°-23","9.°-24","9.°-25",null,{"$f":"IFERROR(IF(D40=\"\",\"\",IF((VLOOKUP(AD40,Herramientas!$P$3:$Q$227,2,0))=D40,1,0)),\"\")","v":""},{"$f":"IFERROR(IF(E40=\"\",\"\",IF((VLOOKUP(AE40,Herramientas!$P$3:$Q$227,2,0))=E40,1,0)),\"\")","v":""},{"$f":"IFERROR(IF(F40=\"\",\"\",IF((VLOOKUP(AF40,Herramientas!$P$3:$Q$227,2,0))=F40,1,0)),\"\")","v":""},{"$f":"IFERROR(IF(G40=\"\",\"\",IF((VLOOKUP(AG40,Herramientas!$P$3:$Q$227,2,0))=G40,1,0)),\"\")","v":""},{"$f":"IFERROR(IF(H40=\"\",\"\",IF((VLOOKUP(AH40,Herramientas!$P$3:$Q$227,2,0))=H40,1,0)),\"\")","v":""},{"$f":"IFERROR(IF(I40=\"\",\"\",IF((VLOOKUP(AI40,Herramientas!$P$3:$Q$227,2,0))=I40,1,0)),\"\")","v":""},{"$f":"IFERROR(IF(J40=\"\",\"\",IF((VLOOKUP(AJ40,Herramientas!$P$3:$Q$227,2,0))=J40,1,0)),\"\")","v":""},{"$f":"IFERROR(IF(K40=\"\",\"\",IF((VLOOKUP(AK40,Herramientas!$P$3:$Q$227,2,0))=K40,1,0)),\"\")","v":""},{"$f":"IFERROR(IF(L40=\"\",\"\",IF((VLOOKUP(AL40,Herramientas!$P$3:$Q$227,2,0))=L40,1,0)),\"\")","v":""},{"$f":"IFERROR(IF(M40=\"\",\"\",IF((VLOOKUP(AM40,Herramientas!$P$3:$Q$227,2,0))=M40,1,0)),\"\")","v":""},{"$f":"IFERROR(IF(N40=\"\",\"\",IF((VLOOKUP(AN40,Herramientas!$P$3:$Q$227,2,0))=N40,1,0)),\"\")","v":""},{"$f":"IFERROR(IF(O40=\"\",\"\",IF((VLOOKUP(AO40,Herramientas!$P$3:$Q$227,2,0))=O40,1,0)),\"\")","v":""},{"$f":"IFERROR(IF(P40=\"\",\"\",IF((VLOOKUP(AP40,Herramientas!$P$3:$Q$227,2,0))=P40,1,0)),\"\")","v":""},{"$f":"IFERROR(IF(Q40=\"\",\"\",IF((VLOOKUP(AQ40,Herramientas!$P$3:$Q$227,2,0))=Q40,1,0)),\"\")","v":""},{"$f":"IFERROR(IF(R40=\"\",\"\",IF((VLOOKUP(AR40,Herramientas!$P$3:$Q$227,2,0))=R40,1,0)),\"\")","v":""},{"$f":"IFERROR(IF(S40=\"\",\"\",IF((VLOOKUP(AS40,Herramientas!$P$3:$Q$227,2,0))=S40,1,0)),\"\")","v":""},{"$f":"IFERROR(IF(T40=\"\",\"\",IF((VLOOKUP(AT40,Herramientas!$P$3:$Q$227,2,0))=T40,1,0)),\"\")","v":""},{"$f":"IFERROR(IF(U40=\"\",\"\",IF((VLOOKUP(AU40,Herramientas!$P$3:$Q$227,2,0))=U40,1,0)),\"\")","v":""},{"$f":"IFERROR(IF(V40=\"\",\"\",IF((VLOOKUP(AV40,Herramientas!$P$3:$Q$227,2,0))=V40,1,0)),\"\")","v":""},{"$f":"IFERROR(IF(W40=\"\",\"\",IF((VLOOKUP(AW40,Herramientas!$P$3:$Q$227,2,0))=W40,1,0)),\"\")","v":""},{"$f":"IFERROR(IF(X40=\"\",\"\",IF((VLOOKUP(AX40,Herramientas!$P$3:$Q$227,2,0))=X40,1,0)),\"\")","v":""},{"$f":"IFERROR(IF(Y40=\"\",\"\",IF((VLOOKUP(AY40,Herramientas!$P$3:$Q$227,2,0))=Y40,1,0)),\"\")","v":""},{"$f":"IFERROR(IF(Z40=\"\",\"\",IF((VLOOKUP(AZ40,Herramientas!$P$3:$Q$227,2,0))=Z40,1,0)),\"\")","v":""},{"$f":"IFERROR(IF(AA40=\"\",\"\",IF((VLOOKUP(BA40,Herramientas!$P$3:$Q$227,2,0))=AA40,1,0)),\"\")","v":""},{"$f":"IFERROR(IF(AB40=\"\",\"\",IF((VLOOKUP(BB40,Herramientas!$P$3:$Q$227,2,0))=AB40,1,0)),\"\")","v":""},null,0,0]
[34,null,null,null,null,null,null,null,null,null,null,null,null,null,null,null,null,null,null,null,null,null,null,null,null,null,null,null,null,"9.°-1","9.°-2","9.°-3","9.°-4","9.°-5","9.°-6","9.°-7","9.°-8","9.°-9","9.°-10","9.°-11","9.°-12","9.°-13","9.°-14","9.°-15","9.°-16","9.°-17","9.°-18","9.°-19","9.°-20","9.°-21","9.°-22","9.°-23","9.°-24","9.°-25",null,{"$f":"IFERROR(IF(D41=\"\",\"\",IF((VLOOKUP(AD41,Herramientas!$P$3:$Q$227,2,0))=D41,1,0)),\"\")","v":""},{"$f":"IFERROR(IF(E41=\"\",\"\",IF((VLOOKUP(AE41,Herramientas!$P$3:$Q$227,2,0))=E41,1,0)),\"\")","v":""},{"$f":"IFERROR(IF(F41=\"\",\"\",IF((VLOOKUP(AF41,Herramientas!$P$3:$Q$227,2,0))=F41,1,0)),\"\")","v":""},{"$f":"IFERROR(IF(G41=\"\",\"\",IF((VLOOKUP(AG41,Herramientas!$P$3:$Q$227,2,0))=G41,1,0)),\"\")","v":""},{"$f":"IFERROR(IF(H41=\"\",\"\",IF((VLOOKUP(AH41,Herramientas!$P$3:$Q$227,2,0))=H41,1,0)),\"\")","v":""},{"$f":"IFERROR(IF(I41=\"\",\"\",IF((VLOOKUP(AI41,Herramientas!$P$3:$Q$227,2,0))=I41,1,0)),\"\")","v":""},{"$f":"IFERROR(IF(J41=\"\",\"\",IF((VLOOKUP(AJ41,Herramientas!$P$3:$Q$227,2,0))=J41,1,0)),\"\")","v":""},{"$f":"IFERROR(IF(K41=\"\",\"\",IF((VLOOKUP(AK41,Herramientas!$P$3:$Q$227,2,0))=K41,1,0)),\"\")","v":""},{"$f":"IFERROR(IF(L41=\"\",\"\",IF((VLOOKUP(AL41,Herramientas!$P$3:$Q$227,2,0))=L41,1,0)),\"\")","v":""},{"$f":"IFERROR(IF(M41=\"\",\"\",IF((VLOOKUP(AM41,Herramientas!$P$3:$Q$227,2,0))=M41,1,0)),\"\")","v":""},{"$f":"IFERROR(IF(N41=\"\",\"\",IF((VLOOKUP(AN41,Herramientas!$P$3:$Q$227,2,0))=N41,1,0)),\"\")","v":""},{"$f":"IFERROR(IF(O41=\"\",\"\",IF((VLOOKUP(AO41,Herramientas!$P$3:$Q$227,2,0))=O41,1,0)),\"\")","v":""},{"$f":"IFERROR(IF(P41=\"\",\"\",IF((VLOOKUP(AP41,Herramientas!$P$3:$Q$227,2,0))=P41,1,0)),\"\")","v":""},{"$f":"IFERROR(IF(Q41=\"\",\"\",IF((VLOOKUP(AQ41,Herramientas!$P$3:$Q$227,2,0))=Q41,1,0)),\"\")","v":""},{"$f":"IFERROR(IF(R41=\"\",\"\",IF((VLOOKUP(AR41,Herramientas!$P$3:$Q$227,2,0))=R41,1,0)),\"\")","v":""},{"$f":"IFERROR(IF(S41=\"\",\"\",IF((VLOOKUP(AS41,Herramientas!$P$3:$Q$227,2,0))=S41,1,0)),\"\")","v":""},{"$f":"IFERROR(IF(T41=\"\",\"\",IF((VLOOKUP(AT41,Herramientas!$P$3:$Q$227,2,0))=T41,1,0)),\"\")","v":""},{"$f":"IFERROR(IF(U41=\"\",\"\",IF((VLOOKUP(AU41,Herramientas!$P$3:$Q$227,2,0))=U41,1,0)),\"\")","v":""},{"$f":"IFERROR(IF(V41=\"\",\"\",IF((VLOOKUP(AV41,Herramientas!$P$3:$Q$227,2,0))=V41,1,0)),\"\")","v":""},{"$f":"IFERROR(IF(W41=\"\",\"\",IF((VLOOKUP(AW41,Herramientas!$P$3:$Q$227,2,0))=W41,1,0)),\"\")","v":""},{"$f":"IFERROR(IF(X41=\"\",\"\",IF((VLOOKUP(AX41,Herramientas!$P$3:$Q$227,2,0))=X41,1,0)),\"\")","v":""},{"$f":"IFERROR(IF(Y41=\"\",\"\",IF((VLOOKUP(AY41,Herramientas!$P$3:$Q$227,2,0))=Y41,1,0)),\"\")","v":""},{"$f":"IFERROR(IF(Z41=\"\",\"\",IF((VLOOKUP(AZ41,Herramientas!$P$3:$Q$227,2,0))=Z41,1,0)),\"\")","v":""},{"$f":"IFERROR(IF(AA41=\"\",\"\",IF((VLOOKUP(BA41,Herramientas!$P$3:$Q$227,2,0))=AA41,1,0)),\"\")","v":""},{"$f":"IFERROR(IF(AB41=\"\",\"\",IF((VLOOKUP(BB41,Herramientas!$P$3:$Q$227,2,0))=AB41,1,0)),\"\")","v":""},null,0,0]
[35,null,null,null,null,null,null,null,null,null,null,null,null,null,null,null,null,null,null,null,null,null,null,null,null,null,null,null,null,"9.°-1","9.°-2","9.°-3","9.°-4","9.°-5","9.°-6","9.°-7","9.°-8","9.°-9","9.°-10","9.°-11","9.°-12","9.°-13","9.°-14","9.°-15","9.°-16","9.°-17","9.°-18","9.°-19","9.°-20","9.°-21","9.°-22","9.°-23","9.°-24","9.°-25",null,{"$f":"IFERROR(IF(D42=\"\",\"\",IF((VLOOKUP(AD42,Herramientas!$P$3:$Q$227,2,0))=D42,1,0)),\"\")","v":""},{"$f":"IFERROR(IF(E42=\"\",\"\",IF((VLOOKUP(AE42,Herramientas!$P$3:$Q$227,2,0))=E42,1,0)),\"\")","v":""},{"$f":"IFERROR(IF(F42=\"\",\"\",IF((VLOOKUP(AF42,Herramientas!$P$3:$Q$227,2,0))=F42,1,0)),\"\")","v":""},{"$f":"IFERROR(IF(G42=\"\",\"\",IF((VLOOKUP(AG42,Herramientas!$P$3:$Q$227,2,0))=G42,1,0)),\"\")","v":""},{"$f":"IFERROR(IF(H42=\"\",\"\",IF((VLOOKUP(AH42,Herramientas!$P$3:$Q$227,2,0))=H42,1,0)),\"\")","v":""},{"$f":"IFERROR(IF(I42=\"\",\"\",IF((VLOOKUP(AI42,Herramientas!$P$3:$Q$227,2,0))=I42,1,0)),\"\")","v":""},{"$f":"IFERROR(IF(J42=\"\",\"\",IF((VLOOKUP(AJ42,Herramientas!$P$3:$Q$227,2,0))=J42,1,0)),\"\")","v":""},{"$f":"IFERROR(IF(K42=\"\",\"\",IF((VLOOKUP(AK42,Herramientas!$P$3:$Q$227,2,0))=K42,1,0)),\"\")","v":""},{"$f":"IFERROR(IF(L42=\"\",\"\",IF((VLOOKUP(AL42,Herramientas!$P$3:$Q$227,2,0))=L42,1,0)),\"\")","v":""},{"$f":"IFERROR(IF(M42=\"\",\"\",IF((VLOOKUP(AM42,Herramientas!$P$3:$Q$227,2,0))=M42,1,0)),\"\")","v":""},{"$f":"IFERROR(IF(N42=\"\",\"\",IF((VLOOKUP(AN42,Herramientas!$P$3:$Q$227,2,0))=N42,1,0)),\"\")","v":""},{"$f":"IFERROR(IF(O42=\"\",\"\",IF((VLOOKUP(AO42,Herramientas!$P$3:$Q$227,2,0))=O42,1,0)),\"\")","v":""},{"$f":"IFERROR(IF(P42=\"\",\"\",IF((VLOOKUP(AP42,Herramientas!$P$3:$Q$227,2,0))=P42,1,0)),\"\")","v":""},{"$f":"IFERROR(IF(Q42=\"\",\"\",IF((VLOOKUP(AQ42,Herramientas!$P$3:$Q$227,2,0))=Q42,1,0)),\"\")","v":""},{"$f":"IFERROR(IF(R42=\"\",\"\",IF((VLOOKUP(AR42,Herramientas!$P$3:$Q$227,2,0))=R42,1,0)),\"\")","v":""},{"$f":"IFERROR(IF(S42=\"\",\"\",IF((VLOOKUP(AS42,Herramientas!$P$3:$Q$227,2,0))=S42,1,0)),\"\")","v":""},{"$f":"IFERROR(IF(T42=\"\",\"\",IF((VLOOKUP(AT42,Herramientas!$P$3:$Q$227,2,0))=T42,1,0)),\"\")","v":""},{"$f":"IFERROR(IF(U42=\"\",\"\",IF((VLOOKUP(AU42,Herramientas!$P$3:$Q$227,2,0))=U42,1,0)),\"\")","v":""},{"$f":"IFERROR(IF(V42=\"\",\"\",IF((VLOOKUP(AV42,Herramientas!$P$3:$Q$227,2,0))=V42,1,0)),\"\")","v":""},{"$f":"IFERROR(IF(W42=\"\",\"\",IF((VLOOKUP(AW42,Herramientas!$P$3:$Q$227,2,0))=W42,1,0)),\"\")","v":""},{"$f":"IFERROR(IF(X42=\"\",\"\",IF((VLOOKUP(AX42,Herramientas!$P$3:$Q$227,2,0))=X42,1,0)),\"\")","v":""},{"$f":"IFERROR(IF(Y42=\"\",\"\",IF((VLOOKUP(AY42,Herramientas!$P$3:$Q$227,2,0))=Y42,1,0)),\"\")","v":""},{"$f":"IFERROR(IF(Z42=\"\",\"\",IF((VLOOKUP(AZ42,Herramientas!$P$3:$Q$227,2,0))=Z42,1,0)),\"\")","v":""},{"$f":"IFERROR(IF(AA42=\"\",\"\",IF((VLOOKUP(BA42,Herramientas!$P$3:$Q$227,2,0))=AA42,1,0)),\"\")","v":""},{"$f":"IFERROR(IF(AB42=\"\",\"\",IF((VLOOKUP(BB42,Herramientas!$P$3:$Q$227,2,0))=AB42,1,0)),\"\")","v":""},null,0,0]
[36,null,null,null,null,null,null,null,null,null,null,null,null,null,null,null,null,null,null,null,null,null,null,null,null,null,null,null,null,{"$f":"CONCATENATE($B$2,\"-\",D$7)","v":"9.°-1"},"9.°-2","9.°-3","9.°-4","9.°-5","9.°-6","9.°-7","9.°-8","9.°-9","9.°-10","9.°-11","9.°-12","9.°-13","9.°-14","9.°-15","9.°-16","9.°-17","9.°-18","9.°-19","9.°-20","9.°-21","9.°-22","9.°-23","9.°-24","9.°-25",null,{"$f":"IFERROR(IF(D43=\"\",\"\",IF((VLOOKUP(AD43,Herramientas!$P$3:$Q$227,2,0))=D43,1,0)),\"\")","v":""},{"$f":"IFERROR(IF(E43=\"\",\"\",IF((VLOOKUP(AE43,Herramientas!$P$3:$Q$227,2,0))=E43,1,0)),\"\")","v":""},{"$f":"IFERROR(IF(F43=\"\",\"\",IF((VLOOKUP(AF43,Herramientas!$P$3:$Q$227,2,0))=F43,1,0)),\"\")","v":""},{"$f":"IFERROR(IF(G43=\"\",\"\",IF((VLOOKUP(AG43,Herramientas!$P$3:$Q$227,2,0))=G43,1,0)),\"\")","v":""},{"$f":"IFERROR(IF(H43=\"\",\"\",IF((VLOOKUP(AH43,Herramientas!$P$3:$Q$227,2,0))=H43,1,0)),\"\")","v":""},{"$f":"IFERROR(IF(I43=\"\",\"\",IF((VLOOKUP(AI43,Herramientas!$P$3:$Q$227,2,0))=I43,1,0)),\"\")","v":""},{"$f":"IFERROR(IF(J43=\"\",\"\",IF((VLOOKUP(AJ43,Herramientas!$P$3:$Q$227,2,0))=J43,1,0)),\"\")","v":""},{"$f":"IFERROR(IF(K43=\"\",\"\",IF((VLOOKUP(AK43,Herramientas!$P$3:$Q$227,2,0))=K43,1,0)),\"\")","v":""},{"$f":"IFERROR(IF(L43=\"\",\"\",IF((VLOOKUP(AL43,Herramientas!$P$3:$Q$227,2,0))=L43,1,0)),\"\")","v":""},{"$f":"IFERROR(IF(M43=\"\",\"\",IF((VLOOKUP(AM43,Herramientas!$P$3:$Q$227,2,0))=M43,1,0)),\"\")","v":""},{"$f":"IFERROR(IF(N43=\"\",\"\",IF((VLOOKUP(AN43,Herramientas!$P$3:$Q$227,2,0))=N43,1,0)),\"\")","v":""},{"$f":"IFERROR(IF(O43=\"\",\"\",IF((VLOOKUP(AO43,Herramientas!$P$3:$Q$227,2,0))=O43,1,0)),\"\")","v":""},{"$f":"IFERROR(IF(P43=\"\",\"\",IF((VLOOKUP(AP43,Herramientas!$P$3:$Q$227,2,0))=P43,1,0)),\"\")","v":""},{"$f":"IFERROR(IF(Q43=\"\",\"\",IF((VLOOKUP(AQ43,Herramientas!$P$3:$Q$227,2,0))=Q43,1,0)),\"\")","v":""},{"$f":"IFERROR(IF(R43=\"\",\"\",IF((VLOOKUP(AR43,Herramientas!$P$3:$Q$227,2,0))=R43,1,0)),\"\")","v":""},{"$f":"IFERROR(IF(S43=\"\",\"\",IF((VLOOKUP(AS43,Herramientas!$P$3:$Q$227,2,0))=S43,1,0)),\"\")","v":""},{"$f":"IFERROR(IF(T43=\"\",\"\",IF((VLOOKUP(AT43,Herramientas!$P$3:$Q$227,2,0))=T43,1,0)),\"\")","v":""},{"$f":"IFERROR(IF(U43=\"\",\"\",IF((VLOOKUP(AU43,Herramientas!$P$3:$Q$227,2,0))=U43,1,0)),\"\")","v":""},{"$f":"IFERROR(IF(V43=\"\",\"\",IF((VLOOKUP(AV43,Herramientas!$P$3:$Q$227,2,0))=V43,1,0)),\"\")","v":""},{"$f":"IFERROR(IF(W43=\"\",\"\",IF((VLOOKUP(AW43,Herramientas!$P$3:$Q$227,2,0))=W43,1,0)),\"\")","v":""},{"$f":"IFERROR(IF(X43=\"\",\"\",IF((VLOOKUP(AX43,Herramientas!$P$3:$Q$227,2,0))=X43,1,0)),\"\")","v":""},{"$f":"IFERROR(IF(Y43=\"\",\"\",IF((VLOOKUP(AY43,Herramientas!$P$3:$Q$227,2,0))=Y43,1,0)),\"\")","v":""},{"$f":"IFERROR(IF(Z43=\"\",\"\",IF((VLOOKUP(AZ43,Herramientas!$P$3:$Q$227,2,0))=Z43,1,0)),\"\")","v":""},{"$f":"IFERROR(IF(AA43=\"\",\"\",IF((VLOOKUP(BA43,Herramientas!$P$3:$Q$227,2,0))=AA43,1,0)),\"\")","v":""},{"$f":"IFERROR(IF(AB43=\"\",\"\",IF((VLOOKUP(BB43,Herramientas!$P$3:$Q$227,2,0))=AB43,1,0)),\"\")","v":""},null,0,0]
[37,null,null,null,null,null,null,null,null,null,null,null,null,null,null,null,null,null,null,null,null,null,null,null,null,null,null,null,null,{"$f":"CONCATENATE($B$2,\"-\",D$7)","v":"9.°-1"},"9.°-2","9.°-3","9.°-4","9.°-5","9.°-6","9.°-7","9.°-8","9.°-9","9.°-10","9.°-11","9.°-12","9.°-13","9.°-14","9.°-15","9.°-16","9.°-17","9.°-18","9.°-19","9.°-20","9.°-21","9.°-22","9.°-23","9.°-24","9.°-25",null,{"$f":"IFERROR(IF(D44=\"\",\"\",IF((VLOOKUP(AD44,Herramientas!$P$3:$Q$227,2,0))=D44,1,0)),\"\")","v":""},{"$f":"IFERROR(IF(E44=\"\",\"\",IF((VLOOKUP(AE44,Herramientas!$P$3:$Q$227,2,0))=E44,1,0)),\"\")","v":""},{"$f":"IFERROR(IF(F44=\"\",\"\",IF((VLOOKUP(AF44,Herramientas!$P$3:$Q$227,2,0))=F44,1,0)),\"\")","v":""},{"$f":"IFERROR(IF(G44=\"\",\"\",IF((VLOOKUP(AG44,Herramientas!$P$3:$Q$227,2,0))=G44,1,0)),\"\")","v":""},{"$f":"IFERROR(IF(H44=\"\",\"\",IF((VLOOKUP(AH44,Herramientas!$P$3:$Q$227,2,0))=H44,1,0)),\"\")","v":""},{"$f":"IFERROR(IF(I44=\"\",\"\",IF((VLOOKUP(AI44,Herramientas!$P$3:$Q$227,2,0))=I44,1,0)),\"\")","v":""},{"$f":"IFERROR(IF(J44=\"\",\"\",IF((VLOOKUP(AJ44,Herramientas!$P$3:$Q$227,2,0))=J44,1,0)),\"\")","v":""},{"$f":"IFERROR(IF(K44=\"\",\"\",IF((VLOOKUP(AK44,Herramientas!$P$3:$Q$227,2,0))=K44,1,0)),\"\")","v":""},{"$f":"IFERROR(IF(L44=\"\",\"\",IF((VLOOKUP(AL44,Herramientas!$P$3:$Q$227,2,0))=L44,1,0)),\"\")","v":""},{"$f":"IFERROR(IF(M44=\"\",\"\",IF((VLOOKUP(AM44,Herramientas!$P$3:$Q$227,2,0))=M44,1,0)),\"\")","v":""},{"$f":"IFERROR(IF(N44=\"\",\"\",IF((VLOOKUP(AN44,Herramientas!$P$3:$Q$227,2,0))=N44,1,0)),\"\")","v":""},{"$f":"IFERROR(IF(O44=\"\",\"\",IF((VLOOKUP(AO44,Herramientas!$P$3:$Q$227,2,0))=O44,1,0)),\"\")","v":""},{"$f":"IFERROR(IF(P44=\"\",\"\",IF((VLOOKUP(AP44,Herramientas!$P$3:$Q$227,2,0))=P44,1,0)),\"\")","v":""},{"$f":"IFERROR(IF(Q44=\"\",\"\",IF((VLOOKUP(AQ44,Herramientas!$P$3:$Q$227,2,0))=Q44,1,0)),\"\")","v":""},{"$f":"IFERROR(IF(R44=\"\",\"\",IF((VLOOKUP(AR44,Herramientas!$P$3:$Q$227,2,0))=R44,1,0)),\"\")","v":""},{"$f":"IFERROR(IF(S44=\"\",\"\",IF((VLOOKUP(AS44,Herramientas!$P$3:$Q$227,2,0))=S44,1,0)),\"\")","v":""},{"$f":"IFERROR(IF(T44=\"\",\"\",IF((VLOOKUP(AT44,Herramientas!$P$3:$Q$227,2,0))=T44,1,0)),\"\")","v":""},{"$f":"IFERROR(IF(U44=\"\",\"\",IF((VLOOKUP(AU44,Herramientas!$P$3:$Q$227,2,0))=U44,1,0)),\"\")","v":""},{"$f":"IFERROR(IF(V44=\"\",\"\",IF((VLOOKUP(AV44,Herramientas!$P$3:$Q$227,2,0))=V44,1,0)),\"\")","v":""},{"$f":"IFERROR(IF(W44=\"\",\"\",IF((VLOOKUP(AW44,Herramientas!$P$3:$Q$227,2,0))=W44,1,0)),\"\")","v":""},{"$f":"IFERROR(IF(X44=\"\",\"\",IF((VLOOKUP(AX44,Herramientas!$P$3:$Q$227,2,0))=X44,1,0)),\"\")","v":""},{"$f":"IFERROR(IF(Y44=\"\",\"\",IF((VLOOKUP(AY44,Herramientas!$P$3:$Q$227,2,0))=Y44,1,0)),\"\")","v":""},{"$f":"IFERROR(IF(Z44=\"\",\"\",IF((VLOOKUP(AZ44,Herramientas!$P$3:$Q$227,2,0))=Z44,1,0)),\"\")","v":""},{"$f":"IFERROR(IF(AA44=\"\",\"\",IF((VLOOKUP(BA44,Herramientas!$P$3:$Q$227,2,0))=AA44,1,0)),\"\")","v":""},{"$f":"IFERROR(IF(AB44=\"\",\"\",IF((VLOOKUP(BB44,Herramientas!$P$3:$Q$227,2,0))=AB44,1,0)),\"\")","v":""},null,0,0]
[38,null,null,null,null,null,null,null,null,null,null,null,null,null,null,null,null,null,null,null,null,null,null,null,null,null,null,null,null,"9.°-1","9.°-2","9.°-3","9.°-4","9.°-5","9.°-6","9.°-7","9.°-8","9.°-9","9.°-10","9.°-11","9.°-12","9.°-13","9.°-14","9.°-15","9.°-16","9.°-17","9.°-18","9.°-19","9.°-20","9.°-21","9.°-22","9.°-23","9.°-24","9.°-25",null,{"$f":"IFERROR(IF(D45=\"\",\"\",IF((VLOOKUP(AD45,Herramientas!$P$3:$Q$227,2,0))=D45,1,0)),\"\")","v":""},{"$f":"IFERROR(IF(E45=\"\",\"\",IF((VLOOKUP(AE45,Herramientas!$P$3:$Q$227,2,0))=E45,1,0)),\"\")","v":""},{"$f":"IFERROR(IF(F45=\"\",\"\",IF((VLOOKUP(AF45,Herramientas!$P$3:$Q$227,2,0))=F45,1,0)),\"\")","v":""},{"$f":"IFERROR(IF(G45=\"\",\"\",IF((VLOOKUP(AG45,Herramientas!$P$3:$Q$227,2,0))=G45,1,0)),\"\")","v":""},{"$f":"IFERROR(IF(H45=\"\",\"\",IF((VLOOKUP(AH45,Herramientas!$P$3:$Q$227,2,0))=H45,1,0)),\"\")","v":""},{"$f":"IFERROR(IF(I45=\"\",\"\",IF((VLOOKUP(AI45,Herramientas!$P$3:$Q$227,2,0))=I45,1,0)),\"\")","v":""},{"$f":"IFERROR(IF(J45=\"\",\"\",IF((VLOOKUP(AJ45,Herramientas!$P$3:$Q$227,2,0))=J45,1,0)),\"\")","v":""},{"$f":"IFERROR(IF(K45=\"\",\"\",IF((VLOOKUP(AK45,Herramientas!$P$3:$Q$227,2,0))=K45,1,0)),\"\")","v":""},{"$f":"IFERROR(IF(L45=\"\",\"\",IF((VLOOKUP(AL45,Herramientas!$P$3:$Q$227,2,0))=L45,1,0)),\"\")","v":""},{"$f":"IFERROR(IF(M45=\"\",\"\",IF((VLOOKUP(AM45,Herramientas!$P$3:$Q$227,2,0))=M45,1,0)),\"\")","v":""},{"$f":"IFERROR(IF(N45=\"\",\"\",IF((VLOOKUP(AN45,Herramientas!$P$3:$Q$227,2,0))=N45,1,0)),\"\")","v":""},{"$f":"IFERROR(IF(O45=\"\",\"\",IF((VLOOKUP(AO45,Herramientas!$P$3:$Q$227,2,0))=O45,1,0)),\"\")","v":""},{"$f":"IFERROR(IF(P45=\"\",\"\",IF((VLOOKUP(AP45,Herramientas!$P$3:$Q$227,2,0))=P45,1,0)),\"\")","v":""},{"$f":"IFERROR(IF(Q45=\"\",\"\",IF((VLOOKUP(AQ45,Herramientas!$P$3:$Q$227,2,0))=Q45,1,0)),\"\")","v":""},{"$f":"IFERROR(IF(R45=\"\",\"\",IF((VLOOKUP(AR45,Herramientas!$P$3:$Q$227,2,0))=R45,1,0)),\"\")","v":""},{"$f":"IFERROR(IF(S45=\"\",\"\",IF((VLOOKUP(AS45,Herramientas!$P$3:$Q$227,2,0))=S45,1,0)),\"\")","v":""},{"$f":"IFERROR(IF(T45=\"\",\"\",IF((VLOOKUP(AT45,Herramientas!$P$3:$Q$227,2,0))=T45,1,0)),\"\")","v":""},{"$f":"IFERROR(IF(U45=\"\",\"\",IF((VLOOKUP(AU45,Herramientas!$P$3:$Q$227,2,0))=U45,1,0)),\"\")","v":""},{"$f":"IFERROR(IF(V45=\"\",\"\",IF((VLOOKUP(AV45,Herramientas!$P$3:$Q$227,2,0))=V45,1,0)),\"\")","v":""},{"$f":"IFERROR(IF(W45=\"\",\"\",IF((VLOOKUP(AW45,Herramientas!$P$3:$Q$227,2,0))=W45,1,0)),\"\")","v":""},{"$f":"IFERROR(IF(X45=\"\",\"\",IF((VLOOKUP(AX45,Herramientas!$P$3:$Q$227,2,0))=X45,1,0)),\"\")","v":""},{"$f":"IFERROR(IF(Y45=\"\",\"\",IF((VLOOKUP(AY45,Herramientas!$P$3:$Q$227,2,0))=Y45,1,0)),\"\")","v":""},{"$f":"IFERROR(IF(Z45=\"\",\"\",IF((VLOOKUP(AZ45,Herramientas!$P$3:$Q$227,2,0))=Z45,1,0)),\"\")","v":""},{"$f":"IFERROR(IF(AA45=\"\",\"\",IF((VLOOKUP(BA45,Herramientas!$P$3:$Q$227,2,0))=AA45,1,0)),\"\")","v":""},{"$f":"IFERROR(IF(AB45=\"\",\"\",IF((VLOOKUP(BB45,Herramientas!$P$3:$Q$227,2,0))=AB45,1,0)),\"\")","v":""},null,0,0]
[39,null,null,null,null,null,null,null,null,null,null,null,null,null,null,null,null,null,null,null,null,null,null,null,null,null,null,null,null,"9.°-1","9.°-2","9.°-3","9.°-4","9.°-5","9.°-6","9.°-7","9.°-8","9.°-9","9.°-10","9.°-11","9.°-12","9.°-13","9.°-14","9.°-15","9.°-16","9.°-17","9.°-18","9.°-19","9.°-20","9.°-21","9.°-22","9.°-23","9.°-24","9.°-25",null,{"$f":"IFERROR(IF(D46=\"\",\"\",IF((VLOOKUP(AD46,Herramientas!$P$3:$Q$227,2,0))=D46,1,0)),\"\")","v":""},{"$f":"IFERROR(IF(E46=\"\",\"\",IF((VLOOKUP(AE46,Herramientas!$P$3:$Q$227,2,0))=E46,1,0)),\"\")","v":""},{"$f":"IFERROR(IF(F46=\"\",\"\",IF((VLOOKUP(AF46,Herramientas!$P$3:$Q$227,2,0))=F46,1,0)),\"\")","v":""},{"$f":"IFERROR(IF(G46=\"\",\"\",IF((VLOOKUP(AG46,Herramientas!$P$3:$Q$227,2,0))=G46,1,0)),\"\")","v":""},{"$f":"IFERROR(IF(H46=\"\",\"\",IF((VLOOKUP(AH46,Herramientas!$P$3:$Q$227,2,0))=H46,1,0)),\"\")","v":""},{"$f":"IFERROR(IF(I46=\"\",\"\",IF((VLOOKUP(AI46,Herramientas!$P$3:$Q$227,2,0))=I46,1,0)),\"\")","v":""},{"$f":"IFERROR(IF(J46=\"\",\"\",IF((VLOOKUP(AJ46,Herramientas!$P$3:$Q$227,2,0))=J46,1,0)),\"\")","v":""},{"$f":"IFERROR(IF(K46=\"\",\"\",IF((VLOOKUP(AK46,Herramientas!$P$3:$Q$227,2,0))=K46,1,0)),\"\")","v":""},{"$f":"IFERROR(IF(L46=\"\",\"\",IF((VLOOKUP(AL46,Herramientas!$P$3:$Q$227,2,0))=L46,1,0)),\"\")","v":""},{"$f":"IFERROR(IF(M46=\"\",\"\",IF((VLOOKUP(AM46,Herramientas!$P$3:$Q$227,2,0))=M46,1,0)),\"\")","v":""},{"$f":"IFERROR(IF(N46=\"\",\"\",IF((VLOOKUP(AN46,Herramientas!$P$3:$Q$227,2,0))=N46,1,0)),\"\")","v":""},{"$f":"IFERROR(IF(O46=\"\",\"\",IF((VLOOKUP(AO46,Herramientas!$P$3:$Q$227,2,0))=O46,1,0)),\"\")","v":""},{"$f":"IFERROR(IF(P46=\"\",\"\",IF((VLOOKUP(AP46,Herramientas!$P$3:$Q$227,2,0))=P46,1,0)),\"\")","v":""},{"$f":"IFERROR(IF(Q46=\"\",\"\",IF((VLOOKUP(AQ46,Herramientas!$P$3:$Q$227,2,0))=Q46,1,0)),\"\")","v":""},{"$f":"IFERROR(IF(R46=\"\",\"\",IF((VLOOKUP(AR46,Herramientas!$P$3:$Q$227,2,0))=R46,1,0)),\"\")","v":""},{"$f":"IFERROR(IF(S46=\"\",\"\",IF((VLOOKUP(AS46,Herramientas!$P$3:$Q$227,2,0))=S46,1,0)),\"\")","v":""},{"$f":"IFERROR(IF(T46=\"\",\"\",IF((VLOOKUP(AT46,Herramientas!$P$3:$Q$227,2,0))=T46,1,0)),\"\")","v":""},{"$f":"IFERROR(IF(U46=\"\",\"\",IF((VLOOKUP(AU46,Herramientas!$P$3:$Q$227,2,0))=U46,1,0)),\"\")","v":""},{"$f":"IFERROR(IF(V46=\"\",\"\",IF((VLOOKUP(AV46,Herramientas!$P$3:$Q$227,2,0))=V46,1,0)),\"\")","v":""},{"$f":"IFERROR(IF(W46=\"\",\"\",IF((VLOOKUP(AW46,Herramientas!$P$3:$Q$227,2,0))=W46,1,0)),\"\")","v":""},{"$f":"IFERROR(IF(X46=\"\",\"\",IF((VLOOKUP(AX46,Herramientas!$P$3:$Q$227,2,0))=X46,1,0)),\"\")","v":""},{"$f":"IFERROR(IF(Y46=\"\",\"\",IF((VLOOKUP(AY46,Herramientas!$P$3:$Q$227,2,0))=Y46,1,0)),\"\")","v":""},{"$f":"IFERROR(IF(Z46=\"\",\"\",IF((VLOOKUP(AZ46,Herramientas!$P$3:$Q$227,2,0))=Z46,1,0)),\"\")","v":""},{"$f":"IFERROR(IF(AA46=\"\",\"\",IF((VLOOKUP(BA46,Herramientas!$P$3:$Q$227,2,0))=AA46,1,0)),\"\")","v":""},{"$f":"IFERROR(IF(AB46=\"\",\"\",IF((VLOOKUP(BB46,Herramientas!$P$3:$Q$227,2,0))=AB46,1,0)),\"\")","v":""},null,0,0]
[40,null,null,null,null,null,null,null,null,null,null,null,null,null,null,null,null,null,null,null,null,null,null,null,null,null,null,null,null,"9.°-1","9.°-2","9.°-3","9.°-4","9.°-5","9.°-6","9.°-7","9.°-8","9.°-9","9.°-10","9.°-11","9.°-12","9.°-13","9.°-14","9.°-15","9.°-16","9.°-17","9.°-18","9.°-19","9.°-20","9.°-21","9.°-22","9.°-23","9.°-24","9.°-25",null,{"$f":"IFERROR(IF(D47=\"\",\"\",IF((VLOOKUP(AD47,Herramientas!$P$3:$Q$227,2,0))=D47,1,0)),\"\")","v":""},{"$f":"IFERROR(IF(E47=\"\",\"\",IF((VLOOKUP(AE47,Herramientas!$P$3:$Q$227,2,0))=E47,1,0)),\"\")","v":""},{"$f":"IFERROR(IF(F47=\"\",\"\",IF((VLOOKUP(AF47,Herramientas!$P$3:$Q$227,2,0))=F47,1,0)),\"\")","v":""},{"$f":"IFERROR(IF(G47=\"\",\"\",IF((VLOOKUP(AG47,Herramientas!$P$3:$Q$227,2,0))=G47,1,0)),\"\")","v":""},{"$f":"IFERROR(IF(H47=\"\",\"\",IF((VLOOKUP(AH47,Herramientas!$P$3:$Q$227,2,0))=H47,1,0)),\"\")","v":""},{"$f":"IFERROR(IF(I47=\"\",\"\",IF((VLOOKUP(AI47,Herramientas!$P$3:$Q$227,2,0))=I47,1,0)),\"\")","v":""},{"$f":"IFERROR(IF(J47=\"\",\"\",IF((VLOOKUP(AJ47,Herramientas!$P$3:$Q$227,2,0))=J47,1,0)),\"\")","v":""},{"$f":"IFERROR(IF(K47=\"\",\"\",IF((VLOOKUP(AK47,Herramientas!$P$3:$Q$227,2,0))=K47,1,0)),\"\")","v":""},{"$f":"IFERROR(IF(L47=\"\",\"\",IF((VLOOKUP(AL47,Herramientas!$P$3:$Q$227,2,0))=L47,1,0)),\"\")","v":""},{"$f":"IFERROR(IF(M47=\"\",\"\",IF((VLOOKUP(AM47,Herramientas!$P$3:$Q$227,2,0))=M47,1,0)),\"\")","v":""},{"$f":"IFERROR(IF(N47=\"\",\"\",IF((VLOOKUP(AN47,Herramientas!$P$3:$Q$227,2,0))=N47,1,0)),\"\")","v":""},{"$f":"IFERROR(IF(O47=\"\",\"\",IF((VLOOKUP(AO47,Herramientas!$P$3:$Q$227,2,0))=O47,1,0)),\"\")","v":""},{"$f":"IFERROR(IF(P47=\"\",\"\",IF((VLOOKUP(AP47,Herramientas!$P$3:$Q$227,2,0))=P47,1,0)),\"\")","v":""},{"$f":"IFERROR(IF(Q47=\"\",\"\",IF((VLOOKUP(AQ47,Herramientas!$P$3:$Q$227,2,0))=Q47,1,0)),\"\")","v":""},{"$f":"IFERROR(IF(R47=\"\",\"\",IF((VLOOKUP(AR47,Herramientas!$P$3:$Q$227,2,0))=R47,1,0)),\"\")","v":""},{"$f":"IFERROR(IF(S47=\"\",\"\",IF((VLOOKUP(AS47,Herramientas!$P$3:$Q$227,2,0))=S47,1,0)),\"\")","v":""},{"$f":"IFERROR(IF(T47=\"\",\"\",IF((VLOOKUP(AT47,Herramientas!$P$3:$Q$227,2,0))=T47,1,0)),\"\")","v":""},{"$f":"IFERROR(IF(U47=\"\",\"\",IF((VLOOKUP(AU47,Herramientas!$P$3:$Q$227,2,0))=U47,1,0)),\"\")","v":""},{"$f":"IFERROR(IF(V47=\"\",\"\",IF((VLOOKUP(AV47,Herramientas!$P$3:$Q$227,2,0))=V47,1,0)),\"\")","v":""},{"$f":"IFERROR(IF(W47=\"\",\"\",IF((VLOOKUP(AW47,Herramientas!$P$3:$Q$227,2,0))=W47,1,0)),\"\")","v":""},{"$f":"IFERROR(IF(X47=\"\",\"\",IF((VLOOKUP(AX47,Herramientas!$P$3:$Q$227,2,0))=X47,1,0)),\"\")","v":""},{"$f":"IFERROR(IF(Y47=\"\",\"\",IF((VLOOKUP(AY47,Herramientas!$P$3:$Q$227,2,0))=Y47,1,0)),\"\")","v":""},{"$f":"IFERROR(IF(Z47=\"\",\"\",IF((VLOOKUP(AZ47,Herramientas!$P$3:$Q$227,2,0))=Z47,1,0)),\"\")","v":""},{"$f":"IFERROR(IF(AA47=\"\",\"\",IF((VLOOKUP(BA47,Herramientas!$P$3:$Q$227,2,0))=AA47,1,0)),\"\")","v":""},{"$f":"IFERROR(IF(AB47=\"\",\"\",IF((VLOOKUP(BB47,Herramientas!$P$3:$Q$227,2,0))=AB47,1,0)),\"\")","v":""},null,0,0]
[41,null,null,null,null,null,null,null,null,null,null,null,null,null,null,null,null,null,null,null,null,null,null,null,null,null,null,null,null,"9.°-1","9.°-2","9.°-3","9.°-4","9.°-5","9.°-6","9.°-7","9.°-8","9.°-9","9.°-10","9.°-11","9.°-12","9.°-13","9.°-14","9.°-15","9.°-16","9.°-17","9.°-18","9.°-19","9.°-20","9.°-21","9.°-22","9.°-23","9.°-24","9.°-25",null,{"$f":"IFERROR(IF(D48=\"\",\"\",IF((VLOOKUP(AD48,Herramientas!$P$3:$Q$227,2,0))=D48,1,0)),\"\")","v":""},{"$f":"IFERROR(IF(E48=\"\",\"\",IF((VLOOKUP(AE48,Herramientas!$P$3:$Q$227,2,0))=E48,1,0)),\"\")","v":""},{"$f":"IFERROR(IF(F48=\"\",\"\",IF((VLOOKUP(AF48,Herramientas!$P$3:$Q$227,2,0))=F48,1,0)),\"\")","v":""},{"$f":"IFERROR(IF(G48=\"\",\"\",IF((VLOOKUP(AG48,Herramientas!$P$3:$Q$227,2,0))=G48,1,0)),\"\")","v":""},{"$f":"IFERROR(IF(H48=\"\",\"\",IF((VLOOKUP(AH48,Herramientas!$P$3:$Q$227,2,0))=H48,1,0)),\"\")","v":""},{"$f":"IFERROR(IF(I48=\"\",\"\",IF((VLOOKUP(AI48,Herramientas!$P$3:$Q$227,2,0))=I48,1,0)),\"\")","v":""},{"$f":"IFERROR(IF(J48=\"\",\"\",IF((VLOOKUP(AJ48,Herramientas!$P$3:$Q$227,2,0))=J48,1,0)),\"\")","v":""},{"$f":"IFERROR(IF(K48=\"\",\"\",IF((VLOOKUP(AK48,Herramientas!$P$3:$Q$227,2,0))=K48,1,0)),\"\")","v":""},{"$f":"IFERROR(IF(L48=\"\",\"\",IF((VLOOKUP(AL48,Herramientas!$P$3:$Q$227,2,0))=L48,1,0)),\"\")","v":""},{"$f":"IFERROR(IF(M48=\"\",\"\",IF((VLOOKUP(AM48,Herramientas!$P$3:$Q$227,2,0))=M48,1,0)),\"\")","v":""},{"$f":"IFERROR(IF(N48=\"\",\"\",IF((VLOOKUP(AN48,Herramientas!$P$3:$Q$227,2,0))=N48,1,0)),\"\")","v":""},{"$f":"IFERROR(IF(O48=\"\",\"\",IF((VLOOKUP(AO48,Herramientas!$P$3:$Q$227,2,0))=O48,1,0)),\"\")","v":""},{"$f":"IFERROR(IF(P48=\"\",\"\",IF((VLOOKUP(AP48,Herramientas!$P$3:$Q$227,2,0))=P48,1,0)),\"\")","v":""},{"$f":"IFERROR(IF(Q48=\"\",\"\",IF((VLOOKUP(AQ48,Herramientas!$P$3:$Q$227,2,0))=Q48,1,0)),\"\")","v":""},{"$f":"IFERROR(IF(R48=\"\",\"\",IF((VLOOKUP(AR48,Herramientas!$P$3:$Q$227,2,0))=R48,1,0)),\"\")","v":""},{"$f":"IFERROR(IF(S48=\"\",\"\",IF((VLOOKUP(AS48,Herramientas!$P$3:$Q$227,2,0))=S48,1,0)),\"\")","v":""},{"$f":"IFERROR(IF(T48=\"\",\"\",IF((VLOOKUP(AT48,Herramientas!$P$3:$Q$227,2,0))=T48,1,0)),\"\")","v":""},{"$f":"IFERROR(IF(U48=\"\",\"\",IF((VLOOKUP(AU48,Herramientas!$P$3:$Q$227,2,0))=U48,1,0)),\"\")","v":""},{"$f":"IFERROR(IF(V48=\"\",\"\",IF((VLOOKUP(AV48,Herramientas!$P$3:$Q$227,2,0))=V48,1,0)),\"\")","v":""},{"$f":"IFERROR(IF(W48=\"\",\"\",IF((VLOOKUP(AW48,Herramientas!$P$3:$Q$227,2,0))=W48,1,0)),\"\")","v":""},{"$f":"IFERROR(IF(X48=\"\",\"\",IF((VLOOKUP(AX48,Herramientas!$P$3:$Q$227,2,0))=X48,1,0)),\"\")","v":""},{"$f":"IFERROR(IF(Y48=\"\",\"\",IF((VLOOKUP(AY48,Herramientas!$P$3:$Q$227,2,0))=Y48,1,0)),\"\")","v":""},{"$f":"IFERROR(IF(Z48=\"\",\"\",IF((VLOOKUP(AZ48,Herramientas!$P$3:$Q$227,2,0))=Z48,1,0)),\"\")","v":""},{"$f":"IFERROR(IF(AA48=\"\",\"\",IF((VLOOKUP(BA48,Herramientas!$P$3:$Q$227,2,0))=AA48,1,0)),\"\")","v":""},{"$f":"IFERROR(IF(AB48=\"\",\"\",IF((VLOOKUP(BB48,Herramientas!$P$3:$Q$227,2,0))=AB48,1,0)),\"\")","v":""},null,0,0]
[42,null,null,null,null,null,null,null,null,null,null,null,null,null,null,null,null,null,null,null,null,null,null,null,null,null,null,null,null,"9.°-1","9.°-2","9.°-3","9.°-4","9.°-5","9.°-6","9.°-7","9.°-8","9.°-9","9.°-10","9.°-11","9.°-12","9.°-13","9.°-14","9.°-15","9.°-16","9.°-17","9.°-18","9.°-19","9.°-20","9.°-21","9.°-22","9.°-23","9.°-24","9.°-25",null,{"$f":"IFERROR(IF(D49=\"\",\"\",IF((VLOOKUP(AD49,Herramientas!$P$3:$Q$227,2,0))=D49,1,0)),\"\")","v":""},{"$f":"IFERROR(IF(E49=\"\",\"\",IF((VLOOKUP(AE49,Herramientas!$P$3:$Q$227,2,0))=E49,1,0)),\"\")","v":""},{"$f":"IFERROR(IF(F49=\"\",\"\",IF((VLOOKUP(AF49,Herramientas!$P$3:$Q$227,2,0))=F49,1,0)),\"\")","v":""},{"$f":"IFERROR(IF(G49=\"\",\"\",IF((VLOOKUP(AG49,Herramientas!$P$3:$Q$227,2,0))=G49,1,0)),\"\")","v":""},{"$f":"IFERROR(IF(H49=\"\",\"\",IF((VLOOKUP(AH49,Herramientas!$P$3:$Q$227,2,0))=H49,1,0)),\"\")","v":""},{"$f":"IFERROR(IF(I49=\"\",\"\",IF((VLOOKUP(AI49,Herramientas!$P$3:$Q$227,2,0))=I49,1,0)),\"\")","v":""},{"$f":"IFERROR(IF(J49=\"\",\"\",IF((VLOOKUP(AJ49,Herramientas!$P$3:$Q$227,2,0))=J49,1,0)),\"\")","v":""},{"$f":"IFERROR(IF(K49=\"\",\"\",IF((VLOOKUP(AK49,Herramientas!$P$3:$Q$227,2,0))=K49,1,0)),\"\")","v":""},{"$f":"IFERROR(IF(L49=\"\",\"\",IF((VLOOKUP(AL49,Herramientas!$P$3:$Q$227,2,0))=L49,1,0)),\"\")","v":""},{"$f":"IFERROR(IF(M49=\"\",\"\",IF((VLOOKUP(AM49,Herramientas!$P$3:$Q$227,2,0))=M49,1,0)),\"\")","v":""},{"$f":"IFERROR(IF(N49=\"\",\"\",IF((VLOOKUP(AN49,Herramientas!$P$3:$Q$227,2,0))=N49,1,0)),\"\")","v":""},{"$f":"IFERROR(IF(O49=\"\",\"\",IF((VLOOKUP(AO49,Herramientas!$P$3:$Q$227,2,0))=O49,1,0)),\"\")","v":""},{"$f":"IFERROR(IF(P49=\"\",\"\",IF((VLOOKUP(AP49,Herramientas!$P$3:$Q$227,2,0))=P49,1,0)),\"\")","v":""},{"$f":"IFERROR(IF(Q49=\"\",\"\",IF((VLOOKUP(AQ49,Herramientas!$P$3:$Q$227,2,0))=Q49,1,0)),\"\")","v":""},{"$f":"IFERROR(IF(R49=\"\",\"\",IF((VLOOKUP(AR49,Herramientas!$P$3:$Q$227,2,0))=R49,1,0)),\"\")","v":""},{"$f":"IFERROR(IF(S49=\"\",\"\",IF((VLOOKUP(AS49,Herramientas!$P$3:$Q$227,2,0))=S49,1,0)),\"\")","v":""},{"$f":"IFERROR(IF(T49=\"\",\"\",IF((VLOOKUP(AT49,Herramientas!$P$3:$Q$227,2,0))=T49,1,0)),\"\")","v":""},{"$f":"IFERROR(IF(U49=\"\",\"\",IF((VLOOKUP(AU49,Herramientas!$P$3:$Q$227,2,0))=U49,1,0)),\"\")","v":""},{"$f":"IFERROR(IF(V49=\"\",\"\",IF((VLOOKUP(AV49,Herramientas!$P$3:$Q$227,2,0))=V49,1,0)),\"\")","v":""},{"$f":"IFERROR(IF(W49=\"\",\"\",IF((VLOOKUP(AW49,Herramientas!$P$3:$Q$227,2,0))=W49,1,0)),\"\")","v":""},{"$f":"IFERROR(IF(X49=\"\",\"\",IF((VLOOKUP(AX49,Herramientas!$P$3:$Q$227,2,0))=X49,1,0)),\"\")","v":""},{"$f":"IFERROR(IF(Y49=\"\",\"\",IF((VLOOKUP(AY49,Herramientas!$P$3:$Q$227,2,0))=Y49,1,0)),\"\")","v":""},{"$f":"IFERROR(IF(Z49=\"\",\"\",IF((VLOOKUP(AZ49,Herramientas!$P$3:$Q$227,2,0))=Z49,1,0)),\"\")","v":""},{"$f":"IFERROR(IF(AA49=\"\",\"\",IF((VLOOKUP(BA49,Herramientas!$P$3:$Q$227,2,0))=AA49,1,0)),\"\")","v":""},{"$f":"IFERROR(IF(AB49=\"\",\"\",IF((VLOOKUP(BB49,Herramientas!$P$3:$Q$227,2,0))=AB49,1,0)),\"\")","v":""},null,0,0]
[43,null,null,null,null,null,null,null,null,null,null,null,null,null,null,null,null,null,null,null,null,null,null,null,null,null,null,null,null,"9.°-1","9.°-2","9.°-3","9.°-4","9.°-5","9.°-6","9.°-7","9.°-8","9.°-9","9.°-10","9.°-11","9.°-12","9.°-13","9.°-14","9.°-15","9.°-16","9.°-17","9.°-18","9.°-19","9.°-20","9.°-21","9.°-22","9.°-23","9.°-24","9.°-25",null,{"$f":"IFERROR(IF(D50=\"\",\"\",IF((VLOOKUP(AD50,Herramientas!$P$3:$Q$227,2,0))=D50,1,0)),\"\")","v":""},{"$f":"IFERROR(IF(E50=\"\",\"\",IF((VLOOKUP(AE50,Herramientas!$P$3:$Q$227,2,0))=E50,1,0)),\"\")","v":""},{"$f":"IFERROR(IF(F50=\"\",\"\",IF((VLOOKUP(AF50,Herramientas!$P$3:$Q$227,2,0))=F50,1,0)),\"\")","v":""},{"$f":"IFERROR(IF(G50=\"\",\"\",IF((VLOOKUP(AG50,Herramientas!$P$3:$Q$227,2,0))=G50,1,0)),\"\")","v":""},{"$f":"IFERROR(IF(H50=\"\",\"\",IF((VLOOKUP(AH50,Herramientas!$P$3:$Q$227,2,0))=H50,1,0)),\"\")","v":""},{"$f":"IFERROR(IF(I50=\"\",\"\",IF((VLOOKUP(AI50,Herramientas!$P$3:$Q$227,2,0))=I50,1,0)),\"\")","v":""},{"$f":"IFERROR(IF(J50=\"\",\"\",IF((VLOOKUP(AJ50,Herramientas!$P$3:$Q$227,2,0))=J50,1,0)),\"\")","v":""},{"$f":"IFERROR(IF(K50=\"\",\"\",IF((VLOOKUP(AK50,Herramientas!$P$3:$Q$227,2,0))=K50,1,0)),\"\")","v":""},{"$f":"IFERROR(IF(L50=\"\",\"\",IF((VLOOKUP(AL50,Herramientas!$P$3:$Q$227,2,0))=L50,1,0)),\"\")","v":""},{"$f":"IFERROR(IF(M50=\"\",\"\",IF((VLOOKUP(AM50,Herramientas!$P$3:$Q$227,2,0))=M50,1,0)),\"\")","v":""},{"$f":"IFERROR(IF(N50=\"\",\"\",IF((VLOOKUP(AN50,Herramientas!$P$3:$Q$227,2,0))=N50,1,0)),\"\")","v":""},{"$f":"IFERROR(IF(O50=\"\",\"\",IF((VLOOKUP(AO50,Herramientas!$P$3:$Q$227,2,0))=O50,1,0)),\"\")","v":""},{"$f":"IFERROR(IF(P50=\"\",\"\",IF((VLOOKUP(AP50,Herramientas!$P$3:$Q$227,2,0))=P50,1,0)),\"\")","v":""},{"$f":"IFERROR(IF(Q50=\"\",\"\",IF((VLOOKUP(AQ50,Herramientas!$P$3:$Q$227,2,0))=Q50,1,0)),\"\")","v":""},{"$f":"IFERROR(IF(R50=\"\",\"\",IF((VLOOKUP(AR50,Herramientas!$P$3:$Q$227,2,0))=R50,1,0)),\"\")","v":""},{"$f":"IFERROR(IF(S50=\"\",\"\",IF((VLOOKUP(AS50,Herramientas!$P$3:$Q$227,2,0))=S50,1,0)),\"\")","v":""},{"$f":"IFERROR(IF(T50=\"\",\"\",IF((VLOOKUP(AT50,Herramientas!$P$3:$Q$227,2,0))=T50,1,0)),\"\")","v":""},{"$f":"IFERROR(IF(U50=\"\",\"\",IF((VLOOKUP(AU50,Herramientas!$P$3:$Q$227,2,0))=U50,1,0)),\"\")","v":""},{"$f":"IFERROR(IF(V50=\"\",\"\",IF((VLOOKUP(AV50,Herramientas!$P$3:$Q$227,2,0))=V50,1,0)),\"\")","v":""},{"$f":"IFERROR(IF(W50=\"\",\"\",IF((VLOOKUP(AW50,Herramientas!$P$3:$Q$227,2,0))=W50,1,0)),\"\")","v":""},{"$f":"IFERROR(IF(X50=\"\",\"\",IF((VLOOKUP(AX50,Herramientas!$P$3:$Q$227,2,0))=X50,1,0)),\"\")","v":""},{"$f":"IFERROR(IF(Y50=\"\",\"\",IF((VLOOKUP(AY50,Herramientas!$P$3:$Q$227,2,0))=Y50,1,0)),\"\")","v":""},{"$f":"IFERROR(IF(Z50=\"\",\"\",IF((VLOOKUP(AZ50,Herramientas!$P$3:$Q$227,2,0))=Z50,1,0)),\"\")","v":""},{"$f":"IFERROR(IF(AA50=\"\",\"\",IF((VLOOKUP(BA50,Herramientas!$P$3:$Q$227,2,0))=AA50,1,0)),\"\")","v":""},{"$f":"IFERROR(IF(AB50=\"\",\"\",IF((VLOOKUP(BB50,Herramientas!$P$3:$Q$227,2,0))=AB50,1,0)),\"\")","v":""},null,0,0]
[44,null,null,null,null,null,null,null,null,null,null,null,null,null,null,null,null,null,null,null,null,null,null,null,null,null,null,null,null,{"$f":"CONCATENATE($B$2,\"-\",D$7)","v":"9.°-1"},{"$f":"CONCATENATE($B$2,\"-\",E$7)","v":"9.°-2"},"9.°-3","9.°-4","9.°-5","9.°-6","9.°-7","9.°-8","9.°-9","9.°-10","9.°-11","9.°-12","9.°-13","9.°-14","9.°-15","9.°-16","9.°-17","9.°-18","9.°-19","9.°-20","9.°-21","9.°-22","9.°-23","9.°-24","9.°-25",null,{"$f":"IFERROR(IF(D51=\"\",\"\",IF((VLOOKUP(AD51,Herramientas!$P$3:$Q$227,2,0))=D51,1,0)),\"\")","v":""},{"$f":"IFERROR(IF(E51=\"\",\"\",IF((VLOOKUP(AE51,Herramientas!$P$3:$Q$227,2,0))=E51,1,0)),\"\")","v":""},{"$f":"IFERROR(IF(F51=\"\",\"\",IF((VLOOKUP(AF51,Herramientas!$P$3:$Q$227,2,0))=F51,1,0)),\"\")","v":""},{"$f":"IFERROR(IF(G51=\"\",\"\",IF((VLOOKUP(AG51,Herramientas!$P$3:$Q$227,2,0))=G51,1,0)),\"\")","v":""},{"$f":"IFERROR(IF(H51=\"\",\"\",IF((VLOOKUP(AH51,Herramientas!$P$3:$Q$227,2,0))=H51,1,0)),\"\")","v":""},{"$f":"IFERROR(IF(I51=\"\",\"\",IF((VLOOKUP(AI51,Herramientas!$P$3:$Q$227,2,0))=I51,1,0)),\"\")","v":""},{"$f":"IFERROR(IF(J51=\"\",\"\",IF((VLOOKUP(AJ51,Herramientas!$P$3:$Q$227,2,0))=J51,1,0)),\"\")","v":""},{"$f":"IFERROR(IF(K51=\"\",\"\",IF((VLOOKUP(AK51,Herramientas!$P$3:$Q$227,2,0))=K51,1,0)),\"\")","v":""},{"$f":"IFERROR(IF(L51=\"\",\"\",IF((VLOOKUP(AL51,Herramientas!$P$3:$Q$227,2,0))=L51,1,0)),\"\")","v":""},{"$f":"IFERROR(IF(M51=\"\",\"\",IF((VLOOKUP(AM51,Herramientas!$P$3:$Q$227,2,0))=M51,1,0)),\"\")","v":""},{"$f":"IFERROR(IF(N51=\"\",\"\",IF((VLOOKUP(AN51,Herramientas!$P$3:$Q$227,2,0))=N51,1,0)),\"\")","v":""},{"$f":"IFERROR(IF(O51=\"\",\"\",IF((VLOOKUP(AO51,Herramientas!$P$3:$Q$227,2,0))=O51,1,0)),\"\")","v":""},{"$f":"IFERROR(IF(P51=\"\",\"\",IF((VLOOKUP(AP51,Herramientas!$P$3:$Q$227,2,0))=P51,1,0)),\"\")","v":""},{"$f":"IFERROR(IF(Q51=\"\",\"\",IF((VLOOKUP(AQ51,Herramientas!$P$3:$Q$227,2,0))=Q51,1,0)),\"\")","v":""},{"$f":"IFERROR(IF(R51=\"\",\"\",IF((VLOOKUP(AR51,Herramientas!$P$3:$Q$227,2,0))=R51,1,0)),\"\")","v":""},{"$f":"IFERROR(IF(S51=\"\",\"\",IF((VLOOKUP(AS51,Herramientas!$P$3:$Q$227,2,0))=S51,1,0)),\"\")","v":""},{"$f":"IFERROR(IF(T51=\"\",\"\",IF((VLOOKUP(AT51,Herramientas!$P$3:$Q$227,2,0))=T51,1,0)),\"\")","v":""},{"$f":"IFERROR(IF(U51=\"\",\"\",IF((VLOOKUP(AU51,Herramientas!$P$3:$Q$227,2,0))=U51,1,0)),\"\")","v":""},{"$f":"IFERROR(IF(V51=\"\",\"\",IF((VLOOKUP(AV51,Herramientas!$P$3:$Q$227,2,0))=V51,1,0)),\"\")","v":""},{"$f":"IFERROR(IF(W51=\"\",\"\",IF((VLOOKUP(AW51,Herramientas!$P$3:$Q$227,2,0))=W51,1,0)),\"\")","v":""},{"$f":"IFERROR(IF(X51=\"\",\"\",IF((VLOOKUP(AX51,Herramientas!$P$3:$Q$227,2,0))=X51,1,0)),\"\")","v":""},{"$f":"IFERROR(IF(Y51=\"\",\"\",IF((VLOOKUP(AY51,Herramientas!$P$3:$Q$227,2,0))=Y51,1,0)),\"\")","v":""},{"$f":"IFERROR(IF(Z51=\"\",\"\",IF((VLOOKUP(AZ51,Herramientas!$P$3:$Q$227,2,0))=Z51,1,0)),\"\")","v":""},{"$f":"IFERROR(IF(AA51=\"\",\"\",IF((VLOOKUP(BA51,Herramientas!$P$3:$Q$227,2,0))=AA51,1,0)),\"\")","v":""},{"$f":"IFERROR(IF(AB51=\"\",\"\",IF((VLOOKUP(BB51,Herramientas!$P$3:$Q$227,2,0))=AB51,1,0)),\"\")","v":""},null,0,0]
[45,null,null,null,null,null,null,null,null,null,null,null,null,null,null,null,null,null,null,null,null,null,null,null,null,null,null,null,null,{"$f":"CONCATENATE($B$2,\"-\",D$7)","v":"9.°-1"},"9.°-2","9.°-3","9.°-4","9.°-5","9.°-6","9.°-7","9.°-8","9.°-9","9.°-10","9.°-11","9.°-12","9.°-13","9.°-14","9.°-15","9.°-16","9.°-17","9.°-18","9.°-19","9.°-20","9.°-21","9.°-22","9.°-23","9.°-24","9.°-25",null,{"$f":"IFERROR(IF(D52=\"\",\"\",IF((VLOOKUP(AD52,Herramientas!$P$3:$Q$227,2,0))=D52,1,0)),\"\")","v":""},{"$f":"IFERROR(IF(E52=\"\",\"\",IF((VLOOKUP(AE52,Herramientas!$P$3:$Q$227,2,0))=E52,1,0)),\"\")","v":""},{"$f":"IFERROR(IF(F52=\"\",\"\",IF((VLOOKUP(AF52,Herramientas!$P$3:$Q$227,2,0))=F52,1,0)),\"\")","v":""},{"$f":"IFERROR(IF(G52=\"\",\"\",IF((VLOOKUP(AG52,Herramientas!$P$3:$Q$227,2,0))=G52,1,0)),\"\")","v":""},{"$f":"IFERROR(IF(H52=\"\",\"\",IF((VLOOKUP(AH52,Herramientas!$P$3:$Q$227,2,0))=H52,1,0)),\"\")","v":""},{"$f":"IFERROR(IF(I52=\"\",\"\",IF((VLOOKUP(AI52,Herramientas!$P$3:$Q$227,2,0))=I52,1,0)),\"\")","v":""},{"$f":"IFERROR(IF(J52=\"\",\"\",IF((VLOOKUP(AJ52,Herramientas!$P$3:$Q$227,2,0))=J52,1,0)),\"\")","v":""},{"$f":"IFERROR(IF(K52=\"\",\"\",IF((VLOOKUP(AK52,Herramientas!$P$3:$Q$227,2,0))=K52,1,0)),\"\")","v":""},{"$f":"IFERROR(IF(L52=\"\",\"\",IF((VLOOKUP(AL52,Herramientas!$P$3:$Q$227,2,0))=L52,1,0)),\"\")","v":""},{"$f":"IFERROR(IF(M52=\"\",\"\",IF((VLOOKUP(AM52,Herramientas!$P$3:$Q$227,2,0))=M52,1,0)),\"\")","v":""},{"$f":"IFERROR(IF(N52=\"\",\"\",IF((VLOOKUP(AN52,Herramientas!$P$3:$Q$227,2,0))=N52,1,0)),\"\")","v":""},{"$f":"IFERROR(IF(O52=\"\",\"\",IF((VLOOKUP(AO52,Herramientas!$P$3:$Q$227,2,0))=O52,1,0)),\"\")","v":""},{"$f":"IFERROR(IF(P52=\"\",\"\",IF((VLOOKUP(AP52,Herramientas!$P$3:$Q$227,2,0))=P52,1,0)),\"\")","v":""},{"$f":"IFERROR(IF(Q52=\"\",\"\",IF((VLOOKUP(AQ52,Herramientas!$P$3:$Q$227,2,0))=Q52,1,0)),\"\")","v":""},{"$f":"IFERROR(IF(R52=\"\",\"\",IF((VLOOKUP(AR52,Herramientas!$P$3:$Q$227,2,0))=R52,1,0)),\"\")","v":""},{"$f":"IFERROR(IF(S52=\"\",\"\",IF((VLOOKUP(AS52,Herramientas!$P$3:$Q$227,2,0))=S52,1,0)),\"\")","v":""},{"$f":"IFERROR(IF(T52=\"\",\"\",IF((VLOOKUP(AT52,Herramientas!$P$3:$Q$227,2,0))=T52,1,0)),\"\")","v":""},{"$f":"IFERROR(IF(U52=\"\",\"\",IF((VLOOKUP(AU52,Herramientas!$P$3:$Q$227,2,0))=U52,1,0)),\"\")","v":""},{"$f":"IFERROR(IF(V52=\"\",\"\",IF((VLOOKUP(AV52,Herramientas!$P$3:$Q$227,2,0))=V52,1,0)),\"\")","v":""},{"$f":"IFERROR(IF(W52=\"\",\"\",IF((VLOOKUP(AW52,Herramientas!$P$3:$Q$227,2,0))=W52,1,0)),\"\")","v":""},{"$f":"IFERROR(IF(X52=\"\",\"\",IF((VLOOKUP(AX52,Herramientas!$P$3:$Q$227,2,0))=X52,1,0)),\"\")","v":""},{"$f":"IFERROR(IF(Y52=\"\",\"\",IF((VLOOKUP(AY52,Herramientas!$P$3:$Q$227,2,0))=Y52,1,0)),\"\")","v":""},{"$f":"IFERROR(IF(Z52=\"\",\"\",IF((VLOOKUP(AZ52,Herramientas!$P$3:$Q$227,2,0))=Z52,1,0)),\"\")","v":""},{"$f":"IFERROR(IF(AA52=\"\",\"\",IF((VLOOKUP(BA52,Herramientas!$P$3:$Q$227,2,0))=AA52,1,0)),\"\")","v":""},{"$f":"IFERROR(IF(AB52=\"\",\"\",IF((VLOOKUP(BB52,Herramientas!$P$3:$Q$227,2,0))=AB52,1,0)),\"\")","v":""},null,0,0]
[46,null,null,null,null,null,null,null,null,null,null,null,null,null,null,null,null,null,null,null,null,null,null,null,null,null,null,null,null,"9.°-1","9.°-2","9.°-3","9.°-4","9.°-5","9.°-6","9.°-7","9.°-8","9.°-9","9.°-10","9.°-11","9.°-12","9.°-13","9.°-14","9.°-15","9.°-16","9.°-17","9.°-18","9.°-19","9.°-20","9.°-21","9.°-22","9.°-23","9.°-24","9.°-25",null,{"$f":"IFERROR(IF(D53=\"\",\"\",IF((VLOOKUP(AD53,Herramientas!$P$3:$Q$227,2,0))=D53,1,0)),\"\")","v":""},{"$f":"IFERROR(IF(E53=\"\",\"\",IF((VLOOKUP(AE53,Herramientas!$P$3:$Q$227,2,0))=E53,1,0)),\"\")","v":""},{"$f":"IFERROR(IF(F53=\"\",\"\",IF((VLOOKUP(AF53,Herramientas!$P$3:$Q$227,2,0))=F53,1,0)),\"\")","v":""},{"$f":"IFERROR(IF(G53=\"\",\"\",IF((VLOOKUP(AG53,Herramientas!$P$3:$Q$227,2,0))=G53,1,0)),\"\")","v":""},{"$f":"IFERROR(IF(H53=\"\",\"\",IF((VLOOKUP(AH53,Herramientas!$P$3:$Q$227,2,0))=H53,1,0)),\"\")","v":""},{"$f":"IFERROR(IF(I53=\"\",\"\",IF((VLOOKUP(AI53,Herramientas!$P$3:$Q$227,2,0))=I53,1,0)),\"\")","v":""},{"$f":"IFERROR(IF(J53=\"\",\"\",IF((VLOOKUP(AJ53,Herramientas!$P$3:$Q$227,2,0))=J53,1,0)),\"\")","v":""},{"$f":"IFERROR(IF(K53=\"\",\"\",IF((VLOOKUP(AK53,Herramientas!$P$3:$Q$227,2,0))=K53,1,0)),\"\")","v":""},{"$f":"IFERROR(IF(L53=\"\",\"\",IF((VLOOKUP(AL53,Herramientas!$P$3:$Q$227,2,0))=L53,1,0)),\"\")","v":""},{"$f":"IFERROR(IF(M53=\"\",\"\",IF((VLOOKUP(AM53,Herramientas!$P$3:$Q$227,2,0))=M53,1,0)),\"\")","v":""},{"$f":"IFERROR(IF(N53=\"\",\"\",IF((VLOOKUP(AN53,Herramientas!$P$3:$Q$227,2,0))=N53,1,0)),\"\")","v":""},{"$f":"IFERROR(IF(O53=\"\",\"\",IF((VLOOKUP(AO53,Herramientas!$P$3:$Q$227,2,0))=O53,1,0)),\"\")","v":""},{"$f":"IFERROR(IF(P53=\"\",\"\",IF((VLOOKUP(AP53,Herramientas!$P$3:$Q$227,2,0))=P53,1,0)),\"\")","v":""},{"$f":"IFERROR(IF(Q53=\"\",\"\",IF((VLOOKUP(AQ53,Herramientas!$P$3:$Q$227,2,0))=Q53,1,0)),\"\")","v":""},{"$f":"IFERROR(IF(R53=\"\",\"\",IF((VLOOKUP(AR53,Herramientas!$P$3:$Q$227,2,0))=R53,1,0)),\"\")","v":""},{"$f":"IFERROR(IF(S53=\"\",\"\",IF((VLOOKUP(AS53,Herramientas!$P$3:$Q$227,2,0))=S53,1,0)),\"\")","v":""},{"$f":"IFERROR(IF(T53=\"\",\"\",IF((VLOOKUP(AT53,Herramientas!$P$3:$Q$227,2,0))=T53,1,0)),\"\")","v":""},{"$f":"IFERROR(IF(U53=\"\",\"\",IF((VLOOKUP(AU53,Herramientas!$P$3:$Q$227,2,0))=U53,1,0)),\"\")","v":""},{"$f":"IFERROR(IF(V53=\"\",\"\",IF((VLOOKUP(AV53,Herramientas!$P$3:$Q$227,2,0))=V53,1,0)),\"\")","v":""},{"$f":"IFERROR(IF(W53=\"\",\"\",IF((VLOOKUP(AW53,Herramientas!$P$3:$Q$227,2,0))=W53,1,0)),\"\")","v":""},{"$f":"IFERROR(IF(X53=\"\",\"\",IF((VLOOKUP(AX53,Herramientas!$P$3:$Q$227,2,0))=X53,1,0)),\"\")","v":""},{"$f":"IFERROR(IF(Y53=\"\",\"\",IF((VLOOKUP(AY53,Herramientas!$P$3:$Q$227,2,0))=Y53,1,0)),\"\")","v":""},{"$f":"IFERROR(IF(Z53=\"\",\"\",IF((VLOOKUP(AZ53,Herramientas!$P$3:$Q$227,2,0))=Z53,1,0)),\"\")","v":""},{"$f":"IFERROR(IF(AA53=\"\",\"\",IF((VLOOKUP(BA53,Herramientas!$P$3:$Q$227,2,0))=AA53,1,0)),\"\")","v":""},{"$f":"IFERROR(IF(AB53=\"\",\"\",IF((VLOOKUP(BB53,Herramientas!$P$3:$Q$227,2,0))=AB53,1,0)),\"\")","v":""},null,0,0]
[47,null,null,null,null,null,null,null,null,null,null,null,null,null,null,null,null,null,null,null,null,null,null,null,null,null,null,null,null,"9.°-1","9.°-2","9.°-3","9.°-4","9.°-5","9.°-6","9.°-7","9.°-8","9.°-9","9.°-10","9.°-11","9.°-12","9.°-13","9.°-14","9.°-15","9.°-16","9.°-17","9.°-18","9.°-19","9.°-20","9.°-21","9.°-22","9.°-23","9.°-24","9.°-25",null,{"$f":"IFERROR(IF(D54=\"\",\"\",IF((VLOOKUP(AD54,Herramientas!$P$3:$Q$227,2,0))=D54,1,0)),\"\")","v":""},{"$f":"IFERROR(IF(E54=\"\",\"\",IF((VLOOKUP(AE54,Herramientas!$P$3:$Q$227,2,0))=E54,1,0)),\"\")","v":""},{"$f":"IFERROR(IF(F54=\"\",\"\",IF((VLOOKUP(AF54,Herramientas!$P$3:$Q$227,2,0))=F54,1,0)),\"\")","v":""},{"$f":"IFERROR(IF(G54=\"\",\"\",IF((VLOOKUP(AG54,Herramientas!$P$3:$Q$227,2,0))=G54,1,0)),\"\")","v":""},{"$f":"IFERROR(IF(H54=\"\",\"\",IF((VLOOKUP(AH54,Herramientas!$P$3:$Q$227,2,0))=H54,1,0)),\"\")","v":""},{"$f":"IFERROR(IF(I54=\"\",\"\",IF((VLOOKUP(AI54,Herramientas!$P$3:$Q$227,2,0))=I54,1,0)),\"\")","v":""},{"$f":"IFERROR(IF(J54=\"\",\"\",IF((VLOOKUP(AJ54,Herramientas!$P$3:$Q$227,2,0))=J54,1,0)),\"\")","v":""},{"$f":"IFERROR(IF(K54=\"\",\"\",IF((VLOOKUP(AK54,Herramientas!$P$3:$Q$227,2,0))=K54,1,0)),\"\")","v":""},{"$f":"IFERROR(IF(L54=\"\",\"\",IF((VLOOKUP(AL54,Herramientas!$P$3:$Q$227,2,0))=L54,1,0)),\"\")","v":""},{"$f":"IFERROR(IF(M54=\"\",\"\",IF((VLOOKUP(AM54,Herramientas!$P$3:$Q$227,2,0))=M54,1,0)),\"\")","v":""},{"$f":"IFERROR(IF(N54=\"\",\"\",IF((VLOOKUP(AN54,Herramientas!$P$3:$Q$227,2,0))=N54,1,0)),\"\")","v":""},{"$f":"IFERROR(IF(O54=\"\",\"\",IF((VLOOKUP(AO54,Herramientas!$P$3:$Q$227,2,0))=O54,1,0)),\"\")","v":""},{"$f":"IFERROR(IF(P54=\"\",\"\",IF((VLOOKUP(AP54,Herramientas!$P$3:$Q$227,2,0))=P54,1,0)),\"\")","v":""},{"$f":"IFERROR(IF(Q54=\"\",\"\",IF((VLOOKUP(AQ54,Herramientas!$P$3:$Q$227,2,0))=Q54,1,0)),\"\")","v":""},{"$f":"IFERROR(IF(R54=\"\",\"\",IF((VLOOKUP(AR54,Herramientas!$P$3:$Q$227,2,0))=R54,1,0)),\"\")","v":""},{"$f":"IFERROR(IF(S54=\"\",\"\",IF((VLOOKUP(AS54,Herramientas!$P$3:$Q$227,2,0))=S54,1,0)),\"\")","v":""},{"$f":"IFERROR(IF(T54=\"\",\"\",IF((VLOOKUP(AT54,Herramientas!$P$3:$Q$227,2,0))=T54,1,0)),\"\")","v":""},{"$f":"IFERROR(IF(U54=\"\",\"\",IF((VLOOKUP(AU54,Herramientas!$P$3:$Q$227,2,0))=U54,1,0)),\"\")","v":""},{"$f":"IFERROR(IF(V54=\"\",\"\",IF((VLOOKUP(AV54,Herramientas!$P$3:$Q$227,2,0))=V54,1,0)),\"\")","v":""},{"$f":"IFERROR(IF(W54=\"\",\"\",IF((VLOOKUP(AW54,Herramientas!$P$3:$Q$227,2,0))=W54,1,0)),\"\")","v":""},{"$f":"IFERROR(IF(X54=\"\",\"\",IF((VLOOKUP(AX54,Herramientas!$P$3:$Q$227,2,0))=X54,1,0)),\"\")","v":""},{"$f":"IFERROR(IF(Y54=\"\",\"\",IF((VLOOKUP(AY54,Herramientas!$P$3:$Q$227,2,0))=Y54,1,0)),\"\")","v":""},{"$f":"IFERROR(IF(Z54=\"\",\"\",IF((VLOOKUP(AZ54,Herramientas!$P$3:$Q$227,2,0))=Z54,1,0)),\"\")","v":""},{"$f":"IFERROR(IF(AA54=\"\",\"\",IF((VLOOKUP(BA54,Herramientas!$P$3:$Q$227,2,0))=AA54,1,0)),\"\")","v":""},{"$f":"IFERROR(IF(AB54=\"\",\"\",IF((VLOOKUP(BB54,Herramientas!$P$3:$Q$227,2,0))=AB54,1,0)),\"\")","v":""},null,0,0]
[48,null,null,null,null,null,null,null,null,null,null,null,null,null,null,null,null,null,null,null,null,null,null,null,null,null,null,null,null,"9.°-1","9.°-2","9.°-3","9.°-4","9.°-5","9.°-6","9.°-7","9.°-8","9.°-9","9.°-10","9.°-11","9.°-12","9.°-13","9.°-14","9.°-15","9.°-16","9.°-17","9.°-18","9.°-19","9.°-20","9.°-21","9.°-22","9.°-23","9.°-24","9.°-25",null,{"$f":"IFERROR(IF(D55=\"\",\"\",IF((VLOOKUP(AD55,Herramientas!$P$3:$Q$227,2,0))=D55,1,0)),\"\")","v":""},{"$f":"IFERROR(IF(E55=\"\",\"\",IF((VLOOKUP(AE55,Herramientas!$P$3:$Q$227,2,0))=E55,1,0)),\"\")","v":""},{"$f":"IFERROR(IF(F55=\"\",\"\",IF((VLOOKUP(AF55,Herramientas!$P$3:$Q$227,2,0))=F55,1,0)),\"\")","v":""},{"$f":"IFERROR(IF(G55=\"\",\"\",IF((VLOOKUP(AG55,Herramientas!$P$3:$Q$227,2,0))=G55,1,0)),\"\")","v":""},{"$f":"IFERROR(IF(H55=\"\",\"\",IF((VLOOKUP(AH55,Herramientas!$P$3:$Q$227,2,0))=H55,1,0)),\"\")","v":""},{"$f":"IFERROR(IF(I55=\"\",\"\",IF((VLOOKUP(AI55,Herramientas!$P$3:$Q$227,2,0))=I55,1,0)),\"\")","v":""},{"$f":"IFERROR(IF(J55=\"\",\"\",IF((VLOOKUP(AJ55,Herramientas!$P$3:$Q$227,2,0))=J55,1,0)),\"\")","v":""},{"$f":"IFERROR(IF(K55=\"\",\"\",IF((VLOOKUP(AK55,Herramientas!$P$3:$Q$227,2,0))=K55,1,0)),\"\")","v":""},{"$f":"IFERROR(IF(L55=\"\",\"\",IF((VLOOKUP(AL55,Herramientas!$P$3:$Q$227,2,0))=L55,1,0)),\"\")","v":""},{"$f":"IFERROR(IF(M55=\"\",\"\",IF((VLOOKUP(AM55,Herramientas!$P$3:$Q$227,2,0))=M55,1,0)),\"\")","v":""},{"$f":"IFERROR(IF(N55=\"\",\"\",IF((VLOOKUP(AN55,Herramientas!$P$3:$Q$227,2,0))=N55,1,0)),\"\")","v":""},{"$f":"IFERROR(IF(O55=\"\",\"\",IF((VLOOKUP(AO55,Herramientas!$P$3:$Q$227,2,0))=O55,1,0)),\"\")","v":""},{"$f":"IFERROR(IF(P55=\"\",\"\",IF((VLOOKUP(AP55,Herramientas!$P$3:$Q$227,2,0))=P55,1,0)),\"\")","v":""},{"$f":"IFERROR(IF(Q55=\"\",\"\",IF((VLOOKUP(AQ55,Herramientas!$P$3:$Q$227,2,0))=Q55,1,0)),\"\")","v":""},{"$f":"IFERROR(IF(R55=\"\",\"\",IF((VLOOKUP(AR55,Herramientas!$P$3:$Q$227,2,0))=R55,1,0)),\"\")","v":""},{"$f":"IFERROR(IF(S55=\"\",\"\",IF((VLOOKUP(AS55,Herramientas!$P$3:$Q$227,2,0))=S55,1,0)),\"\")","v":""},{"$f":"IFERROR(IF(T55=\"\",\"\",IF((VLOOKUP(AT55,Herramientas!$P$3:$Q$227,2,0))=T55,1,0)),\"\")","v":""},{"$f":"IFERROR(IF(U55=\"\",\"\",IF((VLOOKUP(AU55,Herramientas!$P$3:$Q$227,2,0))=U55,1,0)),\"\")","v":""},{"$f":"IFERROR(IF(V55=\"\",\"\",IF((VLOOKUP(AV55,Herramientas!$P$3:$Q$227,2,0))=V55,1,0)),\"\")","v":""},{"$f":"IFERROR(IF(W55=\"\",\"\",IF((VLOOKUP(AW55,Herramientas!$P$3:$Q$227,2,0))=W55,1,0)),\"\")","v":""},{"$f":"IFERROR(IF(X55=\"\",\"\",IF((VLOOKUP(AX55,Herramientas!$P$3:$Q$227,2,0))=X55,1,0)),\"\")","v":""},{"$f":"IFERROR(IF(Y55=\"\",\"\",IF((VLOOKUP(AY55,Herramientas!$P$3:$Q$227,2,0))=Y55,1,0)),\"\")","v":""},{"$f":"IFERROR(IF(Z55=\"\",\"\",IF((VLOOKUP(AZ55,Herramientas!$P$3:$Q$227,2,0))=Z55,1,0)),\"\")","v":""},{"$f":"IFERROR(IF(AA55=\"\",\"\",IF((VLOOKUP(BA55,Herramientas!$P$3:$Q$227,2,0))=AA55,1,0)),\"\")","v":""},{"$f":"IFERROR(IF(AB55=\"\",\"\",IF((VLOOKUP(BB55,Herramientas!$P$3:$Q$227,2,0))=AB55,1,0)),\"\")","v":""},null,0,0]
[49,null,null,null,null,null,null,null,null,null,null,null,null,null,null,null,null,null,null,null,null,null,null,null,null,null,null,null,null,"9.°-1","9.°-2","9.°-3","9.°-4","9.°-5","9.°-6","9.°-7","9.°-8","9.°-9","9.°-10","9.°-11","9.°-12","9.°-13","9.°-14","9.°-15","9.°-16","9.°-17",{"$f":"CONCATENATE($B$2,\"-\",U$7)","v":"9.°-18"},"9.°-19","9.°-20","9.°-21","9.°-22","9.°-23","9.°-24","9.°-25",null,{"$f":"IFERROR(IF(D56=\"\",\"\",IF((VLOOKUP(AD56,Herramientas!$P$3:$Q$227,2,0))=D56,1,0)),\"\")","v":""},{"$f":"IFERROR(IF(E56=\"\",\"\",IF((VLOOKUP(AE56,Herramientas!$P$3:$Q$227,2,0))=E56,1,0)),\"\")","v":""},{"$f":"IFERROR(IF(F56=\"\",\"\",IF((VLOOKUP(AF56,Herramientas!$P$3:$Q$227,2,0))=F56,1,0)),\"\")","v":""},{"$f":"IFERROR(IF(G56=\"\",\"\",IF((VLOOKUP(AG56,Herramientas!$P$3:$Q$227,2,0))=G56,1,0)),\"\")","v":""},{"$f":"IFERROR(IF(H56=\"\",\"\",IF((VLOOKUP(AH56,Herramientas!$P$3:$Q$227,2,0))=H56,1,0)),\"\")","v":""},{"$f":"IFERROR(IF(I56=\"\",\"\",IF((VLOOKUP(AI56,Herramientas!$P$3:$Q$227,2,0))=I56,1,0)),\"\")","v":""},{"$f":"IFERROR(IF(J56=\"\",\"\",IF((VLOOKUP(AJ56,Herramientas!$P$3:$Q$227,2,0))=J56,1,0)),\"\")","v":""},{"$f":"IFERROR(IF(K56=\"\",\"\",IF((VLOOKUP(AK56,Herramientas!$P$3:$Q$227,2,0))=K56,1,0)),\"\")","v":""},{"$f":"IFERROR(IF(L56=\"\",\"\",IF((VLOOKUP(AL56,Herramientas!$P$3:$Q$227,2,0))=L56,1,0)),\"\")","v":""},{"$f":"IFERROR(IF(M56=\"\",\"\",IF((VLOOKUP(AM56,Herramientas!$P$3:$Q$227,2,0))=M56,1,0)),\"\")","v":""},{"$f":"IFERROR(IF(N56=\"\",\"\",IF((VLOOKUP(AN56,Herramientas!$P$3:$Q$227,2,0))=N56,1,0)),\"\")","v":""},{"$f":"IFERROR(IF(O56=\"\",\"\",IF((VLOOKUP(AO56,Herramientas!$P$3:$Q$227,2,0))=O56,1,0)),\"\")","v":""},{"$f":"IFERROR(IF(P56=\"\",\"\",IF((VLOOKUP(AP56,Herramientas!$P$3:$Q$227,2,0))=P56,1,0)),\"\")","v":""},{"$f":"IFERROR(IF(Q56=\"\",\"\",IF((VLOOKUP(AQ56,Herramientas!$P$3:$Q$227,2,0))=Q56,1,0)),\"\")","v":""},{"$f":"IFERROR(IF(R56=\"\",\"\",IF((VLOOKUP(AR56,Herramientas!$P$3:$Q$227,2,0))=R56,1,0)),\"\")","v":""},{"$f":"IFERROR(IF(S56=\"\",\"\",IF((VLOOKUP(AS56,Herramientas!$P$3:$Q$227,2,0))=S56,1,0)),\"\")","v":""},{"$f":"IFERROR(IF(T56=\"\",\"\",IF((VLOOKUP(AT56,Herramientas!$P$3:$Q$227,2,0))=T56,1,0)),\"\")","v":""},{"$f":"IFERROR(IF(U56=\"\",\"\",IF((VLOOKUP(AU56,Herramientas!$P$3:$Q$227,2,0))=U56,1,0)),\"\")","v":""},{"$f":"IFERROR(IF(V56=\"\",\"\",IF((VLOOKUP(AV56,Herramientas!$P$3:$Q$227,2,0))=V56,1,0)),\"\")","v":""},{"$f":"IFERROR(IF(W56=\"\",\"\",IF((VLOOKUP(AW56,Herramientas!$P$3:$Q$227,2,0))=W56,1,0)),\"\")","v":""},{"$f":"IFERROR(IF(X56=\"\",\"\",IF((VLOOKUP(AX56,Herramientas!$P$3:$Q$227,2,0))=X56,1,0)),\"\")","v":""},{"$f":"IFERROR(IF(Y56=\"\",\"\",IF((VLOOKUP(AY56,Herramientas!$P$3:$Q$227,2,0))=Y56,1,0)),\"\")","v":""},{"$f":"IFERROR(IF(Z56=\"\",\"\",IF((VLOOKUP(AZ56,Herramientas!$P$3:$Q$227,2,0))=Z56,1,0)),\"\")","v":""},{"$f":"IFERROR(IF(AA56=\"\",\"\",IF((VLOOKUP(BA56,Herramientas!$P$3:$Q$227,2,0))=AA56,1,0)),\"\")","v":""},{"$f":"IFERROR(IF(AB56=\"\",\"\",IF((VLOOKUP(BB56,Herramientas!$P$3:$Q$227,2,0))=AB56,1,0)),\"\")","v":""},null,0,0]
[50,null,null,null,null,null,null,null,null,null,null,null,null,null,null,null,null,null,null,null,null,null,null,null,null,null,null,null,null,"9.°-1","9.°-2","9.°-3","9.°-4","9.°-5","9.°-6","9.°-7","9.°-8","9.°-9","9.°-10","9.°-11","9.°-12","9.°-13","9.°-14","9.°-15","9.°-16","9.°-17","9.°-18","9.°-19","9.°-20","9.°-21","9.°-22","9.°-23","9.°-24","9.°-25",null,{"$f":"IFERROR(IF(D57=\"\",\"\",IF((VLOOKUP(AD57,Herramientas!$P$3:$Q$227,2,0))=D57,1,0)),\"\")","v":""},{"$f":"IFERROR(IF(E57=\"\",\"\",IF((VLOOKUP(AE57,Herramientas!$P$3:$Q$227,2,0))=E57,1,0)),\"\")","v":""},{"$f":"IFERROR(IF(F57=\"\",\"\",IF((VLOOKUP(AF57,Herramientas!$P$3:$Q$227,2,0))=F57,1,0)),\"\")","v":""},{"$f":"IFERROR(IF(G57=\"\",\"\",IF((VLOOKUP(AG57,Herramientas!$P$3:$Q$227,2,0))=G57,1,0)),\"\")","v":""},{"$f":"IFERROR(IF(H57=\"\",\"\",IF((VLOOKUP(AH57,Herramientas!$P$3:$Q$227,2,0))=H57,1,0)),\"\")","v":""},{"$f":"IFERROR(IF(I57=\"\",\"\",IF((VLOOKUP(AI57,Herramientas!$P$3:$Q$227,2,0))=I57,1,0)),\"\")","v":""},{"$f":"IFERROR(IF(J57=\"\",\"\",IF((VLOOKUP(AJ57,Herramientas!$P$3:$Q$227,2,0))=J57,1,0)),\"\")","v":""},{"$f":"IFERROR(IF(K57=\"\",\"\",IF((VLOOKUP(AK57,Herramientas!$P$3:$Q$227,2,0))=K57,1,0)),\"\")","v":""},{"$f":"IFERROR(IF(L57=\"\",\"\",IF((VLOOKUP(AL57,Herramientas!$P$3:$Q$227,2,0))=L57,1,0)),\"\")","v":""},{"$f":"IFERROR(IF(M57=\"\",\"\",IF((VLOOKUP(AM57,Herramientas!$P$3:$Q$227,2,0))=M57,1,0)),\"\")","v":""},{"$f":"IFERROR(IF(N57=\"\",\"\",IF((VLOOKUP(AN57,Herramientas!$P$3:$Q$227,2,0))=N57,1,0)),\"\")","v":""},{"$f":"IFERROR(IF(O57=\"\",\"\",IF((VLOOKUP(AO57,Herramientas!$P$3:$Q$227,2,0))=O57,1,0)),\"\")","v":""},{"$f":"IFERROR(IF(P57=\"\",\"\",IF((VLOOKUP(AP57,Herramientas!$P$3:$Q$227,2,0))=P57,1,0)),\"\")","v":""},{"$f":"IFERROR(IF(Q57=\"\",\"\",IF((VLOOKUP(AQ57,Herramientas!$P$3:$Q$227,2,0))=Q57,1,0)),\"\")","v":""},{"$f":"IFERROR(IF(R57=\"\",\"\",IF((VLOOKUP(AR57,Herramientas!$P$3:$Q$227,2,0))=R57,1,0)),\"\")","v":""},{"$f":"IFERROR(IF(S57=\"\",\"\",IF((VLOOKUP(AS57,Herramientas!$P$3:$Q$227,2,0))=S57,1,0)),\"\")","v":""},{"$f":"IFERROR(IF(T57=\"\",\"\",IF((VLOOKUP(AT57,Herramientas!$P$3:$Q$227,2,0))=T57,1,0)),\"\")","v":""},{"$f":"IFERROR(IF(U57=\"\",\"\",IF((VLOOKUP(AU57,Herramientas!$P$3:$Q$227,2,0))=U57,1,0)),\"\")","v":""},{"$f":"IFERROR(IF(V57=\"\",\"\",IF((VLOOKUP(AV57,Herramientas!$P$3:$Q$227,2,0))=V57,1,0)),\"\")","v":""},{"$f":"IFERROR(IF(W57=\"\",\"\",IF((VLOOKUP(AW57,Herramientas!$P$3:$Q$227,2,0))=W57,1,0)),\"\")","v":""},{"$f":"IFERROR(IF(X57=\"\",\"\",IF((VLOOKUP(AX57,Herramientas!$P$3:$Q$227,2,0))=X57,1,0)),\"\")","v":""},{"$f":"IFERROR(IF(Y57=\"\",\"\",IF((VLOOKUP(AY57,Herramientas!$P$3:$Q$227,2,0))=Y57,1,0)),\"\")","v":""},{"$f":"IFERROR(IF(Z57=\"\",\"\",IF((VLOOKUP(AZ57,Herramientas!$P$3:$Q$227,2,0))=Z57,1,0)),\"\")","v":""},{"$f":"IFERROR(IF(AA57=\"\",\"\",IF((VLOOKUP(BA57,Herramientas!$P$3:$Q$227,2,0))=AA57,1,0)),\"\")","v":""},{"$f":"IFERROR(IF(AB57=\"\",\"\",IF((VLOOKUP(BB57,Herramientas!$P$3:$Q$227,2,0))=AB57,1,0)),\"\")","v":""},null,0,0]

{"sheet":"Resultados MAT","index":5,"n_rows":30,"n_cols":10,"rows_kept":30,"cut":false,"hidden":false,"merged":[[2,4,2,9],[3,1,3,2],[3,4,4,4],[3,5,3,8],[3,9,4,9],[2,1,2,2]]}
[]
[]
[null,"Matemática",null,null,"Resultados por ítem"]
[null,{"$f":"IF(Matemática!B2=\"9.°\",\"Noveno grado\",IF(Matemática!B2=\"1.° Bach.\",\"1.° año de Educación Media\",IF(Matemática!B2=\"8.°\",\"Octavo grado\",IF(Matemática!B2=\"7.°\",\"Séptimo grado\",IF(Matemática!B2=\"6.°\",\"Sexto grado\",IF(Matemática!B2=\"5.°\",\"Quinto grado\",IF(Matemática!B2=\"4.°\",\"Cuarto grado\",IF(Matemática!B2=\"3.°\",\"Tercer grado\",IF(Matemática!B2=\"2.° Bach.\",\"Segundo año de Educación Media\",\"\")))))))))","v":"Quinto grado"},null,null,"N.° ítem","Porcentaje de selección",null,null,null,"Clave"]
[null,"Dimensión teórica","Porcentaje de acierto",null,null,"A","B","C","D"]
[null,{"$f":"VLOOKUP(Herramientas!AB3,Herramientas!AC3:AD65,2,0)","v":"Aritmética - Operaciones con números naturales"},{"$f":"Generador!E3","v":""},null,1,{"$f":"Matemática!CO15","v":""},{"$f":"Matemática!CR15","v":""},{"$f":"Matemática!CU15","v":""},{"$f":"IF(OR(Matemática!$B$2=\"3.°\",Matemática!$B$2=\"4.°\"),\"\",Matemática!CX15)","v":""},{"$f":"VLOOKUP(Herramientas!B15,Herramientas!$D$3:$E$227,2,0)","v":"C"}]
[null,{"$f":"VLOOKUP(Herramientas!AB4,Herramientas!AC3:AD65,2,0)","v":"Aritmética - Suma y división de números decimales"},{"$f":"Generador!E4","v":""},null,2,{"$f":"Matemática!CO16","v":""},{"$f":"Matemática!CR16","v":""},{"$f":"Matemática!CU16","v":""},{"$f":"IF(OR(Matemática!$B$2=\"3.°\",Matemática!$B$2=\"4.°\"),\"\",Matemática!CX16)","v":""},{"$f":"VLOOKUP(Herramientas!B16,Herramientas!$D$3:$E$227,2,0)","v":"D"}]
[null,{"$f":"VLOOKUP(Herramientas!AB5,Herramientas!AC3:AD65,2,0)","v":"Aritmética - Suma, resta y comparación con fracciones homogéneas"},{"$f":"Generador!E5","v":""},null,3,{"$f":"Matemática!CO17","v":""},{"$f":"Matemática!CR17","v":""},{"$f":"Matemática!CU17","v":""},{"$f":"IF(OR(Matemática!$B$2=\"3.°\",Matemática!$B$2=\"4.°\"),\"\",Matemática!CX17)","v":""},{"$f":"VLOOKUP(Herramientas!B17,Herramientas!$D$3:$E$227,2,0)","v":"B"}]
[null,{"$f":"VLOOKUP(Herramientas!AB6,Herramientas!AC3:AD65,2,0)","v":"Geometría "},{"$f":"Generador!E6","v":""},null,4,{"$f":"Matemática!CO18","v":""},{"$f":"Matemática!CR18","v":""},{"$f":"Matemática!CU18","v":""},{"$f":"IF(OR(Matemática!$B$2=\"3.°\",Matemática!$B$2=\"4.°\"),\"\",Matemática!CX18)","v":""},{"$f":"VLOOKUP(Herramientas!B18,Herramientas!$D$3:$E$227,2,0)","v":"D"}]
[null,{"$f":"VLOOKUP(Herramientas!AB7,Herramientas!AC3:AD65,2,0)","v":"  "},{"$f":"Generador!E7","v":""},null,5,{"$f":"Matemática!CO19","v":""},{"$f":"Matemática!CR19","v":""},{"$f":"Matemática!CU19","v":""},{"$f":"IF(OR(Matemática!$B$2=\"3.°\",Matemática!$B$2=\"4.°\"),\"\",Matemática!CX19)","v":""},{"$f":"VLOOKUP(Herramientas!B19,Herramientas!$D$3:$E$227,2,0)","v":"D"}]
[null,{"$f":"VLOOKUP(Herramientas!AB8,Herramientas!AC3:AD65,2,0)","v":"  "},{"$f":"Generador!E8","v":""},null,6,{"$f":"Matemática!CO20","v":""},{"$f":"Matemática!CR20","v":""},{"$f":"Matemática!CU20","v":""},{"$f":"IF(OR(Matemática!$B$2=\"3.°\",Matemática!$B$2=\"4.°\"),\"\",Matemática!CX20)","v":""},{"$f":"VLOOKUP(Herramientas!B20,Herramientas!$D$3:$E$227,2,0)","v":"A"}]
[null,{"$f":"VLOOKUP(Herramientas!AB9,Herramientas!AC3:AD75,2,0)","v":"  "},{"$f":"Generador!E9","v":""},null,7,{"$f":"Matemática!CO21","v":""},{"$f":"Matemática!CR21","v":""},{"$f":"Matemática!CU21","v":""},{"$f":"IF(OR(Matemática!$B$2=\"3.°\",Matemática!$B$2=\"4.°\"),\"\",Matemática!CX21)","v":""},{"$f":"VLOOKUP(Herramientas!B21,Herramientas!$D$3:$E$227,2,0)","v":"D"}]
[null,{"$f":"VLOOKUP(Herramientas!AB10,Herramientas!AC3:AD75,2,0)","v":"  "},{"$f":"Generador!E10","v":""},null,8,{"$f":"Matemática!CO22","v":""},{"$f":"Matemática!CR22","v":""},{"$f":"Matemática!CU22","v":""},{"$f":"IF(OR(Matemática!$B$2=\"3.°\",Matemática!$B$2=\"4.°\"),\"\",Matemática!CX22)","v":""},{"$f":"VLOOKUP(Herramientas!B22,Herramientas!$D$3:$E$227,2,0)","v":"C"}]
[null,"Dimensión cognitiva","Porcentaje de acierto",null,9,{"$f":"Matemática!CO23","v":""},{"$f":"Matemática!CR23","v":""},{"$f":"Matemática!CU23","v":""},{"$f":"IF(OR(Matemática!$B$2=\"3.°\",Matemática!$B$2=\"4.°\"),\"\",Matemática!CX23)","v":""},{"$f":"VLOOKUP(Herramientas!B23,Herramientas!$D$3:$E$227,2,0)","v":"C"}]
[null,"Conocimiento",{"$f":"Generador!E11","v":""},null,10,{"$f":"Matemática!CO24","v":""},{"$f":"Matemática!CR24","v":""},{"$f":"Matemática!CU24","v":""},{"$f":"IF(OR(Matemática!$B$2=\"3.°\",Matemática!$B$2=\"4.°\"),\"\",Matemática!CX24)","v":""},{"$f":"VLOOKUP(Herramientas!B24,Herramientas!$D$3:$E$227,2,0)","v":"C"}]
[null,"Aplicación",{"$f":"Generador!E12","v":""},null,11,{"$f":"Matemática!CO25","v":""},{"$f":"Matemática!CR25","v":""},{"$f":"Matemática!CU25","v":""},{"$f":"IF(OR(Matemática!$B$2=\"3.°\",Matemática!$B$2=\"4.°\"),\"\",Matemática!CX25)","v":""},{"$f":"VLOOKUP(Herramientas!B25,Herramientas!$D$3:$E$227,2,0)","v":"B"}]
[null,null,null,null,12,{"$f":"Matemática!CO26","v":""},{"$f":"Matemática!CR26","v":""},{"$f":"Matemática!CU26","v":""},{"$f":"IF(OR(Matemática!$B$2=\"3.°\",Matemática!$B$2=\"4.°\"),\"\",Matemática!CX26)","v":""},{"$f":"VLOOKUP(Herramientas!B26,Herramientas!$D$3:$E$227,2,0)","v":"C"}]
[null,null,null,null,13,{"$f":"Matemática!CO27","v":""},{"$f":"Matemática!CR27","v":""},{"$f":"Matemática!CU27","v":""},{"$f":"IF(OR(Matemática!$B$2=\"3.°\",Matemática!$B$2=\"4.°\"),\"\",Matemática!CX27)","v":""},{"$f":"VLOOKUP(Herramientas!B27,Herramientas!$D$3:$E$227,2,0)","v":"A"}]
[null,null,null,null,14,{"$f":"Matemática!CO28","v":""},{"$f":"Matemática!CR28","v":""},{"$f":"Matemática!CU28","v":""},{"$f":"IF(OR(Matemática!$B$2=\"3.°\",Matemática!$B$2=\"4.°\"),\"\",Matemática!CX28)","v":""},{"$f":"VLOOKUP(Herramientas!B28,Herramientas!$D$3:$E$227,2,0)","v":"D"}]
[null,null,null,null,15,{"$f":"Matemática!CO29","v":""},{"$f":"Matemática!CR29","v":""},{"$f":"Matemática!CU29","v":""},{"$f":"IF(OR(Matemática!$B$2=\"3.°\",Matemática!$B$2=\"4.°\"),\"\",Matemática!CX29)","v":""},{"$f":"VLOOKUP(Herramientas!B29,Herramientas!$D$3:$E$227,2,0)","v":"C"}]
[null,null,null,null,16,{"$f":"Matemática!CO30","v":""},{"$f":"Matemática!CR30","v":""},{"$f":"Matemática!CU30","v":""},{"$f":"IF(OR(Matemática!$B$2=\"3.°\",Matemática!$B$2=\"4.°\"),\"\",Matemática!CX30)","v":""},{"$f":"VLOOKUP(Herramientas!B30,Herramientas!$D$3:$E$227,2,0)","v":"D"}]
[null,null,null,null,17,{"$f":"IF(Matemática!B2=\"4.°\",\"\",Matemática!CO31)","v":""},{"$f":"IF(Matemática!$B$2=\"4.°\",\"\",Matemática!CR31)","v":""},{"$f":"IF(Matemática!$B$2=\"4.°\",\"\",Matemática!CU31)","v":""},{"$f":"IF(OR(Matemática!$B$2=\"3.°\",Matemática!$B$2=\"4.°\"),\"\",Matemática!CX31)","v":""},{"$f":"VLOOKUP(Herramientas!B31,Herramientas!$D$3:$E$227,2,0)","v":"B"}]
[null,null,null,null,18,{"$f":"IF(Matemática!$B$2=\"4.°\",\"\",Matemática!CO32)","v":""},{"$f":"IF(Matemática!$B$2=\"4.°\",\"\",Matemática!CR32)","v":""},{"$f":"IF(Matemática!$B$2=\"4.°\",\"\",Matemática!CU32)","v":""},{"$f":"IF(OR(Matemática!$B$2=\"3.°\",Matemática!$B$2=\"4.°\"),\"\",Matemática!CX32)","v":""},{"$f":"VLOOKUP(Herramientas!B32,Herramientas!$D$3:$E$227,2,0)","v":"C"}]
[null,null,null,null,19,{"$f":"IF(Matemática!$B$2=\"4.°\",\"\",Matemática!CO33)","v":""},{"$f":"IF(Matemática!$B$2=\"4.°\",\"\",Matemática!CR33)","v":""},{"$f":"IF(Matemática!$B$2=\"4.°\",\"\",Matemática!CU33)","v":""},{"$f":"IF(OR(Matemática!$B$2=\"3.°\",Matemática!$B$2=\"4.°\"),\"\",Matemática!CX33)","v":""},{"$f":"VLOOKUP(Herramientas!B33,Herramientas!$D$3:$E$227,2,0)","v":"A"}]
[null,null,null,null,20,{"$f":"IF(Matemática!$B$2=\"4.°\",\"\",Matemática!CO34)","v":""},{"$f":"IF(Matemática!$B$2=\"4.°\",\"\",Matemática!CR34)","v":""},{"$f":"IF(Matemática!$B$2=\"4.°\",\"\",Matemática!CU34)","v":""},{"$f":"IF(OR(Matemática!$B$2=\"3.°\",Matemática!$B$2=\"4.°\"),\"\",Matemática!CX34)","v":""},{"$f":"VLOOKUP(Herramientas!B34,Herramientas!$D$3:$E$227,2,0)","v":"B"}]
[null,null,null,null,21,{"$f":"IF(OR(Matemática!$B$2=\"4.°\",Matemática!$B$2=\"3.°\",Matemática!$B$2=\"6.°\",Matemática!$B$2=\"7.°\"),\"\",Matemática!CO35)","v":""},{"$f":"IF(OR(Matemática!$B$2=\"4.°\",Matemática!$B$2=\"3.°\",Matemática!$B$2=\"6.°\",Matemática!$B$2=\"7.°\"),\"\",Matemática!CR35)","v":""},{"$f":"IF(OR(Matemática!$B$2=\"4.°\",Matemática!$B$2=\"3.°\",Matemática!$B$2=\"6.°\",Matemática!$B$2=\"7.°\"),\"\",Matemática!CU35)","v":""},{"$f":"IF(OR(Matemática!$B$2=\"3.°\",Matemática!$B$2=\"4.°\",Matemática!$B$2=\"6.°\",Matemática!$B$2=\"7.°\"),\"\",Matemática!CX35)","v":""},{"$f":"VLOOKUP(Herramientas!B35,Herramientas!$D$3:$E$227,2,0)","v":"D"}]
[null,null,null,null,22,{"$f":"IF(OR(Matemática!$B$2=\"4.°\",Matemática!$B$2=\"3.°\",Matemática!$B$2=\"6.°\",Matemática!$B$2=\"7.°\"),\"\",Matemática!CO36)","v":""},{"$f":"IF(OR(Matemática!$B$2=\"4.°\",Matemática!$B$2=\"3.°\",Matemática!$B$2=\"6.°\",Matemática!$B$2=\"7.°\"),\"\",Matemática!CR36)","v":""},{"$f":"IF(OR(Matemática!$B$2=\"4.°\",Matemática!$B$2=\"3.°\",Matemática!$B$2=\"6.°\",Matemática!$B$2=\"7.°\"),\"\",Matemática!CU36)","v":""},{"$f":"IF(OR(Matemática!$B$2=\"3.°\",Matemática!$B$2=\"4.°\",Matemática!$B$2=\"6.°\",Matemática!$B$2=\"7.°\"),\"\",Matemática!CX36)","v":""},{"$f":"VLOOKUP(Herramientas!B36,Herramientas!$D$3:$E$227,2,0)","v":"B"}]
[null,null,null,null,23,{"$f":"IF(OR(Matemática!$B$2=\"4.°\",Matemática!$B$2=\"3.°\",Matemática!$B$2=\"6.°\",Matemática!$B$2=\"7.°\"),\"\",Matemática!CO37)","v":""},{"$f":"IF(OR(Matemática!$B$2=\"4.°\",Matemática!$B$2=\"3.°\",Matemática!$B$2=\"6.°\",Matemática!$B$2=\"7.°\"),\"\",Matemática!CR37)","v":""},{"$f":"IF(OR(Matemática!$B$2=\"4.°\",Matemática!$B$2=\"3.°\",Matemática!$B$2=\"6.°\",Matemática!$B$2=\"7.°\"),\"\",Matemática!CU37)","v":""},{"$f":"IF(OR(Matemática!$B$2=\"3.°\",Matemática!$B$2=\"4.°\",Matemática!$B$2=\"6.°\",Matemática!$B$2=\"7.°\"),\"\",Matemática!CX37)","v":""},{"$f":"VLOOKUP(Herramientas!B37,Herramientas!$D$3:$E$227,2,0)","v":"B"}]
[null,null,null,null,24,{"$f":"IF(OR(Matemática!$B$2=\"4.°\",Matemática!$B$2=\"3.°\",Matemática!$B$2=\"6.°\",Matemática!$B$2=\"7.°\"),\"\",Matemática!CO38)","v":""},{"$f":"IF(OR(Matemática!$B$2=\"4.°\",Matemática!$B$2=\"3.°\",Matemática!$B$2=\"6.°\",Matemática!$B$2=\"7.°\"),\"\",Matemática!CR38)","v":""},{"$f":"IF(OR(Matemática!$B$2=\"4.°\",Matemática!$B$2=\"3.°\",Matemática!$B$2=\"6.°\",Matemática!$B$2=\"7.°\"),\"\",Matemática!CU38)","v":""},{"$f":"IF(OR(Matemática!$B$2=\"3.°\",Matemática!$B$2=\"4.°\",Matemática!$B$2=\"6.°\",Matemática!$B$2=\"7.°\"),\"\",Matemática!CX38)","v":""},{"$f":"VLOOKUP(Herramientas!B38,Herramientas!$D$3:$E$227,2,0)","v":"A"}]
[null,null,null,null,25,{"$f":"IF(OR(Matemática!$B$2=\"4.°\",Matemática!$B$2=\"3.°\",Matemática!$B$2=\"6.°\",Matemática!$B$2=\"7.°\"),\"\",Matemática!CO39)","v":""},{"$f":"IF(OR(Matemática!$B$2=\"4.°\",Matemática!$B$2=\"3.°\",Matemática!$B$2=\"6.°\",Matemática!$B$2=\"7.°\"),\"\",Matemática!CR39)","v":""},{"$f":"IF(OR(Matemática!$B$2=\"4.°\",Matemática!$B$2=\"3.°\",Matemática!$B$2=\"6.°\",Matemática!$B$2=\"7.°\"),\"\",Matemática!CU39)","v":""},{"$f":"IF(OR(Matemática!$B$2=\"3.°\",Matemática!$B$2=\"4.°\",Matemática!$B$2=\"6.°\",Matemática!$B$2=\"7.°\"),\"\",Matemática!CX39)","v":""},{"$f":"VLOOKUP(Herramientas!B39,Herramientas!$D$3:$E$227,2,0)","v":"C"}]

{"sheet":"Resultados LL","index":6,"n_rows":30,"n_cols":10,"rows_kept":30,"cut":false,"hidden":false,"merged":[[3,5,3,8],[3,9,4,9],[3,4,4,4],[2,4,2,9],[14,1,15,1],[2,1,2,2],[3,1,3,2]]}
[]
[]
[null,{"$f":"IF(OR(Lenguaje!B2=\"3.°\",Lenguaje!B2=\"4.°\",Lenguaje!B2=\"5.°\",Lenguaje!B2=\"6.°\"),\"Lenguaje\",\"Lenguaje y Literatura\")","v":"Lenguaje y Literatura"},null,null,"Resultados por ítem"]
[null,{"$f":"IF(Lenguaje!B2=\"9.°\",\"Noveno grado\",IF(Lenguaje!B2=\"1.° Bach.\",\"1.° año de Educación Media\",IF(Lenguaje!B2=\"8.°\",\"Octavo grado\",IF(Lenguaje!B2=\"7.°\",\"Séptimo grado\",IF(Lenguaje!B2=\"6.°\",\"Sexto grado\",IF(Lenguaje!B2=\"5.°\",\"Quinto grado\",IF(Lenguaje!B2=\"4.°\",\"Cuarto grado\",IF(Lenguaje!B2=\"3.°\",\"Tercer grado\",IF(Lenguaje!B2=\"2.° Bach.\",\"Segundo año de Educación Media\",\"\")))))))))","v":"Noveno grado"},null,null,"N.° ítem","Porcentaje de selección",null,null,null,"Clave"]
[null,"Tipología textual","Porcentaje de acierto",null,null,"A","B","C","D"]
[null,{"$f":"VLOOKUP(Herramientas!U3,Herramientas!V3:W65,2,0)","v":"Texto narrativo"},{"$f":"Generador!J3","v":""},null,1,{"$f":"Lenguaje!CO15","v":""},{"$f":"Lenguaje!CR15","v":""},{"$f":"Lenguaje!CU15","v":""},{"$f":"IF(OR(Lenguaje!$B$2=\"3.°\",Lenguaje!$B$2=\"4.°\"),\"\",Lenguaje!CX15)","v":""},{"$f":"VLOOKUP(Herramientas!A15,Herramientas!H3:I227,2,0)","v":"C"}]
[null,{"$f":"VLOOKUP(Herramientas!U4,Herramientas!V3:W65,2,0)","v":"Texto argumentativo"},{"$f":"Generador!J4","v":""},null,2,{"$f":"Lenguaje!CO16","v":""},{"$f":"Lenguaje!CR16","v":""},{"$f":"Lenguaje!CU16","v":""},{"$f":"IF(OR(Lenguaje!$B$2=\"3.°\",Lenguaje!$B$2=\"4.°\"),\"\",Lenguaje!CX16)","v":""},{"$f":"VLOOKUP(Herramientas!A16,Herramientas!H4:I228,2,0)","v":"D"}]
[null,{"$f":"VLOOKUP(Herramientas!U5,Herramientas!V3:W65,2,0)","v":"Texto poético"},{"$f":"Generador!J5","v":""},null,3,{"$f":"Lenguaje!CO17","v":""},{"$f":"Lenguaje!CR17","v":""},{"$f":"Lenguaje!CU17","v":""},{"$f":"IF(OR(Lenguaje!$B$2=\"3.°\",Lenguaje!$B$2=\"4.°\"),\"\",Lenguaje!CX17)","v":""},{"$f":"VLOOKUP(Herramientas!A17,Herramientas!H5:I229,2,0)","v":"A"}]
[null,{"$f":"VLOOKUP(Herramientas!U6,Herramientas!V3:W65,2,0)","v":"Texto expositivo"},{"$f":"Generador!J6","v":""},null,4,{"$f":"Lenguaje!CO18","v":""},{"$f":"Lenguaje!CR18","v":""},{"$f":"Lenguaje!CU18","v":""},{"$f":"IF(OR(Lenguaje!$B$2=\"3.°\",Lenguaje!$B$2=\"4.°\"),\"\",Lenguaje!CX18)","v":""},{"$f":"VLOOKUP(Herramientas!A18,Herramientas!H6:I230,2,0)","v":"B"}]
[null,{"$f":"VLOOKUP(Herramientas!U7,Herramientas!V3:W65,2,0)","v":"   "},{"$f":"Generador!J7","v":""},null,5,{"$f":"Lenguaje!CO19","v":""},{"$f":"Lenguaje!CR19","v":""},{"$f":"Lenguaje!CU19","v":""},{"$f":"IF(OR(Lenguaje!$B$2=\"3.°\",Lenguaje!$B$2=\"4.°\"),\"\",Lenguaje!CX19)","v":""},{"$f":"VLOOKUP(Herramientas!A19,Herramientas!H7:I231,2,0)","v":"D"}]
[null,{"$f":"VLOOKUP(Herramientas!U8,Herramientas!V3:W65,2,0)","v":"   "},{"$f":"Generador!J8","v":""},null,6,{"$f":"Lenguaje!CO20","v":""},{"$f":"Lenguaje!CR20","v":""},{"$f":"Lenguaje!CU20","v":""},{"$f":"IF(OR(Lenguaje!$B$2=\"3.°\",Lenguaje!$B$2=\"4.°\"),\"\",Lenguaje!CX20)","v":""},{"$f":"VLOOKUP(Herramientas!A20,Herramientas!H8:I232,2,0)","v":"D"}]
[null,"Nivel de comprensión lectora","Porcentaje de acierto",null,7,{"$f":"Lenguaje!CO21","v":""},{"$f":"Lenguaje!CR21","v":""},{"$f":"Lenguaje!CU21","v":""},{"$f":"IF(OR(Lenguaje!$B$2=\"3.°\",Lenguaje!$B$2=\"4.°\"),\"\",Lenguaje!CX21)","v":""},{"$f":"VLOOKUP(Herramientas!A21,Herramientas!H9:I233,2,0)","v":"B"}]
[null,"Comprensión literal",{"$f":"Generador!J11","v":""},null,8,{"$f":"Lenguaje!CO22","v":""},{"$f":"Lenguaje!CR22","v":""},{"$f":"Lenguaje!CU22","v":""},{"$f":"IF(OR(Lenguaje!$B$2=\"3.°\",Lenguaje!$B$2=\"4.°\"),\"\",Lenguaje!CX22)","v":""},{"$f":"VLOOKUP(Herramientas!A22,Herramientas!H10:I234,2,0)","v":"A"}]
[null,"Comprensión inferencial",{"$f":"Generador!J12","v":""},null,9,{"$f":"Lenguaje!CO23","v":""},{"$f":"Lenguaje!CR23","v":""},{"$f":"Lenguaje!CU23","v":""},{"$f":"IF(OR(Lenguaje!$B$2=\"3.°\",Lenguaje!$B$2=\"4.°\"),\"\",Lenguaje!CX23)","v":""},{"$f":"VLOOKUP(Herramientas!A23,Herramientas!H11:I235,2,0)","v":"A"}]
[null,null,null,null,10,{"$f":"Lenguaje!CO24","v":""},{"$f":"Lenguaje!CR24","v":""},{"$f":"Lenguaje!CU24","v":""},{"$f":"IF(OR(Lenguaje!$B$2=\"3.°\",Lenguaje!$B$2=\"4.°\"),\"\",Lenguaje!CX24)","v":""},{"$f":"VLOOKUP(Herramientas!A24,Herramientas!H12:I236,2,0)","v":"B"}]
[null,null,null,null,11,{"$f":"Lenguaje!CO25","v":""},{"$f":"Lenguaje!CR25","v":""},{"$f":"Lenguaje!CU25","v":""},{"$f":"IF(OR(Lenguaje!$B$2=\"3.°\",Lenguaje!$B$2=\"4.°\"),\"\",Lenguaje!CX25)","v":""},{"$f":"VLOOKUP(Herramientas!A25,Herramientas!H13:I237,2,0)","v":"D"}]
[null,null,null,null,12,{"$f":"Lenguaje!CO26","v":""},{"$f":"Lenguaje!CR26","v":""},{"$f":"Lenguaje!CU26","v":""},{"$f":"IF(OR(Lenguaje!$B$2=\"3.°\",Lenguaje!$B$2=\"4.°\"),\"\",Lenguaje!CX26)","v":""},{"$f":"VLOOKUP(Herramientas!A26,Herramientas!H14:I238,2,0)","v":"A"}]
[null,null,null,null,13,{"$f":"Lenguaje!CO27","v":""},{"$f":"Lenguaje!CR27","v":""},{"$f":"Lenguaje!CU27","v":""},{"$f":"IF(OR(Lenguaje!$B$2=\"3.°\",Lenguaje!$B$2=\"4.°\"),\"\",Lenguaje!CX27)","v":""},{"$f":"VLOOKUP(Herramientas!A27,Herramientas!H15:I239,2,0)","v":"C"}]
[null,null,null,null,14,{"$f":"Lenguaje!CO28","v":""},{"$f":"Lenguaje!CR28","v":""},{"$f":"Lenguaje!CU28","v":""},{"$f":"IF(OR(Lenguaje!$B$2=\"3.°\",Lenguaje!$B$2=\"4.°\"),\"\",Lenguaje!CX28)","v":""},{"$f":"VLOOKUP(Herramientas!A28,Herramientas!H16:I240,2,0)","v":"B"}]
[null,null,null,null,15,{"$f":"Lenguaje!CO29","v":""},{"$f":"Lenguaje!CR29","v":""},{"$f":"Lenguaje!CU29","v":""},{"$f":"IF(OR(Lenguaje!$B$2=\"3.°\",Lenguaje!$B$2=\"4.°\"),\"\",Lenguaje!CX29)","v":""},{"$f":"VLOOKUP(Herramientas!A29,Herramientas!H17:I241,2,0)","v":"C"}]
[null,null,null,null,16,{"$f":"Lenguaje!CO30","v":""},{"$f":"Lenguaje!CR30","v":""},{"$f":"Lenguaje!CU30","v":""},{"$f":"IF(OR(Lenguaje!$B$2=\"3.°\",Lenguaje!$B$2=\"4.°\"),\"\",Lenguaje!CX30)","v":""},{"$f":"VLOOKUP(Herramientas!A30,Herramientas!H18:I242,2,0)","v":"C"}]
[null,null,null,null,17,{"$f":"Lenguaje!CO31","v":""},{"$f":"Lenguaje!CR31","v":""},{"$f":"Lenguaje!CU31","v":""},{"$f":"IF(OR(Lenguaje!$B$2=\"3.°\",Lenguaje!$B$2=\"4.°\"),\"\",Lenguaje!CX31)","v":""},{"$f":"VLOOKUP(Herramientas!A31,Herramientas!H19:I243,2,0)","v":"D"}]
[null,null,null,null,18,{"$f":"Lenguaje!CO32","v":""},{"$f":"Lenguaje!CR32","v":""},{"$f":"Lenguaje!CU32","v":""},{"$f":"IF(OR(Lenguaje!$B$2=\"3.°\",Lenguaje!$B$2=\"4.°\"),\"\",Lenguaje!CX32)","v":""},{"$f":"VLOOKUP(Herramientas!A32,Herramientas!H20:I244,2,0)","v":"C"}]
[null,null,null,null,19,{"$f":"Lenguaje!CO33","v":""},{"$f":"Lenguaje!CR33","v":""},{"$f":"Lenguaje!CU33","v":""},{"$f":"IF(OR(Lenguaje!$B$2=\"3.°\",Lenguaje!$B$2=\"4.°\"),\"\",Lenguaje!CX33)","v":""},{"$f":"VLOOKUP(Herramientas!A33,Herramientas!H21:I245,2,0)","v":"A"}]
[null,null,null,null,20,{"$f":"Lenguaje!CO34","v":""},{"$f":"Lenguaje!CR34","v":""},{"$f":"Lenguaje!CU34","v":""},{"$f":"IF(OR(Lenguaje!$B$2=\"3.°\",Lenguaje!$B$2=\"4.°\"),\"\",Lenguaje!CX34)","v":""},{"$f":"VLOOKUP(Herramientas!A34,Herramientas!H22:I246,2,0)","v":"D"}]
[null,null,null,null,21,{"$f":"IF(OR(Lenguaje!$B$2=\"1.° Bach.\", Lenguaje!$B$2=\"2.° Bach.\"),Lenguaje!CO35,\"\")","v":""},{"$f":"IF(OR(Lenguaje!$B$2=\"1.° Bach.\",Lenguaje!$B$2=\"2.° Bach.\"),Lenguaje!CR35,\"\")","v":""},{"$f":"IF(OR(Lenguaje!$B$2=\"1.° Bach.\", Lenguaje!$B$2=\"2.° Bach.\"),Lenguaje!CU35,\"\")","v":""},{"$f":"IF(OR(Lenguaje!$B$2=\"1.° Bach.\",Lenguaje!$B$2=\"2.° Bach.\"),Lenguaje!CX35,\"\")","v":""},{"$f":"VLOOKUP(Herramientas!A35,Herramientas!H23:I247,2,0)","v":"  "}]
[null,null,null,null,22,{"$f":"IF(OR(Lenguaje!$B$2=\"1.° Bach.\", Lenguaje!$B$2=\"2.° Bach.\"),Lenguaje!CO36,\"\")","v":""},{"$f":"IF(OR(Lenguaje!$B$2=\"1.° Bach.\",Lenguaje!$B$2=\"2.° Bach.\"),Lenguaje!CR36,\"\")","v":""},{"$f":"IF(OR(Lenguaje!$B$2=\"1.° Bach.\", Lenguaje!$B$2=\"2.° Bach.\"),Lenguaje!CU36,\"\")","v":""},{"$f":"IF(OR(Lenguaje!$B$2=\"1.° Bach.\",Lenguaje!$B$2=\"2.° Bach.\"),Lenguaje!CX36,\"\")","v":""},{"$f":"VLOOKUP(Herramientas!A36,Herramientas!H24:I248,2,0)","v":"  "}]
[null,null,null,null,23,{"$f":"IF(OR(Lenguaje!$B$2=\"1.° Bach.\", Lenguaje!$B$2=\"2.° Bach.\"),Lenguaje!CO37,\"\")","v":""},{"$f":"IF(OR(Lenguaje!$B$2=\"1.° Bach.\",Lenguaje!$B$2=\"2.° Bach.\"),Lenguaje!CR37,\"\")","v":""},{"$f":"IF(OR(Lenguaje!$B$2=\"1.° Bach.\", Lenguaje!$B$2=\"2.° Bach.\"),Lenguaje!CU37,\"\")","v":""},{"$f":"IF(OR(Lenguaje!$B$2=\"1.° Bach.\",Lenguaje!$B$2=\"2.° Bach.\"),Lenguaje!CX37,\"\")","v":""},{"$f":"VLOOKUP(Herramientas!A37,Herramientas!H25:I249,2,0)","v":"  "}]
[null,null,null,null,24,{"$f":"IF(OR(Lenguaje!$B$2=\"1.° Bach.\", Lenguaje!$B$2=\"2.° Bach.\"),Lenguaje!CO38,\"\")","v":""},{"$f":"IF(OR(Lenguaje!$B$2=\"1.° Bach.\",Lenguaje!$B$2=\"2.° Bach.\"),Lenguaje!CR38,\"\")","v":""},{"$f":"IF(OR(Lenguaje!$B$2=\"1.° Bach.\", Lenguaje!$B$2=\"2.° Bach.\"),Lenguaje!CU38,\"\")","v":""},{"$f":"IF(OR(Lenguaje!$B$2=\"1.° Bach.\",Lenguaje!$B$2=\"2.° Bach.\"),Lenguaje!CX38,\"\")","v":""},{"$f":"VLOOKUP(Herramientas!A38,Herramientas!H26:I250,2,0)","v":"  "}]
[null,null,null,null,25,{"$f":"IF(OR(Lenguaje!$B$2=\"1.° Bach.\", Lenguaje!$B$2=\"2.° Bach.\"),Lenguaje!CO39,\"\")","v":""},{"$f":"IF(OR(Lenguaje!$B$2=\"1.° Bach.\",Lenguaje!$B$2=\"2.° Bach.\"),Lenguaje!CR39,\"\")","v":""},{"$f":"IF(OR(Lenguaje!$B$2=\"1.° Bach.\", Lenguaje!$B$2=\"2.° Bach.\"),Lenguaje!CU39,\"\")","v":""},{"$f":"IF(OR(Lenguaje!$B$2=\"1.° Bach.\",Lenguaje!$B$2=\"2.° Bach.\"),Lenguaje!CX39,\"\")","v":""},{"$f":"VLOOKUP(Herramientas!A39,Herramientas!H27:I251,2,0)","v":"  "}]

{"sheet":"Resultados CCNN","index":7,"n_rows":30,"n_cols":10,"rows_kept":30,"cut":false,"hidden":false,"merged":[[11,1,12,1],[2,4,2,9],[3,1,3,2],[3,4,4,4],[3,5,3,8],[3,9,4,9],[2,1,2,2]]}
[]
[]
[null,"Ciencias Naturales",null,null,"Resultados por ítem"]
[null,{"$f":"IF(Ciencias!B2=\"9.°\",\"Noveno grado\",IF(Ciencias!B2=\"1.° Bach.\",\"1.° año de Educación Media\",IF(Ciencias!B2=\"8.°\",\"Octavo grado\",IF(Ciencias!B2=\"7.°\",\"Séptimo grado\",IF(Ciencias!B2=\"6.°\",\"Sexto grado\",IF(Ciencias!B2=\"5.°\",\"Quinto grado\",IF(Ciencias!B2=\"4.°\",\"Cuarto grado\",IF(Ciencias!B2=\"3.°\",\"Tercer grado\",IF(Ciencias!B2=\"2.° Bach.\",\"Segundo año de Educación Media\",\"\")))))))))","v":"Noveno grado"},null,null,"N.° ítem","Porcentaje de selección",null,null,null,"Clave"]
[null,"Dimensión teórica","Porcentaje de acierto",null,null,"A","B","C","D"]
[null,"Física",{"$f":"Generador!J17","v":""},null,1,{"$f":"Ciencias!CO15","v":""},{"$f":"Ciencias!CR15","v":""},{"$f":"Ciencias!CU15","v":""},{"$f":"IF(OR(Ciencias!$B$2=\"3.°\",Ciencias!$B$2=\"4.°\"),\"\",Ciencias!CX15)","v":""},{"$f":"VLOOKUP(Herramientas!A42,Herramientas!$P$3:$Q$227,2,0)","v":"C"}]
[null,"Química",{"$f":"Generador!J18","v":""},null,2,{"$f":"Ciencias!CO16","v":""},{"$f":"Ciencias!CR16","v":""},{"$f":"Ciencias!CU16","v":""},{"$f":"IF(OR(Ciencias!$B$2=\"3.°\",Ciencias!$B$2=\"4.°\"),\"\",Ciencias!CX16)","v":""},{"$f":"VLOOKUP(Herramientas!A43,Herramientas!$P$3:$Q$227,2,0)","v":"A"}]
[null,"Biología",{"$f":"Generador!J19","v":""},null,3,{"$f":"Ciencias!CO17","v":""},{"$f":"Ciencias!CR17","v":""},{"$f":"Ciencias!CU17","v":""},{"$f":"IF(OR(Ciencias!$B$2=\"3.°\",Ciencias!$B$2=\"4.°\"),\"\",Ciencias!CX17)","v":""},{"$f":"VLOOKUP(Herramientas!A44,Herramientas!$P$3:$Q$227,2,0)","v":"D"}]
[null,"Dimensión cognitiva","Porcentaje de acierto",null,4,{"$f":"Ciencias!CO18","v":""},{"$f":"Ciencias!CR18","v":""},{"$f":"Ciencias!CU18","v":""},{"$f":"IF(OR(Ciencias!$B$2=\"3.°\",Ciencias!$B$2=\"4.°\"),\"\",Ciencias!CX18)","v":""},{"$f":"VLOOKUP(Herramientas!A45,Herramientas!$P$3:$Q$227,2,0)","v":"A"}]
[null,"Reconocimiento de información científica",{"$f":"Generador!J25","v":""},null,5,{"$f":"Ciencias!CO19","v":""},{"$f":"Ciencias!CR19","v":""},{"$f":"Ciencias!CU19","v":""},{"$f":"IF(OR(Ciencias!$B$2=\"3.°\",Ciencias!$B$2=\"4.°\"),\"\",Ciencias!CX19)","v":""},{"$f":"VLOOKUP(Herramientas!A46,Herramientas!$P$3:$Q$227,2,0)","v":"C"}]
[null,"Análisis del conocimiento científico",{"$f":"Generador!J26","v":""},null,6,{"$f":"Ciencias!CO20","v":""},{"$f":"Ciencias!CR20","v":""},{"$f":"Ciencias!CU20","v":""},{"$f":"IF(OR(Ciencias!$B$2=\"3.°\",Ciencias!$B$2=\"4.°\"),\"\",Ciencias!CX20)","v":""},{"$f":"VLOOKUP(Herramientas!A47,Herramientas!$P$3:$Q$227,2,0)","v":"A"}]
[null,null,null,null,7,{"$f":"Ciencias!CO21","v":""},{"$f":"Ciencias!CR21","v":""},{"$f":"Ciencias!CU21","v":""},{"$f":"IF(OR(Ciencias!$B$2=\"3.°\",Ciencias!$B$2=\"4.°\"),\"\",Ciencias!CX21)","v":""},{"$f":"VLOOKUP(Herramientas!A48,Herramientas!$P$3:$Q$227,2,0)","v":"A"}]
[null,null,null,null,8,{"$f":"Ciencias!CO22","v":""},{"$f":"Ciencias!CR22","v":""},{"$f":"Ciencias!CU22","v":""},{"$f":"IF(OR(Ciencias!$B$2=\"3.°\",Ciencias!$B$2=\"4.°\"),\"\",Ciencias!CX22)","v":""},{"$f":"VLOOKUP(Herramientas!A49,Herramientas!$P$3:$Q$227,2,0)","v":"A"}]
[null,null,null,null,9,{"$f":"Ciencias!CO23","v":""},{"$f":"Ciencias!CR23","v":""},{"$f":"Ciencias!CU23","v":""},{"$f":"IF(OR(Ciencias!$B$2=\"3.°\",Ciencias!$B$2=\"4.°\"),\"\",Ciencias!CX23)","v":""},{"$f":"VLOOKUP(Herramientas!A50,Herramientas!$P$3:$Q$227,2,0)","v":"B"}]
[null,null,null,null,10,{"$f":"Ciencias!CO24","v":""},{"$f":"Ciencias!CR24","v":""},{"$f":"Ciencias!CU24","v":""},{"$f":"IF(OR(Ciencias!$B$2=\"3.°\",Ciencias!$B$2=\"4.°\"),\"\",Ciencias!CX24)","v":""},{"$f":"VLOOKUP(Herramientas!A51,Herramientas!$P$3:$Q$227,2,0)","v":"D"}]
[null,null,null,null,11,{"$f":"Ciencias!CO25","v":""},{"$f":"Ciencias!CR25","v":""},{"$f":"Ciencias!CU25","v":""},{"$f":"IF(OR(Ciencias!$B$2=\"3.°\",Ciencias!$B$2=\"4.°\"),\"\",Ciencias!CX25)","v":""},{"$f":"VLOOKUP(Herramientas!A52,Herramientas!$P$3:$Q$227,2,0)","v":"D"}]
[null,null,null,null,12,{"$f":"Ciencias!CO26","v":""},{"$f":"Ciencias!CR26","v":""},{"$f":"Ciencias!CU26","v":""},{"$f":"IF(OR(Ciencias!$B$2=\"3.°\",Ciencias!$B$2=\"4.°\"),\"\",Ciencias!CX26)","v":""},{"$f":"VLOOKUP(Herramientas!A53,Herramientas!$P$3:$Q$227,2,0)","v":"A"}]
[null,null,null,null,13,{"$f":"Ciencias!CO27","v":""},{"$f":"Ciencias!CR27","v":""},{"$f":"Ciencias!CU27","v":""},{"$f":"IF(OR(Ciencias!$B$2=\"3.°\",Ciencias!$B$2=\"4.°\"),\"\",Ciencias!CX27)","v":""},{"$f":"VLOOKUP(Herramientas!A54,Herramientas!$P$3:$Q$227,2,0)","v":"D"}]
[null,null,null,null,14,{"$f":"Ciencias!CO28","v":""},{"$f":"Ciencias!CR28","v":""},{"$f":"Ciencias!CU28","v":""},{"$f":"IF(OR(Ciencias!$B$2=\"3.°\",Ciencias!$B$2=\"4.°\"),\"\",Ciencias!CX28)","v":""},{"$f":"VLOOKUP(Herramientas!A55,Herramientas!$P$3:$Q$227,2,0)","v":"B"}]
[null,null,null,null,15,{"$f":"Ciencias!CO29","v":""},{"$f":"Ciencias!CR29","v":""},{"$f":"Ciencias!CU29","v":""},{"$f":"IF(OR(Ciencias!$B$2=\"3.°\",Ciencias!$B$2=\"4.°\"),\"\",Ciencias!CX29)","v":""},{"$f":"VLOOKUP(Herramientas!A56,Herramientas!$P$3:$Q$227,2,0)","v":"A"}]
[null,null,null,null,16,{"$f":"Ciencias!CO30","v":""},{"$f":"Ciencias!CR30","v":""},{"$f":"Ciencias!CU30","v":""},{"$f":"IF(OR(Ciencias!$B$2=\"3.°\",Ciencias!$B$2=\"4.°\"),\"\",Ciencias!CX30)","v":""},{"$f":"VLOOKUP(Herramientas!A57,Herramientas!$P$3:$Q$227,2,0)","v":"A"}]
[null,null,null,null,17,{"$f":"Ciencias!CO31","v":""},{"$f":"Ciencias!CR31","v":""},{"$f":"Ciencias!CU31","v":""},{"$f":"IF(OR(Ciencias!$B$2=\"3.°\",Ciencias!$B$2=\"4.°\"),\"\",Ciencias!CX31)","v":""},{"$f":"VLOOKUP(Herramientas!A58,Herramientas!$P$3:$Q$227,2,0)","v":"D"}]
[null,null,null,null,18,{"$f":"Ciencias!CO32","v":""},{"$f":"Ciencias!CR32","v":""},{"$f":"Ciencias!CU32","v":""},{"$f":"IF(OR(Ciencias!$B$2=\"3.°\",Ciencias!$B$2=\"4.°\"),\"\",Ciencias!CX32)","v":""},{"$f":"VLOOKUP(Herramientas!A59,Herramientas!$P$3:$Q$227,2,0)","v":"C"}]
[null,null,null,null,19,{"$f":"Ciencias!CO33","v":""},{"$f":"Ciencias!CR33","v":""},{"$f":"Ciencias!CU33","v":""},{"$f":"IF(OR(Ciencias!$B$2=\"3.°\",Ciencias!$B$2=\"4.°\"),\"\",Ciencias!CX33)","v":""},{"$f":"VLOOKUP(Herramientas!A60,Herramientas!$P$3:$Q$227,2,0)","v":"C"}]
[null,null,null,null,20,{"$f":"Ciencias!CO34","v":""},{"$f":"Ciencias!CR34","v":""},{"$f":"Ciencias!CU34","v":""},{"$f":"IF(OR(Ciencias!$B$2=\"3.°\",Ciencias!$B$2=\"4.°\"),\"\",Ciencias!CX34)","v":""},{"$f":"VLOOKUP(Herramientas!A61,Herramientas!$P$3:$Q$227,2,0)","v":"A"}]
[null,null,null,null,21,{"$f":"Ciencias!CO35","v":""},{"$f":"Ciencias!CR35","v":""},{"$f":"Ciencias!CU35","v":""},{"$f":"Ciencias!CX35","v":""},{"$f":"VLOOKUP(Herramientas!A62,Herramientas!$P$3:$Q$227,2,0)","v":"B"}]
[null,null,null,null,22,{"$f":"Ciencias!CO36","v":""},{"$f":"Ciencias!CR36","v":""},{"$f":"Ciencias!CU36","v":""},{"$f":"Ciencias!CX36","v":""},{"$f":"VLOOKUP(Herramientas!A63,Herramientas!$P$3:$Q$227,2,0)","v":"C"}]
[null,null,null,null,23,{"$f":"Ciencias!CO37","v":""},{"$f":"Ciencias!CR37","v":""},{"$f":"Ciencias!CU37","v":""},{"$f":"Ciencias!CX37","v":""},{"$f":"VLOOKUP(Herramientas!A64,Herramientas!$P$3:$Q$227,2,0)","v":"C"}]
[null,null,null,null,24,{"$f":"Ciencias!CO38","v":""},{"$f":"Ciencias!CR38","v":""},{"$f":"Ciencias!CU38","v":""},{"$f":"Ciencias!CX38","v":""},{"$f":"VLOOKUP(Herramientas!A65,Herramientas!$P$3:$Q$227,2,0)","v":"C"}]
[null,null,null,null,25,{"$f":"Ciencias!CO39","v":""},{"$f":"Ciencias!CR39","v":""},{"$f":"Ciencias!CU39","v":""},{"$f":"Ciencias!CX39","v":""},{"$f":"VLOOKUP(Herramientas!A66,Herramientas!$P$3:$Q$227,2,0)","v":"D"}]

{"sheet":"Resultados ES","index":8,"n_rows":25,"n_cols":10,"rows_kept":25,"cut":false,"hidden":false,"merged":[[11,1,12,1],[2,1,2,2],[2,4,2,9],[3,1,3,2],[3,4,4,4],[3,5,3,8],[3,9,4,9]]}
[]
[]
[null,{"$f":"IF(OR(Sociales!B2=\"3.°\",Sociales!B2=\"4.°\",Sociales!B2=\"5.°\",Sociales!B2=\"6.°\"),\"Estudios Sociales\",\"Estudios Sociales y Cívica\")","v":"Estudios Sociales"},null,null,"Resultados por ítem"]
[null,{"$f":"IF(Sociales!B2=\"9.°\",\"Noveno grado\",IF(Sociales!B2=\"1.° Bach.\",\"1.° año de Educación Media\",IF(Sociales!B2=\"8.°\",\"Octavo grado\",IF(Sociales!B2=\"7.°\",\"Séptimo grado\",IF(Sociales!B2=\"6.°\",\"Sexto grado\",IF(Sociales!B2=\"5.°\",\"Quinto grado\",IF(Sociales!B2=\"4.°\",\"Cuarto grado\",IF(Sociales!B2=\"3.°\",\"Tercer grado\",IF(Sociales!B2=\"2.° Bach.\",\"Segundo año de Educación Media\",\"\")))))))))","v":"Sexto grado"},null,null,"N.° ítem","Porcentaje de selección",null,null,null,"Clave"]
[null,"Dimensión teórica","Porcentaje de acierto",null,null,"A","B","C","D"]
[null,{"$f":"VLOOKUP(Herramientas!X3,Herramientas!Y3:Z66,2,0)","v":"El medio socio-cultural de América Central"},{"$f":"Generador!E17","v":""},null,1,{"$f":"Sociales!CJ15","v":""},{"$f":"Sociales!CM15","v":""},{"$f":"Sociales!CP15","v":""},{"$f":"IF(OR(Sociales!$B$2=\"3.°\",Sociales!$B$2=\"4.°\"),\"\",Sociales!CS15)","v":""},{"$f":"VLOOKUP(Herramientas!B42,Herramientas!L3:M228,2,0)","v":"A"}]
[null,{"$f":"VLOOKUP(Herramientas!X4,Herramientas!Y3:Z66,2,0)","v":"El medio geográfico y la realidad de América Central"},{"$f":"Generador!E18","v":""},null,2,{"$f":"Sociales!CJ16","v":""},{"$f":"Sociales!CM16","v":""},{"$f":"Sociales!CP16","v":""},{"$f":"IF(OR(Sociales!$B$2=\"3.°\",Sociales!$B$2=\"4.°\"),\"\",Sociales!CS16)","v":""},{"$f":"VLOOKUP(Herramientas!B43,Herramientas!L3:M229,2,0)","v":"B"}]
[null,{"$f":"VLOOKUP(Herramientas!X5,Herramientas!Y3:Z66,2,0)","v":"Desarrollo histórico de América Central"},{"$f":"Generador!E19","v":""},null,3,{"$f":"Sociales!CJ17","v":""},{"$f":"Sociales!CM17","v":""},{"$f":"Sociales!CP17","v":""},{"$f":"IF(OR(Sociales!$B$2=\"3.°\",Sociales!$B$2=\"4.°\"),\"\",Sociales!CS17)","v":""},{"$f":"VLOOKUP(Herramientas!B44,Herramientas!L5:M230,2,0)","v":"C"}]
[null,"Dimensión cognitiva","Porcentaje de acierto",null,4,{"$f":"Sociales!CJ18","v":""},{"$f":"Sociales!CM18","v":""},{"$f":"Sociales!CP18","v":""},{"$f":"IF(OR(Sociales!$B$2=\"3.°\",Sociales!$B$2=\"4.°\"),\"\",Sociales!CS18)","v":""},{"$f":"VLOOKUP(Herramientas!B45,Herramientas!L5:M231,2,0)","v":"B"}]
[null,"Comprensión ",{"$f":"Generador!E25","v":""},null,5,{"$f":"Sociales!CJ19","v":""},{"$f":"Sociales!CM19","v":""},{"$f":"Sociales!CP19","v":""},{"$f":"IF(OR(Sociales!$B$2=\"3.°\",Sociales!$B$2=\"4.°\"),\"\",Sociales!CS19)","v":""},{"$f":"VLOOKUP(Herramientas!B46,Herramientas!L7:M232,2,0)","v":"A"}]
[null,"Análisis",{"$f":"Generador!E26","v":""},null,6,{"$f":"Sociales!CJ20","v":""},{"$f":"Sociales!CM20","v":""},{"$f":"Sociales!CP20","v":""},{"$f":"IF(OR(Sociales!$B$2=\"3.°\",Sociales!$B$2=\"4.°\"),\"\",Sociales!CS20)","v":""},{"$f":"VLOOKUP(Herramientas!B47,Herramientas!L7:M233,2,0)","v":"D"}]
[null,null,null,null,7,{"$f":"Sociales!CJ21","v":""},{"$f":"Sociales!CM21","v":""},{"$f":"Sociales!CP21","v":""},{"$f":"IF(OR(Sociales!$B$2=\"3.°\",Sociales!$B$2=\"4.°\"),\"\",Sociales!CS21)","v":""},{"$f":"VLOOKUP(Herramientas!B48,Herramientas!L9:M234,2,0)","v":"C"}]
[null,null,null,null,8,{"$f":"Sociales!CJ22","v":""},{"$f":"Sociales!CM22","v":""},{"$f":"Sociales!CP22","v":""},{"$f":"IF(OR(Sociales!$B$2=\"3.°\",Sociales!$B$2=\"4.°\"),\"\",Sociales!CS22)","v":""},{"$f":"VLOOKUP(Herramientas!B49,Herramientas!L9:M235,2,0)","v":"B"}]
[null,null,null,null,9,{"$f":"Sociales!CJ23","v":""},{"$f":"Sociales!CM23","v":""},{"$f":"Sociales!CP23","v":""},{"$f":"IF(OR(Sociales!$B$2=\"3.°\",Sociales!$B$2=\"4.°\"),\"\",Sociales!CS23)","v":""},{"$f":"VLOOKUP(Herramientas!B50,Herramientas!L11:M236,2,0)","v":"C"}]
[null,null,null,null,10,{"$f":"Sociales!CJ24","v":""},{"$f":"Sociales!CM24","v":""},{"$f":"Sociales!CP24","v":""},{"$f":"IF(OR(Sociales!$B$2=\"3.°\",Sociales!$B$2=\"4.°\"),\"\",Sociales!CS24)","v":""},{"$f":"VLOOKUP(Herramientas!B51,Herramientas!L11:M237,2,0)","v":"D"}]
[null,null,null,null,11,{"$f":"Sociales!CJ25","v":""},{"$f":"Sociales!CM25","v":""},{"$f":"Sociales!CP25","v":""},{"$f":"IF(OR(Sociales!$B$2=\"3.°\",Sociales!$B$2=\"4.°\"),\"\",Sociales!CS25)","v":""},{"$f":"VLOOKUP(Herramientas!B52,Herramientas!L13:M238,2,0)","v":"C"}]
[null,null,null,null,12,{"$f":"Sociales!CJ26","v":""},{"$f":"Sociales!CM26","v":""},{"$f":"Sociales!CP26","v":""},{"$f":"IF(OR(Sociales!$B$2=\"3.°\",Sociales!$B$2=\"4.°\"),\"\",Sociales!CS26)","v":""},{"$f":"VLOOKUP(Herramientas!B53,Herramientas!L13:M239,2,0)","v":"B"}]
[null,null,null,null,13,{"$f":"Sociales!CJ27","v":""},{"$f":"Sociales!CM27","v":""},{"$f":"Sociales!CP27","v":""},{"$f":"IF(OR(Sociales!$B$2=\"3.°\",Sociales!$B$2=\"4.°\"),\"\",Sociales!CS27)","v":""},{"$f":"VLOOKUP(Herramientas!B54,Herramientas!L15:M240,2,0)","v":"A"}]
[null,null,null,null,14,{"$f":"Sociales!CJ28","v":""},{"$f":"Sociales!CM28","v":""},{"$f":"Sociales!CP28","v":""},{"$f":"IF(OR(Sociales!$B$2=\"3.°\",Sociales!$B$2=\"4.°\"),\"\",Sociales!CS28)","v":""},{"$f":"VLOOKUP(Herramientas!B55,Herramientas!L15:M241,2,0)","v":"D"}]
[null,null,null,null,15,{"$f":"Sociales!CJ29","v":""},{"$f":"Sociales!CM29","v":""},{"$f":"Sociales!CP29","v":""},{"$f":"IF(OR(Sociales!$B$2=\"3.°\",Sociales!$B$2=\"4.°\"),\"\",Sociales!CS29)","v":""},{"$f":"VLOOKUP(Herramientas!B56,Herramientas!L17:M242,2,0)","v":"A"}]
[null,null,null,null,16,{"$f":"Sociales!CJ30","v":""},{"$f":"Sociales!CM30","v":""},{"$f":"Sociales!CP30","v":""},{"$f":"IF(OR(Sociales!$B$2=\"3.°\",Sociales!$B$2=\"4.°\"),\"\",Sociales!CS30)","v":""},{"$f":"VLOOKUP(Herramientas!B57,Herramientas!L17:M243,2,0)","v":"C"}]
[null,null,null,null,17,{"$f":"Sociales!CJ31","v":""},{"$f":"Sociales!CM31","v":""},{"$f":"Sociales!CP31","v":""},{"$f":"IF(OR(Sociales!$B$2=\"3.°\",Sociales!$B$2=\"4.°\"),\"\",Sociales!CS31)","v":""},{"$f":"VLOOKUP(Herramientas!B58,Herramientas!L19:M244,2,0)","v":"D"}]
[null,null,null,null,18,{"$f":"Sociales!CJ32","v":""},{"$f":"Sociales!CM32","v":""},{"$f":"Sociales!CP32","v":""},{"$f":"IF(OR(Sociales!$B$2=\"3.°\",Sociales!$B$2=\"4.°\"),\"\",Sociales!CS32)","v":""},{"$f":"VLOOKUP(Herramientas!B59,Herramientas!L19:M245,2,0)","v":"A"}]
[null,null,null,null,19,{"$f":"Sociales!CJ33","v":""},{"$f":"Sociales!CM33","v":""},{"$f":"Sociales!CP33","v":""},{"$f":"IF(OR(Sociales!$B$2=\"3.°\",Sociales!$B$2=\"4.°\"),\"\",Sociales!CS33)","v":""},{"$f":"VLOOKUP(Herramientas!B60,Herramientas!L21:M246,2,0)","v":"D"}]
[null,null,null,null,20,{"$f":"Sociales!CJ34","v":""},{"$f":"Sociales!CM34","v":""},{"$f":"Sociales!CP34","v":""},{"$f":"IF(OR(Sociales!$B$2=\"3.°\",Sociales!$B$2=\"4.°\"),\"\",Sociales!CS34)","v":""},{"$f":"VLOOKUP(Herramientas!B61,Herramientas!L21:M247,2,0)","v":"B"}]

{"sheet":"Generador V_2","index":9,"n_rows":21,"n_cols":16,"rows_kept":21,"cut":false,"hidden":true,"merged":[[13,1,14,1],[13,2,13,4],[13,5,13,7],[1,9,1,15],[2,9,3,9],[2,10,2,12],[2,13,2,15],[2,1,3,1],[1,1,1,7],[2,2,2,4],[2,5,2,7],[12,1,12,7]]}
[]
[null,"Matemática",null,null,null,null,null,null,null,"Lenguaje y Literatura"]
[null,"Contenido","Conocimiento",null,null,"Aplicación",null,null,null,"Tipología","Literal",null,null,"Inferencial"]
[null,null,"Aciertos","Respuestas","Porcentaje","Aciertos","Respuestas","Porcentaje",null,null,"Aciertos","Respuestas","Porcentaje","Aciertos","Respuestas","Porcentaje"]
[null,1,{"$f":"IF(Matemática!B2=\"9.°\",SUM(Matemática!CH9,Matemática!CH10,Matemática!CH12,Matemática!CH14,Matemática!CH18,Matemática!CH27),IF(Matemática!B2=\"1.° Bto.\",SUM(Matemática!CH11,Matemática!CH13,Matemática!CH15,Matemática!CH23,Matemática!CH31),\"\"))","v":""},{"$f":"IF(Matemática!B2=\"9.°\",SUM(Matemática!CJ9,Matemática!CJ10,Matemática!CJ12,Matemática!CJ14,Matemática!CJ18,Matemática!CJ27),IF(Matemática!B2=\"1.° Bto.\",SUM(Matemática!CJ11,Matemática!CJ13,Matemática!CJ15,Matemática!CJ23,Matemática!CJ31),\"\"))","v":""},{"$f":"IF(C5=\"\",\"\",C5/D5*100)","v":""},{"$f":"IF(Matemática!B2=\"1.° Bto.\",SUM(Matemática!CH26,Matemática!CH27,Matemática!CH30),\"\")","v":""},{"$f":"IF(Matemática!B2=\"1.° Bto.\",SUM(Matemática!CJ26,Matemática!CJ27,Matemática!CJ30),\"\")","v":""},{"$f":"IF(F5=\"\",\"\",F5/G5*100)","v":""},null,1,{"$f":"IF(Lenguaje!B2=\"2.° Bto.\",SUM(Lenguaje!CH8),IF(Lenguaje!B2=\"1.° Bto.\",SUM(Lenguaje!CH7),IF(Lenguaje!B2=\"9.°\",SUM(Lenguaje!CH7,Lenguaje!CH9),IF(Lenguaje!B2=\"8.°\",SUM(Lenguaje!CH7,Lenguaje!CH9),IF(Lenguaje!B2=\"7.°\",SUM(Lenguaje!CH7,Lenguaje!CH8),IF(Lenguaje!B2=\"6.°\",SUM(Lenguaje!CH7,Lenguaje!CH11),IF(Lenguaje!B2=\"5.°\",SUM(Lenguaje!CH7),IF(Lenguaje!B2=\"4.°\",SUM(Lenguaje!CH8),IF(Lenguaje!B2=\"3.°\",SUM(Lenguaje!CH7),\"\")))))))))","v":0},{"$f":"IF(Lenguaje!B2=\"2.° Bto.\",SUM(Lenguaje!CJ8),IF(Lenguaje!B2=\"1.° Bto.\",SUM(Lenguaje!CJ7),IF(Lenguaje!B2=\"9.°\",SUM(Lenguaje!CJ7,Lenguaje!CJ9),IF(Lenguaje!B2=\"8.°\",SUM(Lenguaje!CJ7,Lenguaje!CJ9),IF(Lenguaje!B2=\"7.°\",SUM(Lenguaje!CJ7,Lenguaje!CJ8),IF(Lenguaje!B2=\"6.°\",SUM(Lenguaje!CJ7,Lenguaje!CJ11),IF(Lenguaje!B2=\"5.°\",SUM(Lenguaje!CJ7),IF(Lenguaje!B2=\"4.°\",SUM(Lenguaje!CJ8),IF(Lenguaje!B2=\"3.°\",SUM(Lenguaje!CJ7),\"\")))))))))","v":0},{"$f":"IF(OR(L5=\"\",L5=0),\"\",K5/L5*100)","v":""},{"$f":"IF(Lenguaje!B2=\"2.° Bto.\",SUM(Lenguaje!CH7,Lenguaje!CH9:CH11),IF(Lenguaje!B2=\"1.° Bto.\",SUM(Lenguaje!CH8:CH11),IF(Lenguaje!B2=\"9.°\",SUM(Lenguaje!CH10,Lenguaje!CH10:CH11),IF(Lenguaje!B2=\"8.°\",SUM(Lenguaje!CH8,Lenguaje!CH10:CH11),IF(Lenguaje!B2=\"7.°\",SUM(Lenguaje!CH9:CH11),IF(Lenguaje!B2=\"6.°\",SUM(Lenguaje!CH8:CH10),IF(Lenguaje!B2=\"5.°\",SUM(Lenguaje!CH8:CH11),IF(Lenguaje!B2=\"4.°\",SUM(Lenguaje!CH7,Lenguaje!CH9:CH11),IF(Lenguaje!B2=\"3.°\",SUM(Lenguaje!CH8:CH10),\"\")))))))))","v":0},{"$f":"IF(Lenguaje!B2=\"2.° Bto.\",SUM(Lenguaje!CJ7,Lenguaje!CJ9:CJ11),IF(Lenguaje!B2=\"1.° Bto.\",SUM(Lenguaje!CJ8:CJ11),IF(Lenguaje!B2=\"9.°\",SUM(Lenguaje!CJ10,Lenguaje!CJ10:CJ11),IF(Lenguaje!B2=\"8.°\",SUM(Lenguaje!CJ8,Lenguaje!CJ10:CJ11),IF(Lenguaje!B2=\"7.°\",SUM(Lenguaje!CJ9:CJ11),IF(Lenguaje!B2=\"6.°\",SUM(Lenguaje!CJ8:CJ10),IF(Lenguaje!B2=\"5.°\",SUM(Lenguaje!CJ8:CJ11),IF(Lenguaje!B2=\"4.°\",SUM(Lenguaje!CJ7,Lenguaje!CJ9:CJ11),IF(Lenguaje!B2=\"3.°\",SUM(Lenguaje!CJ8:CJ10),\"\")))))))))","v":0},{"$f":"IF(OR(O5=\"\",O5=0),\"\",N5/O5*100)","v":""}]
[null,2,{"$f":"IF(Matemática!B2=\"9.°\",SUM(Matemática!CH13,Matemática!CH15),IF(Matemática!B2=\"1.° Bto.\",SUM(Matemática!CH7,Matemática!CH12,Matemática!CH16),\"\"))","v":""},{"$f":"IF(Matemática!B2=\"9.°\",SUM(Matemática!CJ13,Matemática!CJ15),IF(Matemática!B2=\"1.° Bto.\",SUM(Matemática!CJ7,Matemática!CJ12,Matemática!CJ16),\"\"))","v":""},{"$f":"IF(C6=\"\",\"\",C6/D6*100)","v":""},{"$f":"IF(Matemática!B2=\"9.°\",SUM(Matemática!CH26,Matemática!CH28),\"\")","v":""},{"$f":"IF(Matemática!B2=\"9.°\",SUM(Matemática!CJ26,Matemática!CJ28),\"\")","v":""},{"$f":"IF(F6=\"\",\"\",F6/G6*100)","v":""},null,2,{"$f":"IF(Lenguaje!B2=\"2.° Bto.\",SUM(Lenguaje!CH13),IF(Lenguaje!B2=\"1.° Bto.\",SUM(Lenguaje!CH12,Lenguaje!CH14),IF(Lenguaje!B2=\"9.°\",SUM(Lenguaje!CH12,Lenguaje!CH14,Lenguaje!CH15),IF(Lenguaje!B2=\"8.°\",SUM(Lenguaje!CH13),IF(Lenguaje!B2=\"7.°\",SUM(Lenguaje!CH13),IF(Lenguaje!B2=\"6.°\",SUM(Lenguaje!CH12,Lenguaje!CH13),IF(Lenguaje!B2=\"5.°\",SUM(Lenguaje!CH12),IF(Lenguaje!B2=\"4.°\",SUM(Lenguaje!CH12),IF(Lenguaje!B2=\"3.°\",SUM(Lenguaje!CH12),\"\")))))))))","v":0},{"$f":"IF(Lenguaje!B2=\"2.° Bto.\",SUM(Lenguaje!CJ13),IF(Lenguaje!B2=\"1.° Bto.\",SUM(Lenguaje!CJ12,Lenguaje!CJ14),IF(Lenguaje!B2=\"9.°\",SUM(Lenguaje!CJ12,Lenguaje!CJ14,Lenguaje!CJ15),IF(Lenguaje!B2=\"8.°\",SUM(Lenguaje!CJ13),IF(Lenguaje!B2=\"7.°\",SUM(Lenguaje!CJ13),IF(Lenguaje!B2=\"6.°\",SUM(Lenguaje!CJ12,Lenguaje!CJ13),IF(Lenguaje!B2=\"5.°\",SUM(Lenguaje!CJ12),IF(Lenguaje!B2=\"4.°\",SUM(Lenguaje!CJ12),IF(Lenguaje!B2=\"3.°\",SUM(Lenguaje!CJ12),\"\")))))))))","v":0},{"$f":"IF(OR(L6=\"\",L6=0),\"\",K6/L6*100)","v":""},{"$f":"IF(Lenguaje!B2=\"2.° Bto.\",SUM(Lenguaje!CH12,Lenguaje!CH14:CH16),IF(Lenguaje!B2=\"1.° Bto.\",SUM(Lenguaje!CH13,Lenguaje!CH15:CH16),IF(Lenguaje!B2=\"9.°\",SUM(Lenguaje!CH13,Lenguaje!CH16),IF(Lenguaje!B2=\"8.°\",SUM(Lenguaje!CH12,Lenguaje!CH14:CH16),IF(Lenguaje!B2=\"7.°\",SUM(Lenguaje!CH12,Lenguaje!CH14:CH16),IF(Lenguaje!B2=\"6.°\",SUM(Lenguaje!CH14:CH16),IF(Lenguaje!B2=\"5.°\",SUM(Lenguaje!CH13:CH16),IF(Lenguaje!B2=\"4.°\",SUM(Lenguaje!CH13),IF(Lenguaje!B2=\"3.°\",SUM(Lenguaje!CH11,Lenguaje!CH13:CH14),\"\")))))))))","v":0},{"$f":"IF(Lenguaje!B2=\"2.° Bto.\",SUM(Lenguaje!CJ12,Lenguaje!CJ14:CJ16),IF(Lenguaje!B2=\"1.° Bto.\",SUM(Lenguaje!CJ13,Lenguaje!CJ15:CJ16),IF(Lenguaje!B2=\"9.°\",SUM(Lenguaje!CJ13,Lenguaje!CJ16),IF(Lenguaje!B2=\"8.°\",SUM(Lenguaje!CJ12,Lenguaje!CJ14:CJ16),IF(Lenguaje!B2=\"7.°\",SUM(Lenguaje!CJ12,Lenguaje!CJ14:CJ16),IF(Lenguaje!B2=\"6.°\",SUM(Lenguaje!CJ14:CJ16),IF(Lenguaje!B2=\"5.°\",SUM(Lenguaje!CJ13:CJ16),IF(Lenguaje!B2=\"4.°\",SUM(Lenguaje!CJ13),IF(Lenguaje!B2=\"3.°\",SUM(Lenguaje!CJ11,Lenguaje!CJ13:CJ14),\"\")))))))))","v":0},{"$f":"IF(OR(O6=\"\",O6=0),\"\",N6/O6*100)","v":""}]
[null,3,{"$f":"IF(Matemática!B2=\"9.°\",SUM(Matemática!CH16,Matemática!CH19,Matemática!CH23),IF(Matemática!B2=\"1.° Bto.\",SUM(Matemática!CH8,Matemática!CH20),\"\"))","v":""},{"$f":"IF(Matemática!B2=\"9.°\",SUM(Matemática!CJ16,Matemática!CJ19,Matemática!CJ23),IF(Matemática!B2=\"1.° Bto.\",SUM(Matemática!CJ8,Matemática!CJ20),\"\"))","v":""},"",{"$f":"IF(Matemática!B2=\"9.°\",SUM(Matemática!CH17,Matemática!CH25,Matemática!CH31),IF(Matemática!B2=\"1.° Bto.\",SUM(Matemática!CH19,Matemática!CH21),\"\"))","v":""},{"$f":"IF(Matemática!B2=\"9.°\",SUM(Matemática!CJ17,Matemática!CJ25,Matemática!CJ31),IF(Matemática!B2=\"1.° Bto.\",SUM(Matemática!CJ19,Matemática!CJ21),\"\"))","v":""},"",null,3,{"$f":"IF(Lenguaje!B2=\"2.° Bto.\",SUM(Lenguaje!CH17),IF(Lenguaje!B2=\"1.° Bto.\",SUM(Lenguaje!CH17,Lenguaje!CH21),IF(Lenguaje!B2=\"9.°\",SUM(Lenguaje!CH17,Lenguaje!CH19),IF(Lenguaje!B2=\"8.°\",SUM(Lenguaje!CH17,Lenguaje!CH18,Lenguaje!CH19),IF(Lenguaje!B2=\"7.°\",SUM(Lenguaje!CH17),IF(Lenguaje!B2=\"6.°\",SUM(Lenguaje!CH17,Lenguaje!CH18),IF(Lenguaje!B2=\"5.°\",SUM(Lenguaje!CH11,Lenguaje!CH18,Lenguaje!CH21),IF(Lenguaje!B2=\"4.°\",SUM(Lenguaje!CH14,Lenguaje!CH15,Lenguaje!CH17),IF(Lenguaje!B2=\"3.°\",SUM(Lenguaje!CH15),\"\")))))))))","v":0},{"$f":"IF(Lenguaje!B2=\"2.° Bto.\",SUM(Lenguaje!CJ17),IF(Lenguaje!B2=\"1.° Bto.\",SUM(Lenguaje!CJ17,Lenguaje!CJ21),IF(Lenguaje!B2=\"9.°\",SUM(Lenguaje!CJ17,Lenguaje!CJ19),IF(Lenguaje!B2=\"8.°\",SUM(Lenguaje!CJ17,Lenguaje!CJ18,Lenguaje!CJ19),IF(Lenguaje!B2=\"7.°\",SUM(Lenguaje!CJ17),IF(Lenguaje!B2=\"6.°\",SUM(Lenguaje!CJ17,Lenguaje!CJ18),IF(Lenguaje!B2=\"5.°\",SUM(Lenguaje!CJ11,Lenguaje!CJ18,Lenguaje!CJ21),IF(Lenguaje!B2=\"4.°\",SUM(Lenguaje!CJ14,Lenguaje!CJ15,Lenguaje!CJ17),IF(Lenguaje!B2=\"3.°\",SUM(Lenguaje!CJ15),\"\")))))))))","v":0},{"$f":"IF(OR(L7=\"\",L7=0),\"\",K7/L7*100)","v":""},{"$f":"IF(Lenguaje!B2=\"2.° Bto.\",SUM(Lenguaje!CH18:CH21),IF(Lenguaje!B2=\"1.° Bto.\",SUM(Lenguaje!CH18:CH20),IF(Lenguaje!B2=\"9.°\",SUM(Lenguaje!CH18,Lenguaje!CH20:CH21),IF(Lenguaje!B2=\"8.°\",SUM(Lenguaje!CH20:CH21),IF(Lenguaje!B2=\"7.°\",SUM(Lenguaje!CH18:CH21),IF(Lenguaje!B2=\"6.°\",SUM(Lenguaje!CH19:CH21),IF(Lenguaje!B2=\"5.°\",SUM(Lenguaje!CH19:CH20),IF(Lenguaje!B2=\"4.°\",SUM(Lenguaje!CH16),IF(Lenguaje!B2=\"3.°\",SUM(Lenguaje!CH16:CH18),\"\")))))))))","v":0},{"$f":"IF(Lenguaje!B2=\"2.° Bto.\",SUM(Lenguaje!CJ18:CJ21),IF(Lenguaje!B2=\"1.° Bto.\",SUM(Lenguaje!CJ18:CJ20),IF(Lenguaje!B2=\"9.°\",SUM(Lenguaje!CJ18,Lenguaje!CJ20:CJ21),IF(Lenguaje!B2=\"8.°\",SUM(Lenguaje!CJ20:CJ21),IF(Lenguaje!B2=\"7.°\",SUM(Lenguaje!CJ18:CJ21),IF(Lenguaje!B2=\"6.°\",SUM(Lenguaje!CJ19:CJ21),IF(Lenguaje!B2=\"5.°\",SUM(Lenguaje!CJ19:CJ20),IF(Lenguaje!B2=\"4.°\",SUM(Lenguaje!CJ16),IF(Lenguaje!B2=\"3.°\",SUM(Lenguaje!CJ16:CJ18),\"\")))))))))","v":0},""]
[null,4,{"$f":"IF(Matemática!B2=\"9.°\",SUM(Matemática!CH7,Matemática!CH22,Matemática!CH24,Matemática!CH30),IF(Matemática!B2=\"1.° Bto.\",SUM(Matemática!CH9,Matemática!CH17),\"\"))","v":""},{"$f":"IF(Matemática!B2=\"9.°\",SUM(Matemática!CJ7,Matemática!CJ22,Matemática!CJ24,Matemática!CJ30),IF(Matemática!B2=\"1.° Bto.\",SUM(Matemática!CJ9,Matemática!CJ17),\"\"))","v":""},"",{"$f":"IF(Matemática!B2=\"1.° Bto.\",SUM(Matemática!CH22,Matemática!CH25),\"\")","v":""},{"$f":"IF(Matemática!B2=\"1.° Bto.\",SUM(Matemática!CJ22,Matemática!CJ25),\"\")","v":""},"",null,4,{"$f":"IF(Lenguaje!B2=\"2.° Bto.\",SUM(Lenguaje!CH23,Lenguaje!CH24),IF(Lenguaje!B2=\"1.° Bto.\",SUM(Lenguaje!CH22,Lenguaje!CH23),IF(Lenguaje!B2=\"9.°\",SUM(Lenguaje!CH23,Lenguaje!CH24),IF(Lenguaje!B2=\"8.°\",SUM(Lenguaje!CH22),IF(Lenguaje!B2=\"7.°\",SUM(Lenguaje!CH22),IF(Lenguaje!B2=\"6.°\",SUM(Lenguaje!CH22,Lenguaje!CH26),IF(Lenguaje!B2=\"4.°\",SUM(Lenguaje!CH18:CH20),IF(Lenguaje!B2=\"3.°\",SUM(Lenguaje!CH19:CH20),\"\"))))))))","v":0},{"$f":"IF(Lenguaje!B2=\"2.° Bto.\",SUM(Lenguaje!CJ23,Lenguaje!CJ24),IF(Lenguaje!B2=\"1.° Bto.\",SUM(Lenguaje!CJ22,Lenguaje!CJ23),IF(Lenguaje!B2=\"9.°\",SUM(Lenguaje!CJ23,Lenguaje!CJ24),IF(Lenguaje!B2=\"8.°\",SUM(Lenguaje!CJ22),IF(Lenguaje!B2=\"7.°\",SUM(Lenguaje!CJ22),IF(Lenguaje!B2=\"6.°\",SUM(Lenguaje!CJ22,Lenguaje!CJ26),IF(Lenguaje!B2=\"4.°\",SUM(Lenguaje!CJ18:CJ20),IF(Lenguaje!B2=\"3.°\",SUM(Lenguaje!CJ19:CJ20),\"\"))))))))","v":0},{"$f":"IF(OR(L8=\"\",L8=0),\"\",K8/L8*100)","v":""},{"$f":"IF(Lenguaje!B2=\"2.° Bto.\",SUM(Lenguaje!CH22,Lenguaje!CH25:CH26),IF(Lenguaje!B2=\"1.° Bto.\",SUM(Lenguaje!CH24:CH26),IF(Lenguaje!B2=\"9.°\",SUM(Lenguaje!CH22,Lenguaje!CH25:CH26),IF(Lenguaje!B2=\"8.\",SUM(Lenguaje!CH23:CH26),IF(Lenguaje!B2=\"7.°\",SUM(Lenguaje!CH23:CH26),IF(Lenguaje!B2=\"6.°\",SUM(Lenguaje!CH23:CH25),IF(Lenguaje!B2=\"5.°\",SUM(Lenguaje!CH22:CH26),IF(Lenguaje!B2=\"4.°\",SUM(Lenguaje!CH21),IF(Lenguaje!B2=\"3.°\",SUM(Lenguaje!CH21:CH22),\"\")))))))))","v":0},{"$f":"IF(Lenguaje!B2=\"2.° Bto.\",SUM(Lenguaje!CJ22,Lenguaje!CJ25:CJ26),IF(Lenguaje!B2=\"1.° Bto.\",SUM(Lenguaje!CJ24:CJ26),IF(Lenguaje!B2=\"9.°\",SUM(Lenguaje!CJ22,Lenguaje!CJ25:CJ26),IF(Lenguaje!B2=\"8.\",SUM(Lenguaje!CJ23:CJ26),IF(Lenguaje!B2=\"7.°\",SUM(Lenguaje!CJ23:CJ26),IF(Lenguaje!B2=\"6.°\",SUM(Lenguaje!CJ23:CJ25),IF(Lenguaje!B2=\"5.°\",SUM(Lenguaje!CJ22:CJ26),IF(Lenguaje!B2=\"4.°\",SUM(Lenguaje!CJ21),IF(Lenguaje!B2=\"3.°\",SUM(Lenguaje!CJ21:CJ22),\"\")))))))))","v":0},""]
[null,5,{"$f":"IF(Matemática!B2=\"9.°\",SUM(Matemática!CH20),IF(Matemática!B2=\"1.° Bto.\",SUM(Matemática!CH14,Matemática!CH28,Matemática!CH29),\"\"))","v":""},{"$f":"IF(Matemática!B2=\"9.°\",SUM(Matemática!CJ20),IF(Matemática!B2=\"1.° Bto.\",SUM(Matemática!CJ14,Matemática!CJ28,Matemática!CJ29),\"\"))","v":""},"",{"$f":"IF(Matemática!B2=\"9.°\",SUM(Matemática!CH29),\"\")","v":""},{"$f":"IF(Matemática!B2=\"9.°\",SUM(Matemática!CJ29),\"\")","v":""},"",null,5,{"$f":"IF(Lenguaje!B2=\"2.° Bto.\",SUM(Lenguaje!CH27,Lenguaje!CH28,Lenguaje!CH29,Lenguaje!CH30),IF(Lenguaje!B2=\"1.° Bto.\",SUM(Lenguaje!CH27,Lenguaje!CH30),IF(Lenguaje!B2=\"4.°\",SUM(Lenguaje!CH22),\"\")))","v":""},{"$f":"IF(Lenguaje!B2=\"2.° Bto.\",SUM(Lenguaje!CJ27,Lenguaje!CJ28,Lenguaje!CJ29,Lenguaje!CJ30),IF(Lenguaje!B2=\"1.° Bto.\",SUM(Lenguaje!CJ27,Lenguaje!CJ30),IF(Lenguaje!B2=\"4.°\",SUM(Lenguaje!CJ22),\"\")))","v":""},{"$f":"IF(L9=\"\",\"\",K9/L9*100)","v":""},{"$f":"IF(Lenguaje!B2=\"2.° Bto.\",SUM(Lenguaje!CH31),IF(Lenguaje!B2=\"1.° Bto.\",SUM(Lenguaje!CH28:CH29,Lenguaje!CH31),IF(Lenguaje!B2=\"4.°\",SUM(Lenguaje!CH23),\"\")))","v":""},{"$f":"IF(Lenguaje!B2=\"2.° Bto.\",SUM(Lenguaje!CJ31),IF(Lenguaje!B2=\"1.° Bto.\",SUM(Lenguaje!CJ28:CJ29,Lenguaje!CJ31),IF(Lenguaje!B2=\"4.°\",SUM(Lenguaje!CJ23),\"\")))","v":""},""]
[null,6,{"$f":"IF(Matemática!B2=\"9.°\",SUM(Matemática!CH8,Matemática!CH11,Matemática!CH21),IF(Matemática!B2=\"1.° Bto.\",SUM(Matemática!CH10,Matemática!CH24),\"\"))","v":""},{"$f":"IF(Matemática!B2=\"9.°\",SUM(Matemática!CJ8,Matemática!CJ11,Matemática!CJ21),IF(Matemática!B2=\"1.° Bto.\",SUM(Matemática!CJ10,Matemática!CJ24),\"\"))","v":""},"",null,null,"",null,6,{"$f":"IF(Lenguaje!B2=\"4.°\",SUM(Lenguaje!CH24:CH25),\"\")","v":""},{"$f":"IF(Lenguaje!B2=\"4.°\",SUM(Lenguaje!CJ24:CJ25),\"\")","v":""},"",{"$f":"IF(Lenguaje!B2=\"4.°\",Lenguaje!CH26,\"\")","v":""},{"$f":"IF(Lenguaje!B2=\"4.°\",Lenguaje!CJ26,\"\")","v":""},{"$f":"IF(OR(O10=\"\",O10=0),\"\",N10/O10*100)","v":""}]
[null,7,null,null,"",null,null,"",null,"total",{"$f":"SUM(K5:K9)","v":0},{"$f":"SUM(L5:L9)","v":0},{"$f":"IF(OR(L11=\"\",L11=0),\"\",K11/L11*100)","v":""},{"$f":"SUM(N5:N10)","v":0},{"$f":"SUM(O5:O10)","v":0},""]
[]
[null,"Ciencias"]
[null,"Contenido","Reconocimiento",null,null,"Análisis"]
[null,null,"Aciertos","Respuestas","Porcentaje","Aciertos","Respuestas","Porcentaje"]
[null,1,{"$f":"IF(Ciencias!B2=\"3.°\",SUM(Ciencias!CH8,Ciencias!CH9,Ciencias!CH10,Ciencias!CH12,Ciencias!CH13,Ciencias!CH16,Ciencias!CH17,Ciencias!CH18),IF(Ciencias!B2=\"4.°\",SUM(Ciencias!CH7,Ciencias!CH8,Ciencias!CH9,Ciencias!CH14,Ciencias!CH15),IF(Ciencias!B2=\"5.°\",SUM(Ciencias!CH8,Ciencias!CH9,Ciencias!CH11,Ciencias!CH13,Ciencias!CH12,Ciencias!CH16,Ciencias!CH17,Ciencias!CH18),IF(Ciencias!B2=\"6.°\",SUM(Ciencias!CH7,Ciencias!CH8,Ciencias!CH9,Ciencias!CH10,Ciencias!CH11,Ciencias!CH12,Ciencias!CH16,Ciencias!CH18,Ciencias!CH20),IF(Ciencias!B2=\"7.°\",SUM(Ciencias!CH10,Ciencias!CH8,Ciencias!CH13,Ciencias!CH14,Ciencias!CH15),IF(Ciencias!B2=\"8.°\",SUM(Ciencias!CH7,Ciencias!CH9,Ciencias!CH10),IF(Ciencias!B2=\"9.°\",SUM(Ciencias!CH8,Ciencias!CH10,Ciencias!CH13),IF(Ciencias!B2=\"1.° Bto.\",SUM(Ciencias!CH8,Ciencias!CH10,Ciencias!CH12),IF(Ciencias!B2=\"2.° Bto.\",SUM(Ciencias!CH10,Ciencias!CH13,Ciencias!CH16),\"\")))))))))","v":0},{"$f":"IF(Ciencias!B2=\"3.°\",SUM(Ciencias!CJ8,Ciencias!CJ9,Ciencias!CJ10,Ciencias!CJ12,Ciencias!CJ13,Ciencias!CJ16,Ciencias!CJ17,Ciencias!CJ18),IF(Ciencias!B2=\"4.°\",SUM(Ciencias!CJ7,Ciencias!CJ8,Ciencias!CJ9,Ciencias!CJ14,Ciencias!CJ15),IF(Ciencias!B2=\"5.°\",SUM(Ciencias!CJ8,Ciencias!CJ9,Ciencias!CJ11,Ciencias!CJ12,Ciencias!CJ13,Ciencias!CJ16,Ciencias!CJ17,Ciencias!CJ18),IF(Ciencias!B2=\"6.°\",SUM(Ciencias!CJ7,Ciencias!CJ8,Ciencias!CJ9,Ciencias!CJ10,Ciencias!CJ11,Ciencias!CJ12,Ciencias!CJ16,Ciencias!CJ18,Ciencias!CJ20),IF(Ciencias!B2=\"7.°\",SUM(Ciencias!CJ8,Ciencias!CJ10,Ciencias!CJ13,Ciencias!CJ14,Ciencias!CJ15),IF(Ciencias!B2=\"8.°\",SUM(Ciencias!CJ7,Ciencias!CJ9,Ciencias!CJ10),IF(Ciencias!B2=\"9.°\",SUM(Ciencias!CJ8,Ciencias!CJ10,Ciencias!CJ13),IF(Ciencias!B2=\"1.° Bto.\",SUM(Ciencias!CJ8,Ciencias!CJ10,Ciencias!CJ12),IF(Ciencias!B2=\"2.° Bto.\",SUM(Ciencias!CJ10,Ciencias!CJ13,Ciencias!CJ16),\"\")))))))))","v":0},{"$f":"IF(OR(D16=0,D16=\"\"),\"\",C16/D16*100)","v":""},{"$f":"IF(Ciencias!B2=\"3.°\",SUM(Ciencias!CH7,Ciencias!CH11,Ciencias!CH14,Ciencias!CH15),IF(Ciencias!B2=\"4.°\",SUM(Ciencias!CH10,Ciencias!CH11,Ciencias!CH12,Ciencias!CH13),IF(Ciencias!B2=\"5.°\",SUM(Ciencias!CH7,Ciencias!CH10,Ciencias!CH14,Ciencias!CH15,Ciencias!CH19),IF(Ciencias!B2=\"6.°\",SUM(Ciencias!CH13,Ciencias!CH14,Ciencias!CH15,Ciencias!CH17,Ciencias!CH19,Ciencias!CH21),IF(Ciencias!B2=\"7.°\",SUM(Ciencias!CH7,Ciencias!CH9,Ciencias!CH11,Ciencias!CH12),IF(Ciencias!B2=\"8.°\",SUM(Ciencias!CH8,Ciencias!CH11,Ciencias!CH12),IF(Ciencias!B2=\"9.°\",SUM(Ciencias!CH7,Ciencias!CH9,Ciencias!CH11,Ciencias!CH12),IF(Ciencias!B2=\"1.° Bto.\",SUM(Ciencias!CH7,Ciencias!CH9,Ciencias!CH11),IF(Ciencias!B2=\"2.° Bto.\",SUM(Ciencias!CH7,Ciencias!CH8,Ciencias!CH9,Ciencias!CH11,Ciencias!CH12,Ciencias!CH14,Ciencias!CH15,Ciencias!CH17),\"\")))))))))","v":0},{"$f":"IF(Ciencias!B2=\"3.°\",SUM(Ciencias!CJ7,Ciencias!CJ11,Ciencias!CJ14,Ciencias!CJ15),IF(Ciencias!B2=\"4.°\",SUM(Ciencias!CJ10,Ciencias!CJ11,Ciencias!CJ12,Ciencias!CJ13),IF(Ciencias!B2=\"5.°\",SUM(Ciencias!CJ7,Ciencias!CJ10,Ciencias!CJ14,Ciencias!CJ15,Ciencias!CJ19),IF(Ciencias!B2=\"6.°\",SUM(Ciencias!CJ13,Ciencias!CJ14,Ciencias!CJ15,Ciencias!CJ17,Ciencias!CJ19,Ciencias!CJ21),IF(Ciencias!B2=\"7.°\",SUM(Ciencias!CJ7,Ciencias!CJ9,Ciencias!CJ11,Ciencias!CJ12),IF(Ciencias!B2=\"8.°\",SUM(Ciencias!CJ8,Ciencias!CJ11,Ciencias!CJ12),IF(Ciencias!B2=\"9.°\",SUM(Ciencias!CJ7,Ciencias!CJ9,Ciencias!CJ11,Ciencias!CJ12),IF(Ciencias!B2=\"1.° Bto.\",SUM(Ciencias!CJ7,Ciencias!CJ9,Ciencias!CJ11),IF(Ciencias!B2=\"2.° Bto.\",SUM(Ciencias!CJ7,Ciencias!CJ8,Ciencias!CJ9,Ciencias!CJ11,Ciencias!CJ12,Ciencias!CJ14,Ciencias!CJ15,Ciencias!CJ17),\"\")))))))))","v":0},{"$f":"IF(OR(G16=\"\",G16=0),\"\",F16*100/G16)","v":""}]
[null,2,{"$f":"IF(Ciencias!B2=\"3.°\",SUM(Ciencias!CH21,Ciencias!CH24),IF(Ciencias!B2=\"4.°\",SUM(Ciencias!CH16,Ciencias!CH17,Ciencias!CH18,Ciencias!CH19,Ciencias!CH20,Ciencias!CH21,Ciencias!CH22,Ciencias!CH26),IF(Ciencias!B2=\"5.°\",SUM(Ciencias!CH20,Ciencias!CH21,Ciencias!CH23,Ciencias!CH25),IF(Ciencias!B2=\"6.°\",SUM(Ciencias!CH23,Ciencias!CH25,Ciencias!CH26,Ciencias!CH28,Ciencias!CH31),IF(Ciencias!B2=\"7.°\",SUM(Ciencias!CH17,Ciencias!CH19,Ciencias!CH20,Ciencias!CH21,Ciencias!CH22,Ciencias!CH23,Ciencias!CH26,Ciencias!CH28,Ciencias!CH29),IF(Ciencias!B2=\"8.°\",SUM(Ciencias!CH13,Ciencias!CH17,Ciencias!CH18,Ciencias!CH19,Ciencias!CH20),IF(Ciencias!B2=\"9.°\",SUM(Ciencias!CH14,Ciencias!CH16,Ciencias!CH17,Ciencias!CH18,Ciencias!CH19,Ciencias!CH21),IF(Ciencias!B2=\"1.° Bto.\",SUM(Ciencias!CH16,Ciencias!CH20,Ciencias!CH21),IF(Ciencias!B2=\"2.° Bto.\",SUM(Ciencias!CH18,Ciencias!CH19,Ciencias!CH20,Ciencias!CH23),\"\")))))))))","v":0},{"$f":"IF(Ciencias!B2=\"3.°\",SUM(Ciencias!CJ21,Ciencias!CJ24),IF(Ciencias!B2=\"4.°\",SUM(Ciencias!CJ16,Ciencias!CJ17,Ciencias!CJ18,Ciencias!CJ19,Ciencias!CJ20,Ciencias!CJ21,Ciencias!CJ22,Ciencias!CJ26),IF(Ciencias!B2=\"5.°\",SUM(Ciencias!CJ20,Ciencias!CJ21,Ciencias!CJ23,Ciencias!CJ25),IF(Ciencias!B2=\"6.°\",SUM(Ciencias!CJ23,Ciencias!CJ25,Ciencias!CJ26,Ciencias!CJ28:CJ28,Ciencias!CJ31),IF(Ciencias!B2=\"7.°\",SUM(Ciencias!CJ17,Ciencias!CJ19,Ciencias!CJ20,Ciencias!CJ21,Ciencias!CJ22,Ciencias!CJ23,Ciencias!CJ26,Ciencias!CJ28,Ciencias!CJ29),IF(Ciencias!B2=\"8.°\",SUM(Ciencias!CJ13,Ciencias!CJ17,Ciencias!CJ18,Ciencias!CJ19,Ciencias!CJ20),IF(Ciencias!B2=\"9.°\",SUM(Ciencias!CJ14,Ciencias!CJ16,Ciencias!CJ17,Ciencias!CJ18,Ciencias!CJ19,Ciencias!CJ21),IF(Ciencias!B2=\"1.° Bto.\",SUM(Ciencias!CJ16,Ciencias!CJ20,Ciencias!CJ21),IF(Ciencias!B2=\"2.° Bto.\",SUM(Ciencias!CJ18,Ciencias!CJ19,Ciencias!CJ20,Ciencias!CJ23),\"\")))))))))","v":0},{"$f":"IF(OR(D17=0,D17=\"\"),\"\",C17/D17*100)","v":""},{"$f":"IF(Ciencias!B2=\"3.°\",SUM(Ciencias!CH19,Ciencias!CH20,Ciencias!CH22,Ciencias!CH23,Ciencias!CH25,Ciencias!CH26),IF(Ciencias!B2=\"4.°\",SUM(Ciencias!CH23,Ciencias!CH24,Ciencias!CH25),IF(Ciencias!B2=\"5.°\",SUM(Ciencias!CH22,Ciencias!CH24,Ciencias!CH26,Ciencias!CH27,Ciencias!CH28,Ciencias!CH29,Ciencias!CH30,Ciencias!CH31),IF(Ciencias!B2=\"6.°\",SUM(Ciencias!CH22,Ciencias!CH24,Ciencias!CH27,Ciencias!CH29,Ciencias!CH30),IF(Ciencias!B2=\"7.°\",SUM(Ciencias!CH16,Ciencias!CH18,Ciencias!CH24,Ciencias!CH25,Ciencias!CH27,Ciencias!CH30,Ciencias!CH31),IF(Ciencias!B2=\"8.°\",SUM(Ciencias!CH14,Ciencias!CH15,Ciencias!CH16,Ciencias!CH21,Ciencias!CH22,Ciencias!CH23),IF(Ciencias!B2=\"9.°\",SUM(Ciencias!CH15,Ciencias!CH20),IF(Ciencias!B2=\"1.° Bto.\",SUM(Ciencias!CH13,Ciencias!CH14,Ciencias!CH15,Ciencias!CH17,Ciencias!CH18,Ciencias!CH19),IF(Ciencias!B2=\"2.° Bto.\",SUM(Ciencias!CH21,Ciencias!CH22),\"\")))))))))","v":0},{"$f":"IF(Ciencias!B2=\"3.°\",SUM(Ciencias!CJ19,Ciencias!CJ20,Ciencias!CJ22,Ciencias!CJ23,Ciencias!CJ25,Ciencias!CJ26),IF(Ciencias!B2=\"4.°\",SUM(Ciencias!CJ23,Ciencias!CJ24,Ciencias!CJ25),IF(Ciencias!B2=\"5.°\",SUM(Ciencias!CJ22,Ciencias!CJ24,Ciencias!CJ26,Ciencias!CJ27,Ciencias!CJ28,Ciencias!CJ29,Ciencias!CJ30,Ciencias!CJ31),IF(Ciencias!B2=\"6.°\",SUM(Ciencias!CJ22,Ciencias!CJ24,Ciencias!CJ27,Ciencias!CJ29,Ciencias!CJ30),IF(Ciencias!B2=\"7.°\",SUM(Ciencias!CJ16,Ciencias!CJ18,Ciencias!CJ24,Ciencias!CJ25,Ciencias!CJ27,Ciencias!CJ30,Ciencias!CJ31),IF(Ciencias!B2=\"8.°\",SUM(Ciencias!CJ14,Ciencias!CJ15,Ciencias!CJ16,Ciencias!CJ21,Ciencias!CJ22,Ciencias!CJ23),IF(Ciencias!B2=\"9.°\",SUM(Ciencias!CJ15,Ciencias!CJ20),IF(Ciencias!B2=\"1.° Bto.\",SUM(Ciencias!CJ13,Ciencias!CJ14,Ciencias!CJ15,Ciencias!CJ17,Ciencias!CJ18,Ciencias!CJ19),IF(Ciencias!B2=\"2.° Bto.\",SUM(Ciencias!CJ21,Ciencias!CJ22),\"\")))))))))","v":0},{"$f":"IF(OR(G17=\"\",G17=0),\"\",F17*100/G17)","v":""}]
[null,3,{"$f":"IF(Ciencias!B2=\"8.°\",SUM(Ciencias!CH24,Ciencias!CH25,Ciencias!CH26,Ciencias!CH27,Ciencias!CH30,Ciencias!CH31),IF(Ciencias!B2=\"9.°\",SUM(Ciencias!CH24,Ciencias!CH27,Ciencias!CH28,Ciencias!CH29,Ciencias!CH31),IF(Ciencias!B2=\"1.° Bto.\",SUM(Ciencias!CH25,Ciencias!CH26,Ciencias!CH27,Ciencias!CH28,Ciencias!CH29,Ciencias!CH30,Ciencias!CH31),IF(Ciencias!B2=\"2.° Bto.\",SUM(Ciencias!CH25,Ciencias!CH27,Ciencias!CH28,Ciencias!CH29,Ciencias!CH30,Ciencias!CH31),\"\"))))","v":0},{"$f":"IF(Ciencias!B2=\"8.°\",SUM(Ciencias!CJ24,Ciencias!CJ25,Ciencias!CJ26,Ciencias!CJ27,Ciencias!CJ30,Ciencias!CJ31),IF(Ciencias!B2=\"9.°\",SUM(Ciencias!CJ24,Ciencias!CJ27,Ciencias!CJ28,Ciencias!CJ29,Ciencias!CJ31),IF(Ciencias!B2=\"1.° Bto.\",SUM(Ciencias!CJ25,Ciencias!CJ26,Ciencias!CJ27,Ciencias!CJ28,Ciencias!CJ29,Ciencias!CJ30,Ciencias!CJ31),IF(Ciencias!B2=\"2.° Bto.\",SUM(Ciencias!CJ25,Ciencias!CJ27,Ciencias!CJ28,Ciencias!CJ29,Ciencias!CJ30,Ciencias!CJ31),\"\"))))","v":0},{"$f":"IF(OR(D18=0,D18=\"\"),\"\",C18/D18*100)","v":""},{"$f":"IF(Ciencias!B2=\"8.°\",SUM(Ciencias!CH28,Ciencias!CH29),IF(Ciencias!B2=\"9.°\",SUM(Ciencias!CH22,Ciencias!CH23,Ciencias!CH25,Ciencias!CH26,Ciencias!CH30),IF(Ciencias!B2=\"1.° Bto.\",SUM(Ciencias!CH22,Ciencias!CH23,Ciencias!CH24),IF(Ciencias!B2=\"2.° Bto.\",SUM(Ciencias!CH24,Ciencias!CH26),\"\"))))","v":0},{"$f":"IF(Ciencias!B2=\"8.°\",SUM(Ciencias!CJ28,Ciencias!CJ29),IF(Ciencias!B2=\"9.°\",SUM(Ciencias!CJ22,Ciencias!CJ23,Ciencias!CJ25,Ciencias!CJ26,Ciencias!CJ30),IF(Ciencias!B2=\"1.° Bto.\",SUM(Ciencias!CJ22,Ciencias!CJ23,Ciencias!CJ24),IF(Ciencias!B2=\"2.° Bto.\",SUM(Ciencias!CJ24,Ciencias!CJ26),\"\"))))","v":0},{"$f":"IF(G18=\"\",\"\",F18*100/G18)","v":{"$error":"#DIV/0!"}}]
[null,4,null,null,{"$f":"IF(D19=0,\"\",C19/D19*100)","v":""},null,null,""]
[null,5,null,null,"",null,null,""]
[null,6,null,null,"",null,null,""]

{"sheet":"Generador","index":10,"n_rows":26,"n_cols":10,"rows_kept":26,"cut":false,"hidden":true,"merged":[[0,1,0,4],[0,6,0,9],[14,1,14,4],[14,6,14,9]]}
[null,"Matemática",null,null,null,null,"Lenguaje"]
[null,"DomJnJo","AcJertos","Respuestas","Porcentaje",null,"DomJnJo","AcJertos","Respuestas","Porcentaje"]
[null,1,{"$f":"IF(Matemática!B2=\"3.°\",SUM(Matemática!CH7,Matemática!CH11),IF(Matemática!B2=\"4.°\",SUM(Matemática!CH7,Matemática!CH11:CH12,Matemática!CH19:CH20,Matemática!CH22),IF(Matemática!B2=\"5.°\",SUM(Matemática!CH7:CH9,Matemática!CH11,Matemática!CH15,Matemática!CH17,Matemática!CH19,Matemática!CH21:CH22,Matemática!CH27),IF(Matemática!B2=\"6.°\",SUM(Matemática!CH7:CH8,Matemática!CH10:CH13,Matemática!CH16,Matemática!CH19,Matemática!CH21:CH23),IF(Matemática!B2=\"7.°\",SUM(Matemática!CH7:CH9,Matemática!CH12,Matemática!CH14,Matemática!CH26),IF(Matemática!B2=\"8.°\",SUM(Matemática!CH7:CH8),IF(Matemática!B2=\"9.°\",SUM(Matemática!CH7:CH8,Matemática!CH11,Matemática!CH20:CH21,Matemática!CH24:CH25,Matemática!CH30),IF(Matemática!B2=\"1.° Bach.\",SUM(Matemática!CH7:CH8,Matemática!CH10,Matemática!CH14,Matemática!CH17:CH18,Matemática!CH22:CH24,Matemática!CH30),IF(Matemática!B2=\"2.° Bach.\",SUM(Matemática!CH7,Matemática!CH10,Matemática!CH15:CH16,Matemática!CH18:CH19,Matemática!CH22,Matemática!CH26,Matemática!CH28),\"\")))))))))","v":0},{"$f":"IF(Matemática!B2=\"3.°\",SUM(Matemática!CJ7,Matemática!CJ11),IF(Matemática!B2=\"4.°\",SUM(Matemática!CJ7,Matemática!CJ11:CJ12,Matemática!CJ19:CJ20,Matemática!CJ22),IF(Matemática!B2=\"5.°\",SUM(Matemática!CJ7:CJ9,Matemática!CJ11,Matemática!CJ15,Matemática!CJ17,Matemática!CJ19,Matemática!CJ21:CJ22,Matemática!CJ27),IF(Matemática!B2=\"6.°\",SUM(Matemática!CJ7:CJ8,Matemática!CJ10:CJ13,Matemática!CJ16,Matemática!CJ19,Matemática!CJ21:CJ23),IF(Matemática!B2=\"7.°\",SUM(Matemática!CJ7:CJ9,Matemática!CJ12,Matemática!CJ14,Matemática!CJ26),IF(Matemática!B2=\"8.°\",SUM(Matemática!CJ7:CJ8),IF(Matemática!B2=\"9.°\",SUM(Matemática!CJ7:CJ8,Matemática!CJ11,Matemática!CJ20:CJ21,Matemática!CJ24:CJ25,Matemática!CJ30),IF(Matemática!B2=\"1.° Bach.\",SUM(Matemática!CJ7:CJ8,Matemática!CJ10,Matemática!CJ14,Matemática!CJ17:CJ18,Matemática!CJ22:CJ24,Matemática!CJ30),IF(Matemática!B2=\"2.° Bach.\",SUM(Matemática!CJ7,Matemática!CJ10,Matemática!CJ15:CJ16,Matemática!CJ18:CJ19,Matemática!CJ22,Matemática!CJ26,Matemática!CJ28),\"\")))))))))","v":0},{"$f":"IF(D3=0,\"\",C3/D3*100)","v":""},null,1,{"$f":"IF(Lenguaje!B2=\"3.°\",SUM(Lenguaje!CH7:CH10),SUM(Lenguaje!CH7:CH11))","v":0},{"$f":"IF(Lenguaje!B2=\"3.°\",SUM(Lenguaje!CJ7:CJ10),SUM(Lenguaje!CJ7:CJ11))","v":0},{"$f":"IF(I3=0,\"\",H3/I3*100)","v":""}]
[null,2,{"$f":"IF(Matemática!B2=\"3.°\",SUM(Matemática!CH8:CH10,Matemática!CH13,Matemática!CH15:CH18,Matemática!CH20,Matemática!CH22,Matemática!CH24:CH26),IF(Matemática!B2=\"4.°\",SUM(Matemática!CH8,Matemática!CH13,Matemática!CH14,Matemática!CH16),IF(Matemática!B2=\"5.°\",SUM(Matemática!CH10,Matemática!CH12:CH13),IF(Matemática!B2=\"6.°\",SUM(Matemática!CH9,Matemática!CH14:CH15,Matemática!CH20),IF(Matemática!B2=\"7.°\",SUM(Matemática!CH10,Matemática!CH13,Matemática!CH15,Matemática!CH19,Matemática!CH24),IF(Matemática!B2=\"8.°\",SUM(Matemática!CH9,Matemática!CH11,Matemática!CH16,Matemática!CH20,Matemática!CH26),IF(Matemática!B2=\"9.°\",SUM(Matemática!CH9:CH10,Matemática!CH12,Matemática!CH14:CH15,Matemática!CH18,Matemática!CH26:CH28),IF(Matemática!B2=\"1.° Bach.\",SUM(Matemática!CH9,Matemática!CH13,Matemática!CH15,Matemática!CH20,Matemática!CH26,Matemática!CH29),IF(Matemática!B2=\"2.° Bach.\",SUM(Matemática!CH8:CH9,Matemática!CH12,Matemática!CH20:CH21,Matemática!CH23:CH24),\"\")))))))))","v":0},{"$f":"IF(Matemática!B2=\"3.°\",SUM(Matemática!CJ8:CJ10,Matemática!CJ13,Matemática!CJ15:CJ18,Matemática!CJ20,Matemática!CJ22,Matemática!CJ24:CJ26),IF(Matemática!B2=\"4.°\",SUM(Matemática!CJ8,Matemática!CJ13,Matemática!CJ14,Matemática!CJ16),IF(Matemática!B2=\"5.°\",SUM(Matemática!CJ10,Matemática!CJ12:CJ13),IF(Matemática!B2=\"6.°\",SUM(Matemática!CJ9,Matemática!CJ14:CJ15,Matemática!CJ20),IF(Matemática!B2=\"7.°\",SUM(Matemática!CJ10,Matemática!CJ13,Matemática!CJ15,Matemática!CJ19,Matemática!CJ24),IF(Matemática!B2=\"8.°\",SUM(Matemática!CJ9,Matemática!CJ11,Matemática!CJ16,Matemática!CJ20,Matemática!CJ26),IF(Matemática!B2=\"9.°\",SUM(Matemática!CJ9:CJ10,Matemática!CJ12,Matemática!CJ14:CJ15,Matemática!CJ18,Matemática!CJ26:CJ28),IF(Matemática!B2=\"1.° Bach.\",SUM(Matemática!CJ9,Matemática!CJ13,Matemática!CJ15,Matemática!CJ20,Matemática!CJ26,Matemática!CJ29),IF(Matemática!B2=\"2.° Bach.\",SUM(Matemática!CJ8:CJ9,Matemática!CJ12,Matemática!CJ20:CJ21,Matemática!CJ23:CJ24),\"\")))))))))","v":0},{"$f":"IF(D4=0,\"\",C4/D4*100)","v":""},null,2,{"$f":"IF(Lenguaje!B2=\"3.°\",SUM(Lenguaje!CH11:CH14),IF(Lenguaje!B2=\"4.°\",SUM(Lenguaje!CH12:CH13),SUM(Lenguaje!CH12:CH16)))","v":0},{"$f":"IF(Lenguaje!B2=\"3.°\",SUM(Lenguaje!CJ11:CJ14),IF(Lenguaje!B2=\"4.°\",SUM(Lenguaje!CJ12:CJ13),SUM(Lenguaje!CJ12:CJ16)))","v":0},{"$f":"IF(I4=0,\"\",H4/I4*100)","v":""}]
[null,3,{"$f":"IF(Matemática!B2=\"3.°\",SUM(Matemática!CH12,Matemática!CH19),IF(Matemática!B2=\"4.°\",SUM(Matemática!CH9,Matemática!CH21),IF(Matemática!B2=\"5.°\",SUM(Matemática!CH14,Matemática!CH25,Matemática!CH30:CH31),IF(Matemática!B2=\"6.°\",SUM(Matemática!CH17:CH18,Matemática!CH25),IF(Matemática!B2=\"7.°\",SUM(Matemática!CH11,Matemática!CH17,Matemática!CH20:CH22,Matemática!CH25),IF(Matemática!B2=\"8.°\",SUM(Matemática!CH10,Matemática!CH13,Matemática!CH18,Matemática!CH22),IF(Matemática!B2=\"9.°\",SUM(Matemática!CH13,Matemática!CH16:CH17,Matemática!CH19,Matemática!CH29),IF(Matemática!B2=\"1.° Bach.\",SUM(Matemática!CH11:CH12,Matemática!CH19,Matemática!CH25,Matemática!CH27:CH28,Matemática!CH31),IF(Matemática!B2=\"2.° Bach.\",SUM(Matemática!CH11,Matemática!CH14),\"\")))))))))","v":0},{"$f":"IF(Matemática!B2=\"3.°\",SUM(Matemática!CJ12,Matemática!CJ19),IF(Matemática!B2=\"4.°\",SUM(Matemática!CJ9,Matemática!CJ21),IF(Matemática!B2=\"5.°\",SUM(Matemática!CJ14,Matemática!CJ25,Matemática!CJ30:CJ31),IF(Matemática!B2=\"6.°\",SUM(Matemática!CJ17:CJ18,Matemática!CJ25),IF(Matemática!B2=\"7.°\",SUM(Matemática!CJ11,Matemática!CJ17,Matemática!CJ20:CJ22,Matemática!CJ25),IF(Matemática!B2=\"8.°\",SUM(Matemática!CJ10,Matemática!CJ13,Matemática!CJ18,Matemática!CJ22),IF(Matemática!B2=\"9.°\",SUM(Matemática!CJ13,Matemática!CJ16:CJ17,Matemática!CJ19,Matemática!CJ29),IF(Matemática!B2=\"1.° Bach.\",SUM(Matemática!CJ11:CJ12,Matemática!CJ19,Matemática!CJ25,Matemática!CJ27:CJ28,Matemática!CJ31),IF(Matemática!B2=\"2.° Bach.\",SUM(Matemática!CJ11,Matemática!CJ14),\"\")))))))))","v":0},"",null,3,{"$f":"IF(Lenguaje!B2=\"3.°\",SUM(Lenguaje!CH15:CH18),IF(Lenguaje!B2=\"4.°\",SUM(Lenguaje!CH14:CH17),SUM(Lenguaje!CH17:CH21)))","v":0},{"$f":"IF(Lenguaje!B2=\"3.°\",SUM(Lenguaje!CJ15:CJ18),IF(Lenguaje!B2=\"4.°\",SUM(Lenguaje!CJ14:CJ17),SUM(Lenguaje!CJ17:CJ21)))","v":0},{"$f":"IF(I5=0,\"\",H5/I5*100)","v":""}]
[null,4,{"$f":"IF(Matemática!B2=\"3.°\",SUM(Matemática!CH14,Matemática!CH23),IF(Matemática!B2=\"4.°\",SUM(Matemática!CH10,Matemática!CH18),IF(Matemática!B2=\"5.°\",SUM(Matemática!CH16,Matemática!CH18,Matemática!CH20,Matemática!CH23:CH24,Matemática!CH28:CH29),IF(Matemática!B2=\"6.°\",SUM(Matemática!CH24),IF(Matemática!B2=\"7.°\",SUM(Matemática!CH16),IF(Matemática!B2=\"8.°\",SUM(Matemática!CH12,Matemática!CH17),IF(Matemática!B2=\"9.°\",SUM(Matemática!CH22,Matemática!CH31),IF(Matemática!B2=\"1.° Bach.\",SUM(Matemática!CH16,Matemática!CH21),IF(Matemática!B2=\"2.° Bach.\",SUM(Matemática!CH13,Matemática!CH17,Matemática!CH25,Matemática!CH27,Matemática!CH29:CH31),\"\")))))))))","v":0},{"$f":"IF(Matemática!B2=\"3.°\",SUM(Matemática!CJ14,Matemática!CJ23),IF(Matemática!B2=\"4.°\",SUM(Matemática!CJ10,Matemática!CJ18),IF(Matemática!B2=\"5.°\",SUM(Matemática!CJ16,Matemática!CJ18,Matemática!CJ20,Matemática!CJ23:CJ24,Matemática!CJ28:CJ29),IF(Matemática!B2=\"6.°\",SUM(Matemática!CJ24),IF(Matemática!B2=\"7.°\",SUM(Matemática!CJ16),IF(Matemática!B2=\"8.°\",SUM(Matemática!CJ12,Matemática!CJ17),IF(Matemática!B2=\"9.°\",SUM(Matemática!CJ22,Matemática!CJ31),IF(Matemática!B2=\"1.° Bach.\",SUM(Matemática!CJ16,Matemática!CJ21),IF(Matemática!B2=\"2.° Bach.\",SUM(Matemática!CJ13,Matemática!CJ17,Matemática!CJ25,Matemática!CJ27,Matemática!CJ29:CJ31),\"\")))))))))","v":0},"",null,4,{"$f":"IF(Lenguaje!B2=\"3.°\",SUM(Lenguaje!CH19:CH22),IF(Lenguaje!B2=\"4.°\",SUM(Lenguaje!CH18:CH21),SUM(Lenguaje!CH22:CH26)))","v":0},{"$f":"IF(Lenguaje!B2=\"3.°\",SUM(Lenguaje!CJ19:CJ22),IF(Lenguaje!B2=\"4.°\",SUM(Lenguaje!CJ18:CJ21),SUM(Lenguaje!CJ22:CJ26)))","v":0},""]
[null,5,{"$f":"IF(Matemática!B2=\"3.°\",SUM(Matemática!CH21),IF(Matemática!B2=\"4.°\",SUM(Matemática!CH15,Matemática!CH17),IF(Matemática!B2=\"6.°\",SUM(Matemática!CH26),IF(Matemática!B2=\"7.°\",SUM(Matemática!CH23),IF(Matemática!B2=\"8.°\",SUM(Matemática!CH14:CH15,Matemática!CH24:CH25,Matemática!CH27:CH28),\"\")))))","v":""},{"$f":"IF(Matemática!B2=\"3.°\",SUM(Matemática!CJ21),IF(Matemática!B2=\"4.°\",SUM(Matemática!CJ15,Matemática!CJ17),IF(Matemática!B2=\"6.°\",SUM(Matemática!CJ26),IF(Matemática!B2=\"7.°\",SUM(Matemática!CJ23),IF(Matemática!B2=\"8.°\",SUM(Matemática!CJ14:CJ15,Matemática!CJ24:CJ25,Matemática!CJ27:CJ28),\"\")))))","v":""},{"$f":"IF(OR(D7=0,D7=\"\"),\"\",C7/D7*100)","v":""},null,5,{"$f":"IF(Lenguaje!B2=\"4.°\",SUM(Lenguaje!CH22:CH23),IF(OR(Lenguaje!B2=\"1.° Bach.\",Lenguaje!B2=\"2.° Bach.\"),SUM(Lenguaje!CH27:CH31),\"\"))","v":""},{"$f":"IF(Lenguaje!B2=\"4.°\",SUM(Lenguaje!CJ22:CJ23),IF(OR(Lenguaje!B2=\"1.° Bach.\",Lenguaje!B2=\"2.° Bach.\"),SUM(Lenguaje!CJ27:CJ31),\"\"))","v":""},{"$f":"IF(OR(I7=0,I7=\"\"),\"\",H7/I7*100)","v":""}]
[null,6,{"$f":"IF(Matemática!B2=\"8.°\",SUM(Matemática!CH19),\"\")","v":""},{"$f":"IF(Matemática!B2=\"8.°\",SUM(Matemática!CJ19),\"\")","v":""},{"$f":"IF(OR(D8=0,D8=\"\"),\"\",C8/D8*100)","v":""},null,6,{"$f":"IF(Lenguaje!B2=\"4.°\",SUM(Lenguaje!CH24:CH26),\"\")","v":""},{"$f":"IF(Lenguaje!B2=\"4.°\",SUM(Lenguaje!CJ24:CJ26),\"\")","v":""},{"$f":"IF(OR(I8=0,I8=\"\"),\"\",H8/I8*100)","v":""}]
[null,7,{"$f":"IF(Matemática!B2=\"8.°\",SUM(Matemática!CH29,Matemática!CH31),\"\")","v":""},{"$f":"IF(Matemática!B2=\"8.°\",SUM(Matemática!CH29,Matemática!CJ31),\"\")","v":""},{"$f":"IF(OR(D9=0,D9=\"\"),\"\",C9/D9*100)","v":""},null,7,null,null,""]
[null,8,{"$f":"IF(Matemática!B2=\"8.°\",SUM(Matemática!CH30),\"\")","v":""},{"$f":"IF(Matemática!B2=\"8.°\",SUM(Matemática!CJ30),\"\")","v":""},"",null,8,null,null,""]
[null,"Conocimiento",{"$f":"IF(Matemática!B2=\"3.°\",SUM(Matemática!CH7:CH10,Matemática!CH12,Matemática!CH14,Matemática!CH17,Matemática!CH20:CH21,Matemática!CH23:CH25),IF(Matemática!B2=\"4.°\",SUM(Matemática!CH9:CH10,Matemática!CH12:CH14,Matemática!CH16:CH17,Matemática!CH19:CH22),IF(Matemática!B2=\"5.°\",SUM(Matemática!CH7:CH11,Matemática!CH14,Matemática!CH16:CH20,Matemática!CH22,Matemática!CH24:CH26,Matemática!CH28),IF(Matemática!B2=\"6.°\",SUM(Matemática!CH7:CH14,Matemática!CH17:CH18,Matemática!CH22:CH23),IF(Matemática!B2=\"7.°\",SUM(Matemática!CH7:CH8,Matemática!CH10,Matemática!CH11:CH12,Matemática!CH18,Matemática!CH21:CH22,Matemática!CH25:CH26),IF(Matemática!B2=\"8.°\",SUM(Matemática!CH7:CH8,Matemática!CH10:CH13,Matemática!CH20:CH23,Matemática!CH26,Matemática!CH28,Matemática!CH30:CH31),IF(Matemática!B2=\"9.°\",SUM(Matemática!CH7:CH11,Matemática!CH13:CH16,Matemática!CH19,Matemática!CH22:CH23,Matemática!CH27:CH29,Matemática!CH31),IF(Matemática!B2=\"1.° Bach.\",SUM(Matemática!CH7,Matemática!CH9:CH10,Matemática!CH12:CH20,Matemática!CH23,Matemática!CH26:CH28,Matemática!CH30),IF(Matemática!B2=\"2.° Bach.\",SUM(Matemática!CH7:CH8,Matemática!CH10:CH11,Matemática!CH13,Matemática!CH15,Matemática!CH17:CH21,Matemática!CH24:CH25,Matemática!CH27:CH29,Matemática!CH31),\"\")))))))))","v":0},{"$f":"IF(Matemática!B2=\"3.°\",SUM(Matemática!CJ7:CJ10,Matemática!CJ12,Matemática!CJ14,Matemática!CJ17,Matemática!CJ20:CJ21,Matemática!CJ23:CJ25),IF(Matemática!B2=\"4.°\",SUM(Matemática!CJ9:CJ10,Matemática!CJ12:CJ14,Matemática!CJ16:CJ17,Matemática!CJ19:CJ22),IF(Matemática!B2=\"5.°\",SUM(Matemática!CJ7:CJ11,Matemática!CJ14,Matemática!CJ16:CJ20,Matemática!CJ22,Matemática!CJ24:CJ26,Matemática!CJ28),IF(Matemática!B2=\"6.°\",SUM(Matemática!CJ7:CJ14,Matemática!CJ17:CJ18,Matemática!CJ22:CJ23),IF(Matemática!B2=\"7.°\",SUM(Matemática!CJ7:CJ8,Matemática!CJ10,Matemática!CJ11:CJ12,Matemática!CJ18,Matemática!CJ21:CJ22,Matemática!CJ25:CJ26),IF(Matemática!B2=\"8.°\",SUM(Matemática!CJ7:CJ8,Matemática!CJ10:CJ13,Matemática!CJ20:CJ23,Matemática!CJ26,Matemática!CJ28,Matemática!CJ30:CJ31),IF(Matemática!B2=\"9.°\",SUM(Matemática!CJ7:CJ11,Matemática!CJ13:CJ16,Matemática!CJ19,Matemática!CJ22:CJ23,Matemática!CJ27:CJ29,Matemática!CJ31),IF(Matemática!B2=\"1.° Bach.\",SUM(Matemática!CJ7,Matemática!CJ9:CJ10,Matemática!CJ12:CJ20,Matemática!CJ23,Matemática!CJ26:CJ28,Matemática!CJ30),IF(Matemática!B2=\"2.° Bach.\",SUM(Matemática!CJ7:CJ8,Matemática!CJ10:CJ11,Matemática!CJ13,Matemática!CJ15,Matemática!CJ17:CJ21,Matemática!CJ24:CJ25,Matemática!CJ27:CJ29,Matemática!CJ31),\"\")))))))))","v":0},"",null,"Literal",{"$f":"IF(Lenguaje!B2=\"3.°\",SUM(Lenguaje!CH7:CH8,Lenguaje!CH11:CH12,Lenguaje!CH13,Lenguaje!CH15,Lenguaje!CH16,Lenguaje!CH19:CH21),IF(Lenguaje!B2=\"4.°\",SUM(Lenguaje!CH7:CH8,Lenguaje!CH12:CH15,Lenguaje!CH16:CH20,Lenguaje!CH22,Lenguaje!CH24:CH25),IF(Lenguaje!B2=\"5.°\",SUM(Lenguaje!CH7:CH8,Lenguaje!CH12:CH14,Lenguaje!CH17:CH25),IF(Lenguaje!B2=\"6.°\",SUM(Lenguaje!CH7,Lenguaje!CH11,Lenguaje!CH12:CH13,Lenguaje!CH18,Lenguaje!CH22,Lenguaje!CH23),IF(Lenguaje!B2=\"7.°\",SUM(Lenguaje!CH7:CH9,Lenguaje!CH12:CH14,Lenguaje!CH17,Lenguaje!CH22,Lenguaje!CH23:CH24),IF(Lenguaje!B2=\"8.°\",SUM(Lenguaje!CH7,Lenguaje!CH9,Lenguaje!CH13,Lenguaje!CH17,Lenguaje!CH19,Lenguaje!CH22:CH23,Lenguaje!CH24),IF(Lenguaje!B2=\"9.°\",SUM(Lenguaje!CH7,Lenguaje!CH9,Lenguaje!CH12,Lenguaje!CH13,Lenguaje!CH17:CH18,Lenguaje!CH19,Lenguaje!CH22:CH24),IF(Lenguaje!B2=\"1.° Bach.\",SUM(Lenguaje!CH7,Lenguaje!CH9,Lenguaje!CH12:CH13,Lenguaje!CH14,Lenguaje!CH17:CH18,Lenguaje!CH21:CH24,Lenguaje!CH27,Lenguaje!CH29:CH30),IF(Lenguaje!B2=\"2.° Bach.\",SUM(Lenguaje!CH7:CH8,Lenguaje!CH12:CH13,Lenguaje!CH17:CH18,Lenguaje!CH22:CH24,Lenguaje!CH27:CH28,Lenguaje!CH30),\"\")))))))))","v":0},{"$f":"IF(Lenguaje!B2=\"3.°\",SUM(Lenguaje!CJ7:CJ8,Lenguaje!CJ11:CJ12,Lenguaje!CJ13,Lenguaje!CJ15,Lenguaje!CJ16,Lenguaje!CJ19:CJ21),IF(Lenguaje!B2=\"4.°\",SUM(Lenguaje!CJ7:CJ8,Lenguaje!CJ12:CJ15,Lenguaje!CJ16:CJ20,Lenguaje!CJ22,Lenguaje!CJ24:CJ25),IF(Lenguaje!B2=\"5.°\",SUM(Lenguaje!CJ7:CJ8,Lenguaje!CJ12:CJ14,Lenguaje!CJ17:CJ25),IF(Lenguaje!B2=\"6.°\",SUM(Lenguaje!CJ7,Lenguaje!CJ11,Lenguaje!CJ12:CJ13,Lenguaje!CJ18,Lenguaje!CJ22,Lenguaje!CJ23),IF(Lenguaje!B2=\"7.°\",SUM(Lenguaje!CJ7:CJ9,Lenguaje!CJ12:CJ14,Lenguaje!CJ17,Lenguaje!CJ22,Lenguaje!CJ23:CJ24),IF(Lenguaje!B2=\"8.°\",SUM(Lenguaje!CJ7,Lenguaje!CJ9,Lenguaje!CJ13,Lenguaje!CJ17,Lenguaje!CJ19,Lenguaje!CJ22:CJ23,Lenguaje!CJ24),IF(Lenguaje!B2=\"9.°\",SUM(Lenguaje!CJ7,Lenguaje!CJ9,Lenguaje!CJ12,Lenguaje!CJ13,Lenguaje!CJ17:CJ18,Lenguaje!CJ19,Lenguaje!CJ22:CJ24),IF(Lenguaje!B2=\"1.° Bach.\",SUM(Lenguaje!CJ7,Lenguaje!CJ9,Lenguaje!CJ12:CJ13,Lenguaje!CJ14,Lenguaje!CJ17:CJ18,Lenguaje!CJ21:CJ24,Lenguaje!CJ27,Lenguaje!CJ29:CJ30),IF(Lenguaje!B2=\"2.° Bach.\",SUM(Lenguaje!CJ7:CJ8,Lenguaje!CJ12:CJ13,Lenguaje!CJ17:CJ18,Lenguaje!CJ22:CJ24,Lenguaje!CJ27:CJ28,Lenguaje!CJ30),\"\")))))))))","v":0},""]
[null,"Aplicación",{"$f":"IF(Matemática!B2=\"3.°\",SUM(Matemática!CH11,Matemática!CH13,Matemática!CH15,Matemática!CH16,Matemática!CH18,Matemática!CH19,Matemática!CH22,Matemática!CH26),IF(Matemática!B2=\"4.°\",SUM(Matemática!CH7:CH8,Matemática!CH11,Matemática!CH15,Matemática!CH18),IF(Matemática!B2=\"5.°\",SUM(Matemática!CH12:CH13,Matemática!CH15,Matemática!CH21,Matemática!CH23,Matemática!CH27,Matemática!CH29:CH31),IF(Matemática!B2=\"6.°\",SUM(Matemática!CH15:CH16,Matemática!CH19:CH21,Matemática!CH24:CH26),IF(Matemática!B2=\"7.°\",SUM(Matemática!CH9,Matemática!CH13:CH17,Matemática!CH19:CH20,Matemática!CH23:CH24),IF(Matemática!B2=\"8.°\",SUM(Matemática!CH9,Matemática!CH14:CH19,Matemática!CH24:CH25,Matemática!CH27,Matemática!CH29),IF(Matemática!B2=\"9.°\",SUM(Matemática!CH12,Matemática!CH17:CH18,Matemática!CH20:CH21,Matemática!CH24:CH26,Matemática!CH30),IF(Matemática!B2=\"1.° Bach.\",SUM(Matemática!CH8,Matemática!CH11,Matemática!CH21:CH22,Matemática!CH24:CH25,Matemática!CH29,Matemática!CH31),IF(Matemática!B2=\"2.° Bach.\",SUM(Matemática!CH9,Matemática!CH12,Matemática!CH14,Matemática!CH16,Matemática!CH22:CH23,Matemática!CH26,Matemática!CH30),\"\")))))))))","v":0},{"$f":"IF(Matemática!B2=\"3.°\",SUM(Matemática!CJ11,Matemática!CJ13,Matemática!CJ15,Matemática!CJ16,Matemática!CJ18,Matemática!CJ19,Matemática!CJ22,Matemática!CJ26),IF(Matemática!B2=\"4.°\",SUM(Matemática!CJ7:CJ8,Matemática!CJ11,Matemática!CJ15,Matemática!CJ18),IF(Matemática!B2=\"5.°\",SUM(Matemática!CJ12:CJ13,Matemática!CJ15,Matemática!CJ21,Matemática!CJ23,Matemática!CJ27,Matemática!CJ29:CJ31),IF(Matemática!B2=\"6.°\",SUM(Matemática!CJ15:CJ16,Matemática!CJ19:CJ21,Matemática!CJ24:CJ26),IF(Matemática!B2=\"7.°\",SUM(Matemática!CJ9,Matemática!CJ13:CJ17,Matemática!CJ19:CJ20,Matemática!CJ23:CJ24),IF(Matemática!B2=\"8.°\",SUM(Matemática!CJ9,Matemática!CJ14:CJ19,Matemática!CJ24:CJ25,Matemática!CJ27,Matemática!CJ29),IF(Matemática!B2=\"9.°\",SUM(Matemática!CJ12,Matemática!CJ17:CJ18,Matemática!CJ20:CJ21,Matemática!CJ24:CJ26,Matemática!CJ30),IF(Matemática!B2=\"1.° Bach.\",SUM(Matemática!CJ8,Matemática!CJ11,Matemática!CJ21:CJ22,Matemática!CJ24:CJ25,Matemática!CJ29,Matemática!CJ31),IF(Matemática!B2=\"2.° Bach.\",SUM(Matemática!CJ9,Matemática!CJ12,Matemática!CJ14,Matemática!CJ16,Matemática!CJ22:CJ23,Matemática!CJ26,Matemática!CJ30),\"\")))))))))","v":0},"",null,"inferencial",{"$f":"IF(Lenguaje!B2=\"3.°\",SUM(Lenguaje!CH9:CH10,Lenguaje!CH14,Lenguaje!CH17,Lenguaje!CH18,Lenguaje!CH22),IF(Lenguaje!B2=\"4.°\",SUM(Lenguaje!CH9:CH11,Lenguaje!CH21,Lenguaje!CH23,Lenguaje!CH26),IF(Lenguaje!B2=\"5.°\",SUM(Lenguaje!CH9:CH11,Lenguaje!CH15:CH16,Lenguaje!CH26),IF(Lenguaje!B2=\"6.°\",SUM(Lenguaje!CH8:CH9,Lenguaje!CH10,Lenguaje!CH14:CH16,Lenguaje!CH19:CH21,Lenguaje!CH24:CH26),IF(Lenguaje!B2=\"7.°\",SUM(Lenguaje!CH10,Lenguaje!CH11,Lenguaje!CH15:CH16,Lenguaje!CH18:CH21,Lenguaje!CH25:CH26),IF(Lenguaje!B2=\"8.°\",SUM(Lenguaje!CH8,Lenguaje!CH10,Lenguaje!CH11:CH12,Lenguaje!CH14:CH16,Lenguaje!CH18,Lenguaje!CH20:CH21,Lenguaje!CH25,Lenguaje!CH26),IF(Lenguaje!B2=\"9.°\",SUM(Lenguaje!CH8,Lenguaje!CH10:CH11,Lenguaje!CH14:CH16,Lenguaje!CH20:CH21,Lenguaje!CH25:CH26),IF(Lenguaje!B2=\"1.° Bach.\",SUM(Lenguaje!CH8,Lenguaje!CH10,Lenguaje!CH11,Lenguaje!CH16,Lenguaje!CH19:CH20,Lenguaje!CH25:CH26,Lenguaje!CH28,Lenguaje!CH31),IF(Lenguaje!B2=\"2.° Bach.\",SUM(Lenguaje!CH9:CH11,Lenguaje!CH14:CH16,Lenguaje!CH19:CH21,Lenguaje!CH25:CH26,Lenguaje!CH29,Lenguaje!CH31),\"\")))))))))","v":0},{"$f":"IF(Lenguaje!B2=\"3.°\",SUM(Lenguaje!CJ9:CJ10,Lenguaje!CJ14,Lenguaje!CJ17,Lenguaje!CJ18,Lenguaje!CJ22),IF(Lenguaje!B2=\"4.°\",SUM(Lenguaje!CJ9:CJ11,Lenguaje!CJ21,Lenguaje!CJ23,Lenguaje!CJ26),IF(Lenguaje!B2=\"5.°\",SUM(Lenguaje!CJ9:CJ11,Lenguaje!CJ15:CJ16,Lenguaje!CJ26),IF(Lenguaje!B2=\"6.°\",SUM(Lenguaje!CJ8:CJ9,Lenguaje!CJ10,Lenguaje!CJ14:CJ16,Lenguaje!CJ19:CJ21,Lenguaje!CJ24:CJ26),IF(Lenguaje!B2=\"7.°\",SUM(Lenguaje!CJ10,Lenguaje!CJ11,Lenguaje!CJ15:CJ16,Lenguaje!CJ18:CJ21,Lenguaje!CJ25:CJ26),IF(Lenguaje!B2=\"8.°\",SUM(Lenguaje!CJ8,Lenguaje!CJ10,Lenguaje!CJ11:CJ12,Lenguaje!CJ14:CJ16,Lenguaje!CJ18,Lenguaje!CJ20:CJ21,Lenguaje!CJ25,Lenguaje!CJ26),IF(Lenguaje!B2=\"9.°\",SUM(Lenguaje!CJ8,Lenguaje!CJ10:CJ11,Lenguaje!CJ14:CJ16,Lenguaje!CJ20:CJ21,Lenguaje!CJ25:CJ26),IF(Lenguaje!B2=\"1.° Bach.\",SUM(Lenguaje!CJ8,Lenguaje!CJ10,Lenguaje!CJ11,Lenguaje!CJ16,Lenguaje!CJ19:CJ20,Lenguaje!CJ25:CJ26,Lenguaje!CJ28,Lenguaje!CJ31),IF(Lenguaje!B2=\"2.° Bach.\",SUM(Lenguaje!CJ9:CJ11,Lenguaje!CJ14:CJ16,Lenguaje!CJ19:CJ21,Lenguaje!CJ25:CJ26,Lenguaje!CJ29,Lenguaje!CJ31),\"\")))))))))","v":0},""]
[]
[]
[null,"Sociales",null,null,null,null,"Ciencias"]
[null,"Dominio","Aciertos","Respuestas","Porcentaje",null,"Dominio","Aciertos","Respuestas","Porcentaje"]
[null,1,{"$f":"IF(Sociales!B2=\"3.°\",SUM(Sociales!CC7:CC11,Sociales!CC19),IF(Sociales!B2=\"4.°\",SUM(Sociales!CC7:CC8,Sociales!CC12:CC14,Sociales!CC23,Sociales!CC26),IF(Sociales!B2=\"5.°\",SUM(Sociales!CC7:CC10,Sociales!CC21:CC24),IF(Sociales!B2=\"6.°\",SUM(Sociales!CC7,Sociales!CC9:CC12,Sociales!CC22:CC26),IF(Sociales!B2=\"7.°\",SUM(Sociales!CC7:CC8,Sociales!CC10:CC12,Sociales!CC20:CC22,Sociales!CC24:CC26),IF(Sociales!B2=\"8.°\",SUM(Sociales!CC7,Sociales!CC9:CC10,Sociales!CC21:CC22,Sociales!CC24:CC25),IF(Sociales!B2=\"9.°\",SUM(Sociales!CC7,Sociales!CC9:CC13,Sociales!CC26),IF(Sociales!B2=\"1.° Bach.\",SUM(Sociales!CC7:CC9,Sociales!CC11:CC12,Sociales!CC14:CC15,Sociales!CC17),IF(Sociales!B2=\"2.° Bach.\",SUM(Sociales!CC7:CC14,Sociales!CC23),\"\")))))))))","v":0},{"$f":"IF(Sociales!B2=\"3.°\",SUM(Sociales!CE7:CE11,Sociales!CE19),IF(Sociales!B2=\"4.°\",SUM(Sociales!CE7:CE8,Sociales!CE12:CE14,Sociales!CE23,Sociales!CE26),IF(Sociales!B2=\"5.°\",SUM(Sociales!CE7:CE10,Sociales!CE21:CE24),IF(Sociales!B2=\"6.°\",SUM(Sociales!CE7,Sociales!CE9:CE12,Sociales!CE22:CE26),IF(Sociales!B2=\"7.°\",SUM(Sociales!CE7:CE8,Sociales!CE10:CE12,Sociales!CE20:CE22,Sociales!CE24:CE26),IF(Sociales!B2=\"8.°\",SUM(Sociales!CE7,Sociales!CE9:CE10,Sociales!CE21:CE22,Sociales!CE24:CE25),IF(Sociales!B2=\"9.°\",SUM(Sociales!CE7,Sociales!CE9:CE13,Sociales!CE26),IF(Sociales!B2=\"1.° Bach.\",SUM(Sociales!CE7:CE9,Sociales!CE11:CE12,Sociales!CE14:CE15,Sociales!CE17),IF(Sociales!B2=\"2.° Bach.\",SUM(Sociales!CE7:CE14,Sociales!CE23),\"\")))))))))","v":0},{"$f":"IF(D17=0,\"\",C17/D17*100)","v":""},null,"física",{"$f":"IF(Ciencias!B2=\"8.°\",SUM(Ciencias!CH7:CH12),IF(Ciencias!B2=\"9.°\",SUM(Ciencias!CH7:CH13),IF(Ciencias!B2=\"1.° Bach.\",SUM(Ciencias!CH7:CH12),SUM(Ciencias!CH7:CH17))))","v":0},{"$f":"IF(Ciencias!B2=\"8.°\",SUM(Ciencias!CJ7:CJ12),IF(Ciencias!B2=\"9.°\",SUM(Ciencias!CJ7:CJ13),IF(Ciencias!B2=\"1.° Bach.\",SUM(Ciencias!CJ7:CJ12),IF(Ciencias!B2=\"2.° Bach.\",SUM(Ciencias!CJ7:CJ17),\"\"))))","v":0},{"$f":"IF(I17=0,\"\",H17/I17*100)","v":""}]
[null,2,{"$f":"IF(Sociales!B2=\"3.°\",SUM(Sociales!CC12,Sociales!CC18,Sociales!CC20),IF(Sociales!B2=\"4.°\",SUM(Sociales!CC9:CC11,Sociales!CC15:CC17),IF(Sociales!B2=\"5.°\",SUM(Sociales!CC11:CC13,Sociales!CC17:CC20,Sociales!CC25:CC26),IF(Sociales!B2=\"6.°\",SUM(Sociales!CC8,Sociales!CC13,Sociales!CC21),IF(Sociales!B2=\"7.°\",SUM(Sociales!CC9,Sociales!CC13),IF(Sociales!B2=\"8.°\",SUM(Sociales!CC8,Sociales!CC11,Sociales!CC26),IF(Sociales!B2=\"9.°\",SUM(Sociales!CC8,Sociales!CC21:CC25),IF(Sociales!B2=\"1.° Bach.\",SUM(Sociales!CC10,Sociales!CC16,Sociales!CC18:CC19,Sociales!CC22,Sociales!CC24,Sociales!CC26),IF(Sociales!B2=\"2.° Bach.\", SUM(Sociales!CC15:CC22,Sociales!CC24:CC26),\"\")))))))))","v":0},{"$f":"IF(Sociales!B2=\"3.°\",SUM(Sociales!CE12,Sociales!CE18,Sociales!CE20),IF(Sociales!B2=\"4.°\",SUM(Sociales!CE9:CE11,Sociales!CE15:CE17),IF(Sociales!B2=\"5.°\",SUM(Sociales!CE11:CE13,Sociales!CE17:CE20,Sociales!CE25:CE26),IF(Sociales!B2=\"6.°\",SUM(Sociales!CE8,Sociales!CE13,Sociales!CE21),IF(Sociales!B2=\"7.°\",SUM(Sociales!CE9,Sociales!CE13),IF(Sociales!B2=\"8.°\",SUM(Sociales!CE8,Sociales!CE11,Sociales!CE26),IF(Sociales!B2=\"9.°\",SUM(Sociales!CE8,Sociales!CE21:CE25),IF(Sociales!B2=\"1.° Bach.\",SUM(Sociales!CE10,Sociales!CE16,Sociales!CE18:CE19,Sociales!CE22,Sociales!CE24,Sociales!CE26),IF(Sociales!B2=\"2.° Bach.\", SUM(Sociales!CE15:CE22,Sociales!CE24:CE26),\"\")))))))))","v":0},{"$f":"IF(D18=0,\"\",C18/D18*100)","v":""},null,"química",{"$f":"IF(Ciencias!B2=\"8.°\",SUM(Ciencias!CH13:CH23),IF(Ciencias!B2=\"9.°\",SUM(Ciencias!CH14:CH21),IF(Ciencias!B2=\"1.° Bach.\",SUM(Ciencias!CH13:CH21),SUM(Ciencias!CH18:CH23))))","v":0},{"$f":"IF(Ciencias!B2=\"8.°\",SUM(Ciencias!CJ13:CJ23),IF(Ciencias!B2=\"9.°\",SUM(Ciencias!CJ14:CJ21),IF(Ciencias!B2=\"1.° Bach.\",SUM(Ciencias!CJ13:CJ21),IF(Ciencias!B2=\"2.° Bach.\",SUM(Ciencias!CJ18:CJ23),\"\"))))","v":0},{"$f":"IF(I18=0,\"\",H18/I18*100)","v":""}]
[null,3,{"$f":"IF(Sociales!B2=\"3.°\",SUM(Sociales!CC13:CC17,Sociales!CC21:CC26),IF(Sociales!B2=\"4.°\",SUM(Sociales!CC18:CC22,Sociales!CC24:CC25),IF(Sociales!B2=\"5.°\",SUM(Sociales!CC14:CC16),IF(Sociales!B2=\"6.°\",SUM(Sociales!CC14:CC20),IF(Sociales!B2=\"7.°\",SUM(Sociales!CC13:CC19),IF(Sociales!B2=\"8.°\",SUM(Sociales!CC12:CC20,Sociales!CC23),IF(Sociales!B2=\"9.°\",SUM(Sociales!CC14:CC20),IF(Sociales!B2=\"1.° Bach.\",SUM(Sociales!CC13,Sociales!CC20:CC21,Sociales!CC23,Sociales!CC25),\"\"))))))))","v":0},{"$f":"IF(Sociales!B2=\"3.°\",SUM(Sociales!CE13:CE17,Sociales!CE21:CE26),IF(Sociales!B2=\"4.°\",SUM(Sociales!CE18:CE22,Sociales!CE24:CE25),IF(Sociales!B2=\"5.°\",SUM(Sociales!CE14:CE16),IF(Sociales!B2=\"6.°\",SUM(Sociales!CE14:CE20),IF(Sociales!B2=\"7.°\",SUM(Sociales!CE13:CE19),IF(Sociales!B2=\"8.°\",SUM(Sociales!CE12:CE20,Sociales!CE23),IF(Sociales!B2=\"9.°\",SUM(Sociales!CE14:CE20),IF(Sociales!B2=\"1.° Bach.\",SUM(Sociales!CE13,Sociales!CE20:CE21,Sociales!CE23,Sociales!CE25),\"\"))))))))","v":0},{"$f":"IF(OR(D19=0,D19=\"\"),\"\",C19/D19*100)","v":""},null,"biología",{"$f":"IF(Ciencias!B2=\"8.°\",SUM(Ciencias!CH24:CH31),IF(Ciencias!B2=\"9.°\",SUM(Ciencias!CH22:CH31),IF(Ciencias!B2=\"1.° Bach.\",SUM(Ciencias!CH22:CH31),SUM(Ciencias!CH24:CH31))))","v":0},{"$f":"IF(Ciencias!B2=\"8.°\",SUM(Ciencias!CJ24:CJ31),IF(Ciencias!B2=\"9.°\",SUM(Ciencias!CJ22:CJ31),IF(Ciencias!B2=\"1.° Bach.\",SUM(Ciencias!CJ22:CJ31),IF(Ciencias!B2=\"2.° Bach.\",SUM(Ciencias!CJ24:CJ31),\"\"))))","v":0},""]
[null,4,null,null,null,null,4]
[null,5,null,null,null,null,5]
[null,6,null,null,null,null,6]
[null,7,null,null,null,null,7]
[null,8,null,null,null,null,8]
[null,"Comprensión",{"$f":"IF(Sociales!B2=\"3.°\",SUM(Sociales!CC7:CC11,Sociales!CC16:CC17,Sociales!CC20:CC23,Sociales!CC25:CC26),IF(Sociales!B2=\"4.°\",SUM(Sociales!CC7:CC8,Sociales!CC11:CC14,Sociales!CC16:CC17,Sociales!CC19,Sociales!CC21,Sociales!CC23:CC24),IF(Sociales!B2=\"5.°\",SUM(Sociales!CC7,Sociales!CC10,Sociales!CC11,Sociales!CC13:CC14,Sociales!CC17,Sociales!CC19:CC21,Sociales!CC24:CC26),IF(Sociales!B2=\"6.°\",SUM(Sociales!CC8,Sociales!CC10:CC13,Sociales!CC15:CC17,Sociales!CC19,Sociales!CC21:CC22,Sociales!CC24:CC26),IF(Sociales!B2=\"7.°\",SUM(Sociales!CC13:CC18,Sociales!CC21,Sociales!CC25:CC26),IF(Sociales!B2=\"8.°\",SUM(Sociales!CC7:CC9,Sociales!CC11:CC14,Sociales!CC16:CC17,Sociales!CC19,Sociales!CC23),IF(Sociales!B2=\"9.°\",SUM(Sociales!CC8:CC9,Sociales!CC11:CC13,Sociales!CC16,Sociales!CC18,Sociales!CC21:CC22,Sociales!CC26),IF(Sociales!B2=\"1.° Bach.\",SUM(Sociales!CC7,Sociales!CC11,Sociales!CC14,Sociales!CC16,Sociales!CC23:CC25),IF(Sociales!B2=\"2.° Bach.\",SUM(Sociales!CC9:CC10,Sociales!CC14:CC15,Sociales!CC20:CC22,Sociales!CC26),\"\")))))))))","v":0},{"$f":"IF(Sociales!B2=\"3.°\",SUM(Sociales!CE7:CE11,Sociales!CE16:CE17,Sociales!CE20:CE23,Sociales!CE25:CE26),IF(Sociales!B2=\"4.°\",SUM(Sociales!CE7:CE8,Sociales!CE11:CE14,Sociales!CE16:CE17,Sociales!CE19,Sociales!CE21,Sociales!CE23:CE24),IF(Sociales!B2=\"5.°\",SUM(Sociales!CE7,Sociales!CE10,Sociales!CE11,Sociales!CE13:CE14,Sociales!CE17,Sociales!CE19:CE21,Sociales!CE24:CE26),IF(Sociales!B2=\"6.°\",SUM(Sociales!CE8,Sociales!CE10:CE13,Sociales!CE15:CE17,Sociales!CE19,Sociales!CE21:CE22,Sociales!CE24:CE26),IF(Sociales!B2=\"7.°\",SUM(Sociales!CE13:CE18,Sociales!CE21,Sociales!CE25:CE26),IF(Sociales!B2=\"8.°\",SUM(Sociales!CE7:CE9,Sociales!CE11:CE14,Sociales!CE16:CE17,Sociales!CE19,Sociales!CE23),IF(Sociales!B2=\"9.°\",SUM(Sociales!CE8:CE9,Sociales!CE11:CE13,Sociales!CE16,Sociales!CE18,Sociales!CE21:CE22,Sociales!CE26),IF(Sociales!B2=\"1.° Bach.\",SUM(Sociales!CE7,Sociales!CE11,Sociales!CE14,Sociales!CE16,Sociales!CE23:CE25),IF(Sociales!B2=\"2.° Bach.\",SUM(Sociales!CE9:CE10,Sociales!CE14:CE15,Sociales!CE20:CE22,Sociales!CE26),\"\")))))))))","v":0},{"$f":"IF(D25=0,\"\",C25/D25*100)","v":""},null,"Reconocimiento",{"$f":"IF(Ciencias!B2=\"8.°\",SUM(Ciencias!CH7,Ciencias!CH9:CH10,Ciencias!CH13,Ciencias!CH17:CH20,Ciencias!CH24:CH28,Ciencias!CH30:CH31),IF(Ciencias!B2=\"9.°\",SUM(Ciencias!CH8,Ciencias!CH10,Ciencias!CH13:CH14,Ciencias!CH16:CH17,Ciencias!CH20:CH21,Ciencias!CH24,Ciencias!CH24,Ciencias!CH28:CH29,Ciencias!CI31),IF(Ciencias!B2=\"1.° Bach.\",SUM(Ciencias!CH8,Ciencias!CH10,Ciencias!CH12,Ciencias!CH15,Ciencias!CH20:CH21,Ciencias!CH25:CH31),IF(Ciencias!B2=\"2.° Bach.\",SUM(Ciencias!CH10,Ciencias!CH13,Ciencias!CH18:CH20,Ciencias!CH23,Ciencias!CH25,Ciencias!CH26,Ciencias!CH28:CH31),\"\"))))","v":0},{"$f":"IF(Ciencias!B2=\"8.°\",SUM(Ciencias!CJ7,Ciencias!CJ9:CJ10,Ciencias!CJ13,Ciencias!CJ17:CJ20,Ciencias!CJ24:CJ28,Ciencias!CJ30:CJ31),IF(Ciencias!B2=\"9.°\",SUM(Ciencias!CJ8,Ciencias!CJ10,Ciencias!CJ13:CJ14,Ciencias!CJ16:CJ17,Ciencias!CJ20:CJ21,Ciencias!CJ24,Ciencias!CJ24,Ciencias!CJ28:CJ29,Ciencias!CI31),IF(Ciencias!B2=\"1.° Bach.\",SUM(Ciencias!CJ8,Ciencias!CJ10,Ciencias!CJ12,Ciencias!CJ15,Ciencias!CJ20:CJ21,Ciencias!CJ25:CJ31),IF(Ciencias!B2=\"2.° Bach.\",SUM(Ciencias!CJ10,Ciencias!CJ13,Ciencias!CJ18:CJ20,Ciencias!CJ23,Ciencias!CJ25,Ciencias!CJ26,Ciencias!CJ28:CJ31),\"\"))))","v":0},{"$f":"IF(I25=0,\"\",H25/I25*100)","v":""}]
[null,"Análisis",{"$f":"IF(Sociales!B2=\"3.°\",SUM(Sociales!CC12:CC15,Sociales!CC18:CC19,Sociales!CC24),IF(Sociales!B2=\"4.°\",SUM(Sociales!CC9:CC10,Sociales!CC15,Sociales!CC18,Sociales!CC20,Sociales!CC22,Sociales!CC25:CC26),IF(Sociales!B2=\"5.°\",SUM(Sociales!CC8:CC9,Sociales!CC12,Sociales!CC15,Sociales!CC16,Sociales!CC18,Sociales!CC22:CC23),IF(Sociales!B2=\"6.°\",SUM(Sociales!CC7,Sociales!CC9,Sociales!CC14,Sociales!CC18,Sociales!CC20,Sociales!CC23),IF(Sociales!B2=\"7.°\",SUM(Sociales!CC7,Sociales!CC8:CC12,Sociales!CC19:CC20,Sociales!CC22:CC24),IF(Sociales!B2=\"8.°\",SUM(Sociales!CC10,Sociales!CC15,Sociales!CC18,Sociales!CC20:CC22,Sociales!CC24:CC26),IF(Sociales!B2=\"9.°\",SUM(Sociales!CC7,Sociales!CC10,Sociales!CC14:CC15,Sociales!CC17,Sociales!CC19:CC20,Sociales!CC23:CC25),IF(Sociales!B2=\"1.° Bach.\",SUM(Sociales!CC8:CC10,Sociales!CC12:CC13,Sociales!CC15,Sociales!CC17:CC22,Sociales!CC26),IF(Sociales!B2=\"2.° Bach.\",SUM(Sociales!CC7:CC8,Sociales!CC11:CC13,Sociales!CC16:CC19,Sociales!CC23:CC25),\"\")))))))))","v":0},{"$f":"IF(Sociales!B2=\"3.°\",SUM(Sociales!CE12:CE15,Sociales!CE18:CE19,Sociales!CE24),IF(Sociales!B2=\"4.°\",SUM(Sociales!CE9:CE10,Sociales!CE15,Sociales!CE18,Sociales!CE20,Sociales!CE22,Sociales!CE25:CE26),IF(Sociales!B2=\"5.°\",SUM(Sociales!CE8:CE9,Sociales!CE12,Sociales!CE15,Sociales!CE16,Sociales!CE18,Sociales!CE22:CE23),IF(Sociales!B2=\"6.°\",SUM(Sociales!CE7,Sociales!CE9,Sociales!CE14,Sociales!CE20,Sociales!CE23),IF(Sociales!B2=\"7.°\",SUM(Sociales!CE7:CE12,Sociales!CE19:CE20,Sociales!CE22:CE24),IF(Sociales!B2=\"8.°\",SUM(Sociales!CE10,Sociales!CE15,Sociales!CE18,Sociales!CE20:CE22,Sociales!CE24:CE26),IF(Sociales!B2=\"9.°\",SUM(Sociales!CE7,Sociales!CE10,Sociales!CE14:CE15,Sociales!CE17,Sociales!CE19:CE20,Sociales!CE23:CE25),IF(Sociales!B2=\"1.° Bach.\",SUM(Sociales!CE8:CE10,Sociales!CE12:CE13,Sociales!CE15,Sociales!CE17:CE22,Sociales!CE26),IF(Sociales!B2=\"2.° Bach.\",SUM(Sociales!CE7:CE8,Sociales!CE11:CE13,Sociales!CE16:CE19,Sociales!CE23:CE25),\"\")))))))))","v":0},{"$f":"IF(D26=0,\"\",C26/D26*100)","v":""},null,"Análisis",{"$f":"IF(Ciencias!B2=\"8.°\",SUM(Ciencias!CH8,Ciencias!CH11:CH12,Ciencias!CH14:CH16,Ciencias!CH21:CH23,Ciencias!CH29),IF(Ciencias!B2=\"9.°\",SUM(Ciencias!CH7,Ciencias!CH9,Ciencias!CH11:CH12,Ciencias!CH18:CH19,Ciencias!CH22:CH23,Ciencias!CH25:CH27,Ciencias!CH30),IF(Ciencias!B2=\"1.° Bach.\",SUM(Ciencias!CH7,Ciencias!CH9,Ciencias!CH11,Ciencias!CH13:CH14,Ciencias!CH16:CH19,Ciencias!CH22:CH24),IF(Ciencias!B2=\"2.° Bach.\",SUM(Ciencias!CH7:CH9,Ciencias!CH11:CH12,Ciencias!CH14:CH17,Ciencias!CH21:CH22,Ciencias!CH24,Ciencias!CH27),\"\"))))","v":0},{"$f":"IF(Ciencias!B2=\"8.°\",SUM(Ciencias!CJ8,Ciencias!CJ11:CJ12,Ciencias!CJ14:CJ16,Ciencias!CJ21:CJ23,Ciencias!CJ29),IF(Ciencias!B2=\"9.°\",SUM(Ciencias!CJ7,Ciencias!CJ9,Ciencias!CJ11:CJ12,Ciencias!CJ18:CJ19,Ciencias!CJ22:CJ23,Ciencias!CJ25:CJ27,Ciencias!CJ30),IF(Ciencias!B2=\"1.° Bach.\",SUM(Ciencias!CJ7,Ciencias!CJ9,Ciencias!CJ11,Ciencias!CJ13:CJ14,Ciencias!CJ16:CJ19,Ciencias!CJ22:CJ24),IF(Ciencias!B2=\"2.° Bach.\",SUM(Ciencias!CJ7:CJ9,Ciencias!CJ11:CJ12,Ciencias!CJ14:CJ17,Ciencias!CJ21:CJ22,Ciencias!CJ24,Ciencias!CJ27),\"\"))))","v":0},{"$f":"IF(I26=0,\"\",H26/I26*100)","v":""}]

{"sheet":"Herramientas","index":11,"n_rows":5816,"n_cols":30,"rows_kept":4500,"cut":true,"hidden":true,"merged":[[1,27,1,29],[177,14,201,14],[202,14,226,14],[177,10,201,10],[202,10,226,10],[127,10,151,10],[152,10,176,10],[127,14,151,14],[152,14,176,14],[1,23,1,25],[1,20,1,22],[177,6,201,6],[202,6,226,6],[177,2,201,2],[202,2,226,2],[0,11,0,12],[2,10,26,10],[27,10,51,10],[52,10,76,10],[52,2,76,2],[152,2,176,2],[0,7,0,8],[2,6,26,6],[27,6,51,6],[52,6,76,6],[77,6,101,6],[102,6,126,6],[152,6,176,6],[0,3,0,4],[2,2,26,2],[27,2,51,2],[77,2,101,2],[102,2,126,2],[0,18,0,19],[77,10,101,10],[102,10,126,10],[127,2,151,2],[0,15,0,16],[2,14,26,14],[27,14,51,14],[52,14,76,14],[77,14,101,14],[102,14,126,14],[127,6,151,6]],"bounds":{"rows_first":2000,"rows_last":500,"rows_between":2000,"halvings":0}}
["Grado","Opciones",null,"Matemática",null,null,null,"Lenguaje",null,null,null,"Sociales",null,null,null,"Ciencias",null,null,"Instituciones"]
["3.°","A",null,"ID-ítem","clave",null,null,"ID-ítem","clave",null,null,"ID-ítem","clave",null,null,"ID-ítem","clave",null,"Código","Nombre","Lenguaje",null,null,"Sociales",null,null,null,"Matemática"]
["4.°","B","Tercer Grado","3.°-1","B",null,"Tercer Grado","3.°-1","C",null,"Tercer Grado","3.°-1","C",null,"Tercer Grado","3.°-1",null,null,20210,"LICEO FRANCES",{"$f":"_xlfn.CONCAT(Lenguaje!B2,\"-\",\"1\")","v":"9.°-1"},"3.°-1","Texto instructivo",{"$f":"_xlfn.CONCAT(Sociales!B2,\"-\",\"1\")","v":"6.°-1"},"3.°-1","Conocimiento social y afectivo-moral del niño y la niña en la escuela, familia y localidad.",null,{"$f":"_xlfn.CONCAT(Matemática!B2,\"-\",\"1\")","v":"5.°-1"},"3.°-1","Aritmética - Comparación y lectura de números naturales"]
["5.°","C",null,"3.°-2","B",null,null,"3.°-2","C",null,null,"3.°-2","B",null,null,"3.°-2",null,null,10001,"CENTRO ESCOLAR ISIDRO MENENDEZ",{"$f":"_xlfn.CONCAT(Lenguaje!B2,\"-\",\"2\")","v":"9.°-2"},"3.°-2","Texto narrativo",{"$f":"_xlfn.CONCAT(Sociales!B2,\"-\",\"2\")","v":"6.°-2"},"3.°-2","Desarrollo histórico de la localidad",null,{"$f":"_xlfn.CONCAT(Matemática!B2,\"-\",\"2\")","v":"5.°-2"},"3.°-2","Aritmética - Operaciones con números naturales"]
["6.°","D",null,"3.°-3","B",null,null,"3.°-3","B",null,null,"3.°-3","A",null,null,"3.°-3",null,null,10002,"CENTRO ESCOLAR ALFREDO ESPINO",{"$f":"_xlfn.CONCAT(Lenguaje!B2,\"-\",\"3\")","v":"9.°-3"},"3.°-3","Texto expositivo: Cartel",{"$f":"_xlfn.CONCAT(Sociales!B2,\"-\",\"3\")","v":"6.°-3"},"3.°-3","El medio geográfico y sociocultural de la localidad.",null,{"$f":"_xlfn.CONCAT(Matemática!B2,\"-\",\"3\")","v":"5.°-3"},"3.°-3","Medida"]
["7.°","NR",null,"3.°-4","C",null,null,"3.°-4","A",null,null,"3.°-4","C",null,null,"3.°-4",null,null,10003,"CENTRO ESCOLAR ALEJANDRO DE HUMBOLDT",{"$f":"_xlfn.CONCAT(Lenguaje!B2,\"-\",\"4\")","v":"9.°-4"},"3.°-4","Texto informativo: Carta",{"$f":"_xlfn.CONCAT(Sociales!B2,\"-\",\"4\")","v":"6.°-4"},"4.°-1","Conocimiento social y afectivo-moral del niño y la niña en la escuela, familia y localidad.",null,{"$f":"_xlfn.CONCAT(Matemática!B2,\"-\",\"4\")","v":"5.°-4"},"3.°-4","Geometría"]
["8.°",null,null,"3.°-5","B",null,null,"3.°-5","C",null,null,"3.°-5","B",null,null,"3.°-5",null,null,10004,"CENTRO ESCOLAR 1º DE JULIO DE 1823",{"$f":"_xlfn.CONCAT(Lenguaje!B2,\"-\",\"5\")","v":"9.°-5"},"3.°-5","   ",{"$f":"_xlfn.CONCAT(Sociales!B2,\"-\",\"5\")","v":"6.°-5"},"4.°-2","Desarrollo histórico de la localidad",null,{"$f":"_xlfn.CONCAT(Matemática!B2,\"-\",\"5\")","v":"5.°-5"},"3.°-5","Estadística"]
["9.°",null,null,"3.°-6","B",null,null,"3.°-6","C",null,null,"3.°-6","C",null,null,"3.°-6",null,null,10005,"INSTITUTO NACIONAL SANTA RITA",{"$f":"_xlfn.CONCAT(Lenguaje!B2,\"-\",\"6\")","v":"9.°-6"},"3.°-6","   ",{"$f":"_xlfn.CONCAT(Sociales!B2,\"-\",\"6\")","v":"6.°-6"},"4.°-3","El medio geográfico y sociocultural de la localidad.",null,{"$f":"_xlfn.CONCAT(Matemática!B2,\"-\",\"6\")","v":"5.°-6"},"3.°-6","  "]
["1.° Bach.",null,null,"3.°-7","B",null,null,"3.°-7","C",null,null,"3.°-7","A",null,null,"3.°-7",null,null,10006,"CENTRO ESCOLAR RICARDO TRIGUEROS DE LEON",{"$f":"_xlfn.CONCAT(Lenguaje!B2,\"-\",\"7\")","v":"9.°-7"},"3.°-7","   ",{"$f":"_xlfn.CONCAT(Sociales!B2,\"-\",\"7\")","v":"6.°-7"},"5.°-1","El medio geográfico y la realidad salvadoreña",null,{"$f":"_xlfn.CONCAT(Matemática!B2,\"-\",\"7\")","v":"5.°-7"},"3.°-7","   "]
["2.° Bach.",null,null,"3.°-8","A",null,null,"3.°-8","C",null,null,"3.°-8","A",null,null,"3.°-8",null,null,10007,"CENTRO ESCOLAR CARLOTA LEON VIUDA DE TRIGUEROS",null,"4.°-1","Texto informativo: Carta",null,"5.°-2","El medio socio-cultural en El Salvador",null,{"$f":"_xlfn.CONCAT(Matemática!B2,\"-\",\"8\")","v":"5.°-8"},"4.°-1","Aritmética - Operaciones con números naturales"]
[null,null,null,"3.°-9","B",null,null,"3.°-9","A",null,null,"3.°-9","C",null,null,"3.°-9",null,null,10008,"ESCUELA DE EDUCACION PARVULARIA MARIA SALAZAR VIUDA DE MAGAÑA",null,"4.°-2","Texto expositivo: Viñeta",null,"5.°-3","Desarrollo histórico de El Salvador",null,null,"4.°-2","Aritmética - Orden, lectura, escritura de números naturales"]
[null,null,null,"3.°-10","C",null,null,"3.°-10","C",null,null,"3.°-10","A",null,null,"3.°-10",null,null,10010,"CENTRO ESCOLAR CASERIO PUERTAS NEGRAS",null,"4.°-3","Texto narrativo: Historieta",null,"6.°-1","El medio socio-cultural de América Central",null,null,"4.°-3","Geometría"]
[null,null,null,"3.°-11","B",null,null,"3.°-11","A",null,null,"3.°-11","B",null,null,"3.°-11",null,null,10011,"CENTRO ESCOLAR CANTON LOS HUATALES",null,"4.°-4","Texto expositivo: Noticia",null,"6.°-2","El medio geográfico y la realidad de América Central",null,null,"4.°-4","Medida"]
["LL","MAT",null,"3.°-12","C",null,null,"3.°-12","C",null,null,"3.°-12","A",null,null,"3.°-12",null,null,10012,"CENTRO ESCOLAR BERNARDINO E. ZAMORA",null,"4.°-5","Texto expositivo: Mapa de ubicación",null,"6.°-3","Desarrollo histórico de América Central",null,null,"4.°-5","Estadística"]
[{"$f":"_xlfn.CONCAT(Lenguaje!$B$2,\"-\",\"1\")","v":"9.°-1"},{"$f":"_xlfn.CONCAT(Matemática!$B$2,\"-\",\"1\")","v":"5.°-1"},null,"3.°-13","A",null,null,"3.°-13","B",null,null,"3.°-13","B",null,null,"3.°-13",null,null,10013,"COMPLEJO EDUCATIVO GENERAL FABIO MORAN",null,"4.°-6","Texto instructivo: Receta de cocina",null,"7.°-1","El medio socio-cultural de América",null,null,"4.°-6","  "]
[{"$f":"_xlfn.CONCAT(Lenguaje!$B$2,\"-\",\"2\")","v":"9.°-2"},{"$f":"_xlfn.CONCAT(Matemática!$B$2,\"-\",\"2\")","v":"5.°-2"},null,"3.°-14","A",null,null,"3.°-14","A",null,null,"3.°-14","C",null,null,"3.°-14",null,null,10014,"CENTRO ESCOLAR ISABEL CARRILLO DE BOLAÑOS",null,"4.°-7","   ",null,"7.°-2","El Medio geográfico y la realidad de América",null,null,"4.°-7","  "]
[{"$f":"_xlfn.CONCAT(Lenguaje!$B$2,\"-\",\"3\")","v":"9.°-3"},{"$f":"_xlfn.CONCAT(Matemática!$B$2,\"-\",\"3\")","v":"5.°-3"},null,"3.°-15","B",null,null,"3.°-15","A",null,null,"3.°-15","B",null,null,"3.°-15",null,null,10015,"CENTRO ESCOLAR PROFESOR RICARDO ARGUETA LINARES",null,"5.°-1","Texto poético",null,"7.°-3","Desarrollo histórico de América",null,null,"5.°-1","Aritmética - Operaciones con números naturales"]
[{"$f":"_xlfn.CONCAT(Lenguaje!$B$2,\"-\",\"4\")","v":"9.°-4"},{"$f":"_xlfn.CONCAT(Matemática!$B$2,\"-\",\"4\")","v":"5.°-4"},null,"3.°-16","C",null,null,"3.°-16","C",null,null,"3.°-16","C",null,null,"3.°-16",null,null,10016,"CENTRO ESCOLAR CANTON EL ROBLE",null,"5.°-2","Texto expositivo: Mapa de ubicación",null,"8.°-1","El medio geográfico y sociocultural",null,null,"5.°-2","Aritmética - Suma y división de números decimales"]
[{"$f":"_xlfn.CONCAT(Lenguaje!$B$2,\"-\",\"5\")","v":"9.°-5"},{"$f":"_xlfn.CONCAT(Matemática!$B$2,\"-\",\"5\")","v":"5.°-5"},null,"3.°-17","A",null,null,"3.°-17","  ",null,null,"3.°-17","A",null,null,"3.°-17",null,null,10017,"CENTRO ESCOLAR CANTON EL JUNQUILLO",null,"5.°-3","Texto dialógico",null,"8.°-2","Sociedad y democracia",null,null,"5.°-3","Aritmética - Suma, resta y comparación con fracciones homogéneas"]
[{"$f":"_xlfn.CONCAT(Lenguaje!$B$2,\"-\",\"6\")","v":"9.°-6"},{"$f":"_xlfn.CONCAT(Matemática!$B$2,\"-\",\"6\")","v":"5.°-6"},null,"3.°-18","A",null,null,"3.°-18","  ",null,null,"3.°-18","B",null,null,"3.°-18",null,null,10018,"CENTRO ESCOLAR COLONIA LA PISTA",null,"5.°-4","Texto expositivo: Noticia",null,"8.°-3","Desarrollo histórico cultural",null,null,"5.°-4","Geometría "]
[{"$f":"_xlfn.CONCAT(Lenguaje!$B$2,\"-\",\"7\")","v":"9.°-7"},{"$f":"_xlfn.CONCAT(Matemática!$B$2,\"-\",\"7\")","v":"5.°-7"},null,"3.°-19","B",null,null,"3.°-19","  ",null,null,"3.°-19","C",null,null,"3.°-19",null,null,10019,"CENTRO ESCOLAR CANTON ASHAPUCO",null,"5.°-5","  ",null,"9.°-1","Sociedad y democracia",null,null,"5.°-5","  "]
[{"$f":"_xlfn.CONCAT(Lenguaje!$B$2,\"-\",\"8\")","v":"9.°-8"},{"$f":"_xlfn.CONCAT(Matemática!$B$2,\"-\",\"8\")","v":"5.°-8"},null,"3.°-20","C",null,null,"3.°-20","  ",null,null,"3.°-20","A",null,null,"3.°-20",null,null,10020,"CENTRO ESCOLAR CANTON LA COYOTERA",null,"5.°-6","  ",null,"9.°-2","El medio geográfico y sociocultural",null,null,"5.°-6","  "]
[{"$f":"_xlfn.CONCAT(Lenguaje!$B$2,\"-\",\"9\")","v":"9.°-9"},{"$f":"_xlfn.CONCAT(Matemática!$B$2,\"-\",\"9\")","v":"5.°-9"},null,"3.°-21","  ",null,null,"3.°-21","  ",null,null,"3.°-21",null,null,null,"3.°-21",null,null,10021,"CENTRO ESCOLAR CANTON SUNTECUMAT",null,"5.°-7","  ",null,"9.°-3","Desarrollo histórico cultural",null,null,"5.°-7","  "]
[{"$f":"_xlfn.CONCAT(Lenguaje!$B$2,\"-\",\"10\")","v":"9.°-10"},{"$f":"_xlfn.CONCAT(Matemática!$B$2,\"-\",\"10\")","v":"5.°-10"},null,"3.°-22","  ",null,null,"3.°-22","  ",null,null,"3.°-22",null,null,null,"3.°-22",null,null,10022,"CENTRO ESCOLAR CANTON LOS MAGUEYES",null,"6.°-1","Texto narrativo: Cuento",null,"1.° Bach.-1","Sociedad y democracia",null,null,"6.°-1","Aritmética - Operaciones con números decimales"]
[{"$f":"_xlfn.CONCAT(Lenguaje!$B$2,\"-\",\"11\")","v":"9.°-11"},{"$f":"_xlfn.CONCAT(Matemática!$B$2,\"-\",\"11\")","v":"5.°-11"},null,"3.°-23","  ",null,null,"3.°-23","  ",null,null,"3.°-23",null,null,null,"3.°-23",null,null,10023,"CENTRO ESCOLAR DOCTOR RENE VIRGILIO CORNEJO GRANADOS",null,"6.°-2","Texto biográfico",null,"1.° Bach.-2","Desarrollo histórico cultural",null,null,"6.°-2","Aritmética - Elaboración de presupuestos y operaciones combinadas"]
[{"$f":"_xlfn.CONCAT(Lenguaje!$B$2,\"-\",\"12\")","v":"9.°-12"},{"$f":"_xlfn.CONCAT(Matemática!$B$2,\"-\",\"12\")","v":"5.°-12"},null,"3.°-24","  ",null,null,"3.°-24","  ",null,null,"3.°-24",null,null,null,"3.°-24",null,null,10024,"CENTRO ESCOLAR CANTON PALO PIQUE",null,"6.°-3","Texto propagandístico: Afiche",null,"1.° Bach.-3","El medio geográfico y sociocultural",null,null,"6.°-3","Aritmética - Múltiplos y divisores"]
[{"$f":"_xlfn.CONCAT(Lenguaje!$B$2,\"-\",\"13\")","v":"9.°-13"},{"$f":"_xlfn.CONCAT(Matemática!$B$2,\"-\",\"13\")","v":"5.°-13"},null,"3.°-25","  ",null,null,"3.°-25","  ",null,null,"3.°-25",null,null,null,"3.°-25",null,null,10025,"CENTRO ESCOLAR CANTON RIO FRIO",null,"6.°-4","Texto dialógico",null,"2.° Bach.-1","Sociedad y democracia",null,null,"6.°-4","Estadística"]
[{"$f":"_xlfn.CONCAT(Lenguaje!$B$2,\"-\",\"14\")","v":"9.°-14"},{"$f":"_xlfn.CONCAT(Matemática!$B$2,\"-\",\"14\")","v":"5.°-14"},"Cuarto Grado","4.°-1","B",null,"Cuarto Grado","4.°-1","B",null,"Cuarto Grado","4.°-1","B",null,"Cuarto Grado","4.°-1",null,null,10026,"CENTRO ESCOLAR ABELINA ARRIAZA",null,"6.°-5","  ",null,"2.° Bach.-2","Desarrollo histórico cultural",null,null,"6.°-5","Geometría"]
[{"$f":"_xlfn.CONCAT(Lenguaje!$B$2,\"-\",\"15\")","v":"9.°-15"},{"$f":"_xlfn.CONCAT(Matemática!$B$2,\"-\",\"15\")","v":"5.°-15"},null,"4.°-2","B",null,null,"4.°-2","C",null,null,"4.°-2","A",null,null,"4.°-2",null,null,10027,"COMPLEJO EDUCATIVO DOCTOR RAFAEL MEZA DELGADO",null,"6.°-6","  ",null,"2.° Bach.-3","         ",null,null,"6.°-6","  "]
[{"$f":"_xlfn.CONCAT(Lenguaje!$B$2,\"-\",\"16\")","v":"9.°-16"},{"$f":"_xlfn.CONCAT(Matemática!$B$2,\"-\",\"16\")","v":"5.°-16"},null,"4.°-3","C",null,null,"4.°-3","C",null,null,"4.°-3","C",null,null,"4.°-3",null,null,10029,"CENTRO ESCOLAR CASERIO EL BOTADERO, CANTON EL ROBLE",null,"6.°-7","  ",null,null,null,null,null,"6.°-7","  "]
[{"$f":"_xlfn.CONCAT(Lenguaje!$B$2,\"-\",\"17\")","v":"9.°-17"},{"$f":"_xlfn.CONCAT(Matemática!$B$2,\"-\",\"17\")","v":"5.°-17"},null,"4.°-4","A",null,null,"4.°-4","B",null,null,"4.°-4","B",null,null,"4.°-4",null,null,10031,"COMPLEJO EDUCATIVO DOCTOR ARTURO ROMERO",null,"7.°-1","Texto narrativo: Cuento",null,null,null,null,null,"7.°-1","Aritmética - Operaciones con fracciones"]
[{"$f":"_xlfn.CONCAT(Lenguaje!$B$2,\"-\",\"18\")","v":"9.°-18"},{"$f":"_xlfn.CONCAT(Matemática!$B$2,\"-\",\"18\")","v":"5.°-18"},null,"4.°-5","B",null,null,"4.°-5","C",null,null,"4.°-5","A",null,null,"4.°-5",null,null,10032,"CENTRO ESCOLAR CANTON SANTA ROSA DE ACACALCO",null,"7.°-2","Texto expositivo",null,null,null,null,null,"7.°-2","Aritmética - Proporcionalidad"]
[{"$f":"_xlfn.CONCAT(Lenguaje!$B$2,\"-\",\"19\")","v":"9.°-19"},{"$f":"_xlfn.CONCAT(Matemática!$B$2,\"-\",\"19\")","v":"5.°-19"},null,"4.°-6","B",null,null,"4.°-6","C",null,null,"4.°-6","C",null,null,"4.°-6",null,null,10033,"COMPLEJO EDUCATIVO HACIENDA LA LABOR",null,"7.°-3","Texto dialógico",null,null,null,null,null,"7.°-3","Geometría"]
[{"$f":"_xlfn.CONCAT(Lenguaje!$B$2,\"-\",\"20\")","v":"9.°-20"},{"$f":"_xlfn.CONCAT(Matemática!$B$2,\"-\",\"20\")","v":"5.°-20"},null,"4.°-7","C",null,null,"4.°-7","C",null,null,"4.°-7","A",null,null,"4.°-7",null,null,10035,"CENTRO ESCOLAR HERMANO FRANCISCO RIVAT",null,"7.°-4","Texto expositivo",null,null,null,null,null,"7.°-4","Aritmética - Porcentajes"]
[{"$f":"_xlfn.CONCAT(Lenguaje!$B$2,\"-\",\"21\")","v":"9.°-21"},{"$f":"_xlfn.CONCAT(Matemática!$B$2,\"-\",\"21\")","v":"5.°-21"},null,"4.°-8","B",null,null,"4.°-8","C",null,null,"4.°-8","B",null,null,"4.°-8",null,null,10037,"CENTRO ESCOLAR CASERIO LAS CHINITAS",null,"7.°-5","  ",null,null,null,null,null,"7.°-5","Estadística"]
[{"$f":"_xlfn.CONCAT(Lenguaje!$B$2,\"-\",\"22\")","v":"9.°-22"},{"$f":"_xlfn.CONCAT(Matemática!$B$2,\"-\",\"22\")","v":"5.°-22"},null,"4.°-9","B",null,null,"4.°-9","B",null,null,"4.°-9","A",null,null,"4.°-9",null,null,10038,"CENTRO ESCOLAR COLONIA SANTA MARIA",null,"7.°-6","  ",null,null,null,null,null,"7.°-6","  "]
[{"$f":"_xlfn.CONCAT(Lenguaje!$B$2,\"-\",\"23\")","v":"9.°-23"},{"$f":"_xlfn.CONCAT(Matemática!$B$2,\"-\",\"23\")","v":"5.°-23"},null,"4.°-10","B",null,null,"4.°-10","B",null,null,"4.°-10","A",null,null,"4.°-10",null,null,10039,"CENTRO ESCOLAR CANTON LA DANTA",null,"7.°-7","  ",null,null,null,null,null,"8.°-8","Estadística"]
[{"$f":"_xlfn.CONCAT(Lenguaje!$B$2,\"-\",\"24\")","v":"9.°-24"},{"$f":"_xlfn.CONCAT(Matemática!$B$2,\"-\",\"24\")","v":"5.°-24"},null,"4.°-11","B",null,null,"4.°-11","C",null,null,"4.°-11","B",null,null,"4.°-11",null,null,10041,"CENTRO ESCOLAR COLONIA SAN GENARO",null,"8.°-1","Texto narrativo: Cuento",null,null,null,null,null,"8.°-1","Números - Relación de orden"]
[{"$f":"_xlfn.CONCAT(Lenguaje!$B$2,\"-\",\"25\")","v":"9.°-25"},{"$f":"_xlfn.CONCAT(Matemática!$B$2,\"-\",\"25\")","v":"5.°-25"},null,"4.°-12","B",null,null,"4.°-12","C",null,null,"4.°-12","C",null,null,"4.°-12",null,null,10042,"CENTRO ESCOLAR CANTON SAN LAZARO",null,"8.°-2","Texto descriptivo",null,null,null,null,null,"8.°-2","Números - Operaciones con números positivos y negativos"]
[null,null,null,"4.°-13","A",null,null,"4.°-13","A",null,null,"4.°-13","B",null,null,"4.°-13",null,null,10044,"CENTRO ESCOLAR CASERIO RANCHO GRANDE CANTON EL JUNQUILLO",null,"8.°-3","Texto narrativo: Novela",null,null,null,null,null,"8.°-3","Álgebra - Operaciones con expresiones algebraicas"]
["CC","SOC",null,"4.°-14","B",null,null,"4.°-14","A",null,null,"4.°-14","C",null,null,"4.°-14",null,null,10045,"CENTRO ESCOLAR HACIENDA ZACAMIL",null,"8.°-4","Texto expositivo",null,null,null,null,null,"8.°-4","Números - Múltiplos y divisores"]
[{"$f":"_xlfn.CONCAT(Ciencias!$B$2,\"-\",\"1\")","v":"9.°-1"},{"$f":"_xlfn.CONCAT(Sociales!$B$2,\"-\",\"1\")","v":"6.°-1"},null,"4.°-15","B",null,null,"4.°-15","B",null,null,"4.°-15","B",null,null,"4.°-15",null,null,10048,"CENTRO ESCOLAR COLONIA LAS VICTORIAS",null,"8.°-5","  ",null,null,null,null,null,"8.°-5","Álgebra - Comunicación con símbolos"]
[{"$f":"_xlfn.CONCAT(Ciencias!$B$2,\"-\",\"2\")","v":"9.°-2"},{"$f":"_xlfn.CONCAT(Sociales!$B$2,\"-\",\"2\")","v":"6.°-2"},null,"4.°-16","B",null,null,"4.°-16","C",null,null,"4.°-16","C",null,null,"4.°-16",null,null,10049,"INSTITUTO NACIONAL SAN MIGUEL DE MERCEDES",null,"8.°-6","  ",null,null,null,null,null,"8.°-6","Álgebra -  Ecuaciones de primer grado"]
[{"$f":"_xlfn.CONCAT(Ciencias!$B$2,\"-\",\"3\")","v":"9.°-3"},{"$f":"_xlfn.CONCAT(Sociales!$B$2,\"-\",\"3\")","v":"6.°-3"},null,"4.°-17","  ",null,null,"4.°-17","A",null,null,"4.°-17","A",null,null,"4.°-17",null,null,10050,"CENTRO ESCOLAR NUEVO LOURDES",null,"8.°-7","  ",null,null,null,null,null,"8.°-7","Funciones"]
[{"$f":"_xlfn.CONCAT(Ciencias!$B$2,\"-\",\"4\")","v":"9.°-4"},{"$f":"_xlfn.CONCAT(Sociales!$B$2,\"-\",\"4\")","v":"6.°-4"},null,"4.°-18","  ",null,null,"4.°-18","A",null,null,"4.°-18","B",null,null,"4.°-18",null,null,10051,"CENTRO ESCOLAR RESIDENCIAL LA PRADERA II",null,"9.°-1","Texto narrativo",null,null,null,null,null,"9.°-1","Geometría"]
[{"$f":"_xlfn.CONCAT(Ciencias!$B$2,\"-\",\"5\")","v":"9.°-5"},{"$f":"_xlfn.CONCAT(Sociales!$B$2,\"-\",\"5\")","v":"6.°-5"},null,"4.°-19","  ",null,null,"4.°-19","C",null,null,"4.°-19","A",null,null,"4.°-19",null,null,10052,"INSTITUTO NACIONAL ALEJANDRO DE HUMBOLDT",null,"9.°-2","Texto argumentativo",null,null,null,null,null,"9.°-2","Álgebra"]
[{"$f":"_xlfn.CONCAT(Ciencias!$B$2,\"-\",\"6\")","v":"9.°-6"},{"$f":"_xlfn.CONCAT(Sociales!$B$2,\"-\",\"6\")","v":"6.°-6"},null,"4.°-20","  ",null,null,"4.°-20","A",null,null,"4.°-20","C",null,null,"4.°-20",null,null,10053,"INSTITUTO NACIONAL LUIS REYNALDO TOBAR",null,"9.°-3","Texto poético",null,null,null,null,null,"9.°-3","Funciones"]
[{"$f":"_xlfn.CONCAT(Ciencias!$B$2,\"-\",\"7\")","v":"9.°-7"},{"$f":"_xlfn.CONCAT(Sociales!$B$2,\"-\",\"7\")","v":"6.°-7"},null,"4.°-21","  ",null,null,"4.°-21","  ",null,null,"4.°-21",null,null,null,"4.°-21",null,null,10056,"ESCUELA DE EDUCACION PARVULARIA DE APANECA",null,"9.°-4","Texto expositivo",null,null,null,null,null,"9.°-4","Geometría"]
[{"$f":"_xlfn.CONCAT(Ciencias!$B$2,\"-\",\"8\")","v":"9.°-8"},{"$f":"_xlfn.CONCAT(Sociales!$B$2,\"-\",\"8\")","v":"6.°-8"},null,"4.°-22","  ",null,null,"4.°-22","  ",null,null,"4.°-22",null,null,null,"4.°-22",null,null,10057,"CENTRO ESCOLAR CIUDAD CREDISA",null,"9.°-5","   ",null,null,null,null,null,"9.°-5","  "]
[{"$f":"_xlfn.CONCAT(Ciencias!$B$2,\"-\",\"9\")","v":"9.°-9"},{"$f":"_xlfn.CONCAT(Sociales!$B$2,\"-\",\"9\")","v":"6.°-9"},null,"4.°-23","  ",null,null,"4.°-23","  ",null,null,"4.°-23",null,null,null,"4.°-23",null,null,10058,"INSTITUTO NACIONAL DE SACACOYO",null,"9.°-6","   ",null,null,null,null,null,"9.°-6","  "]
[{"$f":"_xlfn.CONCAT(Ciencias!$B$2,\"-\",\"10\")","v":"9.°-10"},{"$f":"_xlfn.CONCAT(Sociales!$B$2,\"-\",\"10\")","v":"6.°-10"},null,"4.°-24","  ",null,null,"4.°-24","  ",null,null,"4.°-24",null,null,null,"4.°-24",null,null,10059,"INSTITUTO NACIONAL CANTON CARA SUCIA",null,"9.°-7","   ",null,null,null,null,null,"9.°-7","  "]
[{"$f":"_xlfn.CONCAT(Ciencias!$B$2,\"-\",\"11\")","v":"9.°-11"},{"$f":"_xlfn.CONCAT(Sociales!$B$2,\"-\",\"11\")","v":"6.°-11"},null,"4.°-25","  ",null,null,"4.°-25","  ",null,null,"4.°-25",null,null,null,"4.°-25",null,null,10060,"INSTITUTO NACIONAL LICENCIADO JOSE DANIEL CARIAS",null,"1.° Bach.-1","Texto dialógico: Tragedia",null,null,null,null,null,"1.° Bach.-1","Álgebra"]
[{"$f":"_xlfn.CONCAT(Ciencias!$B$2,\"-\",\"12\")","v":"9.°-12"},{"$f":"_xlfn.CONCAT(Sociales!$B$2,\"-\",\"12\")","v":"6.°-12"},"Quinto Grado","5.°-1","C",null,"Quinto Grado","5.°-1","C",null,"Quinto Grado","5.°-1","B",null,"Quinto Grado","5.°-1",null,null,10061,"CENTRO ESCOLAR GENERAL FRANCISCO MENENDEZ",null,"1.° Bach.-2","Texto dialógico: Drama",null,null,null,null,null,"1.° Bach.-2","Funciones"]
[{"$f":"_xlfn.CONCAT(Ciencias!$B$2,\"-\",\"13\")","v":"9.°-13"},{"$f":"_xlfn.CONCAT(Sociales!$B$2,\"-\",\"13\")","v":"6.°-13"},null,"5.°-2","D",null,null,"5.°-2","A",null,null,"5.°-2","D",null,null,"5.°-2",null,null,10062,"COMPLEJO EDUCATIVO CANTON IZCAQUILIO",null,"1.° Bach.-3","Texto expositivo",null,null,null,null,null,"1.° Bach.-3","Geometría"]
[{"$f":"_xlfn.CONCAT(Ciencias!$B$2,\"-\",\"14\")","v":"9.°-14"},{"$f":"_xlfn.CONCAT(Sociales!$B$2,\"-\",\"14\")","v":"6.°-14"},null,"5.°-3","B",null,null,"5.°-3","A",null,null,"5.°-3","C",null,null,"5.°-3",null,null,10063,"CENTRO ESCOLAR CANTON EL SALITRERO",null,"1.° Bach.-4","Texto argumentativo",null,null,null,null,null,"1.° Bach.-4","Números"]
[{"$f":"_xlfn.CONCAT(Ciencias!$B$2,\"-\",\"15\")","v":"9.°-15"},{"$f":"_xlfn.CONCAT(Sociales!$B$2,\"-\",\"15\")","v":"6.°-15"},null,"5.°-4","D",null,null,"5.°-4","C",null,null,"5.°-4","D",null,null,"5.°-4",null,null,10064,"CENTRO ESCOLAR CANTON LOMAS DE ALARCON",null,"1.° Bach.-5","Texto argumentativo: Editorial",null,null,null,null,null,"1.° Bach.-5","  "]
[{"$f":"_xlfn.CONCAT(Ciencias!$B$2,\"-\",\"16\")","v":"9.°-16"},{"$f":"_xlfn.CONCAT(Sociales!$B$2,\"-\",\"16\")","v":"6.°-16"},null,"5.°-5","D",null,null,"5.°-5","B",null,null,"5.°-5","C",null,null,"5.°-5",null,null,10065,"INSTITUTO NACIONAL COLONIA VALLE DEL SOL",null,"1.° Bach.-6","   ",null,null,null,null,null,"1.° Bach.-6","  "]
[{"$f":"_xlfn.CONCAT(Ciencias!$B$2,\"-\",\"17\")","v":"9.°-17"},{"$f":"_xlfn.CONCAT(Sociales!$B$2,\"-\",\"17\")","v":"6.°-17"},null,"5.°-6","A",null,null,"5.°-6","B",null,null,"5.°-6","D",null,null,"5.°-6",null,null,10066,"CENTRO ESCOLAR CANTON RINCON GRANDE",null,"1.° Bach.-7","   ",null,null,null,null,null,"1.° Bach.-7","  "]
[{"$f":"_xlfn.CONCAT(Ciencias!$B$2,\"-\",\"18\")","v":"9.°-18"},{"$f":"_xlfn.CONCAT(Sociales!$B$2,\"-\",\"18\")","v":"6.°-18"},null,"5.°-7","D",null,null,"5.°-7","B",null,null,"5.°-7","B",null,null,"5.°-7",null,null,10067,"CENTRO ESCOLAR CANTON SAN JUAN EL ESPINO",null,"2.° Bach.-1","Texto narrativo: Novela marienista",null,null,null,null,null,"2.° Bach.-1","Álgebra"]
[{"$f":"_xlfn.CONCAT(Ciencias!$B$2,\"-\",\"19\")","v":"9.°-19"},{"$f":"_xlfn.CONCAT(Sociales!$B$2,\"-\",\"19\")","v":"6.°-19"},null,"5.°-8","C",null,null,"5.°-8","A",null,null,"5.°-8","A",null,null,"5.°-8",null,null,10068,"CENTRO ESCOLAR VISTA AL LAGO",null,"2.° Bach.-2","Texto expositivo",null,null,null,null,null,"2.° Bach.-2","Trigonometría"]
[{"$f":"_xlfn.CONCAT(Ciencias!$B$2,\"-\",\"20\")","v":"9.°-20"},{"$f":"_xlfn.CONCAT(Sociales!$B$2,\"-\",\"20\")","v":"6.°-20"},null,"5.°-9","C",null,null,"5.°-9","A",null,null,"5.°-9","C",null,null,"5.°-9",null,null,10069,"CENTRO ESCOLAR FRAY MARTIN DE PORRES",null,"2.° Bach.-3","Texto dialógico: Tragedia",null,null,null,null,null,"2.° Bach.-3","Números"]
[{"$f":"_xlfn.CONCAT(Ciencias!$B$2,\"-\",\"21\")","v":"9.°-21"},null,null,"5.°-10","C",null,null,"5.°-10","D",null,null,"5.°-10","C",null,null,"5.°-10",null,null,10070,"CENTRO ESCOLAR CASERIO EL JICARO",null,"2.° Bach.-4","Texto narrativo: Novela del siglo XX",null,null,null,null,null,"2.° Bach.-4","Funciones"]
[{"$f":"_xlfn.CONCAT(Ciencias!$B$2,\"-\",\"22\")","v":"9.°-22"},null,null,"5.°-11","B",null,null,"5.°-11","A",null,null,"5.°-11","A",null,null,"5.°-11",null,null,10071,"CENTRO ESCOLAR CANTON EL TORTUGUERO",null,"2.° Bach.-5","Texto argumentativo",null,null,null,null,null,"2.° Bach.-5","  "]
[{"$f":"_xlfn.CONCAT(Ciencias!$B$2,\"-\",\"23\")","v":"9.°-23"},null,null,"5.°-12","C",null,null,"5.°-12","D",null,null,"5.°-12","D",null,null,"5.°-12",null,null,10073,"INSTITUTO NACIONAL CORNELIO AZENON SIERRA",null,"2.° Bach.-6","   ",null,null,null,null,null,"2.° Bach.-6","  "]
[{"$f":"_xlfn.CONCAT(Ciencias!$B$2,\"-\",\"24\")","v":"9.°-24"},null,null,"5.°-13","A",null,null,"5.°-13","C",null,null,"5.°-13","C",null,null,"5.°-13",null,null,10074,"CENTRO ESCOLAR COLONIA LAS VIÑAS, CANTON EL JUNQUILLO",null,"2.° Bach.-7","   ",null,null,null,null,null,"2.° Bach.-7","  "]
[{"$f":"_xlfn.CONCAT(Ciencias!$B$2,\"-\",\"25\")","v":"9.°-25"},null,null,"5.°-14","D",null,null,"5.°-14","D",null,null,"5.°-14","B",null,null,"5.°-14",null,null,10075,"CENTRO ESCOLAR CANTON JOYA DEL ZAPOTE",null,null,null,null,null,null,null,null,"2.° Bach.-8","   "]
[null,null,null,"5.°-15","C",null,null,"5.°-15","D",null,null,"5.°-15","A",null,null,"5.°-15",null,null,10076,"CENTRO ESCOLAR GENERAL FRANCISCO MENENDEZ",null,null,null,null,null,null,null,null,"1.° Bach.-8","  "]
[null,null,null,"5.°-16","D",null,null,"5.°-16","D",null,null,"5.°-16","A",null,null,"5.°-16",null,null,10077,"CENTRO ESCOLAR MERCEDES MONTERROSA DE CARCAMO",null,null,null,null,null,null,null,null,"9.°-8","  "]
[null,null,null,"5.°-17","B",null,null,"5.°-17","B",null,null,"5.°-17","C",null,null,"5.°-17",null,null,10078,"CENTRO ESCOLAR MANUEL ALVAREZ MAGAÑA",null,null,null,null,null,null,null,null,"7.°-8","  "]
[null,null,null,"5.°-18","C",null,null,"5.°-18","D",null,null,"5.°-18","D",null,null,"5.°-18",null,null,10079,"CENTRO ESCOLAR ANTONIO JOSE DE SUCRE",null,null,null,null,null,null,null,null,"6.°-8","  "]
[null,null,null,"5.°-19","A",null,null,"5.°-19","A",null,null,"5.°-19","C",null,null,"5.°-19",null,null,10080,"CENTRO ESCOLAR EXALTACION POMPILIO SALGADO RIVERA",null,null,null,null,null,null,null,null,"5.°-8","  "]
[null,null,null,"5.°-20","B",null,null,"5.°-20","A",null,null,"5.°-20","A",null,null,"5.°-20",null,null,10081,"ESCUELA DE EDUCACION PARVULARIA PROFESORA CORDELIA AVALOS DE LABOR",null,null,null,null,null,null,null,null,"4.°-8","   "]
[null,null,null,"5.°-21","D",null,null,"5.°-21","  ",null,null,"5.°-21",null,null,null,"5.°-21",null,null,10082,"CENTRO ESCOLAR CANTON LA ESPERANZA",null,null,null,null,null,null,null,null,"3.°-8","   "]
[null,null,null,"5.°-22","B",null,null,"5.°-22","  ",null,null,"5.°-22",null,null,null,"5.°-22",null,null,10083,"CENTRO ESCOLAR CANTON JOYA DEL PLATANAR",null,null,null,null,null,null,null,null,"7.°-7","   "]
[null,null,null,"5.°-23","B",null,null,"5.°-23","  ",null,null,"5.°-23",null,null,null,"5.°-23",null,null,10084,"CENTRO ESCOLAR URBANIZACION MONTELIMAR"]
[null,null,null,"5.°-24","A",null,null,"5.°-24","  ",null,null,"5.°-24",null,null,null,"5.°-24",null,null,10085,"CENTRO ESCOLAR CANTON SHUCUTITAN"]
[null,null,null,"5.°-25","C",null,null,"5.°-25","  ",null,null,"5.°-25",null,null,null,"5.°-25",null,null,10086,"CENTRO ESCOLAR LA CAMPANERA"]
[null,null,"Sexto Grado","6.°-1","B",null,"Sexto Grado","6.°-1","B",null,"Sexto Grado","6.°-1","A",null,"Sexto Grado","6.°-1",null,null,10087,"CENTRO ESCOLAR CANTON LOS TABLONES"]
[null,null,null,"6.°-2","B",null,null,"6.°-2","C",null,null,"6.°-2","B",null,null,"6.°-2",null,null,10088,"INSTITUTO NACIONAL CANTON LAS PILAS"]
[null,null,null,"6.°-3","D",null,null,"6.°-3","D",null,null,"6.°-3","C",null,null,"6.°-3",null,null,10089,"INSTITUTO NACIONAL DE COATEPEQUE"]
[null,null,null,"6.°-4","C",null,null,"6.°-4","A",null,null,"6.°-4","B",null,null,"6.°-4",null,null,10090,"CENTRO ESCOLAR CANTON JOYA DE LOS APANTES"]
[null,null,null,"6.°-5","C",null,null,"6.°-5","B",null,null,"6.°-5","A",null,null,"6.°-5",null,null,10091,"ESCUELA DE EDUCACION PARVULARIA DE CONCEPCION DE ATACO"]
[null,null,null,"6.°-6","D",null,null,"6.°-6","B",null,null,"6.°-6","D",null,null,"6.°-6",null,null,10092,"CENTRO ESCOLAR EL SAUCE"]
[null,null,null,"6.°-7","C",null,null,"6.°-7","A",null,null,"6.°-7","C",null,null,"6.°-7",null,null,10093,"INSTITUTO NACIONAL DE SONZACATE"]
[null,null,null,"6.°-8","B",null,null,"6.°-8","D",null,null,"6.°-8","B",null,null,"6.°-8",null,null,10094,"CENTRO ESCOLAR CANTON LA CEIBA ABAJO"]
[null,null,null,"6.°-9","D",null,null,"6.°-9","C",null,null,"6.°-9","C",null,null,"6.°-9",null,null,10095,"COMPLEJO EDUCATIVO ANTONIO J. ALFARO"]
[null,null,null,"6.°-10","A",null,null,"6.°-10","C",null,null,"6.°-10","D",null,null,"6.°-10",null,null,10096,"CENTRO ESCOLAR SAN ANTONIO"]
[null,null,null,"6.°-11","B",null,null,"6.°-11","B",null,null,"6.°-11","C",null,null,"6.°-11",null,null,10097,"CENTRO ESCOLAR FRANCISCO GAVIDIA"]
[null,null,null,"6.°-12","B",null,null,"6.°-12","C",null,null,"6.°-12","B",null,null,"6.°-12",null,null,10098,"CENTRO ESCOLAR COLONIA EL ANGEL"]
[null,null,null,"6.°-13","A",null,null,"6.°-13","A",null,null,"6.°-13","A",null,null,"6.°-13",null,null,10099,"CENTRO ESCOLAR DE GUAYMANGO"]
[null,null,null,"6.°-14","B",null,null,"6.°-14","B",null,null,"6.°-14","D",null,null,"6.°-14",null,null,10101,"CENTRO ESCOLAR CANTON PLATANARES"]
[null,null,null,"6.°-15","C",null,null,"6.°-15","C",null,null,"6.°-15","A",null,null,"6.°-15",null,null,10102,"INSTITUTO NACIONAL DE ARCATAO"]
[null,null,null,"6.°-16","A",null,null,"6.°-16","D",null,null,"6.°-16","C",null,null,"6.°-16",null,null,10103,"INSTITUTO NACIONAL DE YAMABAL"]
[null,null,null,"6.°-17","C",null,null,"6.°-17","B",null,null,"6.°-17","D",null,null,"6.°-17",null,null,10104,"CENTRO ESCOLAR COLONIA SANTA CRISTINA"]
[null,null,null,"6.°-18","C",null,null,"6.°-18","C",null,null,"6.°-18","A",null,null,"6.°-18",null,null,10105,"CENTRO ESCOLAR HACIENDA SAN MARTIN Y LARIN"]
[null,null,null,"6.°-19","C",null,null,"6.°-19","A",null,null,"6.°-19","D",null,null,"6.°-19",null,null,10106,"CENTRO ESCOLAR FUNDACION CESSA"]
[null,null,null,"6.°-20","B",null,null,"6.°-20","D",null,null,"6.°-20","B",null,null,"6.°-20",null,null,10107,"CENTRO ESCOLAR LA GAVIOTA #2"]
[null,null,null,"6.°-21","  ",null,null,"6.°-21","  ",null,null,"6.°-21",null,null,null,"6.°-21",null,null,10108,"CENTRO ESCOLAR CANTON GUAYAPA ABAJO"]
[null,null,null,"6.°-22","  ",null,null,"6.°-22","  ",null,null,"6.°-22",null,null,null,"6.°-22",null,null,10109,"CENTRO ESCOLAR FINCA EL SALTO"]
[null,null,null,"6.°-23","  ",null,null,"6.°-23","  ",null,null,"6.°-23",null,null,null,"6.°-23",null,null,10110,"COMPLEJO EDUCATIVO COLONIA NUEVA"]
[null,null,null,"6.°-24","  ",null,null,"6.°-24","  ",null,null,"6.°-24",null,null,null,"6.°-24",null,null,10111,"CENTRO ESCOLAR HACIENDA HOJA DE SAL CANTON GUAYAPA ARRIBA"]
[null,null,null,"6.°-25","  ",null,null,"6.°-25","  ",null,null,"6.°-25",null,null,null,"6.°-25",null,null,10112,"CENTRO ESCOLAR CASERIO LOS CALDERON"]
[null,null,"Séptimo Grado","7.°-1","C",null,"Séptimo Grado","7.°-1","B",null,"Séptimo Grado","7.°-1","A",null,"Séptimo Grado","7.°-1",null,null,10113,"CENTRO ESCOLAR CASERIO CUILAPA, CANTON GUAYAPA ARRIBA"]
[null,null,null,"7.°-2","B",null,null,"7.°-2","A",null,null,"7.°-2","D",null,null,"7.°-2",null,null,10114,"CENTRO ESCOLAR CASERIO EL CARMEN, CANTON FALLA"]
[null,null,null,"7.°-3","A",null,null,"7.°-3","A",null,null,"7.°-3","B",null,null,"7.°-3",null,null,10115,"CENTRO ESCOLAR CANTON ZAPUA"]
[null,null,null,"7.°-4","C",null,null,"7.°-4","B",null,null,"7.°-4","A",null,null,"7.°-4",null,null,10116,"INSTITUTO NACIONAL DE JUTIAPA"]
[null,null,null,"7.°-5","D",null,null,"7.°-5","B",null,null,"7.°-5","C",null,null,"7.°-5",null,null,10117,"INSTITUTO NACIONAL DE EL REFUGIO"]
[null,null,null,"7.°-6","A",null,null,"7.°-6","C",null,null,"7.°-6","D",null,null,"7.°-6",null,null,10118,"CENTRO ESCOLAR CASERIO EL MANGO"]
[null,null,null,"7.°-7","A",null,null,"7.°-7","C",null,null,"7.°-7","A",null,null,"7.°-7",null,null,10119,"CENTRO ESCOLAR HACIENDA LAS DELICIAS CANTON SAN ANTONIO "]
[null,null,null,"7.°-8","A",null,null,"7.°-8","C",null,null,"7.°-8","C",null,null,"7.°-8",null,null,10120,"CENTRO ESCOLAR DOCTOR SIXTO ALBERTO PADILLA"]
[null,null,null,"7.°-9","B",null,null,"7.°-9","B",null,null,"7.°-9","B",null,null,"7.°-9",null,null,10121,"CENTRO ESCOLAR LEOPOLDO MAYEN TORRES"]
[null,null,null,"7.°-10","C",null,null,"7.°-10","A",null,null,"7.°-10","D",null,null,"7.°-10",null,null,10122,"CENTRO ESCOLAR CANTON SAN ANTONIO"]
[null,null,null,"7.°-11","C",null,null,"7.°-11","A",null,null,"7.°-11","B",null,null,"7.°-11",null,null,10123,"CENTRO ESCOLAR URBANIZACIÓN SANTA TERESA DE LAS FLORES"]
[null,null,null,"7.°-12","B",null,null,"7.°-12","B",null,null,"7.°-12","D",null,null,"7.°-12",null,null,10124,"CENTRO ESCOLAR PROFESOR JORGE ALFREDO MENDOZA"]
[null,null,null,"7.°-13","B",null,null,"7.°-13","C",null,null,"7.°-13","C",null,null,"7.°-13",null,null,10125,"COMPLEJO EDUCATIVO CANTON EL ZAPOTE"]
[null,null,null,"7.°-14","B",null,null,"7.°-14","A",null,null,"7.°-14","A",null,null,"7.°-14",null,null,10126,"CENTRO ESCOLAR PARA SORDOS DE COJUTEPEQUE"]
[null,null,null,"7.°-15","D",null,null,"7.°-15","B",null,null,"7.°-15","B",null,null,"7.°-15",null,null,10127,"CENTRO ESCOLAR HACIENDA NUEVA YORK"]
[null,null,null,"7.°-16","A",null,null,"7.°-16","A",null,null,"7.°-16","C",null,null,"7.°-16",null,null,10128,"ESCUELA DE EDUCACION PARVULARIA PRUDENCIA AYALA"]
[null,null,null,"7.°-17","B",null,null,"7.°-17","C",null,null,"7.°-17","D",null,null,"7.°-17",null,null,10129,"CENTRO ESCOLAR CASERIO SANTA ELENA"]
[null,null,null,"7.°-18","C",null,null,"7.°-18","B",null,null,"7.°-18","C",null,null,"7.°-18",null,null,10130,"CENTRO ESCOLAR HACIENDA CHANMICO"]
[null,null,null,"7.°-19","A",null,null,"7.°-19","D",null,null,"7.°-19","B",null,null,"7.°-19",null,null,10131,"COMPLEJO EDUCATIVO CASERÍO EL CASTAÑO"]
[null,null,null,"7.°-20","B",null,null,"7.°-20","A",null,null,"7.°-20","A",null,null,"7.°-20",null,null,10132,"CENTRO ESCOLAR COLONIA NUEVA ESPERANZA, CANTON CARA SUCIA"]
[null,null,null,"7.°-21","  ",null,null,"7.°-21","  ",null,null,"7.°-21",null,null,null,"7.°-21",null,null,10133,"CENTRO ESCOLAR ANA CORALIA RAUDA DE CARDENAS"]
[null,null,null,"7.°-22","  ",null,null,"7.°-22","  ",null,null,"7.°-22",null,null,null,"7.°-22",null,null,10134,"COMPLEJO EDUCATIVO CANTÓN LA HACHADURA"]
[null,null,null,"7.°-23","  ",null,null,"7.°-23","  ",null,null,"7.°-23",null,null,null,"7.°-23",null,null,10136,"CENTRO ESCOLAR HACIENDA EL AMATAL"]
[null,null,null,"7.°-24","  ",null,null,"7.°-24","  ",null,null,"7.°-24",null,null,null,"7.°-24",null,null,10137,"INSTITUTO NACIONAL DE SAN MIGUEL TEPEZONTES"]
[null,null,null,"7.°-25","  ",null,null,"7.°-25","  ",null,null,"7.°-25",null,null,null,"7.°-25",null,null,10138,"CENTRO ESCOLAR CANTON CARA SUCIA"]
[null,null,"Octavo Grado","8.°-1","B",null,"Octavo Grado","8.°-1","B",null,"Octavo Grado","8.°-1","C",null,"Octavo Grado","8.°-1","A",null,10139,"COMPLEJO EDUCATIVO GARITA PALMERA"]
[null,null,null,"8.°-2","B",null,null,"8.°-2","D",null,null,"8.°-2","D",null,null,"8.°-2","C",null,10140,"ESCUELA DE EDUCACION PARVULARIA ASOCIACION DE SEÑORAS DE MEDICOS"]
[null,null,null,"8.°-3","A",null,null,"8.°-3","D",null,null,"8.°-3","A",null,null,"8.°-3","A",null,10141,"CENTRO ESCOLAR CASERIO PUENTE ARCE, CANTON EL JOCOTILLO"]
[null,null,null,"8.°-4","B",null,null,"8.°-4","B",null,null,"8.°-4","C",null,null,"8.°-4","B",null,10142,"CENTRO ESCOLAR HACIENDA BOLA DE MONTE"]
[null,null,null,"8.°-5","B",null,null,"8.°-5","C",null,null,"8.°-5","B",null,null,"8.°-5","B",null,10143,"CENTRO ESCOLAR CASERIO MENDEZ, CANTON LA CEIBA"]
[null,null,null,"8.°-6","C",null,null,"8.°-6","B",null,null,"8.°-6","D",null,null,"8.°-6","C",null,10144,"CENTRO ESCOLAR DIVINO NIÑO"]
[null,null,null,"8.°-7","A",null,null,"8.°-7","C",null,null,"8.°-7","B",null,null,"8.°-7","B",null,10145,"CENTRO ESCOLAR CASERIO TALPETATE"]
[null,null,null,"8.°-8","C",null,null,"8.°-8","C",null,null,"8.°-8","A",null,null,"8.°-8","A",null,10146,"CENTRO ESCOLAR CASERIO LOS CONACASTES"]
[null,null,null,"8.°-9","B",null,null,"8.°-9","A",null,null,"8.°-9","D",null,null,"8.°-9","A",null,10147,"CENTRO ESCOLAR CANTON EL COROZO"]
[null,null,null,"8.°-10","A",null,null,"8.°-10","D",null,null,"8.°-10","C",null,null,"8.°-10","C",null,10148,"CENTRO ESCOLAR GENERAL FRANCISCO MENENDEZ"]
[null,null,null,"8.°-11","D",null,null,"8.°-11","B",null,null,"8.°-11","B",null,null,"8.°-11","B",null,10149,"CENTRO ESCOLAR CANTON EL PORTILLO"]
[null,null,null,"8.°-12","A",null,null,"8.°-12","A",null,null,"8.°-12","A",null,null,"8.°-12","B",null,10150,"ESCUELA DE EDUCACION PARVULARIA DE SAN LORENZO"]
[null,null,null,"8.°-13","A",null,null,"8.°-13","C",null,null,"8.°-13","C",null,null,"8.°-13","A",null,10151,"CENTRO ESCOLAR GILBERTO AUGUSTO CARCAMO"]
[null,null,null,"8.°-14","C",null,null,"8.°-14","A",null,null,"8.°-14","D",null,null,"8.°-14","A",null,10152,"CENTRO ESCOLAR ABEL WILFREDO VELASCO CARCAMO"]
[null,null,null,"8.°-15","A",null,null,"8.°-15","A",null,null,"8.°-15","C",null,null,"8.°-15","D",null,10153,"CENTRO ESCOLAR HERMOGENES ALBANES LEONOR"]
[null,null,null,"8.°-16","C",null,null,"8.°-16","D",null,null,"8.°-16","A",null,null,"8.°-16","B",null,10154,"CENTRO ESCOLAR CANTON GUASCOTA"]
[null,null,null,"8.°-17","A",null,null,"8.°-17","A",null,null,"8.°-17","B",null,null,"8.°-17","D",null,10155,"COMPLEJO EDUCATIVO CANTON LAS POZAS"]
[null,null,null,"8.°-18","C",null,null,"8.°-18","B",null,null,"8.°-18","D",null,null,"8.°-18","C",null,10156,"COMPLEJO EDUCATIVO PROFESOR PABLO SORIANO URQUILLA"]
[null,null,null,"8.°-19","C",null,null,"8.°-19","D",null,null,"8.°-19","C",null,null,"8.°-19","B",null,10157,"CENTRO ESCOLAR CANTON EL CORTEZ"]
[null,null,null,"8.°-20","A",null,null,"8.°-20","B",null,null,"8.°-20","A",null,null,"8.°-20","A",null,10159,"CENTRO ESCOLAR CANTON LA CONCEPCION"]
[null,null,null,"8.°-21","C",null,null,"8.°-21","  ",null,null,"8.°-21",null,null,null,"8.°-21","D",null,10160,"COMPLEJO EDUCATIVO RESIDENCIAL ALTA VISTA"]
[null,null,null,"8.°-22","D",null,null,"8.°-22","  ",null,null,"8.°-22",null,null,null,"8.°-22","B",null,10161,"CENTRO ESCOLAR COLONIA GUADALUPE"]
[null,null,null,"8.°-23","A",null,null,"8.°-23","  ",null,null,"8.°-23",null,null,null,"8.°-23","A",null,10162,"ESCUELA DE EDUCACION PARVULARIA SAN JACINTO"]
[null,null,null,"8.°-24","D",null,null,"8.°-24","  ",null,null,"8.°-24",null,null,null,"8.°-24","A",null,10164,"CENTRO ESCOLAR CANTON MONTE HERMOSO"]
[null,null,null,"8.°-25","A",null,null,"8.°-25","  ",null,null,"8.°-25",null,null,null,"8.°-25","C",null,10165,"INSTITUTO NACIONAL DE CINQUERA"]
[null,null,"Noveno Grado","9.°-1","B",null,"Noveno Grado","9.°-1","C",null,"Noveno Grado","9.°-1","A",null,"Noveno Grado","9.°-1","C",null,10166,"ESCUELA DE EDUCACION PARVULARIA PROFESOR ISIDRO ALFONSO MAGAÑA"]
[null,null,null,"9.°-2","B",null,null,"9.°-2","D",null,null,"9.°-2","C",null,null,"9.°-2","A",null,10167,"INSTITUTO NACIONAL LICENCIADO RENE PORFIRIO OSORIO"]
[null,null,null,"9.°-3","D",null,null,"9.°-3","A",null,null,"9.°-3","A",null,null,"9.°-3","D",null,10168,"CENTRO ESCOLAR CANTON LOMA LARGA"]
[null,null,null,"9.°-4","B",null,null,"9.°-4","B",null,null,"9.°-4","B",null,null,"9.°-4","A",null,10169,"COMPLEJO EDUCATIVO JOSE MARTI"]
[null,null,null,"9.°-5","A",null,null,"9.°-5","D",null,null,"9.°-5","D",null,null,"9.°-5","C",null,10170,"COMPLEJO EDUCATIVO ADELA CALDERON DE HERRERA"]
[null,null,null,"9.°-6","C",null,null,"9.°-6","D",null,null,"9.°-6","A",null,null,"9.°-6","A",null,10173,"CENTRO ESCOLAR CANTON LA PANDEADURA"]
[null,null,null,"9.°-7","A",null,null,"9.°-7","B",null,null,"9.°-7","C",null,null,"9.°-7","A",null,10174,"INSTITUTO NACIONAL DE EL ROSARIO"]
[null,null,null,"9.°-8","B",null,null,"9.°-8","A",null,null,"9.°-8","B",null,null,"9.°-8","A",null,10176,"COMPLEJO EDUCATIVO JUAN DE DIOS DEL CID"]
[null,null,null,"9.°-9","B",null,null,"9.°-9","A",null,null,"9.°-9","C",null,null,"9.°-9","B",null,10177,"CENTRO ESCOLAR PROFESOR RODRIGO FLORES"]
[null,null,null,"9.°-10","D",null,null,"9.°-10","B",null,null,"9.°-10","B",null,null,"9.°-10","D",null,10178,"CENTRO ESCOLAR CANTON EL JOBO"]
[null,null,null,"9.°-11","B",null,null,"9.°-11","D",null,null,"9.°-11","A",null,null,"9.°-11","D",null,10179,"ESCUELA DE EDUCACION PARVULARIA REPUBLICA DE ALEMANIA"]
[null,null,null,"9.°-12","C",null,null,"9.°-12","A",null,null,"9.°-12","C",null,null,"9.°-12","A",null,10182,"INSTITUTO NACIONAL CANDELARIA DE LA FRONTERA"]
[null,null,null,"9.°-13","A",null,null,"9.°-13","C",null,null,"9.°-13","D",null,null,"9.°-13","D",null,10183,"CENTRO ESCOLAR BARTOLOME BOLAÑOS"]
[null,null,null,"9.°-14","A",null,null,"9.°-14","B",null,null,"9.°-14","A",null,null,"9.°-14","B",null,10184,"CENTRO ESCOLAR CANTON LA CRIBA"]
[null,null,null,"9.°-15","B",null,null,"9.°-15","C",null,null,"9.°-15","D",null,null,"9.°-15","A",null,10185,"CENTRO ESCOLAR GENERAL FRANCISCO MORAZAN"]
[null,null,null,"9.°-16","C",null,null,"9.°-16","C",null,null,"9.°-16","B",null,null,"9.°-16","A",null,10186,"CENTRO ESCOLAR CANTON EL JUTE"]
[null,null,null,"9.°-17","A",null,null,"9.°-17","D",null,null,"9.°-17","D",null,null,"9.°-17","D",null,10187,"CENTRO ESCOLAR CANTON MONTE VERDE"]
[null,null,null,"9.°-18","B",null,null,"9.°-18","C",null,null,"9.°-18","B",null,null,"9.°-18","C",null,10188,"CENTRO ESCOLAR CANTON SAN CRISTOBAL DE LA FRONTERA"]
[null,null,null,"9.°-19","C",null,null,"9.°-19","A",null,null,"9.°-19","C",null,null,"9.°-19","C",null,10189,"CENTRO ESCOLAR CASERIO LOS TABLONCITOS"]
[null,null,null,"9.°-20","B",null,null,"9.°-20","D",null,null,"9.°-20","D",null,null,"9.°-20","A",null,10190,"CENTRO ESCOLAR CANTON CASAS DE TEJAS"]
[null,null,null,"9.°-21","D",null,null,"9.°-21","  ",null,null,"9.°-21",null,null,null,"9.°-21","B",null,10191,"CENTRO ESCOLAR COLONIA SAN JOSE HACIENDA SANTA ADELA"]
[null,null,null,"9.°-22","C",null,null,"9.°-22","  ",null,null,"9.°-22",null,null,null,"9.°-22","C",null,10192,"CENTRO ESCOLAR CASERIO LAS CRISTALINAS"]
[null,null,null,"9.°-23","C",null,null,"9.°-23","  ",null,null,"9.°-23",null,null,null,"9.°-23","C",null,10193,"CENTRO ESCOLAR COOPERATIVA SAN MIGUEL"]
[null,null,null,"9.°-24","C",null,null,"9.°-24","  ",null,null,"9.°-24",null,null,null,"9.°-24","C",null,10194,"CENTRO ESCOLAR CANTON TIERRA BLANCA"]
[null,null,null,"9.°-25","B",null,null,"9.°-25","  ",null,null,"9.°-25",null,null,null,"9.°-25","D",null,10195,"CENTRO ESCOLAR CANTON PIEDRAS AZULES"]
[null,null,"Primer año","1.° Bach.-1","C",null,"Primer año","1.° Bach.-1","D",null,"Primer año","1.° Bach.-1","B",null,"Primer año","1.° Bach.-1","A",null,10196,"ESCUELA DE EDUCACION PARVULARIA PRESBITERO MATIAS ROMERO"]
[null,null,null,"1.° Bach.-2","A",null,null,"1.° Bach.-2","B",null,null,"1.° Bach.-2","D",null,null,"1.° Bach.-2","C",null,10197,"CENTRO ESCOLAR SALOMON CAÑAS"]
[null,null,null,"1.° Bach.-3","A",null,null,"1.° Bach.-3","C",null,null,"1.° Bach.-3","B",null,null,"1.° Bach.-3","A",null,10198,"CENTRO ESCOLAR SOLEDAD MORENO DE BENAVIDES"]
[null,null,null,"1.° Bach.-4","C",null,null,"1.° Bach.-4","D",null,null,"1.° Bach.-4","A",null,null,"1.° Bach.-4","B",null,10199,"CENTRO ESCOLAR CANTON PLANTA VIEJA"]
[null,null,null,"1.° Bach.-5","A",null,null,"1.° Bach.-5","A",null,null,"1.° Bach.-5","D",null,null,"1.° Bach.-5","D",null,10200,"CENTRO ESCOLAR COOPERATIVA TIERRA FERTIL"]
[null,null,null,"1.° Bach.-6","C",null,null,"1.° Bach.-6","B",null,null,"1.° Bach.-6","C",null,null,"1.° Bach.-6","B",null,10201,"CENTRO ESCOLAR COLONIA LAS LUPITAS"]
[null,null,null,"1.° Bach.-7","D",null,null,"1.° Bach.-7","A",null,null,"1.° Bach.-7","D",null,null,"1.° Bach.-7","D",null,10202,"CENTRO ESCOLAR CASERIO EL PROGRESO CANTON LA JOYA"]
[null,null,null,"1.° Bach.-8","D",null,null,"1.° Bach.-8","A",null,null,"1.° Bach.-8","B",null,null,"1.° Bach.-8","B",null,10203,"ESCUELA DE EDUCACION PARVULARIA JARDINES DE COLON"]
[null,null,null,"1.° Bach.-9","D",null,null,"1.° Bach.-9","B",null,null,"1.° Bach.-9","A",null,null,"1.° Bach.-9","A",null,10204,"CENTRO ESCOLAR COATEPEQUE"]
[null,null,null,"1.° Bach.-10","C",null,null,"1.° Bach.-10","B",null,null,"1.° Bach.-10","B",null,null,"1.° Bach.-10","C",null,10206,"INSTITUTO NACIONAL DE SAN FERNANDO"]
[null,null,null,"1.° Bach.-11","D",null,null,"1.° Bach.-11","B",null,null,"1.° Bach.-11","C",null,null,"1.° Bach.-11","C",null,10207,"COMPLEJO EDUCATIVO CANTON EL TINTERAL"]
[null,null,null,"1.° Bach.-12","B",null,null,"1.° Bach.-12","C",null,null,"1.° Bach.-12","A",null,null,"1.° Bach.-12","A",null,10208,"CENTRO ESCOLAR CANTON EL ZACATAL"]
[null,null,null,"1.° Bach.-13","C",null,null,"1.° Bach.-13","D",null,null,"1.° Bach.-13","D",null,null,"1.° Bach.-13","A",null,10209,"CENTRO ESCOLAR JOSE RUBEN RIVERA RIVERA"]
[null,null,null,"1.° Bach.-14","B",null,null,"1.° Bach.-14","B",null,null,"1.° Bach.-14","B",null,null,"1.° Bach.-14","B",null,10210,"CENTRO ESCOLAR MARGARITA PANILLA DE BARILLAS"]
[null,null,null,"1.° Bach.-15","A",null,null,"1.° Bach.-15","A",null,null,"1.° Bach.-15","A",null,null,"1.° Bach.-15","A",null,10211,"CENTRO ESCOLAR CANTON CAÑA BRAVA"]
[null,null,null,"1.° Bach.-16","A",null,null,"1.° Bach.-16","D",null,null,"1.° Bach.-16","C",null,null,"1.° Bach.-16","C",null,10213,"CENTRO ESCOLAR CASERIO LAS LOMAS CANTON SAN JACINTO"]
[null,null,null,"1.° Bach.-17","C",null,null,"1.° Bach.-17","C",null,null,"1.° Bach.-17","C",null,null,"1.° Bach.-17","C",null,10215,"CENTRO ESCOLAR CANTON PLANES DE LA LAGUNA"]
[null,null,null,"1.° Bach.-18","A",null,null,"1.° Bach.-18","B",null,null,"1.° Bach.-18","D",null,null,"1.° Bach.-18","A",null,10216,"CENTRO ESCOLAR FINCA EL POTOSI"]
[null,null,null,"1.° Bach.-19","A",null,null,"1.° Bach.-19","B",null,null,"1.° Bach.-19","A",null,null,"1.° Bach.-19","D",null,10217,"COMPLEJO EDUCATIVO CASERIO SAN LUIS LA PLANTA, CANTON NANCINTEPEQUE"]
[null,null,null,"1.° Bach.-20","C",null,null,"1.° Bach.-20","C",null,null,"1.° Bach.-20","C",null,null,"1.° Bach.-20","A",null,10218,"CENTRO ESCOLAR MICHELE GRANIELLO RUSSO"]
[null,null,null,"1.° Bach.-21","B",null,null,"1.° Bach.-21","A",null,null,"1.° Bach.-21",null,null,null,"1.° Bach.-21","D",null,10219,"CENTRO ESCOLAR PARA CIEGOS EUGENIA VIUDA DE DUEÑAS"]
[null,null,null,"1.° Bach.-22","B",null,null,"1.° Bach.-22","B",null,null,"1.° Bach.-22",null,null,null,"1.° Bach.-22","B",null,10220,"COMPLEJO EDUCATIVO CAPITAN GENERAL GERARDO BARRIOS"]
[null,null,null,"1.° Bach.-23","A",null,null,"1.° Bach.-23","C",null,null,"1.° Bach.-23",null,null,null,"1.° Bach.-23","B",null,10221,"COMPLEJO EDUCATIVO ANSELMA SANCHEZ DE MANCIA"]
[null,null,null,"1.° Bach.-24","A",null,null,"1.° Bach.-24","B",null,null,"1.° Bach.-24",null,null,null,"1.° Bach.-24","C",null,10222,"ESCUELA DE EDUCACION PARVULARIA COATEPEQUE"]
[null,null,null,"1.° Bach.-25","D",null,null,"1.° Bach.-25","B",null,null,"1.° Bach.-25",null,null,null,"1.° Bach.-25","C",null,10223,"ESCUELA DE EDUCACION PARVULARIA COMUNIDAD 7 DE SEPTIEMBRE"]
[null,null,"Segundo año","2.° Bach.-1","C",null,"Segundo año","2.° Bach.-1","B",null,"Segundo año","2.° Bach.-1","B",null,"Segundo año","2.° Bach.-1","A",null,10224,"CENTRO ESCOLAR CANTON LA CONCEPCION"]
[null,null,null,"2.° Bach.-2","A",null,null,"2.° Bach.-2","D",null,null,"2.° Bach.-2","A",null,null,"2.° Bach.-2","B",null,10225,"COMPLEJO EDUCATIVO CANTON EL RESBALADERO"]
[null,null,null,"2.° Bach.-3","C",null,null,"2.° Bach.-3","A",null,null,"2.° Bach.-3","D",null,null,"2.° Bach.-3","C",null,10226,"CENTRO ESCOLAR CANTON EL CONACASTE"]
[null,null,null,"2.° Bach.-4","D",null,null,"2.° Bach.-4","D",null,null,"2.° Bach.-4","C",null,null,"2.° Bach.-4","A",null,10227,"CENTRO ESCOLAR CANTON EL JOCOTON"]
[null,null,null,"2.° Bach.-5","B",null,null,"2.° Bach.-5","C",null,null,"2.° Bach.-5","B",null,null,"2.° Bach.-5","D",null,10228,"CENTRO ESCOLAR CASERIO LA GALLINA"]
[null,null,null,"2.° Bach.-6","C",null,null,"2.° Bach.-6","D",null,null,"2.° Bach.-6","D",null,null,"2.° Bach.-6","B",null,10229,"CENTRO ESCOLAR DOCTOR SALVADOR MENDIETA"]
[null,null,null,"2.° Bach.-7","C",null,null,"2.° Bach.-7","D",null,null,"2.° Bach.-7","C",null,null,"2.° Bach.-7","D",null,10230,"COMPLEJO EDUCATIVO ELISA MEDINA VIUDA DE GARDINER"]
[null,null,null,"2.° Bach.-8","C",null,null,"2.° Bach.-8","A",null,null,"2.° Bach.-8","A",null,null,"2.° Bach.-8","B",null,10231,"CENTRO ESCOLAR MARCELINA VDA DE GRANILLO"]
[null,null,null,"2.° Bach.-9","A",null,null,"2.° Bach.-9","B",null,null,"2.° Bach.-9","C",null,null,"2.° Bach.-9","C",null,10233,"CENTRO ESCOLAR COLONIA LA MIELERA"]
[null,null,null,"2.° Bach.-10","C",null,null,"2.° Bach.-10","A",null,null,"2.° Bach.-10","B",null,null,"2.° Bach.-10","C",null,10234,"CENTRO ESCOLAR CASERIO LOMAS DEL COCO"]
[null,null,null,"2.° Bach.-11","D",null,null,"2.° Bach.-11","B",null,null,"2.° Bach.-11","D",null,null,"2.° Bach.-11","B",null,10235,"INSTITUTO NACIONAL DE NUEVO CUSCATLAN"]
[null,null,null,"2.° Bach.-12","C",null,null,"2.° Bach.-12","D",null,null,"2.° Bach.-12","A",null,null,"2.° Bach.-12","A",null,10236,"CENTRO ESCOLAR COLONIA TAZUMAL"]
[null,null,null,"2.° Bach.-13","B",null,null,"2.° Bach.-13","B",null,null,"2.° Bach.-13","A",null,null,"2.° Bach.-13","C",null,10237,"CENTRO ESCOLAR COLONIA SANTA ELENITA"]
[null,null,null,"2.° Bach.-14","B",null,null,"2.° Bach.-14","A",null,null,"2.° Bach.-14","C",null,null,"2.° Bach.-14","A",null,10239,"INSTITUTO NACIONAL JORGE ELISEO AZUCENA ORTEGA"]
[null,null,null,"2.° Bach.-15","D",null,null,"2.° Bach.-15","D",null,null,"2.° Bach.-15","D",null,null,"2.° Bach.-15","D",null,10240,"CENTRO ESCOLAR COOPERATIVA EL MANGUITO CANTON LA MAGDALENA"]
[null,null,null,"2.° Bach.-16","B",null,null,"2.° Bach.-16","C",null,null,"2.° Bach.-16","B",null,null,"2.° Bach.-16","A",null,10242,"CENTRO ESCOLAR CANTON BUENOS AIRES"]
[null,null,null,"2.° Bach.-17","A",null,null,"2.° Bach.-17","C",null,null,"2.° Bach.-17","C",null,null,"2.° Bach.-17","D",null,10243,"CENTRO ESCOLAR DOCTOR JOSE MARIA VIDES"]
[null,null,null,"2.° Bach.-18","C",null,null,"2.° Bach.-18","C",null,null,"2.° Bach.-18","D",null,null,"2.° Bach.-18","D",null,10244,"CENTRO ESCOLAR CANTON SAN JOSE"]
[null,null,null,"2.° Bach.-19","D",null,null,"2.° Bach.-19","B",null,null,"2.° Bach.-19","A",null,null,"2.° Bach.-19","D",null,10245,"CENTRO ESCOLAR CANTON SAN SEBASTIAN"]
[null,null,null,"2.° Bach.-20","B",null,null,"2.° Bach.-20","A",null,null,"2.° Bach.-20","B",null,null,"2.° Bach.-20","C",null,10246,"CENTRO ESCOLAR COMUNIDAD NUEVA JERUSALEN"]
[null,null,null,"2.° Bach.-21","C",null,null,"2.° Bach.-21","C",null,null,"2.° Bach.-21",null,null,null,"2.° Bach.-21","B",null,10247,"CENTRO ESCOLAR CANTON LA LIBERTAD"]
[null,null,null,"2.° Bach.-22","D",null,null,"2.° Bach.-22","C",null,null,"2.° Bach.-22",null,null,null,"2.° Bach.-22","A",null,10249,"CENTRO ESCOLAR COLONIA SANTA CRUZ"]
[null,null,null,"2.° Bach.-23","C",null,null,"2.° Bach.-23","A",null,null,"2.° Bach.-23",null,null,null,"2.° Bach.-23","B",null,10250,"COMPLEJO EDUCATIVO CASERIO SAN NICOLAS, CANTON LA MAGDALENA"]
[null,null,null,"2.° Bach.-24","C",null,null,"2.° Bach.-24","D",null,null,"2.° Bach.-24",null,null,null,"2.° Bach.-24","D",null,10251,"CENTRO ESCOLAR CASERIO SAN JORGE"]
[null,null,null,"2.° Bach.-25","C",null,null,"2.° Bach.-25","C",null,null,"2.° Bach.-25",null,null,null,"2.° Bach.-25","A",null,10252,"CENTRO ESCOLAR CASERIO SAN CRISTOBAL, CANTON LA MAGDALENA"]
[null,null,null,null,null,null,null,null,null,null,null,null,null,null,null,null,null,null,10253,"CENTRO ESCOLAR CASERIO SAN LUIS, CANTON LA MAGDALENA"]
[null,null,null,null,null,null,null,null,null,null,null,null,null,null,null,null,null,null,10254,"CENTRO ESCOLAR CANTON EL TANQUE"]
[null,null,null,null,null,null,null,null,null,null,null,null,null,null,null,null,null,null,10255,"CENTRO ESCOLAR HACIENDA EL COCO, CANTON EL COCO"]
[null,null,null,null,null,null,null,null,null,null,null,null,null,null,null,null,null,null,10256,"COMPLEJO EDUCATIVO CANTON EL COCO"]
[null,null,null,null,null,null,null,null,null,null,null,null,null,null,null,null,null,null,10257,"CENTRO ESCOLAR CANTON GALEANO"]
[null,null,null,null,null,null,null,null,null,null,null,null,null,null,null,null,null,null,10258,"CENTRO ESCOLAR HACIENDA EL NAZARENO, CANTON LA MAGDALENA"]
[null,null,null,null,null,null,null,null,null,null,null,null,null,null,null,null,null,null,10262,"COMPLEJO EDUCATIVO CANTON LA MAGDALENA"]
[null,null,null,null,null,null,null,null,null,null,null,null,null,null,null,null,null,null,10263,"CENTRO ESCOLAR PROFESOR SERGIO OVIDIO GARCIA"]
[null,null,null,null,null,null,null,null,null,null,null,null,null,null,null,null,null,null,10265,"CENTRO ESCOLAR ALICIA ORTIZ VIUDA DE FLORES"]
[null,null,null,null,null,null,null,null,null,null,null,null,null,null,null,null,null,null,10266,"CENTRO ESCOLAR ALFREDO ESPINO, CANTON LAS FLORES"]
[null,null,null,null,null,null,null,null,null,null,null,null,null,null,null,null,null,null,10267,"CENTRO ESCOLAR CANTON EL ARADO"]
[null,null,null,null,null,null,null,null,null,null,null,null,null,null,null,null,null,null,10268,"CENTRO ESCOLAR FRANCISCO IGNACIO CORDERO"]
[null,null,null,null,null,null,null,null,null,null,null,null,null,null,null,null,null,null,10269,"CENTRO ESCOLAR GUADALUPE RETANA HERRERA"]
[null,null,null,null,null,null,null,null,null,null,null,null,null,null,null,null,null,null,10270,"CENTRO ESCOLAR SIMON BOLIVAR"]
[null,null,null,null,null,null,null,null,null,null,null,null,null,null,null,null,null,null,10271,"COMPLEJO EDUCATIVO BENITO JUAREZ"]
[null,null,null,null,null,null,null,null,null,null,null,null,null,null,null,null,null,null,10272,"CENTRO ESCOLAR GENERAL SALVADOR CASTANEDA CASTRO"]
[null,null,null,null,null,null,null,null,null,null,null,null,null,null,null,null,null,null,10273,"CENTRO ESCOLAR DOCTOR RANULFO CASTRO"]
[null,null,null,null,null,null,null,null,null,null,null,null,null,null,null,null,null,null,10274,"ESCUELA DE EDUCACION PARVULARIA GABRIELA MISTRAL"]
[null,null,null,null,null,null,null,null,null,null,null,null,null,null,null,null,null,null,10275,"CENTRO ESCOLAR CANTON LA LAGUNA"]
[null,null,null,null,null,null,null,null,null,null,null,null,null,null,null,null,null,null,10276,"CENTRO ESCOLAR CANTON EL GUINEO"]
[null,null,null,null,null,null,null,null,null,null,null,null,null,null,null,null,null,null,10277,"CENTRO ESCOLAR PARA SORDOS DE SANTA ANA"]
[null,null,null,null,null,null,null,null,null,null,null,null,null,null,null,null,null,null,10278,"COMPLEJO EDUCATIVO CANTON LA PRESA"]
[null,null,null,null,null,null,null,null,null,null,null,null,null,null,null,null,null,null,10279,"CENTRO ESCOLAR CANTON EL RODEO"]
[null,null,null,null,null,null,null,null,null,null,null,null,null,null,null,null,null,null,10280,"CENTRO ESCOLAR HACIENDA EL PORVENIR CANTON LOS PINOS"]
[null,null,null,null,null,null,null,null,null,null,null,null,null,null,null,null,null,null,10281,"CENTRO ESCOLAR CANTON EL PEZOTE"]
[null,null,null,null,null,null,null,null,null,null,null,null,null,null,null,null,null,null,10282,"CENTRO ESCOLAR CASERIO EL PALOMAR CANTON LA PRESA"]
[null,null,null,null,null,null,null,null,null,null,null,null,null,null,null,null,null,null,10283,"INSTITUTO NACIONAL DE EL CONGO"]
[null,null,null,null,null,null,null,null,null,null,null,null,null,null,null,null,null,null,10284,"CENTRO ESCOLAR EL CONGO"]
[null,null,null,null,null,null,null,null,null,null,null,null,null,null,null,null,null,null,10285,"CENTRO ESCOLAR UNION CENTROAMERICANA"]
[null,null,null,null,null,null,null,null,null,null,null,null,null,null,null,null,null,null,10286,"ESCUELA DE EDUCACION PARVULARIA DE EL CONGO"]
[null,null,null,null,null,null,null,null,null,null,null,null,null,null,null,null,null,null,10287,"CENTRO ESCOLAR CANTON MONTEBELLO"]
[null,null,null,null,null,null,null,null,null,null,null,null,null,null,null,null,null,null,10288,"CENTRO ESCOLAR ALFREDO ESPINO, CANTON SAN JOSE LAS FLORES"]
[null,null,null,null,null,null,null,null,null,null,null,null,null,null,null,null,null,null,10289,"CENTRO ESCOLAR CASERIO EL CERRON, CANTON SAN CRISTOBAL"]
[null,null,null,null,null,null,null,null,null,null,null,null,null,null,null,null,null,null,10291,"COMPLEJO EDUCATIVO PADRE VICENTE AGUILAR"]
[null,null,null,null,null,null,null,null,null,null,null,null,null,null,null,null,null,null,10292,"CENTRO ESCOLAR CANTON SAN JUAN CHIQUITO"]
[null,null,null,null,null,null,null,null,null,null,null,null,null,null,null,null,null,null,10293,"CENTRO ESCOLAR CANTON LA ARENERA"]
[null,null,null,null,null,null,null,null,null,null,null,null,null,null,null,null,null,null,10294,"CENTRO ESCOLAR CANTON SANTA ROSA SENCA"]
[null,null,null,null,null,null,null,null,null,null,null,null,null,null,null,null,null,null,10295,"COMPLEJO EDUCATIVO MASAHUAT"]
[null,null,null,null,null,null,null,null,null,null,null,null,null,null,null,null,null,null,10296,"CENTRO ESCOLAR MATHIEU SAN MARTIN"]
[null,null,null,null,null,null,null,null,null,null,null,null,null,null,null,null,null,null,10297,"CENTRO ESCOLAR PROFESORA CELINA DEL CARMEN PAZ DE MENDEZ"]
[null,null,null,null,null,null,null,null,null,null,null,null,null,null,null,null,null,null,10298,"CENTRO ESCOLAR JARDIN INFANTIL METAPANECO ZOILA TENAS DE FIGUEROA"]
[null,null,null,null,null,null,null,null,null,null,null,null,null,null,null,null,null,null,10299,"CENTRO ESCOLAR CASERIO BUENOS AIRES, CANTON SAN ANTONIO LA JUNTA"]
[null,null,null,null,null,null,null,null,null,null,null,null,null,null,null,null,null,null,10302,"ESCUELA DE EDUCACION PARVULARIA DE SAN ALEJO"]
[null,null,null,null,null,null,null,null,null,null,null,null,null,null,null,null,null,null,10303,"COMPLEJO EDUCATIVO SCHAFIK JORGE HANDAL"]
[null,null,null,null,null,null,null,null,null,null,null,null,null,null,null,null,null,null,10305,"INSTITUTO NACIONAL PROFESORA ROSA ORBELINA CAÑAS DE FLORES"]
[null,null,null,null,null,null,null,null,null,null,null,null,null,null,null,null,null,null,10307,"CENTRO ESCOLAR CASERIO SAN JUAN ARRIBA , CANTON SAN JUAN"]
[null,null,null,null,null,null,null,null,null,null,null,null,null,null,null,null,null,null,10308,"COMPLEJO EDUCATIVO CIUDAD REAL CANTON LOS AMATES"]
[null,null,null,null,null,null,null,null,null,null,null,null,null,null,null,null,null,null,10309,"CENTRO ESCOLAR CASERIO EL CARMEN, CANTON EL PANAL"]
[null,null,null,null,null,null,null,null,null,null,null,null,null,null,null,null,null,null,10310,"CENTRO ESCOLAR REPUBLICA DE MEXICO"]
[null,null,null,null,null,null,null,null,null,null,null,null,null,null,null,null,null,null,10311,"INSTITUTO NACIONAL BENJAMIN ESTRADA VALIENTE"]
[null,null,null,null,null,null,null,null,null,null,null,null,null,null,null,null,null,null,10314,"CENTRO ESCOLAR CASERIO LAS TAPIAS, CANTON CAÑAS DULCES"]
[null,null,null,null,null,null,null,null,null,null,null,null,null,null,null,null,null,null,10315,"CENTRO ESCOLAR SIHUATEPEQUE"]
[null,null,null,null,null,null,null,null,null,null,null,null,null,null,null,null,null,null,10317,"CENTRO ESCOLAR SAN ISIDRO LABRADOR"]
[null,null,null,null,null,null,null,null,null,null,null,null,null,null,null,null,null,null,10318,"CENTRO ESCOLAR CASERIO LOS LLANITOS CANTON SANTA RITA"]
[null,null,null,null,null,null,null,null,null,null,null,null,null,null,null,null,null,null,10319,"CENTRO ESCOLAR REPUBLICA DE TURQUIA"]
[null,null,null,null,null,null,null,null,null,null,null,null,null,null,null,null,null,null,10320,"CENTRO ESCOLAR CANTON MATALAPA"]
[null,null,null,null,null,null,null,null,null,null,null,null,null,null,null,null,null,null,10321,"CENTRO ESCOLAR FRANCISCO SALGUERO LOPEZ"]
[null,null,null,null,null,null,null,null,null,null,null,null,null,null,null,null,null,null,10323,"CENTRO ESCOLAR CASERIO EL DESPOBLADO CANTON MALPASO"]
[null,null,null,null,null,null,null,null,null,null,null,null,null,null,null,null,null,null,10324,"COLEGIO JOHN DEWEY"]
[null,null,null,null,null,null,null,null,null,null,null,null,null,null,null,null,null,null,10325,"CENTRO ESCOLAR CASERIO SANTA INES, CANTON MATALAPA"]
[null,null,null,null,null,null,null,null,null,null,null,null,null,null,null,null,null,null,10326,"CENTRO ESCOLAR CENTRAL GUAJOYO"]
[null,null,null,null,null,null,null,null,null,null,null,null,null,null,null,null,null,null,10327,"CENTRO ESCOLAR CANTON CUYUISCAT"]
[null,null,null,null,null,null,null,null,null,null,null,null,null,null,null,null,null,null,10328,"CENTRO ESCOLAR CANTON LA CEIBITA"]
[null,null,null,null,null,null,null,null,null,null,null,null,null,null,null,null,null,null,10329,"CENTRO ESCOLAR CANTON LA ISLA"]
[null,null,null,null,null,null,null,null,null,null,null,null,null,null,null,null,null,null,10331,"CENTRO ESCOLAR JOSE ANTONIO CASTRO VILLALOBOS"]
[null,null,null,null,null,null,null,null,null,null,null,null,null,null,null,null,null,null,10332,"COLEGIO DR. LUIS FELIPE BORJA PEREZ"]
[null,null,null,null,null,null,null,null,null,null,null,null,null,null,null,null,null,null,10334,"CENTRO ESCOLAR CASERIO EL COLORADO CANTON LA JOYA"]
[null,null,null,null,null,null,null,null,null,null,null,null,null,null,null,null,null,null,10335,"CENTRO ESCOLAR CANTON EL LIMO"]
[null,null,null,null,null,null,null,null,null,null,null,null,null,null,null,null,null,null,10336,"CENTRO ESCOLAR CASERIO EL AHOGADO CANTON LA ISLA"]
[null,null,null,null,null,null,null,null,null,null,null,null,null,null,null,null,null,null,10338,"CENTRO ESCOLAR REPUBLICA FEDERADA CENTROAMERICANA"]
[null,null,null,null,null,null,null,null,null,null,null,null,null,null,null,null,null,null,10341,"CENTRO ESCOLAR CANTON SAN MIGUEL INGENIO"]
[null,null,null,null,null,null,null,null,null,null,null,null,null,null,null,null,null,null,10342,"CENTRO ESCOLAR PROFESOR JOSE LUIS ERNESTO SANCHEZ"]
[null,null,null,null,null,null,null,null,null,null,null,null,null,null,null,null,null,null,10343,"CENTRO ESCOLAR HUMBERTO PARADA SANDOVAL"]
[null,null,null,null,null,null,null,null,null,null,null,null,null,null,null,null,null,null,10344,"CENTRO ESCOLAR FRANCISCO JAVIER GARCIA"]
[null,null,null,null,null,null,null,null,null,null,null,null,null,null,null,null,null,null,10345,"CENTRO ESCOLAR CANTON SANTA RITA"]
[null,null,null,null,null,null,null,null,null,null,null,null,null,null,null,null,null,null,10347,"CENTRO ESCOLAR CANTON MALPASO"]
[null,null,null,null,null,null,null,null,null,null,null,null,null,null,null,null,null,null,10348,"CENTRO ESCOLAR CASERIO EL JICARO CANTON EL PANAL"]
[null,null,null,null,null,null,null,null,null,null,null,null,null,null,null,null,null,null,10349,"CENTRO ESCOLAR CATOLICO PADRE ARTURO D'ONOFRIO "]
[null,null,null,null,null,null,null,null,null,null,null,null,null,null,null,null,null,null,10350,"CENTRO ESCOLAR JESUS CORLETO VALIENTE"]
[null,null,null,null,null,null,null,null,null,null,null,null,null,null,null,null,null,null,10351,"CENTRO ESCOLAR HACIENDA VIEJA"]
[null,null,null,null,null,null,null,null,null,null,null,null,null,null,null,null,null,null,10353,"CENTRO ESCOLAR CASERIO SAN FRANCISCO, CANTON BELEN GUIJAT"]
[null,null,null,null,null,null,null,null,null,null,null,null,null,null,null,null,null,null,10354,"COLEGIO GUADALUPANO DE SAN MIGUEL"]
[null,null,null,null,null,null,null,null,null,null,null,null,null,null,null,null,null,null,10355,"CENTRO ESCOLAR CASERIO EL COBANO, CANTON LAS PIEDRAS"]
[null,null,null,null,null,null,null,null,null,null,null,null,null,null,null,null,null,null,10356,"CENTRO ESCOLAR CASERIO SAN DIEGO"]
[null,null,null,null,null,null,null,null,null,null,null,null,null,null,null,null,null,null,10358,"CENTRO ESCOLAR CASERIO LA CONCHAGUA, CANTON LAS PIEDRAS"]
[null,null,null,null,null,null,null,null,null,null,null,null,null,null,null,null,null,null,10359,"CENTRO ESCOLAR CANTON SAN JUAN"]
[null,null,null,null,null,null,null,null,null,null,null,null,null,null,null,null,null,null,10360,"CENTRO ESCOLAR EZEQUIEL GALDAMEZ"]
[null,null,null,null,null,null,null,null,null,null,null,null,null,null,null,null,null,null,10363,"CENTRO ESCOLAR CANTON SAN ANTONIO LA JUNTA"]
[null,null,null,null,null,null,null,null,null,null,null,null,null,null,null,null,null,null,10365,"CENTRO ESCOLAR AGUSTIN RIVAS VALDES"]
[null,null,null,null,null,null,null,null,null,null,null,null,null,null,null,null,null,null,10366,"CENTRO ESCOLAR CANTON SAN JOSE INGENIO"]
[null,null,null,null,null,null,null,null,null,null,null,null,null,null,null,null,null,null,10367,"CENTRO ESCOLAR CANTON EL ROSARIO"]
[null,null,null,null,null,null,null,null,null,null,null,null,null,null,null,null,null,null,10368,"CENTRO ESCOLAR CANTON TAHUILAPA"]
[null,null,null,null,null,null,null,null,null,null,null,null,null,null,null,null,null,null,10369,"CENTRO ESCOLAR RODRIGO J. LEIVA"]
[null,null,null,null,null,null,null,null,null,null,null,null,null,null,null,null,null,null,10370,"CENTRO ESCOLAR LUZ GOMEZ"]
[null,null,null,null,null,null,null,null,null,null,null,null,null,null,null,null,null,null,10371,"CENTRO ESCOLAR REPUBLICA DE GUATEMALA"]
[null,null,null,null,null,null,null,null,null,null,null,null,null,null,null,null,null,null,10372,"ESCUELA DE EDUCACION PARVULARIA SOR JUANA INES DE LA CRUZ"]
[null,null,null,null,null,null,null,null,null,null,null,null,null,null,null,null,null,null,10374,"CENTRO ESCOLAR REPUBLICA DE MEXICO"]
[null,null,null,null,null,null,null,null,null,null,null,null,null,null,null,null,null,null,10375,"CENTRO ESCOLAR CASERIO EL DESAGUE"]
[null,null,null,null,null,null,null,null,null,null,null,null,null,null,null,null,null,null,10376,"CENTRO ESCOLAR HACIENDA OSTUA"]
[null,null,null,null,null,null,null,null,null,null,null,null,null,null,null,null,null,null,10377,"CENTRO ESCOLAR CANTON EL TABLON"]
[null,null,null,null,null,null,null,null,null,null,null,null,null,null,null,null,null,null,10378,"CENTRO INFANTIL EL DESARROLLO DE LOS NIÑOS"]
[null,null,null,null,null,null,null,null,null,null,null,null,null,null,null,null,null,null,10379,"CENTRO ESCOLAR CANTON EL ANGEL"]
[null,null,null,null,null,null,null,null,null,null,null,null,null,null,null,null,null,null,10380,"ESCUELA CRISTIANA CANTON LA MAGDALENA"]
[null,null,null,null,null,null,null,null,null,null,null,null,null,null,null,null,null,null,10381,"COMPLEJO EDUCATIVO JOSE MARIA SALAZAR ESPAÑA"]
[null,null,null,null,null,null,null,null,null,null,null,null,null,null,null,null,null,null,10382,"COMPLEJO EDUCATIVO DOCTOR ALBERTO LUNA"]
[null,null,null,null,null,null,null,null,null,null,null,null,null,null,null,null,null,null,10383,"CENTRO ESCOLAR CANTON SAN LUIS"]
[null,null,null,null,null,null,null,null,null,null,null,null,null,null,null,null,null,null,10384,"CENTRO ESCOLAR CANTON MONTE ALEGRE"]
[null,null,null,null,null,null,null,null,null,null,null,null,null,null,null,null,null,null,10385,"CENTRO ESCOLAR CANTON LOS AMATES"]
[null,null,null,null,null,null,null,null,null,null,null,null,null,null,null,null,null,null,10386,"CENTRO ESCOLAR PADRE MARIO ADIN CRUZ ZALDIVAR"]
[null,null,null,null,null,null,null,null,null,null,null,null,null,null,null,null,null,null,10388,"CENTRO ESCOLAR JOSE ANTONIO MARTINEZ"]
[null,null,null,null,null,null,null,null,null,null,null,null,null,null,null,null,null,null,10389,"CENTRO ESCOLAR COLONIA EL EDEN"]
[null,null,null,null,null,null,null,null,null,null,null,null,null,null,null,null,null,null,10390,"ESCUELA DE EDUCACION PARVULARIA BARRIO SAN MIGUELITO"]
[null,null,null,null,null,null,null,null,null,null,null,null,null,null,null,null,null,null,10391,"COMPLEJO EDUCATIVO COLONIA RIO ZARCO"]
[null,null,null,null,null,null,null,null,null,null,null,null,null,null,null,null,null,null,10392,"CENTRO ESCOLAR COLONIA SANTA GERTRUDIS"]
[null,null,null,null,null,null,null,null,null,null,null,null,null,null,null,null,null,null,10393,"COLEGIO NUEVO MUNDO"]
[null,null,null,null,null,null,null,null,null,null,null,null,null,null,null,null,null,null,10395,"ESCUELA DE EDUCACION PARVULARIA COLONIA EL PALMAR"]
[null,null,null,null,null,null,null,null,null,null,null,null,null,null,null,null,null,null,10396,"CENTRO ESCOLAR LOMAS DEL TECANA"]
[null,null,null,null,null,null,null,null,null,null,null,null,null,null,null,null,null,null,10397,"COLEGIO CRISTIANO \"MARIA ELIZABETH CASTILLO DE MANGANDI\""]
[null,null,null,null,null,null,null,null,null,null,null,null,null,null,null,null,null,null,10398,"COLEGIO AMIGOS DE ISRAEL"]
[null,null,null,null,null,null,null,null,null,null,null,null,null,null,null,null,null,null,10399,"CENTRO ESCOLAR INSA"]
[null,null,null,null,null,null,null,null,null,null,null,null,null,null,null,null,null,null,10400,"COLEGIO ALICIA MOREL"]
[null,null,null,null,null,null,null,null,null,null,null,null,null,null,null,null,null,null,10401,"COLEGIO LICENCIADO GUILLERMO GONZALEZ MARTINEZ"]
[null,null,null,null,null,null,null,null,null,null,null,null,null,null,null,null,null,null,10402,"CENTRO ESCOLAR CANTON EL PORTEZUELO"]
[null,null,null,null,null,null,null,null,null,null,null,null,null,null,null,null,null,null,10403,"CENTRO ESCOLAR CANTON LOMAS DE SAN MARCELINO"]
[null,null,null,null,null,null,null,null,null,null,null,null,null,null,null,null,null,null,10404,"CENTRO ESCOLAR MONSEÑOR JOSE LOPEZ SANDOVAL"]
[null,null,null,null,null,null,null,null,null,null,null,null,null,null,null,null,null,null,10407,"CENTRO ESCOLAR COLONIA SANTA LEONOR"]
[null,null,null,null,null,null,null,null,null,null,null,null,null,null,null,null,null,null,10408,"COMPLEJO EDUCATIVO PROFESOR JOSE ARNOLDO SERMEÑO"]
[null,null,null,null,null,null,null,null,null,null,null,null,null,null,null,null,null,null,10409,"ESCUELA DE EDUCACION PARVULARIA SANTA ISABEL"]
[null,null,null,null,null,null,null,null,null,null,null,null,null,null,null,null,null,null,10411,"CENTRO ESCOLAR MERCEDES NOVOA"]
[null,null,null,null,null,null,null,null,null,null,null,null,null,null,null,null,null,null,10412,"CENTRO ESCOLAR COLONIA LA FORTUNA"]
[null,null,null,null,null,null,null,null,null,null,null,null,null,null,null,null,null,null,10414,"CENTRO ESCOLAR ESCOLAR LOS GUIROLA CANTON PRIMAVERA"]
[null,null,null,null,null,null,null,null,null,null,null,null,null,null,null,null,null,null,10415,"CENTRO ESCOLAR LICENCIADA CARMEN ELENA CALDERON DE ESCALON"]
[null,null,null,null,null,null,null,null,null,null,null,null,null,null,null,null,null,null,10417,"COMPLEJO EDUCATIVO LLANO LARGO CANTON AYUTA"]
[null,null,null,null,null,null,null,null,null,null,null,null,null,null,null,null,null,null,10418,"CENTRO ESCOLAR CASERIO EL COBANO"]
[null,null,null,null,null,null,null,null,null,null,null,null,null,null,null,null,null,null,10419,"CENTRO ESCOLAR CASERIO EL TULE"]
[null,null,null,null,null,null,null,null,null,null,null,null,null,null,null,null,null,null,10420,"CENTRO ESCOLAR DOCTOR CARLOS MAURICIO MOLINA FONSECA"]
[null,null,null,null,null,null,null,null,null,null,null,null,null,null,null,null,null,null,10421,"CENTRO ESCOLAR TOMAS MEDINA"]
[null,null,null,null,null,null,null,null,null,null,null,null,null,null,null,null,null,null,10422,"CENTRO ESCOLAR COLONIA SAN LUIS"]
[null,null,null,null,null,null,null,null,null,null,null,null,null,null,null,null,null,null,10423,"CENTRO ESCOLAR CASERIO LAS CANOAS SAN JUAN BUENAVISTA"]
[null,null,null,null,null,null,null,null,null,null,null,null,null,null,null,null,null,null,10424,"CENTRO ESCOLAR PROFESORA JUANA DEL CARMEN BARRERA AQUINO"]
[null,null,null,null,null,null,null,null,null,null,null,null,null,null,null,null,null,null,10426,"CENTRO ESCOLAR PINAL DE GRANADA"]
[null,null,null,null,null,null,null,null,null,null,null,null,null,null,null,null,null,null,10427,"CENTRO ESCOLAR CASERIO EL PORTEZUELO CANTON OJOS DE AGUA"]
[null,null,null,null,null,null,null,null,null,null,null,null,null,null,null,null,null,null,10428,"COMPLEJO EDUCATIVO HACIENDA SAN CAYETANO"]
[null,null,null,null,null,null,null,null,null,null,null,null,null,null,null,null,null,null,10429,"CENTRO ESCOLAR TRANSITO CIENFUEGOS"]
[null,null,null,null,null,null,null,null,null,null,null,null,null,null,null,null,null,null,10430,"COMPLEJO EDUCATIVO PRESBITERO RAFAEL PAZ FUENTES"]
[null,null,null,null,null,null,null,null,null,null,null,null,null,null,null,null,null,null,10431,"CENTRO ESCOLAR DOCTOR SALVADOR AYALA"]
[null,null,null,null,null,null,null,null,null,null,null,null,null,null,null,null,null,null,10432,"CENTRO ESCOLAR CASERIO EL MORRO N° 2 CANTON TALCOMUNCA"]
[null,null,null,null,null,null,null,null,null,null,null,null,null,null,null,null,null,null,10433,"CENTRO ESCOLAR REPUBLICA FEDERAL DE ALEMANIA"]
[null,null,null,null,null,null,null,null,null,null,null,null,null,null,null,null,null,null,10434,"INSTITUTO NACIONAL DE SAN ISIDRO"]
[null,null,null,null,null,null,null,null,null,null,null,null,null,null,null,null,null,null,10435,"ESCUELA DE EDUCACION PARVULARIA JERUSALEN"]
[null,null,null,null,null,null,null,null,null,null,null,null,null,null,null,null,null,null,10436,"CENTRO ESCOLAR ANGELA MEDINA GOMEZ"]
[null,null,null,null,null,null,null,null,null,null,null,null,null,null,null,null,null,null,10437,"CENTRO ESCOLAR FINCA EL PARAISO"]
[null,null,null,null,null,null,null,null,null,null,null,null,null,null,null,null,null,null,10438,"COMPLEJO EDUCATIVO MANUEL MONEDERO"]
[null,null,null,null,null,null,null,null,null,null,null,null,null,null,null,null,null,null,10439,"CENTRO ESCOLAR JUAN JOSE BERNAL"]
[null,null,null,null,null,null,null,null,null,null,null,null,null,null,null,null,null,null,10440,"CENTRO ESCOLAR VALLE EL MATAZANO"]
[null,null,null,null,null,null,null,null,null,null,null,null,null,null,null,null,null,null,10441,"CENTRO ESCOLAR VALLE LOS ELIZONDOS"]
[null,null,null,null,null,null,null,null,null,null,null,null,null,null,null,null,null,null,10442,"CENTRO ESCOLAR RAFAEL ALVAREZ ANGEL"]
[null,null,null,null,null,null,null,null,null,null,null,null,null,null,null,null,null,null,10443,"CENTRO ESCOLAR CANTON EL RANCHADOR"]
[null,null,null,null,null,null,null,null,null,null,null,null,null,null,null,null,null,null,10444,"CENTRO ESCOLAR CANTON LOS APOYOS"]
[null,null,null,null,null,null,null,null,null,null,null,null,null,null,null,null,null,null,10446,"COMPLEJO EDUCATIVO \"EMILIO MARTÍNEZ\""]
[null,null,null,null,null,null,null,null,null,null,null,null,null,null,null,null,null,null,10447,"CENTRO ESCOLAR CASERIO EL AMATILLO"]
[null,null,null,null,null,null,null,null,null,null,null,null,null,null,null,null,null,null,10448,"CENTRO ESCOLAR CANTON OCHUPSE ABAJO"]
[null,null,null,null,null,null,null,null,null,null,null,null,null,null,null,null,null,null,10449,"CENTRO ESCOLAR FINCA SAN FRANCISCO"]
[null,null,null,null,null,null,null,null,null,null,null,null,null,null,null,null,null,null,10450,"COLEGIO CORONEL MILTON ANTONIO ANDRADE CABRERA"]
[null,null,null,null,null,null,null,null,null,null,null,null,null,null,null,null,null,null,10451,"CENTRO ESCOLAR CASERIO LA ESPERANZA CANTON PINALITO"]
[null,null,null,null,null,null,null,null,null,null,null,null,null,null,null,null,null,null,10452,"CENTRO ESCOLAR VALLE EL CARMEN, CANTON NATIVIDAD"]
[null,null,null,null,null,null,null,null,null,null,null,null,null,null,null,null,null,null,10453,"CENTRO ESCOLAR ANTONIA MORAN DE LOBATO"]
[null,null,null,null,null,null,null,null,null,null,null,null,null,null,null,null,null,null,10454,"CENTRO ESCOLAR OCHUPSE ARRIBA"]
[null,null,null,null,null,null,null,null,null,null,null,null,null,null,null,null,null,null,10455,"CENTRO ESCOLAR CANTON EL PINALON"]
[null,null,null,null,null,null,null,null,null,null,null,null,null,null,null,null,null,null,10456,"ESCUELA DE EDUCACION PARVULARIA SAN RAFAEL"]
[null,null,null,null,null,null,null,null,null,null,null,null,null,null,null,null,null,null,10457,"ESCUELA DE EDUCACION PARVULARIA BARRIO SAN MIGUELITO"]
[null,null,null,null,null,null,null,null,null,null,null,null,null,null,null,null,null,null,10458,"ESCUELA DE EDUCACION PARVULARIA GUARDERIA Y REFUGIO INFANTIL"]
[null,null,null,null,null,null,null,null,null,null,null,null,null,null,null,null,null,null,10459,"COMPLEJO EDUCATIVO DOCTOR MANUEL PARADA SALGADO"]
[null,null,null,null,null,null,null,null,null,null,null,null,null,null,null,null,null,null,10461,"CENTRO ESCOLAR JOSE ALEJANDRO CABRERA"]
[null,null,null,null,null,null,null,null,null,null,null,null,null,null,null,null,null,null,10462,"CENTRO ESCOLAR CANTON TABLON MATAZANO"]
[null,null,null,null,null,null,null,null,null,null,null,null,null,null,null,null,null,null,10463,"CENTRO ESCOLAR TEODORO MORENO"]
[null,null,null,null,null,null,null,null,null,null,null,null,null,null,null,null,null,null,10464,"CENTRO ESCOLAR CANTON FLOR AMARILLA ARRIBA"]
[null,null,null,null,null,null,null,null,null,null,null,null,null,null,null,null,null,null,10465,"CENTRO ESCOLAR CASERIO EL BEJUCO"]
[null,null,null,null,null,null,null,null,null,null,null,null,null,null,null,null,null,null,10466,"CENTRO ESCOLAR CANTON LAS ARADAS"]
[null,null,null,null,null,null,null,null,null,null,null,null,null,null,null,null,null,null,10467,"CENTRO ESCOLAR JOSE LUCIO MARTINEZ"]
[null,null,null,null,null,null,null,null,null,null,null,null,null,null,null,null,null,null,10468,"COMPLEJO EDUCATIVO FE Y ALEGRIA LA MERCED"]
[null,null,null,null,null,null,null,null,null,null,null,null,null,null,null,null,null,null,10469,"CENTRO ESCOLAR RAFAEL ALVAREZ LALINDE"]
[null,null,null,null,null,null,null,null,null,null,null,null,null,null,null,null,null,null,10470,"COMPLEJO EDUCATIVO PROFESOR MARTIN ROMEO MONTERROSA RODRIGUEZ"]
[null,null,null,null,null,null,null,null,null,null,null,null,null,null,null,null,null,null,10471,"CENTRO ESCOLAR FLORINDA GONZALEZ"]
[null,null,null,null,null,null,null,null,null,null,null,null,null,null,null,null,null,null,10472,"CENTRO ESCOLAR CATOLICO LA SANTA CRUZ AJULUCO"]
[null,null,null,null,null,null,null,null,null,null,null,null,null,null,null,null,null,null,10473,"COLEGIO METODISTA AHUACHAPANECO"]
[null,null,null,null,null,null,null,null,null,null,null,null,null,null,null,null,null,null,10474,"COLEGIO RESIDENCIAL VILLA PRIMAVERA"]
[null,null,null,null,null,null,null,null,null,null,null,null,null,null,null,null,null,null,10475,"COLEGIO DE LAS AMERICAS"]
[null,null,null,null,null,null,null,null,null,null,null,null,null,null,null,null,null,null,10476,"ESCUELA DE EDUCACION PARVULARIA SANTA ANA"]
[null,null,null,null,null,null,null,null,null,null,null,null,null,null,null,null,null,null,10477,"ESCUELA DE EDUCACION PARVULARIA PROFESORA MARIA ELVIRA SIFONTES"]
[null,null,null,null,null,null,null,null,null,null,null,null,null,null,null,null,null,null,10478,"COLEGIO PAULA FOX"]
[null,null,null,null,null,null,null,null,null,null,null,null,null,null,null,null,null,null,10479,"ESCUELA DE EDUCACION PARVULARIA DOCTOR FEDERICO VIDES"]
[null,null,null,null,null,null,null,null,null,null,null,null,null,null,null,null,null,null,10480,"ESCUELA DE EDUCACION PARVULARIA YOLANDA RAMIREZ DE DIAZ"]
[null,null,null,null,null,null,null,null,null,null,null,null,null,null,null,null,null,null,10481,"ESCUELA DE EDUCACION PARVULARIA SANTA LUCIA"]
[null,null,null,null,null,null,null,null,null,null,null,null,null,null,null,null,null,null,10482,"COLEGIO ANTONIO GARCIA PONCE"]
[null,null,null,null,null,null,null,null,null,null,null,null,null,null,null,null,null,null,10483,"CENTRO ESCOLAR SANTA ANA CALIFORNIA"]
[null,null,null,null,null,null,null,null,null,null,null,null,null,null,null,null,null,null,10484,"COMPLEJO EDUCATIVO COLONIA QUIÑONEZ"]
[null,null,null,null,null,null,null,null,null,null,null,null,null,null,null,null,null,null,10485,"CENTRO ESCOLAR NAPOLEON RIOS"]
[null,null,null,null,null,null,null,null,null,null,null,null,null,null,null,null,null,null,10486,"CENTRO ESCOLAR JOSE MARTI"]
[null,null,null,null,null,null,null,null,null,null,null,null,null,null,null,null,null,null,10487,"CENTRO ESCOLAR REPUBLICA DE VENEZUELA"]
[null,null,null,null,null,null,null,null,null,null,null,null,null,null,null,null,null,null,10488,"CENTRO ESCOLAR GENERAL FRANCISCO MORAZAN"]
[null,null,null,null,null,null,null,null,null,null,null,null,null,null,null,null,null,null,10489,"CENTRO ESCOLAR CLUB DE LEONES"]
[null,null,null,null,null,null,null,null,null,null,null,null,null,null,null,null,null,null,10490,"COLEGIO \"WILLIAM KILPATRICK\""]
[null,null,null,null,null,null,null,null,null,null,null,null,null,null,null,null,null,null,10491,"COMPLEJO EDUCATIVO CAPITAN GENERAL GERARDO BARRIOS"]
[null,null,null,null,null,null,null,null,null,null,null,null,null,null,null,null,null,null,10492,"CENTRO ESCOLAR DOCTOR HUMBERTO QUINTERO"]
[null,null,null,null,null,null,null,null,null,null,null,null,null,null,null,null,null,null,10493,"CENTRO ESCOLAR SANTA LUCIA"]
[null,null,null,null,null,null,null,null,null,null,null,null,null,null,null,null,null,null,10494,"CENTRO ESCOLAR LEOPOLDO NUÑEZ"]
[null,null,null,null,null,null,null,null,null,null,null,null,null,null,null,null,null,null,10495,"CENTRO ESCOLAR JOSE MARIANO MENDEZ"]
[null,null,null,null,null,null,null,null,null,null,null,null,null,null,null,null,null,null,10496,"CENTRO ESCOLAR TOMAS MEDINA"]
[null,null,null,null,null,null,null,null,null,null,null,null,null,null,null,null,null,null,10497,"CENTRO ESCOLAR PROFESOR FELIX CANIZALEZ"]
[null,null,null,null,null,null,null,null,null,null,null,null,null,null,null,null,null,null,10498,"CENTRO ESCOLAR LEOPOLDO MAYEN TORRES"]
[null,null,null,null,null,null,null,null,null,null,null,null,null,null,null,null,null,null,10499,"COMPLEJO EDUCATIVO SANTA ROSA GUACHIPILIN"]
[null,null,null,null,null,null,null,null,null,null,null,null,null,null,null,null,null,null,10500,"COMPLEJO EDUCATIVO CIUDAD DE TORONTO"]
[null,null,null,null,null,null,null,null,null,null,null,null,null,null,null,null,null,null,10502,"CENTRO ESCOLAR CANTON SAN FRANCISCO APANTA"]
[null,null,null,null,null,null,null,null,null,null,null,null,null,null,null,null,null,null,10503,"CENTRO ESCOLAR CANTON SAN JOSE CAPULIN"]
[null,null,null,null,null,null,null,null,null,null,null,null,null,null,null,null,null,null,10504,"COLEGIO DE ZARAGOZA"]
[null,null,null,null,null,null,null,null,null,null,null,null,null,null,null,null,null,null,10505,"COLEGIO GOLDA MEIR"]
[null,null,null,null,null,null,null,null,null,null,null,null,null,null,null,null,null,null,10506,"COLEGIO BASILEA"]
[null,null,null,null,null,null,null,null,null,null,null,null,null,null,null,null,null,null,10507,"CENTRO ESCOLAR CANTON PALO GALAN"]
[null,null,null,null,null,null,null,null,null,null,null,null,null,null,null,null,null,null,10510,"CENTRO ESCOLAR CANTON PILETAS"]
[null,null,null,null,null,null,null,null,null,null,null,null,null,null,null,null,null,null,10512,"CENTRO ESCOLAR CANTON SANTA CRUZ"]
[null,null,null,null,null,null,null,null,null,null,null,null,null,null,null,null,null,null,10513,"COMPLEJO EDUCATIVO SANTIAGO DE LA FRONTERA"]
[null,null,null,null,null,null,null,null,null,null,null,null,null,null,null,null,null,null,10515,"CENTRO TERNURA, MINISTERIO DE RELACIONES EXTERIORES"]
[null,null,null,null,null,null,null,null,null,null,null,null,null,null,null,null,null,null,10516,"ESCUELA DE EDUCACION PARVULARIA DE SAN JULIAN"]
[null,null,null,null,null,null,null,null,null,null,null,null,null,null,null,null,null,null,10521,"COMPLEJO EDUCATIVO PROFESOR ARMANDO ACEVEDO ACEVEDO"]
[null,null,null,null,null,null,null,null,null,null,null,null,null,null,null,null,null,null,10522,"CENTRO ESCOLAR DOCTOR CARLOS A. HERRERA REBOLLO"]
[null,null,null,null,null,null,null,null,null,null,null,null,null,null,null,null,null,null,10523,"CENTRO ESCOLAR CASERIO SAN JOSE EL SOMPOPO"]
[null,null,null,null,null,null,null,null,null,null,null,null,null,null,null,null,null,null,10524,"CENTRO ESCOLAR CASERIO LAS CASITAS, CANTON SANTO TOMAS"]
[null,null,null,null,null,null,null,null,null,null,null,null,null,null,null,null,null,null,10525,"CENTRO ESCOLAR CANTON EL JUTE"]
[null,null,null,null,null,null,null,null,null,null,null,null,null,null,null,null,null,null,10526,"COMPLEJO EDUCATIVO CANTON EL PARAISO"]
[null,null,null,null,null,null,null,null,null,null,null,null,null,null,null,null,null,null,10527,"CENTRO ESCOLAR CASERIO TEXIS JUNCTION, CANTON CHILCUYO"]
[null,null,null,null,null,null,null,null,null,null,null,null,null,null,null,null,null,null,10528,"CENTRO ESCOLAR CASERIO SAN JOSE EL TRIUNFO, CANTON CHILCUYO"]
[null,null,null,null,null,null,null,null,null,null,null,null,null,null,null,null,null,null,10529,"COLEGIO TIEMPO PARA NIÑOS"]
[null,null,null,null,null,null,null,null,null,null,null,null,null,null,null,null,null,null,10531,"COLEGIO DE MEJICANOS"]
[null,null,null,null,null,null,null,null,null,null,null,null,null,null,null,null,null,null,10534,"CENTRO ESCOLAR CASERIO OJO DE AGUA CANTON SAN MIGUEL"]
[null,null,null,null,null,null,null,null,null,null,null,null,null,null,null,null,null,null,10535,"CENTRO ESCOLAR SALVADOR MARTINEZ FIGUEROA"]
[null,null,null,null,null,null,null,null,null,null,null,null,null,null,null,null,null,null,10536,"ESCUELA DE EDUCACION PARVULARIA JOSEFINA GUERRA VIUDA DE LINARES"]
[null,null,null,null,null,null,null,null,null,null,null,null,null,null,null,null,null,null,10537,"CENTRO ESCOLAR CASERIO AGUACATAL"]
[null,null,null,null,null,null,null,null,null,null,null,null,null,null,null,null,null,null,10539,"CENTRO DE DESARROLLO INFANTIL MIS PRIMEROS AMIGUITOS"]
[null,null,null,null,null,null,null,null,null,null,null,null,null,null,null,null,null,null,10540,"CENTRO ESCOLAR ALEJANDRO GUERRA ESCOBAR"]
[null,null,null,null,null,null,null,null,null,null,null,null,null,null,null,null,null,null,10541,"CENTRO ESCOLAR CASERIO AZACUALPA, CANTON CHILCUYO"]
[null,null,null,null,null,null,null,null,null,null,null,null,null,null,null,null,null,null,10542,"CENTRO ESCOLAR JOSE ABEL PERAZA"]
[null,null,null,null,null,null,null,null,null,null,null,null,null,null,null,null,null,null,10543,"CENTRO ESCOLAR MAGDALENO BARCENAS FLORES"]
[null,null,null,null,null,null,null,null,null,null,null,null,null,null,null,null,null,null,10781,"CENTRO ESCOLAR CANTON GUACHIPILIN"]
[null,null,null,null,null,null,null,null,null,null,null,null,null,null,null,null,null,null,10782,"CENTRO ESCOLAR CANTON BARILLAS"]
[null,null,null,null,null,null,null,null,null,null,null,null,null,null,null,null,null,null,10783,"CENTRO ESCOLAR CANTON CANDELARIA"]
[null,null,null,null,null,null,null,null,null,null,null,null,null,null,null,null,null,null,10784,"ESCUELA DE EDUCACION PARVULARIA DE COMALAPA"]
[null,null,null,null,null,null,null,null,null,null,null,null,null,null,null,null,null,null,10785,"CENTRO ESCOLAR CASERIO PEPETON CANTON GUACHIPILIN"]
[null,null,null,null,null,null,null,null,null,null,null,null,null,null,null,null,null,null,10786,"ESCUELA DE EDUCACION PARVULARIA MONSEÑOR EDUARDO ALAS ALFARO"]
[null,null,null,null,null,null,null,null,null,null,null,null,null,null,null,null,null,null,10787,"COLEGIO ZELIE LARDE"]
[null,null,null,null,null,null,null,null,null,null,null,null,null,null,null,null,null,null,10788,"CENTRO ESCOLAR CANTON LLANO GRANDE"]
[null,null,null,null,null,null,null,null,null,null,null,null,null,null,null,null,null,null,10789,"CENTRO ESCOLAR CANTON EL JOCOTILLO"]
[null,null,null,null,null,null,null,null,null,null,null,null,null,null,null,null,null,null,10791,"CENTRO ESCOLAR CANTON EL PEPETO"]
[null,null,null,null,null,null,null,null,null,null,null,null,null,null,null,null,null,null,10792,"CENTRO ESCOLAR CANTON EL CONACASTE"]
[null,null,null,null,null,null,null,null,null,null,null,null,null,null,null,null,null,null,10793,"INSTITUTO NACIONAL DE CONCEPCION QUEZALTEPEQUE"]
[null,null,null,null,null,null,null,null,null,null,null,null,null,null,null,null,null,null,10794,"CENTRO ESCOLAR CONCEPCION QUEZALTEPEQUE"]
[null,null,null,null,null,null,null,null,null,null,null,null,null,null,null,null,null,null,10795,"CENTRO ESCOLAR SANTA TERESA"]
[null,null,null,null,null,null,null,null,null,null,null,null,null,null,null,null,null,null,10796,"CENTRO ESCOLAR METROPOLITANO"]
[null,null,null,null,null,null,null,null,null,null,null,null,null,null,null,null,null,null,10797,"CENTRO ESCOLAR HEROES DE 11 DE ENERO"]
[null,null,null,null,null,null,null,null,null,null,null,null,null,null,null,null,null,null,10798,"ESCUELA DE EDUCACION PARVULARIA BARRIO LA CIERRA"]
[null,null,null,null,null,null,null,null,null,null,null,null,null,null,null,null,null,null,10799,"CENTRO ESCOLAR CANTON EL LIMON"]
[null,null,null,null,null,null,null,null,null,null,null,null,null,null,null,null,null,null,10800,"CENTRO ESCOLAR CASERIO PLAN DE LAS MESAS CANTON UPATORO"]
[null,null,null,null,null,null,null,null,null,null,null,null,null,null,null,null,null,null,10801,"CENTRO ESCOLAR GERTRUDIS LOPEZ CRUZ"]
[null,null,null,null,null,null,null,null,null,null,null,null,null,null,null,null,null,null,10802,"CENTRO ESCOLAR CASERIO CHACAHUACA CANTON UPATORO"]
[null,null,null,null,null,null,null,null,null,null,null,null,null,null,null,null,null,null,10803,"CENTRO ESCOLAR CASERIO CONCEPCION CANTON SAN JOSE"]
[null,null,null,null,null,null,null,null,null,null,null,null,null,null,null,null,null,null,10805,"COLEGIO MARIA MONTESSORI"]
[null,null,null,null,null,null,null,null,null,null,null,null,null,null,null,null,null,null,10806,"INSTITUTO NACIONAL DOCTOR FRANCISCO MARTINEZ SUAREZ"]
[null,null,null,null,null,null,null,null,null,null,null,null,null,null,null,null,null,null,10807,"CENTRO ESCOLAR CANDIDA MEJIA ESPINOZA"]
[null,null,null,null,null,null,null,null,null,null,null,null,null,null,null,null,null,null,10808,"CENTRO ESCOLAR CANTON SAN JOSE"]
[null,null,null,null,null,null,null,null,null,null,null,null,null,null,null,null,null,null,10809,"CENTRO ESCOLAR CANTON UPATORO"]
[null,null,null,null,null,null,null,null,null,null,null,null,null,null,null,null,null,null,10810,"CENTRO ESCOLAR CASERIO LOS AMATES CANTON SAN JOSE"]
[null,null,null,null,null,null,null,null,null,null,null,null,null,null,null,null,null,null,10811,"CENTRO ESCOLAR \"LUIS FELIPE RIVAS\""]
[null,null,null,null,null,null,null,null,null,null,null,null,null,null,null,null,null,null,10812,"CENTRO ESCOLAR CANTON SAN BARTOLO"]
[null,null,null,null,null,null,null,null,null,null,null,null,null,null,null,null,null,null,10813,"CENTRO ESCOLAR CANTON CHIAPAS"]
[null,null,null,null,null,null,null,null,null,null,null,null,null,null,null,null,null,null,10814,"CENTRO ESCOLAR CASERIO TOTOLCO CANTON UPATORO"]
[null,null,null,null,null,null,null,null,null,null,null,null,null,null,null,null,null,null,10815,"CENTRO ESCOLAR CARLOS ARNULFO CRESPIN"]
[null,null,null,null,null,null,null,null,null,null,null,null,null,null,null,null,null,null,10816,"CENTRO ESCOLAR ARENEROS"]
[null,null,null,null,null,null,null,null,null,null,null,null,null,null,null,null,null,null,10817,"ESCUELA DE EDUCACION PARVULARIA EL DORADO"]
[null,null,null,null,null,null,null,null,null,null,null,null,null,null,null,null,null,null,10818,"CENTRO ESCOLAR EL DORADO"]
[null,null,null,null,null,null,null,null,null,null,null,null,null,null,null,null,null,null,10819,"INSTITUTO NACIONAL GENERAL JUAN ORLANDO ZEPEDA"]
[null,null,null,null,null,null,null,null,null,null,null,null,null,null,null,null,null,null,10820,"CENTRO ESCOLAR REPUBLICA DE HONDURAS"]
[null,null,null,null,null,null,null,null,null,null,null,null,null,null,null,null,null,null,10822,"ESCUELA DE EDUCACION PARVULARIA LUCILA TRUJILLO VIUDA DE ELIAS"]
[null,null,null,null,null,null,null,null,null,null,null,null,null,null,null,null,null,null,10824,"CENTRO ESCOLAR SCHAFIK JORGE HANDAL HANDAL"]
[null,null,null,null,null,null,null,null,null,null,null,null,null,null,null,null,null,null,10825,"ESCUELA DE EDUCACION PARVULARIA DE DULCE NOMBRE DE MARIA"]
[null,null,null,null,null,null,null,null,null,null,null,null,null,null,null,null,null,null,10826,"CENTRO ESCOLAR CANTON GUTIERREZ"]
[null,null,null,null,null,null,null,null,null,null,null,null,null,null,null,null,null,null,10827,"CENTRO ESCOLAR CANTON LOS ACHIOTES"]
[null,null,null,null,null,null,null,null,null,null,null,null,null,null,null,null,null,null,10828,"COMPLEJO EDUCATIVO CANTON EL OCOTAL"]
[null,null,null,null,null,null,null,null,null,null,null,null,null,null,null,null,null,null,10829,"CENTRO ESCOLAR CASERIO SITIOS ABAJO CANTON LOS SITIOS"]
[null,null,null,null,null,null,null,null,null,null,null,null,null,null,null,null,null,null,10830,"COLEGIO SAN JERONIMO EMILIANI"]
[null,null,null,null,null,null,null,null,null,null,null,null,null,null,null,null,null,null,10831,"CENTRO ESCOLAR CANTON CUEVITAS"]
[null,null,null,null,null,null,null,null,null,null,null,null,null,null,null,null,null,null,10832,"CENTRO ESCOLAR CASERIO SITIOS ARRIBA, CANTON LOS SITIOS"]
[null,null,null,null,null,null,null,null,null,null,null,null,null,null,null,null,null,null,10833,"INSTITUTO NACIONAL DE DULCE NOMBRE DE MARIA"]
[null,null,null,null,null,null,null,null,null,null,null,null,null,null,null,null,null,null,10834,"CENTRO ESCOLAR FRANCISCO GAVIDIA"]
[null,null,null,null,null,null,null,null,null,null,null,null,null,null,null,null,null,null,10835,"CENTRO ESCOLAR EL CARRIZAL"]
[null,null,null,null,null,null,null,null,null,null,null,null,null,null,null,null,null,null,10836,"COMPLEJO EDUCATIVO CANTON VAINILLAS"]
[null,null,null,null,null,null,null,null,null,null,null,null,null,null,null,null,null,null,10837,"CENTRO ESCOLAR CANTON PETAPAS"]
[null,null,null,null,null,null,null,null,null,null,null,null,null,null,null,null,null,null,10839,"CENTRO ESCOLAR FRAY BARTOLOME DE LAS CASAS"]
[null,null,null,null,null,null,null,null,null,null,null,null,null,null,null,null,null,null,10840,"CENTRO ESCOLAR CANTON EL TABLON"]
[null,null,null,null,null,null,null,null,null,null,null,null,null,null,null,null,null,null,10841,"CENTRO ESCOLAR CANTON SANTA BARBARA"]
[null,null,null,null,null,null,null,null,null,null,null,null,null,null,null,null,null,null,10842,"CENTRO ESCOLAR CANTON VALLE NUEVO"]
[null,null,null,null,null,null,null,null,null,null,null,null,null,null,null,null,null,null,10843,"ESCUELA DE EDUCACION PARVULARIA EL PARAISO"]
[null,null,null,null,null,null,null,null,null,null,null,null,null,null,null,null,null,null,10844,"COMPLEJO EDUCATIVO CASERIO LA ANGOSTURA CANTON SANTA BARBARA"]
[null,null,null,null,null,null,null,null,null,null,null,null,null,null,null,null,null,null,10845,"CENTRO ESCOLAR CASERIO CALLE NUEVA CANTON SANTA BARBARA"]
[null,null,null,null,null,null,null,null,null,null,null,null,null,null,null,null,null,null,10846,"COLEGIO RITA LEVI MONTALCINI"]
[null,null,null,null,null,null,null,null,null,null,null,null,null,null,null,null,null,null,10847,"CENTRO ESCOLAR CASERIO CERRO PARTIDO"]
[null,null,null,null,null,null,null,null,null,null,null,null,null,null,null,null,null,null,10848,"CENTRO ESCOLAR CASERIO LA COYOTERA CANTON SANTA BARBARA "]
[null,null,null,null,null,null,null,null,null,null,null,null,null,null,null,null,null,null,10849,"INSTITUTO NACIONAL DE EL PARAISO"]
[null,null,null,null,null,null,null,null,null,null,null,null,null,null,null,null,null,null,10850,"CENTRO ESCOLAR CATOLICO PRESBITERO PABLO DE JESUS CALDERON"]
[null,null,null,null,null,null,null,null,null,null,null,null,null,null,null,null,null,null,10851,"CENTRO ESCOLAR CANTON SAN JOSE"]
[null,null,null,null,null,null,null,null,null,null,null,null,null,null,null,null,null,null,10852,"ESCUELA DE EDUCACION PARVULARIA LA LAGUNA"]
[null,null,null,null,null,null,null,null,null,null,null,null,null,null,null,null,null,null,10853,"CENTRO ESCOLAR CANTON PLAN VERDE"]
[null,null,null,null,null,null,null,null,null,null,null,null,null,null,null,null,null,null,10854,"COLEGIO JULIO CORTAZAR"]
[null,null,null,null,null,null,null,null,null,null,null,null,null,null,null,null,null,null,10855,"CENTRO ESCOLAR \"LA LAGUNA\""]
[null,null,null,null,null,null,null,null,null,null,null,null,null,null,null,null,null,null,10856,"CENTRO ESCOLAR CANTON LOS PRADOS"]
[null,null,null,null,null,null,null,null,null,null,null,null,null,null,null,null,null,null,10857,"CENTRO ESCOLAR CASERIO EL ZARZAL"]
[null,null,null,null,null,null,null,null,null,null,null,null,null,null,null,null,null,null,10860,"CENTRO ESCOLAR CASERIO LAS CRUCES CANTON EL AGUACATAL"]
[null,null,null,null,null,null,null,null,null,null,null,null,null,null,null,null,null,null,10862,"CENTRO ESCOLAR BARRIO EL TRANSITO"]
[null,null,null,null,null,null,null,null,null,null,null,null,null,null,null,null,null,null,10863,"CENTRO ESCOLAR BARRIO LOMA LARGA"]
[null,null,null,null,null,null,null,null,null,null,null,null,null,null,null,null,null,null,10864,"INSTITUTO NACIONAL DE LA PALMA"]
[null,null,null,null,null,null,null,null,null,null,null,null,null,null,null,null,null,null,10865,"CENTRO ESCOLAR 22 DE JUNIO"]
[null,null,null,null,null,null,null,null,null,null,null,null,null,null,null,null,null,null,10866,"CENTRO ESCOLAR CANTON EL GRAMAL"]
[null,null,null,null,null,null,null,null,null,null,null,null,null,null,null,null,null,null,10869,"CENTRO ESCOLAR CANTON SAN JOSE EL TUNEL"]
[null,null,null,null,null,null,null,null,null,null,null,null,null,null,null,null,null,null,10870,"CENTRO ESCOLAR CANTON SAN JOSE SACARE"]
[null,null,null,null,null,null,null,null,null,null,null,null,null,null,null,null,null,null,10872,"CENTRO ESCOLAR CASERIO CABALLERO CANTON EL GRAMAL"]
[null,null,null,null,null,null,null,null,null,null,null,null,null,null,null,null,null,null,10873,"CENTRO ESCOLAR CANTON METAYATE"]
[null,null,null,null,null,null,null,null,null,null,null,null,null,null,null,null,null,null,10874,"CENTRO ESCOLAR CANTON LAS CAÑAS"]
[null,null,null,null,null,null,null,null,null,null,null,null,null,null,null,null,null,null,10877,"CENTRO ESCOLAR CASERIO AGUACAYO CANTON EL TIGRE"]
[null,null,null,null,null,null,null,null,null,null,null,null,null,null,null,null,null,null,10878,"CENTRO ESCOLAR CANTON SAN JOSE EL CARAO"]
[null,null,null,null,null,null,null,null,null,null,null,null,null,null,null,null,null,null,10881,"CENTRO ESCOLAR CASERIO LA ESPERANZA, CANTON TILAPA"]
[null,null,null,null,null,null,null,null,null,null,null,null,null,null,null,null,null,null,10882,"ESCUELA DE EDUCACION PARVULARIA DE LA REINA"]
[null,null,null,null,null,null,null,null,null,null,null,null,null,null,null,null,null,null,10883,"INSTITUTO NACIONAL DE LA REINA"]
[null,null,null,null,null,null,null,null,null,null,null,null,null,null,null,null,null,null,10884,"CENTRO ESCOLAR JULIO ENRIQUE AVILA"]
[null,null,null,null,null,null,null,null,null,null,null,null,null,null,null,null,null,null,10885,"CENTRO ESCOLAR CANTON LAS PEÑAS"]
[null,null,null,null,null,null,null,null,null,null,null,null,null,null,null,null,null,null,10886,"CENTRO ESCOLAR CANTON EL JARDIN"]
[null,null,null,null,null,null,null,null,null,null,null,null,null,null,null,null,null,null,10887,"CENTRO ESCOLAR CANTON EL TIGRE"]
[null,null,null,null,null,null,null,null,null,null,null,null,null,null,null,null,null,null,10889,"CENTRO ESCOLAR SAN JOSE POTRERILLOS"]
[null,null,null,null,null,null,null,null,null,null,null,null,null,null,null,null,null,null,10890,"CENTRO ESCOLAR CANTON LOS HENRIQUEZ"]
[null,null,null,null,null,null,null,null,null,null,null,null,null,null,null,null,null,null,10891,"CENTRO ESCOLAR DE NOMBRE DE JESUS"]
[null,null,null,null,null,null,null,null,null,null,null,null,null,null,null,null,null,null,10892,"CENTRO ESCOLAR CANTON QUIPURE"]
[null,null,null,null,null,null,null,null,null,null,null,null,null,null,null,null,null,null,10893,"CENTRO ESCOLAR CASERIO LA CRUZ CANTON SANTA ROSA"]
[null,null,null,null,null,null,null,null,null,null,null,null,null,null,null,null,null,null,10894,"CENTRO ESCOLAR CASERIO EL TAMARINDO, CANTON LOS CHILAMATES"]
[null,null,null,null,null,null,null,null,null,null,null,null,null,null,null,null,null,null,10896,"CENTRO ESCOLAR COLONIA LAS BRISAS CANTON SANTA ROSA"]
[null,null,null,null,null,null,null,null,null,null,null,null,null,null,null,null,null,null,10898,"CENTRO ESCOLAR LOTIFICACION SAN FRANCISCO"]
[null,null,null,null,null,null,null,null,null,null,null,null,null,null,null,null,null,null,10900,"INSTITUTO NACIONAL DE NUEVA CONCEPCION"]
[null,null,null,null,null,null,null,null,null,null,null,null,null,null,null,null,null,null,10901,"CENTRO ESCOLAR COLONIA LAS BRISAS"]
[null,null,null,null,null,null,null,null,null,null,null,null,null,null,null,null,null,null,10902,"ESCUELA DE EDUCACION PARVULARIA DE NUEVA CONCEPCION"]
[null,null,null,null,null,null,null,null,null,null,null,null,null,null,null,null,null,null,10904,"CENTRO ESCOLAR CANTON EL ZAPOTE"]
[null,null,null,null,null,null,null,null,null,null,null,null,null,null,null,null,null,null,10906,"CENTRO ESCOLAR CASERIO TEPEAGUA CANTON SANTA ROSA"]
[null,null,null,null,null,null,null,null,null,null,null,null,null,null,null,null,null,null,10907,"CENTRO ESCOLAR CASERIO PUESTO RICO"]
[null,null,null,null,null,null,null,null,null,null,null,null,null,null,null,null,null,null,10911,"CENTRO ESCOLAR CASERIO VEGA GRANDE CANTON POTENCIANA"]
[null,null,null,null,null,null,null,null,null,null,null,null,null,null,null,null,null,null,10912,"CENTRO ESCOLAR CASERIO CHACALCOYO CANTON SANTA ROSA"]
[null,null,null,null,null,null,null,null,null,null,null,null,null,null,null,null,null,null,10913,"CENTRO ESCOLAR CASERIO LA ESPERANZA, CANTON POTRERO SULA"]
[null,null,null,null,null,null,null,null,null,null,null,null,null,null,null,null,null,null,10915,"CENTRO ESCOLAR BARRIO EL CENTRO"]
[null,null,null,null,null,null,null,null,null,null,null,null,null,null,null,null,null,null,10916,"CENTRO ESCOLAR MIGUEL ELIAS GUILLEN"]
[null,null,null,null,null,null,null,null,null,null,null,null,null,null,null,null,null,null,10917,"CENTRO ESCOLAR CANTON LOS CHILAMATES"]
[null,null,null,null,null,null,null,null,null,null,null,null,null,null,null,null,null,null,10918,"COMPLEJO EDUCATIVO EBEN-EZER, CANTON POTRERO SULA"]
[null,null,null,null,null,null,null,null,null,null,null,null,null,null,null,null,null,null,10919,"CENTRO ESCOLAR CANTON LAGUNA SECA"]
[null,null,null,null,null,null,null,null,null,null,null,null,null,null,null,null,null,null,10920,"CENTRO ESCOLAR CANTON SANTA ROSA"]
[null,null,null,null,null,null,null,null,null,null,null,null,null,null,null,null,null,null,10921,"CENTRO ESCOLAR CANTON POTENCIANA"]
[null,null,null,null,null,null,null,null,null,null,null,null,null,null,null,null,null,null,10922,"CENTRO ESCOLAR CASERIO LOS SITIOS"]
[null,null,null,null,null,null,null,null,null,null,null,null,null,null,null,null,null,null,10923,"CENTRO ESCOLAR CASERIO CONACASTILLO, CANTON EL ROSARIO"]
[null,null,null,null,null,null,null,null,null,null,null,null,null,null,null,null,null,null,10924,"CENTRO ESCOLAR CASERIO LAS TRANCAS CANTON SANTA ROSA"]
[null,null,null,null,null,null,null,null,null,null,null,null,null,null,null,null,null,null,10925,"COMPLEJO EDUCATIVO CANTON ARRACAOS"]
[null,null,null,null,null,null,null,null,null,null,null,null,null,null,null,null,null,null,10926,"CENTRO ESCOLAR CANTON SUNAPA"]
[null,null,null,null,null,null,null,null,null,null,null,null,null,null,null,null,null,null,10927,"CENTRO ESCOLAR CANTON EL SITIO"]
[null,null,null,null,null,null,null,null,null,null,null,null,null,null,null,null,null,null,10928,"COMPLEJO EDUCATIVO OJOS DE AGUA"]
[null,null,null,null,null,null,null,null,null,null,null,null,null,null,null,null,null,null,10929,"CENTRO ESCOLAR CANTON EL ZAPOTAL"]
[null,null,null,null,null,null,null,null,null,null,null,null,null,null,null,null,null,null,10930,"CENTRO ESCOLAR CANTON EL PORTILLO"]
[null,null,null,null,null,null,null,null,null,null,null,null,null,null,null,null,null,null,10931,"CENTRO ESCOLAR CANTON MONTE REDONDO"]
[null,null,null,null,null,null,null,null,null,null,null,null,null,null,null,null,null,null,10932,"CENTRO ESCOLAR DE POTONICO"]
[null,null,null,null,null,null,null,null,null,null,null,null,null,null,null,null,null,null,10934,"CENTRO ESCOLAR CASERIO EL TAMARINDO, CANTON SAN BENITO"]
[null,null,null,null,null,null,null,null,null,null,null,null,null,null,null,null,null,null,10935,"CENTRO ESCOLAR SAN FERNANDO"]
[null,null,null,null,null,null,null,null,null,null,null,null,null,null,null,null,null,null,10936,"CENTRO ESCOLAR ABEL DE JESUS ALAS"]
[null,null,null,null,null,null,null,null,null,null,null,null,null,null,null,null,null,null,10937,"ESCUELA DE EDUCACION PARVULARIA DE SAN FRANCISCO LEMPA"]
[null,null,null,null,null,null,null,null,null,null,null,null,null,null,null,null,null,null,10938,"INSTITUTO NACIONAL SAN FRANCISCO LEMPA"]
[null,null,null,null,null,null,null,null,null,null,null,null,null,null,null,null,null,null,10939,"CENTRO ESCOLAR ALFREDO ESPINO"]
[null,null,null,null,null,null,null,null,null,null,null,null,null,null,null,null,null,null,10940,"CENTRO ESCOLAR CANTON SUMPUL CHACONES"]
[null,null,null,null,null,null,null,null,null,null,null,null,null,null,null,null,null,null,10941,"CENTRO ESCOLAR CANTON SUMPUL AVELARES"]
[null,null,null,null,null,null,null,null,null,null,null,null,null,null,null,null,null,null,10942,"CENTRO ESCOLAR CANTON LAS PILAS"]
[null,null,null,null,null,null,null,null,null,null,null,null,null,null,null,null,null,null,10946,"CENTRO ESCOLAR CASERIO LOS POZOS"]
[null,null,null,null,null,null,null,null,null,null,null,null,null,null,null,null,null,null,10947,"CENTRO ESCOLAR CANTON EL PINAR"]
[null,null,null,null,null,null,null,null,null,null,null,null,null,null,null,null,null,null,10948,"INSTITUTO NACIONAL DE SAN IGNACIO"]
[null,null,null,null,null,null,null,null,null,null,null,null,null,null,null,null,null,null,10949,"CENTRO ESCOLAR JOSE MARTI"]
[null,null,null,null,null,null,null,null,null,null,null,null,null,null,null,null,null,null,10950,"CENTRO ESCOLAR CANTON EL ROSARIO"]
[null,null,null,null,null,null,null,null,null,null,null,null,null,null,null,null,null,null,10951,"CENTRO ESCOLAR CANTON EL CARMEN"]
[null,null,null,null,null,null,null,null,null,null,null,null,null,null,null,null,null,null,10952,"COMPLEJO EDUCATIVO SAN JOSE CANCASQUE"]
[null,null,null,null,null,null,null,null,null,null,null,null,null,null,null,null,null,null,10953,"CENTRO ESCOLAR CANTON LOS GUILLENES"]
[null,null,null,null,null,null,null,null,null,null,null,null,null,null,null,null,null,null,10954,"CENTRO ESCOLAR CANTON LAS MINAS"]
[null,null,null,null,null,null,null,null,null,null,null,null,null,null,null,null,null,null,10955,"CENTRO ESCOLAR CANTON CONCEPCION"]
[null,null,null,null,null,null,null,null,null,null,null,null,null,null,null,null,null,null,10957,"ESCUELA DE EDUCACION PARVULARIA \"21 DE JUNIO DE 1954\""]
[null,null,null,null,null,null,null,null,null,null,null,null,null,null,null,null,null,null,10958,"ESCUELA DE EDUCACION PARVULARIA CANTON EL PITAL"]
[null,null,null,null,null,null,null,null,null,null,null,null,null,null,null,null,null,null,10959,"CENTRO ESCOLAR CANTON EL PITAL"]
[null,null,null,null,null,null,null,null,null,null,null,null,null,null,null,null,null,null,10960,"CENTRO ESCOLAR CANTON SANTA CRUZ"]
[null,null,null,null,null,null,null,null,null,null,null,null,null,null,null,null,null,null,10961,"CENTRO ESCOLAR CANTON LOS NARANJOS"]
[null,null,null,null,null,null,null,null,null,null,null,null,null,null,null,null,null,null,10962,"CENTRO ESCOLAR \"PROFESOR HERMINIO MENJIVAR TOBAR\""]
[null,null,null,null,null,null,null,null,null,null,null,null,null,null,null,null,null,null,10963,"CENTRO ESCOLAR \"PROFESOR FRANCISCO MORAN\""]
[null,null,null,null,null,null,null,null,null,null,null,null,null,null,null,null,null,null,10964,"CENTRO ESCOLAR CANTON EL SALITRE"]
[null,null,null,null,null,null,null,null,null,null,null,null,null,null,null,null,null,null,10965,"CENTRO ESCOLAR CANTON LOS GUARDADOS"]
[null,null,null,null,null,null,null,null,null,null,null,null,null,null,null,null,null,null,10966,"CENTRO ESCOLAR CANTON EL MATAZANO"]
[null,null,null,null,null,null,null,null,null,null,null,null,null,null,null,null,null,null,10968,"CENTRO ESCOLAR CANTON SAN ANTONIO BUENA VISTA"]
[null,null,null,null,null,null,null,null,null,null,null,null,null,null,null,null,null,null,10969,"CENTRO ESCOLAR CANTON LOS GUARDADOS"]
[null,null,null,null,null,null,null,null,null,null,null,null,null,null,null,null,null,null,10970,"CENTRO ESCOLAR SALARRUE"]
[null,null,null,null,null,null,null,null,null,null,null,null,null,null,null,null,null,null,10971,"CENTRO ESCOLAR CANTON SAN JOSE LOS SITIOS"]
[null,null,null,null,null,null,null,null,null,null,null,null,null,null,null,null,null,null,10972,"CENTRO ESCOLAR CANTON OJOS DE AGUA"]
[null,null,null,null,null,null,null,null,null,null,null,null,null,null,null,null,null,null,10973,"CENTRO ESCOLAR SANTA RITA"]
[null,null,null,null,null,null,null,null,null,null,null,null,null,null,null,null,null,null,10974,"CENTRO ESCOLAR MONSEÑOR MODESTO LOPEZ PORTILLO"]
[null,null,null,null,null,null,null,null,null,null,null,null,null,null,null,null,null,null,10975,"CENTRO ESCOLAR CANTON TASAJERA"]
[null,null,null,null,null,null,null,null,null,null,null,null,null,null,null,null,null,null,10976,"CENTRO ESCOLAR CANTON TOBIAS"]
[null,null,null,null,null,null,null,null,null,null,null,null,null,null,null,null,null,null,10977,"CENTRO ESCOLAR CANTON EL CHILAMATE"]
[null,null,null,null,null,null,null,null,null,null,null,null,null,null,null,null,null,null,10978,"CENTRO ESCOLAR CASERIO EL COBANO"]
[null,null,null,null,null,null,null,null,null,null,null,null,null,null,null,null,null,null,10979,"ESCUELA DE EDUCACION PARVULARIA DE SANTA RITA"]
[null,null,null,null,null,null,null,null,null,null,null,null,null,null,null,null,null,null,10980,"CENTRO ESCOLAR DOMINGO ANTONIO DE LARA"]
[null,null,null,null,null,null,null,null,null,null,null,null,null,null,null,null,null,null,10981,"CENTRO ESCOLAR CANTON APOSENTOS"]
[null,null,null,null,null,null,null,null,null,null,null,null,null,null,null,null,null,null,10982,"CENTRO ESCOLAR CANTON EL CARRIZAL"]
[null,null,null,null,null,null,null,null,null,null,null,null,null,null,null,null,null,null,10983,"CENTRO ESCOLAR COLONIA GUADALUPE CANTON ALDEITA"]
[null,null,null,null,null,null,null,null,null,null,null,null,null,null,null,null,null,null,10984,"CENTRO ESCOLAR CASERIO EL COYOLITO, CANTON QUITASOL"]
[null,null,null,null,null,null,null,null,null,null,null,null,null,null,null,null,null,null,10986,"CENTRO ESCOLAR CASERIO COPINOLITO CANTON ALDEITA"]
[null,null,null,null,null,null,null,null,null,null,null,null,null,null,null,null,null,null,10988,"CENTRO ESCOLAR CANTON AGUAJE ESCONDIDO"]
[null,null,null,null,null,null,null,null,null,null,null,null,null,null,null,null,null,null,10990,"INSTITUTO NACIONAL REPUBLICA DE ITALIA"]
[null,null,null,null,null,null,null,null,null,null,null,null,null,null,null,null,null,null,10991,"INSTITUTO NACIONAL DE EL COYOLITO"]
[null,null,null,null,null,null,null,null,null,null,null,null,null,null,null,null,null,null,10993,"CENTRO ESCOLAR CANTON RIO GRANDE DE ALVARADO"]
[null,null,null,null,null,null,null,null,null,null,null,null,null,null,null,null,null,null,10994,"CENTRO ESCOLAR PONCIANA RAMIREZ"]
[null,null,null,null,null,null,null,null,null,null,null,null,null,null,null,null,null,null,10995,"ESCUELA DE EDUCACION PARVULARIA DE TEJUTLA"]
[null,null,null,null,null,null,null,null,null,null,null,null,null,null,null,null,null,null,10996,"CENTRO ESCOLAR CANTON QUITASOL"]
[null,null,null,null,null,null,null,null,null,null,null,null,null,null,null,null,null,null,10997,"CENTRO ESCOLAR PRESBITERO GABRIEL RODRIGUEZ LANDAVERDE"]
[null,null,null,null,null,null,null,null,null,null,null,null,null,null,null,null,null,null,10998,"CENTRO ESCOLAR CANTON EL SALITRE"]
[null,null,null,null,null,null,null,null,null,null,null,null,null,null,null,null,null,null,10999,"CENTRO ESCOLAR WALTER THILO DEININGER"]
[null,null,null,null,null,null,null,null,null,null,null,null,null,null,null,null,null,null,11000,"ESCUELA DE EDUCACION PARVULARIA ANTIGUO CUSCATLAN"]
[null,null,null,null,null,null,null,null,null,null,null,null,null,null,null,null,null,null,11001,"CENTRO ESCOLAR CANTON EL ESPINO"]
[null,null,null,null,null,null,null,null,null,null,null,null,null,null,null,null,null,null,11002,"CENTRO ESCOLAR MARGARITA DE CRISTIANI"]
[null,null,null,null,null,null,null,null,null,null,null,null,null,null,null,null,null,null,11003,"INSTITUTO NACIONAL DE CIUDAD ARCE"]
[null,null,null,null,null,null,null,null,null,null,null,null,null,null,null,null,null,null,11004,"CENTRO ESCOLAR CASERI\u008dO EL CAFETALITO, CANTON SANTA ROSA"]
[null,null,null,null,null,null,null,null,null,null,null,null,null,null,null,null,null,null,11005,"CENTRO ESCOLAR DOCTOR MAURICIO GUZMAN"]
[null,null,null,null,null,null,null,null,null,null,null,null,null,null,null,null,null,null,11006,"COMPLEJO EDUCATIVO CANTON VERACRUZ"]
[null,null,null,null,null,null,null,null,null,null,null,null,null,null,null,null,null,null,11008,"CENTRO ESCOLAR CANTON LA REFORMA"]
[null,null,null,null,null,null,null,null,null,null,null,null,null,null,null,null,null,null,11009,"COMPLEJO EDUCATIVO JUTTA STEINER DE TORUÑO"]
[null,null,null,null,null,null,null,null,null,null,null,null,null,null,null,null,null,null,11010,"COMPLEJO EDUCATIVO RENE TORUÑO STEINER"]
[null,null,null,null,null,null,null,null,null,null,null,null,null,null,null,null,null,null,11011,"CENTRO ESCOLAR IGNACIO ELLACURIA"]
[null,null,null,null,null,null,null,null,null,null,null,null,null,null,null,null,null,null,11012,"CENTRO ESCOLAR CANTON LAS ACOSTAS"]
[null,null,null,null,null,null,null,null,null,null,null,null,null,null,null,null,null,null,11013,"CENTRO ESCOLAR COMUNIDAD SAN FRANCISCO HACIENDA ZAPOTITAN"]
[null,null,null,null,null,null,null,null,null,null,null,null,null,null,null,null,null,null,11015,"CENTRO ESCOLAR PROFESOR OSCAR ARMANDO GUERRA CASTRO"]
[null,null,null,null,null,null,null,null,null,null,null,null,null,null,null,null,null,null,11018,"CENTRO ESCOLAR DE CIUDAD ARCE"]
[null,null,null,null,null,null,null,null,null,null,null,null,null,null,null,null,null,null,11019,"CENTRO ESCOLAR SAN FRANCISCO"]
[null,null,null,null,null,null,null,null,null,null,null,null,null,null,null,null,null,null,11020,"ESCUELA DE EDUCACION PARVULARIA CIUDAD ARCE"]
[null,null,null,null,null,null,null,null,null,null,null,null,null,null,null,null,null,null,11021,"CENTRO ESCOLAR COLONIA CINCO CEDROS"]
[null,null,null,null,null,null,null,null,null,null,null,null,null,null,null,null,null,null,11023,"CENTRO ESCOLAR FRANCISCO GAVIDIA"]
[null,null,null,null,null,null,null,null,null,null,null,null,null,null,null,null,null,null,11024,"CENTRO ESCOLAR CANTON HACIENDA NUEVA"]
[null,null,null,null,null,null,null,null,null,null,null,null,null,null,null,null,null,null,11027,"CENTRO ESCOLAR GUILLERMO GONZALEZ HUEZO"]
[null,null,null,null,null,null,null,null,null,null,null,null,null,null,null,null,null,null,11028,"INSTITUTO NACIONAL CANTON LOURDES"]
[null,null,null,null,null,null,null,null,null,null,null,null,null,null,null,null,null,null,11029,"CENTRO ESCOLAR CANTON LOURDES"]
[null,null,null,null,null,null,null,null,null,null,null,null,null,null,null,null,null,null,11030,"COMPLEJO EDUCATIVO SOR CLARA QUIROZ"]
[null,null,null,null,null,null,null,null,null,null,null,null,null,null,null,null,null,null,11031,"CENTRO ESCOLAR GUSTAVO VIDES VALDES"]
[null,null,null,null,null,null,null,null,null,null,null,null,null,null,null,null,null,null,11032,"CENTRO ESCOLAR ARTURO AMBROGI"]
[null,null,null,null,null,null,null,null,null,null,null,null,null,null,null,null,null,null,11033,"CENTRO ESCOLAR LICENCIADO HECTOR MAURICIO PALOMO SOL"]
[null,null,null,null,null,null,null,null,null,null,null,null,null,null,null,null,null,null,11034,"CENTRO ESCOLAR INGENIERO ROBERTO QUIÑONEZ S."]
[null,null,null,null,null,null,null,null,null,null,null,null,null,null,null,null,null,null,11035,"CENTRO ESCOLAR HACIENDA SAN MIGUEL, CANTON EL COBANAL"]
[null,null,null,null,null,null,null,null,null,null,null,null,null,null,null,null,null,null,11036,"CENTRO ESCOLAR CANTON EL BOTONCILLAL"]
[null,null,null,null,null,null,null,null,null,null,null,null,null,null,null,null,null,null,11037,"CENTRO ESCOLAR CANTON LAS MORAS"]
[null,null,null,null,null,null,null,null,null,null,null,null,null,null,null,null,null,null,11038,"CENTRO ESCOLAR CANTON EL CAPULIN"]
[null,null,null,null,null,null,null,null,null,null,null,null,null,null,null,null,null,null,11039,"CENTRO ESCOLAR COLONIA LAS MORITAS CANTON LAS MORAS"]
[null,null,null,null,null,null,null,null,null,null,null,null,null,null,null,null,null,null,11040,"ESCUELA DE EDUCACION PARVULARIA CANTON LOURDES"]
[null,null,null,null,null,null,null,null,null,null,null,null,null,null,null,null,null,null,11045,"CENTRO ESCOLAR CANTON EL FARO"]
[null,null,null,null,null,null,null,null,null,null,null,null,null,null,null,null,null,null,11048,"CENTRO ESCOLAR CASERIO SANTA ADELAIDA"]
[null,null,null,null,null,null,null,null,null,null,null,null,null,null,null,null,null,null,11051,"INSTITUTO NACIONAL JOSE RIVERA CAMPOS"]
[null,null,null,null,null,null,null,null,null,null,null,null,null,null,null,null,null,null,11052,"CENTRO ESCOLAR ESTADOS UNIDOS DE AMERICA"]
[null,null,null,null,null,null,null,null,null,null,null,null,null,null,null,null,null,null,11053,"ESCUELA DE EDUCACION PARVULARIA DE COMASAGUA"]
[null,null,null,null,null,null,null,null,null,null,null,null,null,null,null,null,null,null,11054,"CENTRO ESCOLAR CANTON LA SHILA"]
[null,null,null,null,null,null,null,null,null,null,null,null,null,null,null,null,null,null,11058,"CENTRO ESCOLAR INGENIERO ORLANDO MAURICIO RECINOS"]
[null,null,null,null,null,null,null,null,null,null,null,null,null,null,null,null,null,null,11059,"CENTRO ESCOLAR CANTON EL ZONTE"]
[null,null,null,null,null,null,null,null,null,null,null,null,null,null,null,null,null,null,11061,"COMPLEJO EDUCATIVO JOSE SIMEON CAÑAS"]
[null,null,null,null,null,null,null,null,null,null,null,null,null,null,null,null,null,null,11062,"CENTRO ESCOLAR DE HUIZUCAR"]
[null,null,null,null,null,null,null,null,null,null,null,null,null,null,null,null,null,null,11063,"CENTRO ESCOLAR CANTON OJO DE AGUA"]
[null,null,null,null,null,null,null,null,null,null,null,null,null,null,null,null,null,null,11069,"ESCUELA DE EDUCACION PARVULARIA DE HUIZUCAR"]
[null,null,null,null,null,null,null,null,null,null,null,null,null,null,null,null,null,null,11071,"CENTRO ESCOLAR COOPERATIVA EL CHAGUITE"]
[null,null,null,null,null,null,null,null,null,null,null,null,null,null,null,null,null,null,11072,"ESCUELA DE EDUCACION PARVULARIA DE JAYAQUE"]
[null,null,null,null,null,null,null,null,null,null,null,null,null,null,null,null,null,null,11073,"CENTRO ESCOLAR HERBERT DE SOLA"]
[null,null,null,null,null,null,null,null,null,null,null,null,null,null,null,null,null,null,11077,"CENTRO ESCOLAR CALIXTO VELADO"]
[null,null,null,null,null,null,null,null,null,null,null,null,null,null,null,null,null,null,11078,"CENTRO ESCOLAR DOCTOR FRANCISCO ANTONIO LIMA"]
[null,null,null,null,null,null,null,null,null,null,null,null,null,null,null,null,null,null,11079,"CENTRO ESCOLAR DE JICALAPA"]
[null,null,null,null,null,null,null,null,null,null,null,null,null,null,null,null,null,null,11081,"CENTRO ESCOLAR CANTON LA PERLA"]
[null,null,null,null,null,null,null,null,null,null,null,null,null,null,null,null,null,null,11082,"COMPLEJO EDUCATIVO CASERIO LA PEDRERA CANTON LA PERLA"]
[null,null,null,null,null,null,null,null,null,null,null,null,null,null,null,null,null,null,11085,"CENTRO ESCOLAR COOPERATIVA SAN DIEGO"]
[null,null,null,null,null,null,null,null,null,null,null,null,null,null,null,null,null,null,11086,"CENTRO ESCOLAR CANTON SANTA LUCIA OROCOYO"]
[null,null,null,null,null,null,null,null,null,null,null,null,null,null,null,null,null,null,11089,"COMPLEJO EDUCATIVO EDUARDO GUIROLA"]
[null,null,null,null,null,null,null,null,null,null,null,null,null,null,null,null,null,null,11091,"ESCUELA DE EDUCACION PARVULARIA CANTON EL JUTE"]
[null,null,null,null,null,null,null,null,null,null,null,null,null,null,null,null,null,null,11092,"INSTITUTO NACIONAL DEL PUERTO DE LA LIBERTAD"]
[null,null,null,null,null,null,null,null,null,null,null,null,null,null,null,null,null,null,11095,"CENTRO ESCOLAR CANTON EL CIMARRON"]
[null,null,null,null,null,null,null,null,null,null,null,null,null,null,null,null,null,null,11096,"CENTRO ESCOLAR CANTON LA CANGREJERA"]
[null,null,null,null,null,null,null,null,null,null,null,null,null,null,null,null,null,null,11097,"CENTRO ESCOLAR CANTON SANTA CRUZ"]
[null,null,null,null,null,null,null,null,null,null,null,null,null,null,null,null,null,null,11099,"CENTRO ESCOLAR CANTON SAN DIEGO"]
[null,null,null,null,null,null,null,null,null,null,null,null,null,null,null,null,null,null,11100,"CENTRO ESCOLAR CANTON MAJAGUAL"]
[null,null,null,null,null,null,null,null,null,null,null,null,null,null,null,null,null,null,11101,"CENTRO ESCOLAR CANTON SAN RAFAEL"]
[null,null,null,null,null,null,null,null,null,null,null,null,null,null,null,null,null,null,11102,"CENTRO ESCOLAR PLAYA SAN DIEGO"]
[null,null,null,null,null,null,null,null,null,null,null,null,null,null,null,null,null,null,11103,"ESCUELA DE EDUCACION PARVULARIA DE LA LIBERTAD"]
[null,null,null,null,null,null,null,null,null,null,null,null,null,null,null,null,null,null,11104,"COMPLEJO EDUCATIVO SAN ARTURO"]
[null,null,null,null,null,null,null,null,null,null,null,null,null,null,null,null,null,null,11105,"CENTRO ESCOLAR CASERIO EL JUTE, CANTON TEPEAGUA"]
[null,null,null,null,null,null,null,null,null,null,null,null,null,null,null,null,null,null,11106,"CENTRO ESCOLAR CASERIO EL MORRAL"]
[null,null,null,null,null,null,null,null,null,null,null,null,null,null,null,null,null,null,11107,"CENTRO ESCOLAR LUZ DE SOTOMAYOR"]
[null,null,null,null,null,null,null,null,null,null,null,null,null,null,null,null,null,null,11108,"CENTRO ESCOLAR DE LA LIBERTAD"]
[null,null,null,null,null,null,null,null,null,null,null,null,null,null,null,null,null,null,11109,"CENTRO ESCOLAR BARRIO EL CALVARIO"]
[null,null,null,null,null,null,null,null,null,null,null,null,null,null,null,null,null,null,11110,"CENTRO ESCOLAR PEDRO PABLO CASTILLO"]
[null,null,null,null,null,null,null,null,null,null,null,null,null,null,null,null,null,null,11111,"CENTRO ESCOLAR HACIENDA FLORENCIA"]
[null,null,null,null,null,null,null,null,null,null,null,null,null,null,null,null,null,null,11112,"ESCUELA DE EDUCACION PARVULARIA JARDINES DE LA SABANA"]
[null,null,null,null,null,null,null,null,null,null,null,null,null,null,null,null,null,null,11113,"CENTRO ESCOLAR CANTON EL COMBO"]
[null,null,null,null,null,null,null,null,null,null,null,null,null,null,null,null,null,null,11114,"CENTRO ESCOLAR REFUGIO DE LA PAZ"]
[null,null,null,null,null,null,null,null,null,null,null,null,null,null,null,null,null,null,11117,"INSTITUTO NACIONAL JOSE DAMIAN VILLACORTA"]
[null,null,null,null,null,null,null,null,null,null,null,null,null,null,null,null,null,null,11120,"CENTRO ESCOLAR CANTON EL PROGRESO"]
[null,null,null,null,null,null,null,null,null,null,null,null,null,null,null,null,null,null,11121,"CENTRO ESCOLAR CANTON LAS GRANADILLAS"]
[null,null,null,null,null,null,null,null,null,null,null,null,null,null,null,null,null,null,11122,"CENTRO ESCOLAR CANTON LOS NARANJOS"]
[null,null,null,null,null,null,null,null,null,null,null,null,null,null,null,null,null,null,11123,"CENTRO ESCOLAR QUEZALTEPEC"]
[null,null,null,null,null,null,null,null,null,null,null,null,null,null,null,null,null,null,11124,"ESCUELA DE EDUCACION PARVULARIA COLONIA QUEZALTEPEC"]
[null,null,null,null,null,null,null,null,null,null,null,null,null,null,null,null,null,null,11128,"CENTRO ESCOLAR CANTON LOS AMATES"]
[null,null,null,null,null,null,null,null,null,null,null,null,null,null,null,null,null,null,11129,"CENTRO ESCOLAR CANTON EL MATAZANO"]
[null,null,null,null,null,null,null,null,null,null,null,null,null,null,null,null,null,null,11130,"CENTRO ESCOLAR ORGANIZACION DE ESTADOS IBEROAMERICANOS"]
[null,null,null,null,null,null,null,null,null,null,null,null,null,null,null,null,null,null,11131,"CENTRO ESCOLAR JARDINES DE LA SABANA"]
[null,null,null,null,null,null,null,null,null,null,null,null,null,null,null,null,null,null,11132,"CENTRO ESCOLAR MARCELINO GARCIA FLAMENCO"]
[null,null,null,null,null,null,null,null,null,null,null,null,null,null,null,null,null,null,11133,"CENTRO ESCOLAR DANIEL HERNANDEZ"]
[null,null,null,null,null,null,null,null,null,null,null,null,null,null,null,null,null,null,11134,"COMPLEJO EDUCATIVO WALTER ARTURO SOUNDY"]
[null,null,null,null,null,null,null,null,null,null,null,null,null,null,null,null,null,null,11135,"CENTRO ESCOLAR MARGARITA DURAN"]
[null,null,null,null,null,null,null,null,null,null,null,null,null,null,null,null,null,null,11138,"COMPLEJO EDUCATIVO JOSE MARTI"]
[null,null,null,null,null,null,null,null,null,null,null,null,null,null,null,null,null,null,11140,"CENTRO ESCOLAR CENTRO AMERICA"]
[null,null,null,null,null,null,null,null,null,null,null,null,null,null,null,null,null,null,11141,"CENTRO ESCOLAR SAN LUIS GONZAGA"]
[null,null,null,null,null,null,null,null,null,null,null,null,null,null,null,null,null,null,11143,"ESCUELA DE EDUCACION PARVULARIA JOSE MARIA SAN MARTIN"]
[null,null,null,null,null,null,null,null,null,null,null,null,null,null,null,null,null,null,11145,"CENTRO ESCOLAR CASERIO LAS LOMAS CANTON LAS MERCEDES"]
[null,null,null,null,null,null,null,null,null,null,null,null,null,null,null,null,null,null,11146,"CENTRO ESCOLAR CASERIO LA ESPERANZA CANTON EL PUENTE"]
[null,null,null,null,null,null,null,null,null,null,null,null,null,null,null,null,null,null,11147,"CENTRO ESCOLAR CASERIO SANTA CRISTINA CANTON EL PUENTE"]
[null,null,null,null,null,null,null,null,null,null,null,null,null,null,null,null,null,null,11148,"CENTRO ESCOLAR HACIENDA SAN LORENZO CANTON EL JICARO"]
[null,null,null,null,null,null,null,null,null,null,null,null,null,null,null,null,null,null,11149,"CENTRO ESCOLAR CASERIO LA LAVA CANTON PRIMAVERA"]
[null,null,null,null,null,null,null,null,null,null,null,null,null,null,null,null,null,null,11150,"CENTRO ESCOLAR CASERIO EL AGUACATE CANTON TACACHICO"]
[null,null,null,null,null,null,null,null,null,null,null,null,null,null,null,null,null,null,11153,"CENTRO ESCOLAR FINCA CUATRO SANTOS, CANTON SAN FRANCISCO"]
[null,null,null,null,null,null,null,null,null,null,null,null,null,null,null,null,null,null,11154,"ESCUELA DE EDUCACION PARVULARIA DE MERCEDES UMAÑA"]
[null,null,null,null,null,null,null,null,null,null,null,null,null,null,null,null,null,null,11155,"INSTITUTO NACIONAL JOSE MARIA PERALTA LAGOS"]
[null,null,null,null,null,null,null,null,null,null,null,null,null,null,null,null,null,null,11159,"ESCUELA DE EDUCACION PARVULARIA DE QUEZALTEPEQUE"]
[null,null,null,null,null,null,null,null,null,null,null,null,null,null,null,null,null,null,11163,"CENTRO ESCOLAR JUANA GALAN DE QUINTANILLA"]
[null,null,null,null,null,null,null,null,null,null,null,null,null,null,null,null,null,null,11164,"CENTRO ESCOLAR CANTON LA PRIMAVERA"]
[null,null,null,null,null,null,null,null,null,null,null,null,null,null,null,null,null,null,11165,"CENTRO ESCOLAR ESTEBANA SANABRIA DE LARIOS"]
[null,null,null,null,null,null,null,null,null,null,null,null,null,null,null,null,null,null,11166,"CENTRO ESCOLAR CANTON GIRON"]
[null,null,null,null,null,null,null,null,null,null,null,null,null,null,null,null,null,null,11170,"CENTRO ESCOLAR CANTON LOS SITIOS DE NEJAPA"]
[null,null,null,null,null,null,null,null,null,null,null,null,null,null,null,null,null,null,11171,"CENTRO ESCOLAR JOSE DOLORES LARREYNAGA"]
[null,null,null,null,null,null,null,null,null,null,null,null,null,null,null,null,null,null,11172,"CENTRO ESCOLAR MIGUEL ANGEL GARCIA"]
[null,null,null,null,null,null,null,null,null,null,null,null,null,null,null,null,null,null,11173,"CENTRO ESCOLAR REPUBLICA DE NICARAGUA"]
[null,null,null,null,null,null,null,null,null,null,null,null,null,null,null,null,null,null,11174,"CENTRO ESCOLAR JUAN RAMON JIMENEZ"]
[null,null,null,null,null,null,null,null,null,null,null,null,null,null,null,null,null,null,11175,"CENTRO ESCOLAR PROFESORA MARIA JULIA ALVARADO MADRID DE GARCIA"]
[null,null,null,null,null,null,null,null,null,null,null,null,null,null,null,null,null,null,11176,"CENTRO ESCOLAR EMILIA MERCHER"]
[null,null,null,null,null,null,null,null,null,null,null,null,null,null,null,null,null,null,11177,"CENTRO ESCOLAR SACACOYO"]
[null,null,null,null,null,null,null,null,null,null,null,null,null,null,null,null,null,null,11178,"CENTRO ESCOLAR CANTON ATEOS"]
[null,null,null,null,null,null,null,null,null,null,null,null,null,null,null,null,null,null,11179,"CENTRO ESCOLAR CASERIO EL TIGRE DEL CANTON ATEOS"]
[null,null,null,null,null,null,null,null,null,null,null,null,null,null,null,null,null,null,11180,"COMPLEJO EDUCATIVO MARISOL BOLAÑOS DE RIVAS"]
[null,null,null,null,null,null,null,null,null,null,null,null,null,null,null,null,null,null,11181,"ESCUELA DE EDUCACION PARVULARIA DE SACACOYO"]
[null,null,null,null,null,null,null,null,null,null,null,null,null,null,null,null,null,null,11182,"CENTRO ESCOLAR DOCTOR SALVADOR MENDIETA"]
[null,null,null,null,null,null,null,null,null,null,null,null,null,null,null,null,null,null,11183,"ESCUELA DE EDUCACION PARVULARIA SAN JOSE VILLANUEVA"]
[null,null,null,null,null,null,null,null,null,null,null,null,null,null,null,null,null,null,11184,"CENTRO ESCOLAR CANTON LAS DISPENSAS"]
[null,null,null,null,null,null,null,null,null,null,null,null,null,null,null,null,null,null,11186,"CENTRO ESCOLAR CANTON EL ESCALON"]
[null,null,null,null,null,null,null,null,null,null,null,null,null,null,null,null,null,null,11187,"CENTRO ESCOLAR HABITACIONAL SAN JOSE"]
[null,null,null,null,null,null,null,null,null,null,null,null,null,null,null,null,null,null,11188,"CENTRO ESCOLAR CASERIO LAS FLORES, CANTON AGUA ESCONDIDA"]
[null,null,null,null,null,null,null,null,null,null,null,null,null,null,null,null,null,null,11190,"CENTRO ESCOLAR CANTON EL MATAZANO"]
[null,null,null,null,null,null,null,null,null,null,null,null,null,null,null,null,null,null,11201,"CENTRO ESCOLAR CANTON EL CASTILLO"]
[null,null,null,null,null,null,null,null,null,null,null,null,null,null,null,null,null,null,11204,"COMPLEJO EDUCATIVO SOLDADO OSCAR ANTONIO ORTIZ REYES"]
[null,null,null,null,null,null,null,null,null,null,null,null,null,null,null,null,null,null,11207,"CENTRO ESCOLAR CANTON EL ANGEL"]
[null,null,null,null,null,null,null,null,null,null,null,null,null,null,null,null,null,null,11209,"CENTRO ESCOLAR HACIENDA VERACRUZ CANTON BUENA VISTA"]
[null,null,null,null,null,null,null,null,null,null,null,null,null,null,null,null,null,null,11212,"ESCUELA DE EDUCACION PARVULARIA HACIENDA CHANMICO"]
[null,null,null,null,null,null,null,null,null,null,null,null,null,null,null,null,null,null,11213,"ESCUELA DE EDUCACION PARVULARIA HACIENDA SAN ANDRES"]
[null,null,null,null,null,null,null,null,null,null,null,null,null,null,null,null,null,null,11214,"CENTRO ESCOLAR CANTON SITIO DEL NIÑO"]
[null,null,null,null,null,null,null,null,null,null,null,null,null,null,null,null,null,null,11215,"CENTRO ESCOLAR LA NUEVA ESPERANZA"]
[null,null,null,null,null,null,null,null,null,null,null,null,null,null,null,null,null,null,11216,"CENTRO ESCOLAR CANTON JABALINCITO"]
[null,null,null,null,null,null,null,null,null,null,null,null,null,null,null,null,null,null,11217,"CENTRO ESCOLAR CANTON LAS DELICIAS"]
[null,null,null,null,null,null,null,null,null,null,null,null,null,null,null,null,null,null,11218,"CENTRO ESCOLAR CANTON SAN ANTONIO"]
[null,null,null,null,null,null,null,null,null,null,null,null,null,null,null,null,null,null,11220,"CENTRO ESCOLAR CANTON MINAS DE PLOMO"]
[null,null,null,null,null,null,null,null,null,null,null,null,null,null,null,null,null,null,11221,"CENTRO ESCOLAR CANTON CHANTUSNENE"]
[null,null,null,null,null,null,null,null,null,null,null,null,null,null,null,null,null,null,11222,"CENTRO ESCOLAR HACIENDA LOS CHORROS CANTON AGUA ESCONDIDA"]
[null,null,null,null,null,null,null,null,null,null,null,null,null,null,null,null,null,null,11223,"CENTRO ESCOLAR CANTON SAN FELIPE"]
[null,null,null,null,null,null,null,null,null,null,null,null,null,null,null,null,null,null,11224,"ESCUELA DE EDUCACION PARVULARIA DE SAN JUAN OPICO"]
[null,null,null,null,null,null,null,null,null,null,null,null,null,null,null,null,null,null,11225,"CENTRO ESCOLAR CANTON SAN PEDRO ORIENTE"]
[null,null,null,null,null,null,null,null,null,null,null,null,null,null,null,null,null,null,11226,"CENTRO ESCOLAR CANTON SAN ANTONIO TEHUICHO"]
[null,null,null,null,null,null,null,null,null,null,null,null,null,null,null,null,null,null,11227,"CENTRO ESCOLAR HACIENDA TALCUALUYA CANTON EL CARMEN"]
[null,null,null,null,null,null,null,null,null,null,null,null,null,null,null,null,null,null,11228,"CENTRO ESCOLAR SANTOS NOVOA"]
[null,null,null,null,null,null,null,null,null,null,null,null,null,null,null,null,null,null,11229,"CENTRO ESCOLAR CANTON LA NUEVA ENCARNACION"]
[null,null,null,null,null,null,null,null,null,null,null,null,null,null,null,null,null,null,11230,"CENTRO ESCOLAR CANTON SAN NICOLAS LA ENCARNACION"]
[null,null,null,null,null,null,null,null,null,null,null,null,null,null,null,null,null,null,11231,"CENTRO ESCOLAR CANTON LOS AMATES"]
[null,null,null,null,null,null,null,null,null,null,null,null,null,null,null,null,null,null,11232,"CENTRO ESCOLAR CANTON CHANMICO"]
[null,null,null,null,null,null,null,null,null,null,null,null,null,null,null,null,null,null,11233,"COMPLEJO EDUCATIVO JUAN ERNESTO DE BEDOUT"]
[null,null,null,null,null,null,null,null,null,null,null,null,null,null,null,null,null,null,11234,"CENTRO ESCOLAR CANTON LOMAS DE SANTIAGO"]
[null,null,null,null,null,null,null,null,null,null,null,null,null,null,null,null,null,null,11236,"CENTRO ESCOLAR CANTON SAN DIEGO BARRANCA HONDA"]
[null,null,null,null,null,null,null,null,null,null,null,null,null,null,null,null,null,null,11238,"CENTRO ESCOLAR FINCA EL REFUGIO"]
[null,null,null,null,null,null,null,null,null,null,null,null,null,null,null,null,null,null,11239,"CENTRO ESCOLAR CANTON AGUA ESCONDIDA"]
[null,null,null,null,null,null,null,null,null,null,null,null,null,null,null,null,null,null,11240,"CENTRO ESCOLAR CANTON JOYA DE CEREN"]
[null,null,null,null,null,null,null,null,null,null,null,null,null,null,null,null,null,null,11241,"CENTRO ESCOLAR CASERIO VALLADARES"]
[null,null,null,null,null,null,null,null,null,null,null,null,null,null,null,null,null,null,11243,"CENTRO ESCOLAR NATALIA LOPEZ"]
[null,null,null,null,null,null,null,null,null,null,null,null,null,null,null,null,null,null,11244,"COMPLEJO EDUCATIVO CANTON EL JOCOTE"]
[null,null,null,null,null,null,null,null,null,null,null,null,null,null,null,null,null,null,11247,"CENTRO ESCOLAR CANTON LA PUEBLA"]
[null,null,null,null,null,null,null,null,null,null,null,null,null,null,null,null,null,null,11249,"CENTRO ESCOLAR CANTON EL JICARO"]
[null,null,null,null,null,null,null,null,null,null,null,null,null,null,null,null,null,null,11254,"INSTITUTO NACIONAL DE SAN PABLO TACACHICO"]
[null,null,null,null,null,null,null,null,null,null,null,null,null,null,null,null,null,null,11256,"CENTRO ESCOLAR PROFESOR JESUS LEOCADIO PALENCIA"]
[null,null,null,null,null,null,null,null,null,null,null,null,null,null,null,null,null,null,11257,"CENTRO ESCOLAR SAN ISIDRO"]
[null,null,null,null,null,null,null,null,null,null,null,null,null,null,null,null,null,null,11259,"CENTRO ESCOLAR CANTON SAN JUAN LAS MESAS"]
[null,null,null,null,null,null,null,null,null,null,null,null,null,null,null,null,null,null,11260,"CENTRO ESCOLAR CASERIO LAS PAVAS CANTON EL PAPATURRAL"]
[null,null,null,null,null,null,null,null,null,null,null,null,null,null,null,null,null,null,11262,"COMPLEJO EDUCATIVO CAPITAN GENERAL GERARDO BARRIOS"]
[null,null,null,null,null,null,null,null,null,null,null,null,null,null,null,null,null,null,11263,"COMPLEJO EDUCATIVO CANTON EL ZUNZAL"]
[null,null,null,null,null,null,null,null,null,null,null,null,null,null,null,null,null,null,11265,"CENTRO ESCOLAR CANTON SAN ALFONSO"]
[null,null,null,null,null,null,null,null,null,null,null,null,null,null,null,null,null,null,11267,"CENTRO ESCOLAR LICENCIADO WALTER BENEKE"]
[null,null,null,null,null,null,null,null,null,null,null,null,null,null,null,null,null,null,11270,"CENTRO ESCOLAR CANTON LOS LAURELES"]
[null,null,null,null,null,null,null,null,null,null,null,null,null,null,null,null,null,null,11272,"CENTRO ESCOLAR CANTON SAN JOSE LOS SITIOS"]
[null,null,null,null,null,null,null,null,null,null,null,null,null,null,null,null,null,null,11274,"CENTRO ESCOLAR HACIENDA EL TRANSITO"]
[null,null,null,null,null,null,null,null,null,null,null,null,null,null,null,null,null,null,11276,"COMPLEJO EDUCATIVO TALNIQUE"]
[null,null,null,null,null,null,null,null,null,null,null,null,null,null,null,null,null,null,11277,"CENTRO ESCOLAR CANTON SIHUAPILAPA ARRIBA"]
[null,null,null,null,null,null,null,null,null,null,null,null,null,null,null,null,null,null,11279,"CENTRO ESCOLAR CANTON LOMAS DE TEXICIO"]
[null,null,null,null,null,null,null,null,null,null,null,null,null,null,null,null,null,null,11280,"COMPLEJO EDUCATIVO PROFESOR MARDOQUEO ORELLANA LONE"]
[null,null,null,null,null,null,null,null,null,null,null,null,null,null,null,null,null,null,11283,"INSTITUTO NACIONAL DE TEOTEPEQUE"]
[null,null,null,null,null,null,null,null,null,null,null,null,null,null,null,null,null,null,11284,"CENTRO ESCOLAR DE TEOTEPEQUE"]
[null,null,null,null,null,null,null,null,null,null,null,null,null,null,null,null,null,null,11288,"CENTRO ESCOLAR CANTON EL PITAL"]
[null,null,null,null,null,null,null,null,null,null,null,null,null,null,null,null,null,null,11291,"ESCUELA DE EDUCACION PARVULARIA DE TEPECOYO"]
[null,null,null,null,null,null,null,null,null,null,null,null,null,null,null,null,null,null,11292,"CENTRO ESCOLAR GUILLERMO SCHMIDTH"]
[null,null,null,null,null,null,null,null,null,null,null,null,null,null,null,null,null,null,11297,"CENTRO ESCOLAR DE TEPECOYO"]
[null,null,null,null,null,null,null,null,null,null,null,null,null,null,null,null,null,null,11298,"CENTRO ESCOLAR JOSE MARIA CACERES"]
[null,null,null,null,null,null,null,null,null,null,null,null,null,null,null,null,null,null,11299,"CENTRO ESCOLAR CANTON SAN SEBASTIAN"]
[null,null,null,null,null,null,null,null,null,null,null,null,null,null,null,null,null,null,11300,"CENTRO ESCOLAR CANTON GUADALUPE"]
[null,null,null,null,null,null,null,null,null,null,null,null,null,null,null,null,null,null,11301,"CENTRO ESCOLAR CANTON EL BARILLO"]
[null,null,null,null,null,null,null,null,null,null,null,null,null,null,null,null,null,null,11302,"ESCUELA DE EDUCACION PARVULARIA DE ZARAGOZA"]
[null,null,null,null,null,null,null,null,null,null,null,null,null,null,null,null,null,null,11303,"INSTITUTO NACIONAL DE ZARAGOZA"]
[null,null,null,null,null,null,null,null,null,null,null,null,null,null,null,null,null,null,11306,"CENTRO ESCOLAR ROQUE DALTON"]
[null,null,null,null,null,null,null,null,null,null,null,null,null,null,null,null,null,null,11307,"INSTITUTO NACIONAL DE AGUILARES"]
[null,null,null,null,null,null,null,null,null,null,null,null,null,null,null,null,null,null,11308,"CENTRO ESCOLAR MODESTO BARRIOS"]
[null,null,null,null,null,null,null,null,null,null,null,null,null,null,null,null,null,null,11309,"ESCUELA DE EDUCACION PARVULARIA DE AGUILARES"]
[null,null,null,null,null,null,null,null,null,null,null,null,null,null,null,null,null,null,11310,"CENTRO ESCOLAR CANTON LAS TUNAS"]
[null,null,null,null,null,null,null,null,null,null,null,null,null,null,null,null,null,null,11312,"CENTRO ESCOLAR PROFESORA MARIA TERESA GUZMAN"]
[null,null,null,null,null,null,null,null,null,null,null,null,null,null,null,null,null,null,11313,"CENTRO ESCOLAR CANTON PIÑALITOS"]
[null,null,null,null,null,null,null,null,null,null,null,null,null,null,null,null,null,null,11314,"CENTRO ESCOLAR URBANIZACION CELSA PALACIOS"]
[null,null,null,null,null,null,null,null,null,null,null,null,null,null,null,null,null,null,11317,"CENTRO ESCOLAR LICENCIADO ALFREDO FELIX CRISTIANI BURKARD"]
[null,null,null,null,null,null,null,null,null,null,null,null,null,null,null,null,null,null,11318,"COMPLEJO EDUCATIVO COLONIA LOS NARANJOS"]
[null,null,null,null,null,null,null,null,null,null,null,null,null,null,null,null,null,null,11319,"COMPLEJO EDUCATIVO LICENCIADO RENATO NOYOLA"]
[null,null,null,null,null,null,null,null,null,null,null,null,null,null,null,null,null,null,11321,"CENTRO ESCOLAR COLONIA LA ERMITA"]
[null,null,null,null,null,null,null,null,null,null,null,null,null,null,null,null,null,null,11322,"ESCUELA DE EDUCACION PARVULARIA POPOTLAN"]
[null,null,null,null,null,null,null,null,null,null,null,null,null,null,null,null,null,null,11323,"CENTRO ESCOLAR PROFESOR ROMERO HUMBERTO GONZALEZ"]
[null,null,null,null,null,null,null,null,null,null,null,null,null,null,null,null,null,null,11324,"COMPLEJO EDUCATIVO PROFESORA ANGELA DE JESUS HERNANDEZ DE ROMERO"]
[null,null,null,null,null,null,null,null,null,null,null,null,null,null,null,null,null,null,11325,"CENTRO ESCOLAR CASERIO EL GUAYCUME CANTÓN SAN NICOLÁS"]
[null,null,null,null,null,null,null,null,null,null,null,null,null,null,null,null,null,null,11327,"CENTRO ESCOLAR VALLE DEL SOL"]
[null,null,null,null,null,null,null,null,null,null,null,null,null,null,null,null,null,null,11328,"ESCUELA DE EDUCACION PARVULARIA COLONIA JARDINES DEL NORTE II"]
[null,null,null,null,null,null,null,null,null,null,null,null,null,null,null,null,null,null,11329,"INSTITUTO NACIONAL DE LA COLONIA CIUDAD OBRERA DE APOPA"]
[null,null,null,null,null,null,null,null,null,null,null,null,null,null,null,null,null,null,11330,"INSTITUTO NACIONAL DE APOPA"]
[null,null,null,null,null,null,null,null,null,null,null,null,null,null,null,null,null,null,11331,"CENTRO ESCOLAR CANTON EL ANGEL"]
[null,null,null,null,null,null,null,null,null,null,null,null,null,null,null,null,null,null,11332,"CENTRO ESCOLAR CANTON JOYA GRANDE"]
[null,null,null,null,null,null,null,null,null,null,null,null,null,null,null,null,null,null,11333,"CENTRO ESCOLAR CORONEL FRANCISCO LINARES"]
[null,null,null,null,null,null,null,null,null,null,null,null,null,null,null,null,null,null,11334,"CENTRO ESCOLAR SAN MARTIN DE PORRES CANTÓN SAN NICOLÁS"]
[null,null,null,null,null,null,null,null,null,null,null,null,null,null,null,null,null,null,11336,"CENTRO ESCOLAR COLONIA LAS CAÑAS"]
[null,null,null,null,null,null,null,null,null,null,null,null,null,null,null,null,null,null,11337,"COMPLEJO EDUCATIVO SARA PALMA DE JULE"]
[null,null,null,null,null,null,null,null,null,null,null,null,null,null,null,null,null,null,11338,"CENTRO ESCOLAR REPUBLICA DE CHINA"]
[null,null,null,null,null,null,null,null,null,null,null,null,null,null,null,null,null,null,11339,"CENTRO ESCOLAR SAMARIA LAS MERCEDES"]
[null,null,null,null,null,null,null,null,null,null,null,null,null,null,null,null,null,null,11340,"CENTRO ESCOLAR INGENIERO JOSE NAPOLEON DUARTE"]
[null,null,null,null,null,null,null,null,null,null,null,null,null,null,null,null,null,null,11341,"CENTRO ESCOLAR COLONIA SANTA LUCIA"]
[null,null,null,null,null,null,null,null,null,null,null,null,null,null,null,null,null,null,11342,"CENTRO ESCOLAR DE POPOTLAN"]
[null,null,null,null,null,null,null,null,null,null,null,null,null,null,null,null,null,null,11343,"CENTRO ESCOLAR ASENTAMIENTO DE LA COLONIA POPOTLAN"]
[null,null,null,null,null,null,null,null,null,null,null,null,null,null,null,null,null,null,11344,"CENTRO ESCOLAR VICENTE ACOSTA"]
[null,null,null,null,null,null,null,null,null,null,null,null,null,null,null,null,null,null,11345,"CENTRO ESCOLAR BENJAMIN BLOOM"]
[null,null,null,null,null,null,null,null,null,null,null,null,null,null,null,null,null,null,11346,"ESCUELA DE EDUCACION PARVULARIA PROFESORA BERTA ARLINA MOLINA"]
[null,null,null,null,null,null,null,null,null,null,null,null,null,null,null,null,null,null,11348,"CENTRO ESCOLAR CANTON TRES CEIBAS"]
[null,null,null,null,null,null,null,null,null,null,null,null,null,null,null,null,null,null,11349,"COMPLEJO EDUCATIVO INGENIERO GUILLERMO BORJA NATHAN"]
[null,null,null,null,null,null,null,null,null,null,null,null,null,null,null,null,null,null,11350,"CENTRO ESCOLAR CANTON GUADALUPE"]
[null,null,null,null,null,null,null,null,null,null,null,null,null,null,null,null,null,null,11351,"CENTRO ESCOLAR CANTON SAN NICOLAS"]
[null,null,null,null,null,null,null,null,null,null,null,null,null,null,null,null,null,null,11353,"CENTRO ESCOLAR DOCTOR DOROTEO VASCONCELOS"]
[null,null,null,null,null,null,null,null,null,null,null,null,null,null,null,null,null,null,11354,"CENTRO ESCOLAR DOCTOR ARTURO ROMERO"]
[null,null,null,null,null,null,null,null,null,null,null,null,null,null,null,null,null,null,11355,"CENTRO ESCOLAR PRESBITERO RAFAEL ARTURO LOPEZ"]
[null,null,null,null,null,null,null,null,null,null,null,null,null,null,null,null,null,null,11356,"CENTRO ESCOLAR CANTON EL ZAPOTE"]
[null,null,null,null,null,null,null,null,null,null,null,null,null,null,null,null,null,null,11357,"ESCUELA DE EDUCACION PARVULARIA HUGO LINDO"]
[null,null,null,null,null,null,null,null,null,null,null,null,null,null,null,null,null,null,11358,"CENTRO ESCOLAR EL RETIRO"]
[null,null,null,null,null,null,null,null,null,null,null,null,null,null,null,null,null,null,11359,"ESCUELA DE EDUCACION PARVULARIA COLONIA ASCENCION"]
[null,null,null,null,null,null,null,null,null,null,null,null,null,null,null,null,null,null,11360,"ESCUELA DE EDUCACION PARVULARIA COLONIA SAN ANTONIO"]
[null,null,null,null,null,null,null,null,null,null,null,null,null,null,null,null,null,null,11363,"ESCUELA DE EDUCACION PARVULARIA CANTON SAN LUIS MARIONA"]
[null,null,null,null,null,null,null,null,null,null,null,null,null,null,null,null,null,null,11364,"COMPLEJO EDUCATIVO TOMAS CABRERA"]
[null,null,null,null,null,null,null,null,null,null,null,null,null,null,null,null,null,null,11365,"COMPLEJO EDUCATIVO LA PAZ"]
[null,null,null,null,null,null,null,null,null,null,null,null,null,null,null,null,null,null,11366,"ESCUELA DE EDUCACION PARVULARIA ALBERTO MASFERRER"]
[null,null,null,null,null,null,null,null,null,null,null,null,null,null,null,null,null,null,11367,"COMPLEJO EDUCATIVO ANGELA DE SOLER"]
[null,null,null,null,null,null,null,null,null,null,null,null,null,null,null,null,null,null,11368,"ESCUELA DE EDUCACION PARVULARIA MARIA AUXILIADORA"]
[null,null,null,null,null,null,null,null,null,null,null,null,null,null,null,null,null,null,11369,"CENTRO ESCOLAR VILLAMARIONA"]
[null,null,null,null,null,null,null,null,null,null,null,null,null,null,null,null,null,null,11370,"CENTRO ESCOLAR SANTA  ROSA"]
[null,null,null,null,null,null,null,null,null,null,null,null,null,null,null,null,null,null,11372,"CENTRO ESCOLAR HACIENDA COLIMA CANTON EL TULE"]
[null,null,null,null,null,null,null,null,null,null,null,null,null,null,null,null,null,null,11374,"CENTRO ESCOLAR PRIMERO DE JULIO DE 1823"]
[null,null,null,null,null,null,null,null,null,null,null,null,null,null,null,null,null,null,11375,"CENTRO ESCOLAR CANTON LAS DELICIAS"]
[null,null,null,null,null,null,null,null,null,null,null,null,null,null,null,null,null,null,11376,"CENTRO ESCOLAR CANTON POTRERO GRANDE"]
[null,null,null,null,null,null,null,null,null,null,null,null,null,null,null,null,null,null,11377,"COMPLEJO EDUCATIVO CANTON EL TULE"]
[null,null,null,null,null,null,null,null,null,null,null,null,null,null,null,null,null,null,11378,"COMPLEJO EDUCATIVO HERBERT DE SOLA"]
[null,null,null,null,null,null,null,null,null,null,null,null,null,null,null,null,null,null,11379,"CENTRO ESCOLAR CANTON SAN RAFAEL"]
[null,null,null,null,null,null,null,null,null,null,null,null,null,null,null,null,null,null,11380,"COMPLEJO EDUCATIVO DELFINA DE DIAZ"]
[null,null,null,null,null,null,null,null,null,null,null,null,null,null,null,null,null,null,11381,"ESCUELA DE EDUCACION PARVULARIA PROFESORA MARIA EMMA CASTRO DE CHIQUILLO"]
[null,null,null,null,null,null,null,null,null,null,null,null,null,null,null,null,null,null,11382,"CENTRO ESCOLAR CANTON SANTA BARBARA"]
[null,null,null,null,null,null,null,null,null,null,null,null,null,null,null,null,null,null,11383,"CENTRO ESCOLAR CASERIO SAN CRISTOBAL CANTON LOMAS DE RAMOS"]
[null,null,null,null,null,null,null,null,null,null,null,null,null,null,null,null,null,null,11384,"CENTRO ESCOLAR CANTON ZACAMIL"]
[null,null,null,null,null,null,null,null,null,null,null,null,null,null,null,null,null,null,11385,"CENTRO ESCOLAR CANTON SAN JERONIMO"]
[null,null,null,null,null,null,null,null,null,null,null,null,null,null,null,null,null,null,11386,"CENTRO ESCOLAR SALVADOR SALAZAR ARRUE"]
[null,null,null,null,null,null,null,null,null,null,null,null,null,null,null,null,null,null,11388,"COMPLEJO EDUCATIVO DOCTOR DAVID ESCOBAR GALINDO"]
[null,null,null,null,null,null,null,null,null,null,null,null,null,null,null,null,null,null,11389,"COMPLEJO EDUCATIVO COLONIA SANTA LUCIA"]
[null,null,null,null,null,null,null,null,null,null,null,null,null,null,null,null,null,null,11390,"COMPLEJO EDUCATIVO COLONIA SAN FELIPE"]
[null,null,null,null,null,null,null,null,null,null,null,null,null,null,null,null,null,null,11392,"CENTRO ESCOLAR COMUNIDAD SAN BARTOLO DEL NORTE"]
[null,null,null,null,null,null,null,null,null,null,null,null,null,null,null,null,null,null,11393,"COMPLEJO EDUCATIVO REPARTO VALLE NUEVO"]
[null,null,null,null,null,null,null,null,null,null,null,null,null,null,null,null,null,null,11394,"CENTRO ESCOLAR JARDINES DE SELT SUTT"]
[null,null,null,null,null,null,null,null,null,null,null,null,null,null,null,null,null,null,11395,"INSTITUTO NACIONAL DE SAN BARTOLO"]
[null,null,null,null,null,null,null,null,null,null,null,null,null,null,null,null,null,null,11396,"CENTRO ESCOLAR CAMPAMENTO BANCO HIPOTECARIO"]
[null,null,null,null,null,null,null,null,null,null,null,null,null,null,null,null,null,null,11398,"ESCUELA DE EDUCACION PARVULARIA COLONIA SANTA LUCIA"]
[null,null,null,null,null,null,null,null,null,null,null,null,null,null,null,null,null,null,11399,"COMPLEJO EDUCATIVO GENERAL JOSE MARIA PERALTA LAGOS"]
[null,null,null,null,null,null,null,null,null,null,null,null,null,null,null,null,null,null,11400,"COMPLEJO EDUCATIVO CANTON SAN BARTOLO"]
[null,null,null,null,null,null,null,null,null,null,null,null,null,null,null,null,null,null,11402,"CENTRO ESCOLAR IGNACIA CRUZ CASTRO"]
[null,null,null,null,null,null,null,null,null,null,null,null,null,null,null,null,null,null,11405,"CENTRO ESCOLAR JARDINES DE SAN BARTOLO"]
[null,null,null,null,null,null,null,null,null,null,null,null,null,null,null,null,null,null,11406,"COMPLEJO EDUCATIVO COLONIA VERACRUZ, CANTON SAN BARTOLO"]
[null,null,null,null,null,null,null,null,null,null,null,null,null,null,null,null,null,null,11407,"COMPLEJO EDUCATIVO COLONIA LAS CAÑAS"]
[null,null,null,null,null,null,null,null,null,null,null,null,null,null,null,null,null,null,11409,"CENTRO ESCOLAR REPUBLICA DE VENEZUELA"]
[null,null,null,null,null,null,null,null,null,null,null,null,null,null,null,null,null,null,11410,"CENTRO ESCOLAR FABIO CASTILLO"]
[null,null,null,null,null,null,null,null,null,null,null,null,null,null,null,null,null,null,11411,"CENTRO ESCOLAR JOHN F KENNEDY"]
[null,null,null,null,null,null,null,null,null,null,null,null,null,null,null,null,null,null,11412,"ESCUELA DE EDUCACION PARVULARIA GLORIA DE BORJA NATAN"]
[null,null,null,null,null,null,null,null,null,null,null,null,null,null,null,null,null,null,11413,"ESCUELA DE EDUCACION PARVULARIA COMUNIDAD JARDIN, COLONIA JARDIN"]
[null,null,null,null,null,null,null,null,null,null,null,null,null,null,null,null,null,null,11414,"CENTRO ESCOLAR REPUBLICA DE FRANCIA"]
[null,null,null,null,null,null,null,null,null,null,null,null,null,null,null,null,null,null,11416,"CENTRO ESCOLAR CESAR GUZMAN"]
[null,null,null,null,null,null,null,null,null,null,null,null,null,null,null,null,null,null,11420,"INSTITUTO NACIONAL MAESTRO ALBERTO MASFERRER"]
[null,null,null,null,null,null,null,null,null,null,null,null,null,null,null,null,null,null,11422,"CENTRO ESCOLAR REPUBLICA ORIENTAL DEL URUGUAY"]
[null,null,null,null,null,null,null,null,null,null,null,null,null,null,null,null,null,null,11425,"ESCUELA DE EDUCACION PARVULARIA PROFESORA RAFAELA ADELINA FIGUEROA DE PACHECO"]
[null,null,null,null,null,null,null,null,null,null,null,null,null,null,null,null,null,null,11426,"CENTRO ESCOLAR CANTON SAN ROQUE"]
[null,null,null,null,null,null,null,null,null,null,null,null,null,null,null,null,null,null,11427,"COMPLEJO EDUCATIVO REINO DE SUECIA"]
[null,null,null,null,null,null,null,null,null,null,null,null,null,null,null,null,null,null,11428,"CENTRO ESCOLAR COLONIA SAN RAMON"]
[null,null,null,null,null,null,null,null,null,null,null,null,null,null,null,null,null,null,11429,"ESCUELA DE EDUCACION PARVULARIA ZACAMIL"]
[null,null,null,null,null,null,null,null,null,null,null,null,null,null,null,null,null,null,11430,"CENTRO ESCOLAR ASOCIACION SALVADOREÑA DE SEÑORAS DE INGENIEROS CIVILES"]
[null,null,null,null,null,null,null,null,null,null,null,null,null,null,null,null,null,null,11431,"COMPLEJO EDUCATIVO PROFESORA HERMINIA MARTINEZ ALVARENGA"]
[null,null,null,null,null,null,null,null,null,null,null,null,null,null,null,null,null,null,11432,"CENTRO ESCOLAR COLONIA SAN MAURICIO"]
[null,null,null,null,null,null,null,null,null,null,null,null,null,null,null,null,null,null,11433,"COMPLEJO EDUCATIVO PROFESORA MARIA AMANDA ARTIGA DE VILLALTA"]
[null,null,null,null,null,null,null,null,null,null,null,null,null,null,null,null,null,null,11434,"CENTRO ESCOLAR BARRIO LAS DELICIAS"]
[null,null,null,null,null,null,null,null,null,null,null,null,null,null,null,null,null,null,11435,"CENTRO ESCOLAR ANTONIO NAJARRO"]
[null,null,null,null,null,null,null,null,null,null,null,null,null,null,null,null,null,null,11436,"COMPLEJO EDUCATIVO AMALIA VDA DE MENENDEZ"]
[null,null,null,null,null,null,null,null,null,null,null,null,null,null,null,null,null,null,11437,"CENTRO ESCOLAR 22 DE JUNIO"]
[null,null,null,null,null,null,null,null,null,null,null,null,null,null,null,null,null,null,11438,"CENTRO ESCOLAR JAPON"]
[null,null,null,null,null,null,null,null,null,null,null,null,null,null,null,null,null,null,11439,"CENTRO ESCOLAR COLONIA SAN SIMON"]
[null,null,null,null,null,null,null,null,null,null,null,null,null,null,null,null,null,null,11440,"CENTRO ESCOLAR CANTON MAPILAPA"]
[null,null,null,null,null,null,null,null,null,null,null,null,null,null,null,null,null,null,11441,"COMPLEJO EDUCATIVO CANTON TUTULTEPEQUE"]
[null,null,null,null,null,null,null,null,null,null,null,null,null,null,null,null,null,null,11443,"CENTRO ESCOLAR CANTON ALDEA DE LAS MERCEDES"]
[null,null,null,null,null,null,null,null,null,null,null,null,null,null,null,null,null,null,11449,"CENTRO ESCOLAR CANTON BARBA RUBIA"]
[null,null,null,null,null,null,null,null,null,null,null,null,null,null,null,null,null,null,11450,"INSTITUTO NACIONAL JUAN PABLO II"]
[null,null,null,null,null,null,null,null,null,null,null,null,null,null,null,null,null,null,11451,"CENTRO ESCOLAR JOSE MATIAS DELGADO"]
[null,null,null,null,null,null,null,null,null,null,null,null,null,null,null,null,null,null,11452,"CENTRO ESCOLAR GENERAL FRANCISCO MORAZAN"]
[null,null,null,null,null,null,null,null,null,null,null,null,null,null,null,null,null,null,11453,"COMPLEJO EDUCATIVO PROFESOR ALBERTO MONTIEL VILLACORTA"]
[null,null,null,null,null,null,null,null,null,null,null,null,null,null,null,null,null,null,11457,"CENTRO ESCOLAR CANTON SANTA LUCIA LOS PALONES"]
[null,null,null,null,null,null,null,null,null,null,null,null,null,null,null,null,null,null,11464,"CENTRO ESCOLAR CANTON LOS TRONCONES"]
[null,null,null,null,null,null,null,null,null,null,null,null,null,null,null,null,null,null,11468,"CENTRO ESCOLAR CANTON MIL CUMBRES"]
[null,null,null,null,null,null,null,null,null,null,null,null,null,null,null,null,null,null,11469,"COMPLEJO EDUCATIVO PROFESOR BERNARDINO VILLAMARIONA"]
[null,null,null,null,null,null,null,null,null,null,null,null,null,null,null,null,null,null,11471,"COMPLEJO EDUCATIVO MANUEL JOSE ARCE"]
[null,null,null,null,null,null,null,null,null,null,null,null,null,null,null,null,null,null,11472,"CENTRO ESCOLAR CANTON EL CARRIZAL"]
[null,null,null,null,null,null,null,null,null,null,null,null,null,null,null,null,null,null,11474,"CENTRO ESCOLAR CANTON LAS BARROSAS"]
[null,null,null,null,null,null,null,null,null,null,null,null,null,null,null,null,null,null,11475,"CENTRO ESCOLAR REPUBLICA DE AUSTRIA"]
[null,null,null,null,null,null,null,null,null,null,null,null,null,null,null,null,null,null,11477,"CENTRO ESCOLAR CANTON PALO GRANDE"]
[null,null,null,null,null,null,null,null,null,null,null,null,null,null,null,null,null,null,11478,"INSTITUTO NACIONAL DE SAN MARCOS"]
[null,null,null,null,null,null,null,null,null,null,null,null,null,null,null,null,null,null,11479,"CENTRO ESCOLAR CANTON LOS ANDES"]
[null,null,null,null,null,null,null,null,null,null,null,null,null,null,null,null,null,null,11481,"CENTRO ESCOLAR CANTON GUADALUPE"]
[null,null,null,null,null,null,null,null,null,null,null,null,null,null,null,null,null,null,11482,"COMPLEJO EDUCATIVO COLONIA EL MILAGRO"]
[null,null,null,null,null,null,null,null,null,null,null,null,null,null,null,null,null,null,11483,"CENTRO ESCOLAR DOCTOR EUSEBIO CORDON CEA"]
[null,null,null,null,null,null,null,null,null,null,null,null,null,null,null,null,null,null,11484,"CENTRO ESCOLAR CANTON SAN JOSE AGUACATITAN"]
[null,null,null,null,null,null,null,null,null,null,null,null,null,null,null,null,null,null,11485,"CENTRO ESCOLAR CANTON CASA DE PIEDRA"]
[null,null,null,null,null,null,null,null,null,null,null,null,null,null,null,null,null,null,11486,"COMPLEJO EDUCATIVO COLONIA SAN ANTONIO"]
[null,null,null,null,null,null,null,null,null,null,null,null,null,null,null,null,null,null,11488,"CENTRO ESCOLAR PROFESOR JUSTO GONZALEZ"]
[null,null,null,null,null,null,null,null,null,null,null,null,null,null,null,null,null,null,11489,"CENTRO ESCOLAR COMUNIDAD 10 DE OCTUBRE"]
[null,null,null,null,null,null,null,null,null,null,null,null,null,null,null,null,null,null,11491,"INSTITUTO NACIONAL PROFESORA BERTHA FIDELIA CAÑAS"]
[null,null,null,null,null,null,null,null,null,null,null,null,null,null,null,null,null,null,11492,"CENTRO ESCOLAR IGNACIO PACHECO CASTRO"]
[null,null,null,null,null,null,null,null,null,null,null,null,null,null,null,null,null,null,11493,"CENTRO ESCOLAR DOMINGO FAUSTINO SARMIENTO"]
[null,null,null,null,null,null,null,null,null,null,null,null,null,null,null,null,null,null,11494,"CENTRO ESCOLAR SAN MARCOS"]
[null,null,null,null,null,null,null,null,null,null,null,null,null,null,null,null,null,null,11495,"COMPLEJO EDUCATIVO GOLDTREE LIEBES"]
[null,null,null,null,null,null,null,null,null,null,null,null,null,null,null,null,null,null,11496,"ESCUELA DE EDUCACION PARVULARIA SAN MARCOS"]
[null,null,null,null,null,null,null,null,null,null,null,null,null,null,null,null,null,null,11498,"CENTRO ESCOLAR COLONIA ANEMONA"]
[null,null,null,null,null,null,null,null,null,null,null,null,null,null,null,null,null,null,11499,"COMPLEJO EDUCATIVO COLONIA TIERRA VIRGEN"]
[null,null,null,null,null,null,null,null,null,null,null,null,null,null,null,null,null,null,11500,"CENTRO ESCOLAR OLOF PALME"]
[null,null,null,null,null,null,null,null,null,null,null,null,null,null,null,null,null,null,11501,"CENTRO ESCOLAR URBANIZACION SANTA TERESA"]
[null,null,null,null,null,null,null,null,null,null,null,null,null,null,null,null,null,null,11502,"ESCUELA DE EDUCACION PARVULARIA MARGARITA OVIEDO DE VENUTOLO"]
[null,null,null,null,null,null,null,null,null,null,null,null,null,null,null,null,null,null,11503,"CENTRO ESCOLAR COLONIA SAN MARTIN DE PORRES"]
[null,null,null,null,null,null,null,null,null,null,null,null,null,null,null,null,null,null,11505,"INSTITUTO NACIONAL DE SAN MARTIN"]
[null,null,null,null,null,null,null,null,null,null,null,null,null,null,null,null,null,null,11506,"COMPLEJO EDUCATIVO SAN MARTIN"]
[null,null,null,null,null,null,null,null,null,null,null,null,null,null,null,null,null,null,11507,"COMPLEJO EDUCATIVO JORGE LARDE"]
[null,null,null,null,null,null,null,null,null,null,null,null,null,null,null,null,null,null,11508,"CENTRO ESCOLAR COLONIA LA PALMA, CANTON LA PALMA"]
[null,null,null,null,null,null,null,null,null,null,null,null,null,null,null,null,null,null,11509,"ESCUELA DE EDUCACION PARVULARIA PROFESORA MARGOTH TULA DE MORAN"]
[null,null,null,null,null,null,null,null,null,null,null,null,null,null,null,null,null,null,11510,"CENTRO ESCOLAR CANTON SAN JOSE PRIMERO"]
[null,null,null,null,null,null,null,null,null,null,null,null,null,null,null,null,null,null,11511,"CENTRO ESCOLAR CANTON EL ROSARIO"]
[null,null,null,null,null,null,null,null,null,null,null,null,null,null,null,null,null,null,11512,"CENTRO ESCOLAR CANTON LA PALMA"]
[null,null,null,null,null,null,null,null,null,null,null,null,null,null,null,null,null,null,11514,"CENTRO ESCOLAR CANTON ANIMAS"]
[null,null,null,null,null,null,null,null,null,null,null,null,null,null,null,null,null,null,11515,"CENTRO ESCOLAR CANTON EL SAUCE"]
[null,null,null,null,null,null,null,null,null,null,null,null,null,null,null,null,null,null,11516,"CENTRO ESCOLAR CANTON LA FLOR"]
[null,null,null,null,null,null,null,null,null,null,null,null,null,null,null,null,null,null,11517,"CENTRO ESCOLAR CANTON LAS DELICIAS"]
[null,null,null,null,null,null,null,null,null,null,null,null,null,null,null,null,null,null,11518,"CENTRO ESCOLAR COLONIA ROSA LINDA"]
[null,null,null,null,null,null,null,null,null,null,null,null,null,null,null,null,null,null,11522,"INSTITUTO NACIONAL ALBERT CAMUS"]
[null,null,null,null,null,null,null,null,null,null,null,null,null,null,null,null,null,null,11523,"INSTITUTO NACIONAL GENERAL JESUS MARIA BRAN"]
[null,null,null,null,null,null,null,null,null,null,null,null,null,null,null,null,null,null,11524,"ESCUELA DE EDUCACION PARVULARIA GUARDERIA MUNICIPAL"]
[null,null,null,null,null,null,null,null,null,null,null,null,null,null,null,null,null,null,11526,"CENTRO ESCOLAR BARRIO NUEVO"]
[null,null,null,null,null,null,null,null,null,null,null,null,null,null,null,null,null,null,11527,"CENTRO ESCOLAR LOTIFICACION LA MAYRA"]
[null,null,null,null,null,null,null,null,null,null,null,null,null,null,null,null,null,null,11531,"CENTRO ESCOLAR COLONIA LLANO VERDE"]
[null,null,null,null,null,null,null,null,null,null,null,null,null,null,null,null,null,null,11532,"CENTRO ESCOLAR GENERAL FRANCISCO MORAZAN"]
[null,null,null,null,null,null,null,null,null,null,null,null,null,null,null,null,null,null,11533,"INSTITUTO NACIONAL ACCION CIVICA MILITAR"]
[null,null,null,null,null,null,null,null,null,null,null,null,null,null,null,null,null,null,11535,"ESCUELA DE EDUCACION PARVULARIA COLONIA ATLACATL"]
[null,null,null,null,null,null,null,null,null,null,null,null,null,null,null,null,null,null,11536,"ESCUELA DE EDUCACION PARVULARIA SAGRADO CORAZON DE JESUS"]
[null,null,null,null,null,null,null,null,null,null,null,null,null,null,null,null,null,null,11540,"INSTITUTO NACIONAL GENERAL FRANCISCO MENENDEZ"]
[null,null,null,null,null,null,null,null,null,null,null,null,null,null,null,null,null,null,11541,"INSTITUTO NACIONAL GENERAL FRANCISCO MORAZAN"]
[null,null,null,null,null,null,null,null,null,null,null,null,null,null,null,null,null,null,11542,"INSTITUTO NACIONAL DE COMERCIO"]
[null,null,null,null,null,null,null,null,null,null,null,null,null,null,null,null,null,null,11543,"INSTITUTO NACIONAL TECNICO INDUSTRIAL"]
[null,null,null,null,null,null,null,null,null,null,null,null,null,null,null,null,null,null,11546,"INSTITUTO NACIONAL GENERAL MANUEL JOSE ARCE"]
[null,null,null,null,null,null,null,null,null,null,null,null,null,null,null,null,null,null,11547,"INSTITUTO NACIONAL PROFESOR JAIME FRANCISCO LOPEZ"]
[null,null,null,null,null,null,null,null,null,null,null,null,null,null,null,null,null,null,11548,"ESCUELA DE EDUCACION PARVULARIA JOSE CECILIO DEL VALLE"]
[null,null,null,null,null,null,null,null,null,null,null,null,null,null,null,null,null,null,11549,"ESCUELA DE EDUCACION PARVULARIA COMUNIDAD EL PRADO"]
[null,null,null,null,null,null,null,null,null,null,null,null,null,null,null,null,null,null,11550,"CENTRO ESCOLAR POETA JUAN RAMON MOLINA"]
[null,null,null,null,null,null,null,null,null,null,null,null,null,null,null,null,null,null,11552,"CENTRO ESCOLAR DOCTOR JOSE ANTONIO RODRIGUEZ PORTH"]
[null,null,null,null,null,null,null,null,null,null,null,null,null,null,null,null,null,null,11554,"ESCUELA DE EDUCACION PARVULARIA LAS ABEJITAS"]
[null,null,null,null,null,null,null,null,null,null,null,null,null,null,null,null,null,null,11556,"ESCUELA DE EDUCACION PARVULARIA DEL SERVIDOR MUNICIPAL"]
[null,null,null,null,null,null,null,null,null,null,null,null,null,null,null,null,null,null,11557,"ESCUELA DE EDUCACION PARVULARIA SAN JOSE"]
[null,null,null,null,null,null,null,null,null,null,null,null,null,null,null,null,null,null,11558,"ESCUELA DE EDUCACION PARVULARIA EL MODELO"]
[null,null,null,null,null,null,null,null,null,null,null,null,null,null,null,null,null,null,11559,"ESCUELA DE EDUCACION PARVULARIA SAN JACINTO"]
[null,null,null,null,null,null,null,null,null,null,null,null,null,null,null,null,null,null,11561,"ESCUELA DE EDUCACION PARVULARIA COLONIA RENSON IRCA"]
[null,null,null,null,null,null,null,null,null,null,null,null,null,null,null,null,null,null,11562,"CENTRO ESCOLAR COLONIA ESMERALDA"]
[null,null,null,null,null,null,null,null,null,null,null,null,null,null,null,null,null,null,11563,"ESCUELA DE EDUCACION PARVULARIA COLONIA ATONALT"]
[null,null,null,null,null,null,null,null,null,null,null,null,null,null,null,null,null,null,11570,"ESCUELA DE EDUCACION PARVULARIA SAN MIGUELITO"]
[null,null,null,null,null,null,null,null,null,null,null,null,null,null,null,null,null,null,11571,"CENTRO ESCOLAR DOCTOR SERGE REYNAUD DE LA FERRIERE"]
[null,null,null,null,null,null,null,null,null,null,null,null,null,null,null,null,null,null,11572,"CENTRO ESCOLAR COLONIA BRISAS DE CANDELARIA"]
[null,null,null,null,null,null,null,null,null,null,null,null,null,null,null,null,null,null,11574,"CENTRO ESCOLAR REPUBLICA DE CANADA"]
[null,null,null,null,null,null,null,null,null,null,null,null,null,null,null,null,null,null,11575,"CENTRO ESCOLAR CANTON SAN CRISTOBAL"]
[null,null,null,null,null,null,null,null,null,null,null,null,null,null,null,null,null,null,11576,"ESCUELA DE EDUCACION PARVULARIA COLONIA CENTRO AMERICA"]
[null,null,null,null,null,null,null,null,null,null,null,null,null,null,null,null,null,null,11580,"CENTRO ESCOLAR AMATEPEC"]
[null,null,null,null,null,null,null,null,null,null,null,null,null,null,null,null,null,null,11581,"CENTRO ESCOLAR PROFESOR CARLOS CRUZ AVALOS"]
[null,null,null,null,null,null,null,null,null,null,null,null,null,null,null,null,null,null,11583,"CENTRO ESCOLAR COMUNIDAD SERPAS"]
[null,null,null,null,null,null,null,null,null,null,null,null,null,null,null,null,null,null,11584,"CENTRO ESCOLAR CASERIO LAS LAJAS CANTON SAN ANTONIO ABAD"]
[null,null,null,null,null,null,null,null,null,null,null,null,null,null,null,null,null,null,11585,"CENTRO ESCOLAR EL PROGRESO"]
[null,null,null,null,null,null,null,null,null,null,null,null,null,null,null,null,null,null,11587,"ESCUELA DE EDUCACION PARVULARIA MARIA AGUSTINA BEDOYA AGUILAR"]
[null,null,null,null,null,null,null,null,null,null,null,null,null,null,null,null,null,null,11589,"ESCUELA DE EDUCACION PARVULARIA CENTRO URBANO MONSERRAT"]
[null,null,null,null,null,null,null,null,null,null,null,null,null,null,null,null,null,null,11590,"CENTRO ESCOLAR ALBERTO FERRACUTI"]
[null,null,null,null,null,null,null,null,null,null,null,null,null,null,null,null,null,null,11591,"CENTRO ESCOLAR CONFEDERACION SUIZA"]
[null,null,null,null,null,null,null,null,null,null,null,null,null,null,null,null,null,null,11592,"CENTRO ESCOLAR JOSE MEJIA"]
[null,null,null,null,null,null,null,null,null,null,null,null,null,null,null,null,null,null,11593,"CENTRO ESCOLAR SAN ANTONIO ABAD"]
[null,null,null,null,null,null,null,null,null,null,null,null,null,null,null,null,null,null,11594,"CENTRO ESCOLAR JUANA LOPEZ"]
[null,null,null,null,null,null,null,null,null,null,null,null,null,null,null,null,null,null,11595,"CENTRO ESCOLAR COLONIA BERNAL CANTON SAN ANTONIO ABAD"]
[null,null,null,null,null,null,null,null,null,null,null,null,null,null,null,null,null,null,11596,"CENTRO ESCOLAR BENJAMIN SOL MILLET"]
[null,null,null,null,null,null,null,null,null,null,null,null,null,null,null,null,null,null,11597,"CENTRO ESCOLAR JUAN RAMON JIMENEZ"]
[null,null,null,null,null,null,null,null,null,null,null,null,null,null,null,null,null,null,11598,"CENTRO ESCOLAR REPUBLICA DE ITALIA"]
[null,null,null,null,null,null,null,null,null,null,null,null,null,null,null,null,null,null,11599,"CENTRO ESCOLAR CASERIO LA PEDRERA, COLONIA COSTA RICA"]
[null,null,null,null,null,null,null,null,null,null,null,null,null,null,null,null,null,null,11600,"ESCUELA DE EDUCACION PARVULARIA DOCTOR OSWALDO ESCOBAR VELADO"]
[null,null,null,null,null,null,null,null,null,null,null,null,null,null,null,null,null,null,11601,"ESCUELA DE EDUCACION PARVULARIA ESTADO DE ISRAEL"]
[null,null,null,null,null,null,null,null,null,null,null,null,null,null,null,null,null,null,11602,"ESCUELA DE EDUCACION PARVULARIA COLONIA MONSERRAT"]
[null,null,null,null,null,null,null,null,null,null,null,null,null,null,null,null,null,null,11603,"ESCUELA DE EDUCACION PARVULARIA MARTA CARBONELL DE QUITEÑO"]
[null,null,null,null,null,null,null,null,null,null,null,null,null,null,null,null,null,null,11604,"ESCUELA DE EDUCACION PARVULARIA PROFESORA LUISA MORAN CASTRO"]
[null,null,null,null,null,null,null,null,null,null,null,null,null,null,null,null,null,null,11605,"ESCUELA DE EDUCACION PARVULARIA DOLORES CASTELLANOS"]
[null,null,null,null,null,null,null,null,null,null,null,null,null,null,null,null,null,null,11607,"ESCUELA DE EDUCACION PARVULARIA PROFESORA MARIA ESCOBAR GRANILLO"]
[null,null,null,null,null,null,null,null,null,null,null,null,null,null,null,null,null,null,11608,"ESCUELA DE EDUCACION PARVULARIA GABRIELA MISTRAL"]
[null,null,null,null,null,null,null,null,null,null,null,null,null,null,null,null,null,null,11610,"ESCUELA DE EDUCACION PARVULARIA MARIA BEDOYA AGUILAR"]
[null,null,null,null,null,null,null,null,null,null,null,null,null,null,null,null,null,null,11611,"ESCUELA DE EDUCACION PARVULARIA JORGE LARDE"]
[null,null,null,null,null,null,null,null,null,null,null,null,null,null,null,null,null,null,11612,"ESCUELA DE EDUCACION PARVULARIA BARRIO SANTA ANITA"]
[null,null,null,null,null,null,null,null,null,null,null,null,null,null,null,null,null,null,11615,"ESCUELA DE EDUCACION PARVULARIA MARIA MONTESSORI"]
[null,null,null,null,null,null,null,null,null,null,null,null,null,null,null,null,null,null,11617,"ESCUELA DE EDUCACION PARVULARIA CAPITAN GENERAL GERARDO BARRIOS"]
[null,null,null,null,null,null,null,null,null,null,null,null,null,null,null,null,null,null,11618,"ESCUELA DE EDUCACION PARVULARIA ROSAURA ZAPATA"]
[null,null,null,null,null,null,null,null,null,null,null,null,null,null,null,null,null,null,11619,"ESCUELA DE EDUCACION PARVULARIA OVIDIO DECROLY"]
[null,null,null,null,null,null,null,null,null,null,null,null,null,null,null,null,null,null,11620,"ESCUELA DE EDUCACION PARVULARIA ANGELA ACEITUNO DE GUTIERREZ"]
[null,null,null,null,null,null,null,null,null,null,null,null,null,null,null,null,null,null,11621,"ESCUELA DE EDUCACION PARVULARIA COLONIA SAN BENITO"]
[null,null,null,null,null,null,null,null,null,null,null,null,null,null,null,null,null,null,11622,"ESCUELA DE EDUCACION PARVULARIA SANTA MARTA"]
[null,null,null,null,null,null,null,null,null,null,null,null,null,null,null,null,null,null,11623,"ESCUELA DE EDUCACION PARVULARIA DOCTOR JOSE GUSTAVO GUERRERO"]
[null,null,null,null,null,null,null,null,null,null,null,null,null,null,null,null,null,null,11624,"ESCUELA DE EDUCACION PARVULARIA SOLEDAD M. DE ALAS"]
[null,null,null,null,null,null,null,null,null,null,null,null,null,null,null,null,null,null,11625,"ESCUELA DE EDUCACION PARVULARIA SOLEDAD M DE ALAS"]
[null,null,null,null,null,null,null,null,null,null,null,null,null,null,null,null,null,null,11626,"CENTRO ESCOLAR SALVADOR MUGDAN"]
[null,null,null,null,null,null,null,null,null,null,null,null,null,null,null,null,null,null,11627,"CENTRO ESCOLAR SANTIAGO I. BARBERENA"]
[null,null,null,null,null,null,null,null,null,null,null,null,null,null,null,null,null,null,11628,"CENTRO ESCOLAR DOCTOR DARIO GONZALEZ"]
[null,null,null,null,null,null,null,null,null,null,null,null,null,null,null,null,null,null,11629,"CENTRO ESCOLAR REPUBLICA DE EL SALVADOR"]
[null,null,null,null,null,null,null,null,null,null,null,null,null,null,null,null,null,null,11630,"CENTRO ESCOLAR FRANCISCO CAMPOS"]
[null,null,null,null,null,null,null,null,null,null,null,null,null,null,null,null,null,null,11631,"CENTRO ESCOLAR LYNDON B. JOHNSON"]
[null,null,null,null,null,null,null,null,null,null,null,null,null,null,null,null,null,null,11632,"CENTRO ESCOLAR REPUBLICA DE NICARAGUA"]
[null,null,null,null,null,null,null,null,null,null,null,null,null,null,null,null,null,null,11633,"CENTRO ESCOLAR REPUBLICA DE PANAMA"]
[null,null,null,null,null,null,null,null,null,null,null,null,null,null,null,null,null,null,11635,"CENTRO ESCOLAR COLONIA QUIÑONEZ"]
[null,null,null,null,null,null,null,null,null,null,null,null,null,null,null,null,null,null,11639,"CENTRO ESCOLAR COLONIA SANTA LUCIA"]
[null,null,null,null,null,null,null,null,null,null,null,null,null,null,null,null,null,null,11640,"COMPLEJO EDUCATIVO CAPITAN GENERAL GERARDO BARRIOS"]
[null,null,null,null,null,null,null,null,null,null,null,null,null,null,null,null,null,null,11641,"CENTRO ESCOLAR CONSTITUCION 1950"]
[null,null,null,null,null,null,null,null,null,null,null,null,null,null,null,null,null,null,11642,"CENTRO ESCOLAR UNION CENTROAMERICANA"]
[null,null,null,null,null,null,null,null,null,null,null,null,null,null,null,null,null,null,11643,"CENTRO ESCOLAR NICOLAS J. BRAN"]
[null,null,null,null,null,null,null,null,null,null,null,null,null,null,null,null,null,null,11645,"CENTRO ESCOLAR MIGUEL PINTO"]
[null,null,null,null,null,null,null,null,null,null,null,null,null,null,null,null,null,null,11646,"CENTRO ESCOLAR JUAN RAFAEL MORA"]
[null,null,null,null,null,null,null,null,null,null,null,null,null,null,null,null,null,null,11648,"CENTRO ESCOLAR REPUBLICA DE HONDURAS"]
[null,null,null,null,null,null,null,null,null,null,null,null,null,null,null,null,null,null,11649,"CENTRO ESCOLAR BARRIO BELEN"]
[null,null,null,null,null,null,null,null,null,null,null,null,null,null,null,null,null,null,11650,"CENTRO ESCOLAR MONSEÑOR BASILIO PLANTIER"]
[null,null,null,null,null,null,null,null,null,null,null,null,null,null,null,null,null,null,11651,"CENTRO ESCOLAR JORGE LARDE"]
[null,null,null,null,null,null,null,null,null,null,null,null,null,null,null,null,null,null,11652,"CENTRO ESCOLAR GUSTAVO MARROQUIN"]
[null,null,null,null,null,null,null,null,null,null,null,null,null,null,null,null,null,null,11654,"CENTRO ESCOLAR MERCEDES QUINTEROS"]
[null,null,null,null,null,null,null,null,null,null,null,null,null,null,null,null,null,null,11656,"CENTRO ESCOLAR PROFESORA ROMILIA SILVA DE RODRIGUEZ"]
[null,null,null,null,null,null,null,null,null,null,null,null,null,null,null,null,null,null,11657,"CENTRO ESCOLAR REPUBLICA DE GUATEMALA"]
[null,null,null,null,null,null,null,null,null,null,null,null,null,null,null,null,null,null,11658,"CENTRO ESCOLAR ESPAÑA"]
[null,null,null,null,null,null,null,null,null,null,null,null,null,null,null,null,null,null,11661,"COMPLEJO EDUCATIVO REPUBLICA DEL BRASIL"]
[null,null,null,null,null,null,null,null,null,null,null,null,null,null,null,null,null,null,11662,"CENTRO ESCOLAR 5 DE NOVIEMBRE"]
[null,null,null,null,null,null,null,null,null,null,null,null,null,null,null,null,null,null,11663,"CENTRO ESCOLAR REPUBLICA DE PARAGUAY"]
[null,null,null,null,null,null,null,null,null,null,null,null,null,null,null,null,null,null,11665,"CENTRO ESCOLAR JOSE SIMEON CAÑAS"]
[null,null,null,null,null,null,null,null,null,null,null,null,null,null,null,null,null,null,11666,"CENTRO ESCOLAR REPUBLICA DE ARGENTINA"]
[null,null,null,null,null,null,null,null,null,null,null,null,null,null,null,null,null,null,11667,"COMPLEJO EDUCATIVO JOAQUIN RODEZNO"]
[null,null,null,null,null,null,null,null,null,null,null,null,null,null,null,null,null,null,11668,"CENTRO ESCOLAR JOSE MATIAS DELGADO"]
[null,null,null,null,null,null,null,null,null,null,null,null,null,null,null,null,null,null,11669,"CENTRO ESCOLAR GENERAL RAMON BELLOSO"]
[null,null,null,null,null,null,null,null,null,null,null,null,null,null,null,null,null,null,11670,"CENTRO ESCOLAR JUAN ABERLE"]
[null,null,null,null,null,null,null,null,null,null,null,null,null,null,null,null,null,null,11671,"COMPLEJO EDUCATIVO CONCHA VIUDA DE ESCALON"]
[null,null,null,null,null,null,null,null,null,null,null,null,null,null,null,null,null,null,11672,"CENTRO ESCOLAR REPUBLICA DE ALEMANIA"]
[null,null,null,null,null,null,null,null,null,null,null,null,null,null,null,null,null,null,11673,"CENTRO ESCOLAR REPUBLICA DE COLOMBIA"]
[null,null,null,null,null,null,null,null,null,null,null,null,null,null,null,null,null,null,11674,"COMPLEJO EDUCATIVO DR. HUMBERTO ROMERO ALVERGUE"]
[null,null,null,null,null,null,null,null,null,null,null,null,null,null,null,null,null,null,11675,"CENTRO ESCOLAR LIGA PANAMERICANA"]
[null,null,null,null,null,null,null,null,null,null,null,null,null,null,null,null,null,null,11676,"CENTRO ESCOLAR REPUBLICA DEL PERU"]
[null,null,null,null,null,null,null,null,null,null,null,null,null,null,null,null,null,null,11677,"COMPLEJO EDUCATIVO REPUBLICA DEL ECUADOR"]
[null,null,null,null,null,null,null,null,null,null,null,null,null,null,null,null,null,null,11678,"CENTRO ESCOLAR FERNANDO LLORT"]
[null,null,null,null,null,null,null,null,null,null,null,null,null,null,null,null,null,null,11679,"CENTRO ESCOLAR REPUBLICA DE COSTA RICA"]
[null,null,null,null,null,null,null,null,null,null,null,null,null,null,null,null,null,null,11680,"CENTRO ESCOLAR REPUBLICA DE CHILE"]
[null,null,null,null,null,null,null,null,null,null,null,null,null,null,null,null,null,null,11681,"CENTRO ESCOLAR FRANCISCO A. GAMBOA"]
[null,null,null,null,null,null,null,null,null,null,null,null,null,null,null,null,null,null,11682,"CENTRO ESCOLAR CAMILO CAMPOS"]
[null,null,null,null,null,null,null,null,null,null,null,null,null,null,null,null,null,null,11683,"CENTRO ESCOLAR JOSE MARIANO CALDERON"]
[null,null,null,null,null,null,null,null,null,null,null,null,null,null,null,null,null,null,11684,"ESCUELA DE EDUCACION PARVULARIA DE SANTIAGO TEXACUANGOS"]
[null,null,null,null,null,null,null,null,null,null,null,null,null,null,null,null,null,null,11685,"CENTRO ESCOLAR CANTON EL MORRO"]
[null,null,null,null,null,null,null,null,null,null,null,null,null,null,null,null,null,null,11687,"CENTRO ESCOLAR CANTON LA CUCHILLA"]
[null,null,null,null,null,null,null,null,null,null,null,null,null,null,null,null,null,null,11690,"CENTRO ESCOLAR CANTON LAS CASITAS"]
[null,null,null,null,null,null,null,null,null,null,null,null,null,null,null,null,null,null,11691,"CENTRO ESCOLAR DOCTOR ANTONIO DIAZ"]
[null,null,null,null,null,null,null,null,null,null,null,null,null,null,null,null,null,null,11694,"INSTITUTO NACIONAL SIMON BOLIVAR"]
[null,null,null,null,null,null,null,null,null,null,null,null,null,null,null,null,null,null,11695,"CENTRO ESCOLAR GENERAL MANUEL BELGRANO"]
[null,null,null,null,null,null,null,null,null,null,null,null,null,null,null,null,null,null,11696,"CENTRO ESCOLAR RUBEN DARIO"]
[null,null,null,null,null,null,null,null,null,null,null,null,null,null,null,null,null,null,11697,"ESCUELA DE EDUCACION PARVULARIA JARDIN DE NIÑOS 22 DE ABRIL"]
[null,null,null,null,null,null,null,null,null,null,null,null,null,null,null,null,null,null,11702,"CENTRO ESCOLAR EL PROGRESO"]
[null,null,null,null,null,null,null,null,null,null,null,null,null,null,null,null,null,null,11703,"COMPLEJO EDUCATIVO MONTES DE SAN BARTOLO IV"]
[null,null,null,null,null,null,null,null,null,null,null,null,null,null,null,null,null,null,11704,"ESCUELA DE EDUCACION PARVULARIA DE SOYAPANGO"]
[null,null,null,null,null,null,null,null,null,null,null,null,null,null,null,null,null,null,11705,"CENTRO ESCOLAR ALTOS DE MONTE CARMELO"]
[null,null,null,null,null,null,null,null,null,null,null,null,null,null,null,null,null,null,11706,"CENTRO ESCOLAR URBANIZACION LOS ANGELES"]
[null,null,null,null,null,null,null,null,null,null,null,null,null,null,null,null,null,null,11707,"INSTITUTO NACIONAL DE SOYAPANGO"]
[null,null,null,null,null,null,null,null,null,null,null,null,null,null,null,null,null,null,11708,"INSTITUTO NACIONAL SAN LUIS"]
[null,null,null,null,null,null,null,null,null,null,null,null,null,null,null,null,null,null,11709,"CENTRO ESCOLAR REPARTO SAN JOSE II"]
[null,null,null,null,null,null,null,null,null,null,null,null,null,null,null,null,null,null,11711,"CENTRO ESCOLAR BOSQUES DEL RIO"]
[null,null,null,null,null,null,null,null,null,null,null,null,null,null,null,null,null,null,11712,"COMPLEJO EDUCATIVO COLONIA VILLA ALEGRE"]
[null,null,null,null,null,null,null,null,null,null,null,null,null,null,null,null,null,null,11713,"CENTRO ESCOLAR JARDINES DE MONTE BLANCO"]
[null,null,null,null,null,null,null,null,null,null,null,null,null,null,null,null,null,null,11714,"CENTRO ESCOLAR REPARTO GUADALUPE"]
[null,null,null,null,null,null,null,null,null,null,null,null,null,null,null,null,null,null,11715,"CENTRO ESCOLAR REPARTO LOS SANTOS"]
[null,null,null,null,null,null,null,null,null,null,null,null,null,null,null,null,null,null,11716,"CENTRO ESCOLAR RAFAELA SOTOMAYOR DE ALARCIA"]
[null,null,null,null,null,null,null,null,null,null,null,null,null,null,null,null,null,null,11717,"ESCUELA DE EDUCACION PARVULARIA LOS CONACASTES"]
[null,null,null,null,null,null,null,null,null,null,null,null,null,null,null,null,null,null,11718,"INSTITUTO NACIONAL DE CIUDAD CREDISA"]
[null,null,null,null,null,null,null,null,null,null,null,null,null,null,null,null,null,null,11719,"CENTRO ESCOLAR 14 DE DICIEMBRE DE 1948"]
[null,null,null,null,null,null,null,null,null,null,null,null,null,null,null,null,null,null,11720,"CENTRO ESCOLAR \"JOSÉ MARTÍ\""]
[null,null,null,null,null,null,null,null,null,null,null,null,null,null,null,null,null,null,11721,"CENTRO ESCOLAR BUENA VISTA"]
[null,null,null,null,null,null,null,null,null,null,null,null,null,null,null,null,null,null,11722,"ESCUELA DE EDUCACION PARVULARIA COLONIA LAS BRISAS"]
[null,null,null,null,null,null,null,null,null,null,null,null,null,null,null,null,null,null,11723,"COMPLEJO EDUCATIVO \"REPÚBLICA DE COREA\""]
[null,null,null,null,null,null,null,null,null,null,null,null,null,null,null,null,null,null,11724,"CENTRO ESCOLAR COLONIA GUAYACAN"]
[null,null,null,null,null,null,null,null,null,null,null,null,null,null,null,null,null,null,11726,"CENTRO ESCOLAR COLONIA LOS ALPES"]
[null,null,null,null,null,null,null,null,null,null,null,null,null,null,null,null,null,null,11727,"CENTRO ESCOLAR COLONIA LAS BRISAS"]
[null,null,null,null,null,null,null,null,null,null,null,null,null,null,null,null,null,null,11728,"CENTRO ESCOLAR COLONIA 22 DE ABRIL"]
[null,null,null,null,null,null,null,null,null,null,null,null,null,null,null,null,null,null,11729,"CENTRO ESCOLAR CANTON EL GUAJE"]
[null,null,null,null,null,null,null,null,null,null,null,null,null,null,null,null,null,null,11731,"CENTRO ESCOLAR COLONIA SAN RAFAEL"]
[null,null,null,null,null,null,null,null,null,null,null,null,null,null,null,null,null,null,11732,"CENTRO ESCOLAR ANTONIO JOSE CAÑAS"]
[null,null,null,null,null,null,null,null,null,null,null,null,null,null,null,null,null,null,11733,"CENTRO ESCOLAR LEONARDO AZCUNAGA"]
[null,null,null,null,null,null,null,null,null,null,null,null,null,null,null,null,null,null,11734,"CENTRO ESCOLAR REINO DE DINAMARCA"]
[null,null,null,null,null,null,null,null,null,null,null,null,null,null,null,null,null,null,11735,"CENTRO ESCOLAR BARRIO EL PROGRESO"]
[null,null,null,null,null,null,null,null,null,null,null,null,null,null,null,null,null,null,11736,"CENTRO ESCOLAR PROFESOR DANIEL CORDON SALGUERO"]
[null,null,null,null,null,null,null,null,null,null,null,null,null,null,null,null,null,null,11737,"CENTRO ESCOLAR CAMPAMENTO MORAZAN"]
[null,null,null,null,null,null,null,null,null,null,null,null,null,null,null,null,null,null,11738,"ESCUELA DE EDUCACION PARVULARIA DE SOYAPANGO"]
[null,null,null,null,null,null,null,null,null,null,null,null,null,null,null,null,null,null,11739,"ESCUELA DE EDUCACION PARVULARIA COLONIA GUADALUPE"]
[null,null,null,null,null,null,null,null,null,null,null,null,null,null,null,null,null,null,11740,"CENTRO ESCOLAR PROFESORA MARIA INOCENCIA DE PAREDES"]
[null,null,null,null,null,null,null,null,null,null,null,null,null,null,null,null,null,null,11741,"COMPLEJO EDUCATIVO DISTRITO ITALIA"]
[null,null,null,null,null,null,null,null,null,null,null,null,null,null,null,null,null,null,11742,"INSTITUTO NACIONAL DE TONACATEPEQUE"]
[null,null,null,null,null,null,null,null,null,null,null,null,null,null,null,null,null,null,11743,"CENTRO ESCOLAR ROSENDO RODRIGUEZ"]
[null,null,null,null,null,null,null,null,null,null,null,null,null,null,null,null,null,null,11744,"CENTRO ESCOLAR PROFESOR SALVADOR CAÑAS"]
[null,null,null,null,null,null,null,null,null,null,null,null,null,null,null,null,null,null,11745,"CENTRO ESCOLAR CANTON VERACRUZ"]
[null,null,null,null,null,null,null,null,null,null,null,null,null,null,null,null,null,null,11746,"CENTRO ESCOLAR CANTON EL ROSARIO"]
[null,null,null,null,null,null,null,null,null,null,null,null,null,null,null,null,null,null,11748,"CENTRO ESCOLAR POETA EUGENIO MARTINEZ ORANTES"]
[null,null,null,null,null,null,null,null,null,null,null,null,null,null,null,null,null,null,11751,"COMPLEJO EDUCATIVO FE Y ALEGRIA"]
[null,null,null,null,null,null,null,null,null,null,null,null,null,null,null,null,null,null,11752,"CENTRO ESCOLAR PRESBITERO NICOLAS AGUILAR"]
[null,null,null,null,null,null,null,null,null,null,null,null,null,null,null,null,null,null,11753,"CENTRO ESCOLAR PROFESOR EMILIO URRUTIA LOPEZ"]
[null,null,null,null,null,null,null,null,null,null,null,null,null,null,null,null,null,null,11754,"ESCUELA DE EDUCACION PARVULARIA DE TONACATEPEQUE"]
[null,null,null,null,null,null,null,null,null,null,null,null,null,null,null,null,null,null,11755,"CENTRO ESCOLAR PRESBITERO MANUEL AGUILAR"]
[null,null,null,null,null,null,null,null,null,null,null,null,null,null,null,null,null,null,11756,"CENTRO ESCOLAR DOCTOR WALDO CHAVEZ VELASCO"]
[null,null,null,null,null,null,null,null,null,null,null,null,null,null,null,null,null,null,11758,"CENTRO ESCOLAR COLONIA FLORENCIA"]
[null,null,null,null,null,null,null,null,null,null,null,null,null,null,null,null,null,null,11759,"CENTRO ESCOLAR COMUNIDAD PRADERA III"]
[null,null,null,null,null,null,null,null,null,null,null,null,null,null,null,null,null,null,11760,"CENTRO ESCOLAR COLONIA ESCALANTE"]
[null,null,null,null,null,null,null,null,null,null,null,null,null,null,null,null,null,null,11761,"ESCUELA DE EDUCACION PARVULARIA DOCTOR CARLOS ENRIQUE COLINDRES"]
[null,null,null,null,null,null,null,null,null,null,null,null,null,null,null,null,null,null,11763,"COMPLEJO EDUCATIVO DOCTOR ORLANDO DE SOLA"]
[null,null,null,null,null,null,null,null,null,null,null,null,null,null,null,null,null,null,11764,"CENTRO ESCOLAR CANTON CALLE REAL"]
[null,null,null,null,null,null,null,null,null,null,null,null,null,null,null,null,null,null,11765,"CENTRO ESCOLAR CANTON ARENAL"]
[null,null,null,null,null,null,null,null,null,null,null,null,null,null,null,null,null,null,11766,"CENTRO ESCOLAR ISAURA HERNANDEZ DE MAYORA"]
[null,null,null,null,null,null,null,null,null,null,null,null,null,null,null,null,null,null,11767,"CENTRO ESCOLAR CANTON SAN JOSE CORTEZ"]
[null,null,null,null,null,null,null,null,null,null,null,null,null,null,null,null,null,null,11768,"CENTRO ESCOLAR COLONIA SANTA MARGARITA"]
[null,null,null,null,null,null,null,null,null,null,null,null,null,null,null,null,null,null,11769,"CENTRO ESCOLAR CASERIO SAN ANTONIO LAS VEGAS"]
[null,null,null,null,null,null,null,null,null,null,null,null,null,null,null,null,null,null,11770,"CENTRO ESCOLAR EDELMIRA MOLINA"]
[null,null,null,null,null,null,null,null,null,null,null,null,null,null,null,null,null,null,11771,"CENTRO ESCOLAR REINO DE HOLANDA"]
[null,null,null,null,null,null,null,null,null,null,null,null,null,null,null,null,null,null,11772,"CENTRO ESCOLAR COLONIA LOS ALPES"]
[null,null,null,null,null,null,null,null,null,null,null,null,null,null,null,null,null,null,11777,"CENTRO ESCOLAR CANTON MILINGO"]
[null,null,null,null,null,null,null,null,null,null,null,null,null,null,null,null,null,null,11778,"CENTRO ESCOLAR CANTON SAN LAUREANO"]
[null,null,null,null,null,null,null,null,null,null,null,null,null,null,null,null,null,null,11779,"COMPLEJO EDUCATIVO DELGADO"]
[null,null,null,null,null,null,null,null,null,null,null,null,null,null,null,null,null,null,11780,"CENTRO ESCOLAR PEDRO PABLO CASTILLO"]
[null,null,null,null,null,null,null,null,null,null,null,null,null,null,null,null,null,null,11781,"CENTRO ESCOLAR JUANA LOPEZ"]
[null,null,null,null,null,null,null,null,null,null,null,null,null,null,null,null,null,null,11782,"COMPLEJO EDUCATIVO REFUGIO SIFONTES"]
[null,null,null,null,null,null,null,null,null,null,null,null,null,null,null,null,null,null,11784,"CENTRO ESCOLAR CANTON SAN ANTONIO"]
[null,null,null,null,null,null,null,null,null,null,null,null,null,null,null,null,null,null,11785,"COMPLEJO EDUCATIVO MARCOS GOMEZ NUÑEZ"]
[null,null,null,null,null,null,null,null,null,null,null,null,null,null,null,null,null,null,11787,"CENTRO ESCOLAR CANTON NANCE VERDE"]
[null,null,null,null,null,null,null,null,null,null,null,null,null,null,null,null,null,null,11790,"ESCUELA DE EDUCACION PARVULARIA CUSCATLAN"]
[null,null,null,null,null,null,null,null,null,null,null,null,null,null,null,null,null,null,11792,"INSTITUTO NACIONAL WALTER THILO DEININGER"]
[null,null,null,null,null,null,null,null,null,null,null,null,null,null,null,null,null,null,11794,"CENTRO ESCOLAR CANTON PUERTA DE GOLPE"]
[null,null,null,null,null,null,null,null,null,null,null,null,null,null,null,null,null,null,11795,"CENTRO ESCOLAR CANTON EL CARRIZAL"]
[null,null,null,null,null,null,null,null,null,null,null,null,null,null,null,null,null,null,11798,"CENTRO ESCOLAR CANTON JIÑUCO"]
[null,null,null,null,null,null,null,null,null,null,null,null,null,null,null,null,null,null,11799,"CENTRO ESCOLAR CANTON MADRE CACAO"]
[null,null,null,null,null,null,null,null,null,null,null,null,null,null,null,null,null,null,11801,"CENTRO ESCOLAR CANTON LA PALMA"]
[null,null,null,null,null,null,null,null,null,null,null,null,null,null,null,null,null,null,11802,"CENTRO ESCOLAR CANTON OJOS DE AGUA"]
[null,null,null,null,null,null,null,null,null,null,null,null,null,null,null,null,null,null,11804,"ESCUELA DE EDUCACION PARVULARIA MARIA BEDOYA AGUILAR"]
[null,null,null,null,null,null,null,null,null,null,null,null,null,null,null,null,null,null,11805,"ESCUELA DE EDUCACION PARVULARIA DOCTOR REYNALDO GALINDO POHL"]
[null,null,null,null,null,null,null,null,null,null,null,null,null,null,null,null,null,null,11806,"CENTRO ESCOLAR CARMEN MONTES DE TORRES"]
[null,null,null,null,null,null,null,null,null,null,null,null,null,null,null,null,null,null,11807,"CENTRO ESCOLAR CANDELARIO CUELLAR"]
[null,null,null,null,null,null,null,null,null,null,null,null,null,null,null,null,null,null,11808,"CENTRO ESCOLAR ANITA ALVARADO"]
[null,null,null,null,null,null,null,null,null,null,null,null,null,null,null,null,null,null,11809,"CENTRO ESCOLAR EULOGIA RIVAS"]
[null,null,null,null,null,null,null,null,null,null,null,null,null,null,null,null,null,null,11810,"CENTRO ESCOLAR WALTER THILO DEININGER"]
[null,null,null,null,null,null,null,null,null,null,null,null,null,null,null,null,null,null,11811,"CENTRO ESCOLAR COLONIA FATIMA"]
[null,null,null,null,null,null,null,null,null,null,null,null,null,null,null,null,null,null,11813,"CENTRO ESCOLAR NESTOR SALAMANCA"]
[null,null,null,null,null,null,null,null,null,null,null,null,null,null,null,null,null,null,11815,"CENTRO ESCOLAR CANTON CANDELARIA"]
[null,null,null,null,null,null,null,null,null,null,null,null,null,null,null,null,null,null,11816,"COMPLEJO EDUCATIVO ANGELINA ANGEL PANAMEÑO"]
[null,null,null,null,null,null,null,null,null,null,null,null,null,null,null,null,null,null,11817,"COMPLEJO EDUCATIVO RAFAEL BARRAZA RODRIGUEZ"]
[null,null,null,null,null,null,null,null,null,null,null,null,null,null,null,null,null,null,11818,"CENTRO ESCOLAR MONSEÑOR LUIS CHAVEZ Y GONZALEZ"]
[null,null,null,null,null,null,null,null,null,null,null,null,null,null,null,null,null,null,11819,"CENTRO ESCOLAR CANTON VERACRUZ"]
[null,null,null,null,null,null,null,null,null,null,null,null,null,null,null,null,null,null,11820,"CENTRO ESCOLAR CANTON EL AMATILLO"]
[null,null,null,null,null,null,null,null,null,null,null,null,null,null,null,null,null,null,11821,"CENTRO ESCOLAR LEON SIGUENZA"]
[null,null,null,null,null,null,null,null,null,null,null,null,null,null,null,null,null,null,11824,"COMPLEJO EDUCATIVO JOSE MARIA LEMUS"]
[null,null,null,null,null,null,null,null,null,null,null,null,null,null,null,null,null,null,11825,"CENTRO ESCOLAR SAUL URQUILLA"]
[null,null,null,null,null,null,null,null,null,null,null,null,null,null,null,null,null,null,11827,"COMPLEJO EDUCATIVO DOCTOR PIO ROMERO BOSQUE"]
[null,null,null,null,null,null,null,null,null,null,null,null,null,null,null,null,null,null,11828,"CENTRO ESCOLAR CANTON LAS LOMAS"]
[null,null,null,null,null,null,null,null,null,null,null,null,null,null,null,null,null,null,11829,"CENTRO ESCOLAR CANTON EL TRIUNFO"]
[null,null,null,null,null,null,null,null,null,null,null,null,null,null,null,null,null,null,11830,"CENTRO ESCOLAR SAN BARTOLOME PERULAPI\u008dA"]
[null,null,null,null,null,null,null,null,null,null,null,null,null,null,null,null,null,null,11831,"CENTRO ESCOLAR REPARTO SANTA ELENA"]
[null,null,null,null,null,null,null,null,null,null,null,null,null,null,null,null,null,null,11832,"CENTRO ESCOLAR COMUNIDAD LOS PLANES"]
[null,null,null,null,null,null,null,null,null,null,null,null,null,null,null,null,null,null,11833,"CENTRO ESCOLAR GENERAL TOMAS REGALADO"]
[null,null,null,null,null,null,null,null,null,null,null,null,null,null,null,null,null,null,11834,"ESCUELA DE EDUCACION PARVULARIA DE SAN BARTOLOME PERULAPIA"]
[null,null,null,null,null,null,null,null,null,null,null,null,null,null,null,null,null,null,11835,"CENTRO ESCOLAR CANTON SAN JOSE"]
[null,null,null,null,null,null,null,null,null,null,null,null,null,null,null,null,null,null,11836,"CENTRO ESCOLAR CANTON SANTA ANITA"]
[null,null,null,null,null,null,null,null,null,null,null,null,null,null,null,null,null,null,11837,"CENTRO ESCOLAR CANTON SAN FRANCISCO"]
[null,null,null,null,null,null,null,null,null,null,null,null,null,null,null,null,null,null,11838,"COMPLEJO EDUCATIVO SAN CRISTOBAL"]
[null,null,null,null,null,null,null,null,null,null,null,null,null,null,null,null,null,null,11839,"INSTITUTO NACIONAL SAN JOSE GUAYABAL"]
[null,null,null,null,null,null,null,null,null,null,null,null,null,null,null,null,null,null,11840,"CENTRO ESCOLAR CANTON ANIMAS"]
[null,null,null,null,null,null,null,null,null,null,null,null,null,null,null,null,null,null,11842,"CENTRO ESCOLAR CANTON MELENDEZ"]
[null,null,null,null,null,null,null,null,null,null,null,null,null,null,null,null,null,null,11845,"CENTRO ESCOLAR INGENIERO CARLOS ARMANDO VELAZQUEZ SERRANO"]
[null,null,null,null,null,null,null,null,null,null,null,null,null,null,null,null,null,null,11846,"ESCUELA DE EDUCACION PARVULARIA SAN JOSE GUAYABAL"]
[null,null,null,null,null,null,null,null,null,null,null,null,null,null,null,null,null,null,11847,"CENTRO ESCOLAR CANTON BUENA VISTA"]
[null,null,null,null,null,null,null,null,null,null,null,null,null,null,null,null,null,null,11848,"CENTRO ESCOLAR CANTON EL RODEO"]
[null,null,null,null,null,null,null,null,null,null,null,null,null,null,null,null,null,null,11849,"COMPLEJO EDUCATIVO CANTON EL PARAISO ARRIBA"]
[null,null,null,null,null,null,null,null,null,null,null,null,null,null,null,null,null,null,11850,"ESCUELA DE EDUCACION PARVULARIA CANTON EL ESPINO"]
[null,null,null,null,null,null,null,null,null,null,null,null,null,null,null,null,null,null,11851,"CENTRO ESCOLAR COLONIA SANTA ISABEL"]
[null,null,null,null,null,null,null,null,null,null,null,null,null,null,null,null,null,null,11853,"INSTITUTO NACIONAL SAN PEDRO PERULAPAN"]
[null,null,null,null,null,null,null,null,null,null,null,null,null,null,null,null,null,null,11854,"CENTRO ESCOLAR SAN PEDRO PERULAPAN"]
[null,null,null,null,null,null,null,null,null,null,null,null,null,null,null,null,null,null,11856,"CENTRO ESCOLAR ESTEBAN TRINIDAD"]
[null,null,null,null,null,null,null,null,null,null,null,null,null,null,null,null,null,null,11858,"CENTRO ESCOLAR CANTON TECOLUCO ABAJO"]
[null,null,null,null,null,null,null,null,null,null,null,null,null,null,null,null,null,null,11859,"CENTRO ESCOLAR CANTON SAN FRANCISCO CANDELARIA"]
[null,null,null,null,null,null,null,null,null,null,null,null,null,null,null,null,null,null,11860,"CENTRO ESCOLAR CANTON EL LIMON"]
[null,null,null,null,null,null,null,null,null,null,null,null,null,null,null,null,null,null,11861,"CENTRO ESCOLAR CANTON SAN AGUSTIN"]
[null,null,null,null,null,null,null,null,null,null,null,null,null,null,null,null,null,null,11862,"CENTRO ESCOLAR DOCTOR ANDRES GONZALO FUNES"]
[null,null,null,null,null,null,null,null,null,null,null,null,null,null,null,null,null,null,11863,"CENTRO ESCOLAR CANTON TECOLUCO ARRIBA"]
[null,null,null,null,null,null,null,null,null,null,null,null,null,null,null,null,null,null,11864,"CENTRO ESCOLAR CANTON EL PARAISO ABAJO"]
[null,null,null,null,null,null,null,null,null,null,null,null,null,null,null,null,null,null,11865,"CENTRO ESCOLAR GENERAL FRANCISCO MORAZAN"]
[null,null,null,null,null,null,null,null,null,null,null,null,null,null,null,null,null,null,11866,"ESCUELA DE EDUCACION PARVULARIA SAN PEDRO PERULAPAN "]
[null,null,null,null,null,null,null,null,null,null,null,null,null,null,null,null,null,null,11867,"CENTRO ESCOLAR CANTON TECOMATEPEQUE"]
[null,null,null,null,null,null,null,null,null,null,null,null,null,null,null,null,null,null,11868,"COMPLEJO EDUCATIVO FELIPE HUEZO CORDOVA"]
[null,null,null,null,null,null,null,null,null,null,null,null,null,null,null,null,null,null,11869,"COMPLEJO EDUCATIVO GENERAL FRANCISCO MENENDEZ"]
[null,null,null,null,null,null,null,null,null,null,null,null,null,null,null,null,null,null,11870,"CENTRO ESCOLAR 25 DE SEPTIEMBRE DE 1839"]
[null,null,null,null,null,null,null,null,null,null,null,null,null,null,null,null,null,null,11871,"CENTRO ESCOLAR CANTON EL COPINOL"]
[null,null,null,null,null,null,null,null,null,null,null,null,null,null,null,null,null,null,11872,"INSTITUTO NACIONAL DE SAN RAFAEL CEDROS"]
[null,null,null,null,null,null,null,null,null,null,null,null,null,null,null,null,null,null,11873,"CENTRO ESCOLAR SAN RAFAEL CEDROS"]
[null,null,null,null,null,null,null,null,null,null,null,null,null,null,null,null,null,null,11874,"ESCUELA DE EDUCACION PARVULARIA PROFESORA MIRIAM NORA MARTINEZ DE PEREZ"]
[null,null,null,null,null,null,null,null,null,null,null,null,null,null,null,null,null,null,11875,"CENTRO ESCOLAR CANTON LA SOLEDAD"]
[null,null,null,null,null,null,null,null,null,null,null,null,null,null,null,null,null,null,11876,"CENTRO ESCOLAR CANTON CERRO COLORADO"]
[null,null,null,null,null,null,null,null,null,null,null,null,null,null,null,null,null,null,11877,"COMPLEJO EDUCATIVO TOMAS ALVA EDISON"]
[null,null,null,null,null,null,null,null,null,null,null,null,null,null,null,null,null,null,11878,"CENTRO ESCOLAR FLORENCIA RIVAS"]
[null,null,null,null,null,null,null,null,null,null,null,null,null,null,null,null,null,null,11879,"COMPLEJO EDUCATIVO RAFAEL CABRERA"]
[null,null,null,null,null,null,null,null,null,null,null,null,null,null,null,null,null,null,11880,"CENTRO ESCOLAR CANTON SAN PABLO"]
[null,null,null,null,null,null,null,null,null,null,null,null,null,null,null,null,null,null,11881,"CENTRO ESCOLAR CANTON BARRIO ABAJO"]
[null,null,null,null,null,null,null,null,null,null,null,null,null,null,null,null,null,null,11882,"ESCUELA DE EDUCACION PARVULARIA SANTA CRUZ ANALQUITO"]
[null,null,null,null,null,null,null,null,null,null,null,null,null,null,null,null,null,null,11883,"CENTRO ESCOLAR DE SANTA CRUZ ANALQUITO"]
[null,null,null,null,null,null,null,null,null,null,null,null,null,null,null,null,null,null,11884,"CENTRO ESCOLAR CANTON LAS DELICIAS"]
[null,null,null,null,null,null,null,null,null,null,null,null,null,null,null,null,null,null,11885,"ESCUELA DE EDUCACION PARVULARIA SAN VICENTE DE PAUL"]
[null,null,null,null,null,null,null,null,null,null,null,null,null,null,null,null,null,null,11886,"CENTRO ESCOLAR COLONIA MACARENA"]
[null,null,null,null,null,null,null,null,null,null,null,null,null,null,null,null,null,null,11887,"CENTRO ESCOLAR GENERAL SEGUNDO RUANO RIVAS"]
[null,null,null,null,null,null,null,null,null,null,null,null,null,null,null,null,null,null,11888,"CENTRO ESCOLAR CANTON ANIMAS"]
[null,null,null,null,null,null,null,null,null,null,null,null,null,null,null,null,null,null,11889,"CENTRO ESCOLAR CANTON BUENAVISTA"]
[null,null,null,null,null,null,null,null,null,null,null,null,null,null,null,null,null,null,11890,"CENTRO ESCOLAR FELIPE SOTO"]
[null,null,null,null,null,null,null,null,null,null,null,null,null,null,null,null,null,null,11891,"CENTRO ESCOLAR CANTON EL TRAPICHITO"]
[null,null,null,null,null,null,null,null,null,null,null,null,null,null,null,null,null,null,11893,"INSTITUTO NACIONAL SUCHITOTO"]
[null,null,null,null,null,null,null,null,null,null,null,null,null,null,null,null,null,null,11895,"CENTRO ESCOLAR CANTON ESTANZUELAS"]
[null,null,null,null,null,null,null,null,null,null,null,null,null,null,null,null,null,null,11896,"CENTRO ESCOLAR CASERIO SAN FRANCISCO CANTON SAN LUCAS"]
[null,null,null,null,null,null,null,null,null,null,null,null,null,null,null,null,null,null,11898,"CENTRO ESCOLAR CANTON MILINGO"]
[null,null,null,null,null,null,null,null,null,null,null,null,null,null,null,null,null,null,11900,"CENTRO ESCOLAR CANTON EL CAULOTE"]
[null,null,null,null,null,null,null,null,null,null,null,null,null,null,null,null,null,null,11901,"CENTRO ESCOLAR CANTON MONTEPEQUE"]
[null,null,null,null,null,null,null,null,null,null,null,null,null,null,null,null,null,null,11903,"CENTRO ESCOLAR MIGUEL HIDALGO Y COSTILLA"]
[null,null,null,null,null,null,null,null,null,null,null,null,null,null,null,null,null,null,11904,"CENTRO ESCOLAR PROFESORA EUGENIA CRISTIANA BONILLA"]
[null,null,null,null,null,null,null,null,null,null,null,null,null,null,null,null,null,null,11905,"ESCUELA DE EDUCACION PARVULARIA NELA ESCOBAR CHACON"]
[null,null,null,null,null,null,null,null,null,null,null,null,null,null,null,null,null,null,11907,"CENTRO ESCOLAR ISAAC RUIZ ARAUJO"]
[null,null,null,null,null,null,null,null,null,null,null,null,null,null,null,null,null,null,11908,"CENTRO ESCOLAR ANA DOLORES ARIAS"]
[null,null,null,null,null,null,null,null,null,null,null,null,null,null,null,null,null,null,11909,"INSTITUTO NACIONAL TENANCINGO"]
[null,null,null,null,null,null,null,null,null,null,null,null,null,null,null,null,null,null,11910,"CENTRO ESCOLAR CANTON JIÑUCO"]
[null,null,null,null,null,null,null,null,null,null,null,null,null,null,null,null,null,null,11912,"ESCUELA DE EDUCACION PARVULARIA TENANCINGO"]
[null,null,null,null,null,null,null,null,null,null,null,null,null,null,null,null,null,null,11913,"CENTRO ESCOLAR DOCTOR MANUEL ENRIQUE ARAUJO"]
[null,null,null,null,null,null,null,null,null,null,null,null,null,null,null,null,null,null,11914,"CENTRO ESCOLAR JOSE MARIO HENRIQUEZ"]
[null,null,null,null,null,null,null,null,null,null,null,null,null,null,null,null,null,null,11915,"CENTRO ESCOLAR CANTON ROSARIO TABLON"]
[null,null,null,null,null,null,null,null,null,null,null,null,null,null,null,null,null,null,11916,"ESCUELA DE EDUCACION PARVULARIA MARIA ARACELY ESCAMILLA VIUDA DE LARA"]
[null,null,null,null,null,null,null,null,null,null,null,null,null,null,null,null,null,null,11917,"CENTRO ESCOLAR DOCTOR VICTORINO AYALA"]
[null,null,null,null,null,null,null,null,null,null,null,null,null,null,null,null,null,null,11918,"CENTRO ESCOLAR CANTON SAN ANTONIO"]
[null,null,null,null,null,null,null,null,null,null,null,null,null,null,null,null,null,null,11919,"INSTITUTO NACIONAL DOCTOR MANUEL LUIS ESCAMILLA"]
[null,null,null,null,null,null,null,null,null,null,null,null,null,null,null,null,null,null,11920,"CENTRO ESCOLAR CANTON SAN RAFAEL"]
[null,null,null,null,null,null,null,null,null,null,null,null,null,null,null,null,null,null,11921,"INSTITUTO NACIONAL DE EL ROSARIO"]
[null,null,null,null,null,null,null,null,null,null,null,null,null,null,null,null,null,null,11922,"CENTRO ESCOLAR CANTON EL PEDREGAL"]
[null,null,null,null,null,null,null,null,null,null,null,null,null,null,null,null,null,null,11923,"CENTRO ESCOLAR CANTON TILAPA"]
[null,null,null,null,null,null,null,null,null,null,null,null,null,null,null,null,null,null,11924,"CENTRO ESCOLAR CASERIO NAHUALAPA"]
[null,null,null,null,null,null,null,null,null,null,null,null,null,null,null,null,null,null,11925,"CENTRO ESCOLAR COLONIA EL PEDREGAL"]
[null,null,null,null,null,null,null,null,null,null,null,null,null,null,null,null,null,null,11926,"CENTRO ESCOLAR FABIO IGNACIO MAGAÑA"]
[null,null,null,null,null,null,null,null,null,null,null,null,null,null,null,null,null,null,11927,"CENTRO ESCOLAR CASERIO SANTA CRUZ EL TUNAL"]
[null,null,null,null,null,null,null,null,null,null,null,null,null,null,null,null,null,null,11929,"ESCUELA DE EDUCACION PARVULARIA EL ROSARIO"]
[null,null,null,null,null,null,null,null,null,null,null,null,null,null,null,null,null,null,11930,"CENTRO ESCOLAR MANUEL ANTONIO QUINTANILLA"]
[null,null,null,null,null,null,null,null,null,null,null,null,null,null,null,null,null,null,11931,"CENTRO ESCOLAR CASERIO VERACRUZ ARRIBA"]
[null,null,null,null,null,null,null,null,null,null,null,null,null,null,null,null,null,null,11932,"COMPLEJO EDUCATIVO MERCEDES DE LA CEIBA"]
[null,null,null,null,null,null,null,null,null,null,null,null,null,null,null,null,null,null,11933,"CENTRO ESCOLAR CASERIO VALLE NUEVO"]
[null,null,null,null,null,null,null,null,null,null,null,null,null,null,null,null,null,null,11934,"CENTRO ESCOLAR CANTON EL CHILAMATE"]
[null,null,null,null,null,null,null,null,null,null,null,null,null,null,null,null,null,null,11935,"INSTITUTO NACIONAL DE OLOCUILTA"]
[null,null,null,null,null,null,null,null,null,null,null,null,null,null,null,null,null,null,11936,"CENTRO ESCOLAR CANTON CUPINCO"]
[null,null,null,null,null,null,null,null,null,null,null,null,null,null,null,null,null,null,11937,"CENTRO ESCOLAR PROFESORA MARIA EVANGELINA ALVAREZ"]
[null,null,null,null,null,null,null,null,null,null,null,null,null,null,null,null,null,null,11938,"CENTRO ESCOLAR CANTON JAYUCA"]
[null,null,null,null,null,null,null,null,null,null,null,null,null,null,null,null,null,null,11939,"CENTRO ESCOLAR CANTON LA ESPERANZA"]
[null,null,null,null,null,null,null,null,null,null,null,null,null,null,null,null,null,null,11940,"CENTRO ESCOLAR CASERIO SANTO TOMAS"]
[null,null,null,null,null,null,null,null,null,null,null,null,null,null,null,null,null,null,11941,"CENTRO ESCOLAR PROFESORA ROSA MIRIAN ABREGO DE HERNANDEZ"]
[null,null,null,null,null,null,null,null,null,null,null,null,null,null,null,null,null,null,11942,"ESCUELA DE EDUCACION PARVULARIA DE OLOCUILTA"]
[null,null,null,null,null,null,null,null,null,null,null,null,null,null,null,null,null,null,11943,"CENTRO ESCOLAR ALBERTO MASFERRER"]
[null,null,null,null,null,null,null,null,null,null,null,null,null,null,null,null,null,null,11944,"CENTRO ESCOLAR CANTON SAN SEBASTIAN"]
[null,null,null,null,null,null,null,null,null,null,null,null,null,null,null,null,null,null,11945,"COMPLEJO EDUCATIVO GENERAL RAFAEL OSORIO HIJO"]
[null,null,null,null,null,null,null,null,null,null,null,null,null,null,null,null,null,null,11946,"CENTRO ESCOLAR MARIA ESTER ALFARO"]
[null,null,null,null,null,null,null,null,null,null,null,null,null,null,null,null,null,null,11947,"CENTRO ESCOLAR CANTON EL SOCORRO"]
[null,null,null,null,null,null,null,null,null,null,null,null,null,null,null,null,null,null,11949,"CENTRO ESCOLAR CASERIO LOS NOVILLOS"]
[null,null,null,null,null,null,null,null,null,null,null,null,null,null,null,null,null,null,11950,"ESCUELA DE EDUCACION PARVULARIA SAN ANTONIO MASAHUAT"]
[null,null,null,null,null,null,null,null,null,null,null,null,null,null,null,null,null,null,11951,"CENTRO ESCOLAR PROFESOR FRANCISCO ADOLFO BLANDON"]
[null,null,null,null,null,null,null,null,null,null,null,null,null,null,null,null,null,null,11952,"CENTRO ESCOLAR CANTON CONCEPCION LOURDES"]
[null,null,null,null,null,null,null,null,null,null,null,null,null,null,null,null,null,null,11954,"INSTITUTO NACIONAL DE SAN EMIGDIO"]
[null,null,null,null,null,null,null,null,null,null,null,null,null,null,null,null,null,null,11955,"CENTRO ESCOLAR AMALIA ROSALES CAMPOS"]
[null,null,null,null,null,null,null,null,null,null,null,null,null,null,null,null,null,null,11956,"CENTRO ESCOLAR CASERIO LOMA GRANDE CANTON SAN JOSE DE LA MONTAÑA"]
[null,null,null,null,null,null,null,null,null,null,null,null,null,null,null,null,null,null,11957,"CENTRO ESCOLAR CANTON SAN ANTONIO PANCHIMILAMA"]
[null,null,null,null,null,null,null,null,null,null,null,null,null,null,null,null,null,null,11959,"COMPLEJO EDUCATIVO CLAUDIA LARS"]
[null,null,null,null,null,null,null,null,null,null,null,null,null,null,null,null,null,null,11960,"CENTRO ESCOLAR CANTON CANDELARIA"]
[null,null,null,null,null,null,null,null,null,null,null,null,null,null,null,null,null,null,11962,"CENTRO ESCOLAR CANTON EL GOLFO"]
[null,null,null,null,null,null,null,null,null,null,null,null,null,null,null,null,null,null,11963,"CENTRO ESCOLAR CANTON LA LONGANIZA"]
[null,null,null,null,null,null,null,null,null,null,null,null,null,null,null,null,null,null,11964,"CENTRO ESCOLAR CANTON LA LAGUNETA"]
[null,null,null,null,null,null,null,null,null,null,null,null,null,null,null,null,null,null,11965,"CENTRO ESCOLAR CANTON LAS DELICIAS"]
[null,null,null,null,null,null,null,null,null,null,null,null,null,null,null,null,null,null,11968,"CENTRO ESCOLAR CANTON LOS ZACATILLOS"]
[null,null,null,null,null,null,null,null,null,null,null,null,null,null,null,null,null,null,11969,"CENTRO ESCOLAR CANTON EL PAJAL"]
[null,null,null,null,null,null,null,null,null,null,null,null,null,null,null,null,null,null,11970,"CENTRO ESCOLAR CANTON TIERRA COLORADA"]
[null,null,null,null,null,null,null,null,null,null,null,null,null,null,null,null,null,null,11971,"CENTRO ESCOLAR PROFESOR IRENEO DE LEON"]
[null,null,null,null,null,null,null,null,null,null,null,null,null,null,null,null,null,null,11972,"COMPLEJO EDUCATIVO PROFESOR FELIPE HUEZO CORDOVA"]
[null,null,null,null,null,null,null,null,null,null,null,null,null,null,null,null,null,null,11975,"CENTRO ESCOLAR PROFESORA JUANA SARA LOPEZ DE MIRANDA"]
[null,null,null,null,null,null,null,null,null,null,null,null,null,null,null,null,null,null,11976,"CENTRO ESCOLAR DOCTOR GILBERTO LISANDRO VASQUEZ SOSA"]
[null,null,null,null,null,null,null,null,null,null,null,null,null,null,null,null,null,null,11977,"CENTRO ESCOLAR CANTON EL TOBALON"]
[null,null,null,null,null,null,null,null,null,null,null,null,null,null,null,null,null,null,11980,"CENTRO ESCOLAR CANTON LOS HUEZO"]
[null,null,null,null,null,null,null,null,null,null,null,null,null,null,null,null,null,null,11982,"COMPLEJO EDUCATIVO PROFESOR ALBERTO VARELA"]
[null,null,null,null,null,null,null,null,null,null,null,null,null,null,null,null,null,null,11983,"CENTRO ESCOLAR CANTON LA CRUZ"]
[null,null,null,null,null,null,null,null,null,null,null,null,null,null,null,null,null,null,11984,"INSTITUTO NACIONAL DE SAN JUAN TEPEZONTES"]
[null,null,null,null,null,null,null,null,null,null,null,null,null,null,null,null,null,null,11987,"CENTRO ESCOLAR MANUELA MINERO DE MEJIA"]
[null,null,null,null,null,null,null,null,null,null,null,null,null,null,null,null,null,null,11988,"INSTITUTO NACIONAL DE SAN LUIS TALPA"]
[null,null,null,null,null,null,null,null,null,null,null,null,null,null,null,null,null,null,11989,"CENTRO ESCOLAR LOTIFICACION LA FORTUNA"]
[null,null,null,null,null,null,null,null,null,null,null,null,null,null,null,null,null,null,11991,"CENTRO ESCOLAR CASERIO EL SALAMAR"]
[null,null,null,null,null,null,null,null,null,null,null,null,null,null,null,null,null,null,11992,"CENTRO ESCOLAR CANTON NUEVO EDEN"]
[null,null,null,null,null,null,null,null,null,null,null,null,null,null,null,null,null,null,11994,"CENTRO ESCOLAR CASERIO LA ZUNGANERA"]
[null,null,null,null,null,null,null,null,null,null,null,null,null,null,null,null,null,null,11995,"CENTRO ESCOLAR CANTON TECUALUYA"]
[null,null,null,null,null,null,null,null,null,null,null,null,null,null,null,null,null,null,11997,"CENTRO ESCOLAR CANTON AMATECAMPO"]
[null,null,null,null,null,null,null,null,null,null,null,null,null,null,null,null,null,null,11998,"CENTRO ESCOLAR SAN LUIS TALPA"]
[null,null,null,null,null,null,null,null,null,null,null,null,null,null,null,null,null,null,11999,"CENTRO ESCOLAR CASERIO SANTA CLARA"]
[null,null,null,null,null,null,null,null,null,null,null,null,null,null,null,null,null,null,12000,"CENTRO ESCOLAR CANTON SAN BARTOLO"]
[null,null,null,null,null,null,null,null,null,null,null,null,null,null,null,null,null,null,12001,"CENTRO ESCOLAR LA PAZ"]
[null,null,null,null,null,null,null,null,null,null,null,null,null,null,null,null,null,null,12002,"ESCUELA DE EDUCACION PARVULARIA DE SAN MIGUEL TEPEZONTES"]
[null,null,null,null,null,null,null,null,null,null,null,null,null,null,null,null,null,null,12003,"CENTRO ESCOLAR CANTON LAS HOJAS"]
[null,null,null,null,null,null,null,null,null,null,null,null,null,null,null,null,null,null,12004,"CENTRO ESCOLAR CASERIO LA DIVINA PROVIDENCIA"]
[null,null,null,null,null,null,null,null,null,null,null,null,null,null,null,null,null,null,12006,"INSTITUTO NACIONAL MONSEÑOR TOMAS MIGUEL PINEDA Y SALDAÑA"]
[null,null,null,null,null,null,null,null,null,null,null,null,null,null,null,null,null,null,12007,"COMPLEJO EDUCATIVO CANTON SAN MARCELINO"]
[null,null,null,null,null,null,null,null,null,null,null,null,null,null,null,null,null,null,12008,"CENTRO ESCOLAR CANTON DULCE NOMBRE"]
[null,null,null,null,null,null,null,null,null,null,null,null,null,null,null,null,null,null,12009,"CENTRO ESCOLAR CANTON EL ACHIOTAL"]
[null,null,null,null,null,null,null,null,null,null,null,null,null,null,null,null,null,null,12010,"CENTRO ESCOLAR CANTON EL PAREDON"]
[null,null,null,null,null,null,null,null,null,null,null,null,null,null,null,null,null,null,12011,"CENTRO ESCOLAR PROFESORA MARIA OLIMPIA ESCOBAR DE SIBRIAN"]
[null,null,null,null,null,null,null,null,null,null,null,null,null,null,null,null,null,null,12012,"COMPLEJO EDUCATIVO CANTON LAS ISLETAS"]
[null,null,null,null,null,null,null,null,null,null,null,null,null,null,null,null,null,null,12013,"COMPLEJO EDUCATIVO CANTÓN BARAHONA"]
[null,null,null,null,null,null,null,null,null,null,null,null,null,null,null,null,null,null,12015,"CENTRO ESCOLAR MARIA TERESA DUKE"]
[null,null,null,null,null,null,null,null,null,null,null,null,null,null,null,null,null,null,12016,"COMPLEJO EDUCATIVO CANTON EL PORVENIR"]
[null,null,null,null,null,null,null,null,null,null,null,null,null,null,null,null,null,null,12017,"CENTRO ESCOLAR NEMESIA LUNA"]
[null,null,null,null,null,null,null,null,null,null,null,null,null,null,null,null,null,null,12018,"ESCUELA DE EDUCACION PARVULARIA CLOTILDE HUEZO PRADO"]
[null,null,null,null,null,null,null,null,null,null,null,null,null,null,null,null,null,null,12019,"CENTRO ESCOLAR ADOLFO FERNANDEZ"]
[null,null,null,null,null,null,null,null,null,null,null,null,null,null,null,null,null,null,12020,"CENTRO ESCOLAR CANTON LA CARBONERA"]
[null,null,null,null,null,null,null,null,null,null,null,null,null,null,null,null,null,null,12023,"INSTITUTO NACIONAL AUGUSTO CESAR ROMERO"]
[null,null,null,null,null,null,null,null,null,null,null,null,null,null,null,null,null,null,12024,"CENTRO ESCOLAR TIMOTEO LIEVANO"]
[null,null,null,null,null,null,null,null,null,null,null,null,null,null,null,null,null,null,12026,"CENTRO ESCOLAR JUAN BERNAL MIRA"]
[null,null,null,null,null,null,null,null,null,null,null,null,null,null,null,null,null,null,12027,"CENTRO ESCOLAR CANTON LA COMUNIDAD"]
[null,null,null,null,null,null,null,null,null,null,null,null,null,null,null,null,null,null,12028,"CENTRO ESCOLAR DOCTORA MILAGRO ANTONIA MARTINEZ DE FIGUEROA"]
[null,null,null,null,null,null,null,null,null,null,null,null,null,null,null,null,null,null,12030,"CENTRO ESCOLAR CANTON SAN JOSE OBRAJUELO"]
[null,null,null,null,null,null,null,null,null,null,null,null,null,null,null,null,null,null,12031,"INSTITUTO NACIONAL PROFESOR FRANCISCO GUERRERO"]
[null,null,null,null,null,null,null,null,null,null,null,null,null,null,null,null,null,null,12032,"CENTRO ESCOLAR PROFESOR JOSE RICARDO CATIVO"]
[null,null,null,null,null,null,null,null,null,null,null,null,null,null,null,null,null,null,12033,"CENTRO ESCOLAR PROFESOR RAFAEL OSORIO HIJO"]
[null,null,null,null,null,null,null,null,null,null,null,null,null,null,null,null,null,null,12034,"ESCUELA DE EDUCACION PARVULARIA JULITA ALFONSO"]
[null,null,null,null,null,null,null,null,null,null,null,null,null,null,null,null,null,null,12035,"CENTRO ESCOLAR CANTON LA PALMA"]
[null,null,null,null,null,null,null,null,null,null,null,null,null,null,null,null,null,null,12036,"CENTRO ESCOLAR CANTON SAN MIGUEL OBRAJUELO"]
[null,null,null,null,null,null,null,null,null,null,null,null,null,null,null,null,null,null,12037,"CENTRO ESCOLAR CANTON SAN JOSE CARRIZAL"]
[null,null,null,null,null,null,null,null,null,null,null,null,null,null,null,null,null,null,12038,"ESCUELA DE EDUCACION PARVULARIA PROFESOR JOSE CUPERTINO ROSALES"]
[null,null,null,null,null,null,null,null,null,null,null,null,null,null,null,null,null,null,12039,"CENTRO ESCOLAR TENIENTE CORONEL JOSE CARLOS FLORES BENITEZ"]
[null,null,null,null,null,null,null,null,null,null,null,null,null,null,null,null,null,null,12042,"INSTITUTO NACIONAL DE SANTA MARIA OSTUMA"]
[null,null,null,null,null,null,null,null,null,null,null,null,null,null,null,null,null,null,12043,"CENTRO ESCOLAR DOROTEO DE JESUS CORDOVA PINEDA"]
[null,null,null,null,null,null,null,null,null,null,null,null,null,null,null,null,null,null,12045,"CENTRO ESCOLAR CANTON SAN ANTONIO"]
[null,null,null,null,null,null,null,null,null,null,null,null,null,null,null,null,null,null,12047,"CENTRO ESCOLAR DE SUECIA"]
[null,null,null,null,null,null,null,null,null,null,null,null,null,null,null,null,null,null,12048,"CENTRO ESCOLAR COLONIA SANTA INES"]
[null,null,null,null,null,null,null,null,null,null,null,null,null,null,null,null,null,null,12049,"INSTITUTO NACIONAL JOSE INGENIEROS"]
[null,null,null,null,null,null,null,null,null,null,null,null,null,null,null,null,null,null,12050,"CENTRO ESCOLAR CANTON CONCEPCION JALPONGA"]
[null,null,null,null,null,null,null,null,null,null,null,null,null,null,null,null,null,null,12051,"CENTRO ESCOLAR CENTRO AMERICA"]
[null,null,null,null,null,null,null,null,null,null,null,null,null,null,null,null,null,null,12052,"CENTRO ESCOLAR CASERIO SAN CRISTOBAL"]
[null,null,null,null,null,null,null,null,null,null,null,null,null,null,null,null,null,null,12053,"CENTRO ESCOLAR ANASTACIO AQUINO"]
[null,null,null,null,null,null,null,null,null,null,null,null,null,null,null,null,null,null,12054,"CENTRO ESCOLAR CASERIO OJO DE AGUA"]
[null,null,null,null,null,null,null,null,null,null,null,null,null,null,null,null,null,null,12055,"COMPLEJO EDUCATIVO SOLEDAD MELARA DE ARGUETA"]
[null,null,null,null,null,null,null,null,null,null,null,null,null,null,null,null,null,null,12057,"CENTRO ESCOLAR CANTON SANTA CRUZ CHACASTAL"]
[null,null,null,null,null,null,null,null,null,null,null,null,null,null,null,null,null,null,12058,"CENTRO ESCOLAR CANTON EL SAUCE"]
[null,null,null,null,null,null,null,null,null,null,null,null,null,null,null,null,null,null,12059,"CENTRO ESCOLAR CASERIO LA FLECHA"]
[null,null,null,null,null,null,null,null,null,null,null,null,null,null,null,null,null,null,12060,"CENTRO ESCOLAR CANTON SAN SEBASTIAN ARRIBA"]
[null,null,null,null,null,null,null,null,null,null,null,null,null,null,null,null,null,null,12061,"CENTRO ESCOLAR 14 DE ABRIL"]
[null,null,null,null,null,null,null,null,null,null,null,null,null,null,null,null,null,null,12062,"CENTRO ESCOLAR CANTON SAN ANTONIO ARRIBA"]
[null,null,null,null,null,null,null,null,null,null,null,null,null,null,null,null,null,null,12063,"CENTRO ESCOLAR CANTON SAN SEBASTIAN ABAJO"]
[null,null,null,null,null,null,null,null,null,null,null,null,null,null,null,null,null,null,12065,"CENTRO ESCOLAR CANTON AMULUNCO"]
[null,null,null,null,null,null,null,null,null,null,null,null,null,null,null,null,null,null,12066,"CENTRO ESCOLAR CANTON SAN JOSE OBRAJITO"]
[null,null,null,null,null,null,null,null,null,null,null,null,null,null,null,null,null,null,12067,"CENTRO ESCOLAR MORELIA"]
[null,null,null,null,null,null,null,null,null,null,null,null,null,null,null,null,null,null,12068,"CENTRO ESCOLAR CANTON SAN JOSE ABAJO"]
[null,null,null,null,null,null,null,null,null,null,null,null,null,null,null,null,null,null,12070,"CENTRO ESCOLAR CANTON SAN LUIS JALPONGUITA"]
[null,null,null,null,null,null,null,null,null,null,null,null,null,null,null,null,null,null,12071,"CENTRO ESCOLAR CUSCATLAN"]
[null,null,null,null,null,null,null,null,null,null,null,null,null,null,null,null,null,null,12072,"CENTRO ESCOLAR DOCTOR JOAQUIN JULE GALVEZ"]
[null,null,null,null,null,null,null,null,null,null,null,null,null,null,null,null,null,null,12073,"CENTRO ESCOLAR ESTADOS UNIDOS DE AMERICA"]
[null,null,null,null,null,null,null,null,null,null,null,null,null,null,null,null,null,null,12074,"ESCUELA DE EDUCACION PARVULARIA DOCTOR MIGUEL EDUARDO APARICIO JULES"]
[null,null,null,null,null,null,null,null,null,null,null,null,null,null,null,null,null,null,12075,"CENTRO ESCOLAR LA CRUZ DEL MOJON"]
[null,null,null,null,null,null,null,null,null,null,null,null,null,null,null,null,null,null,12076,"CENTRO ESCOLAR DOCTOR HERMOGENES ALVARADO"]
[null,null,null,null,null,null,null,null,null,null,null,null,null,null,null,null,null,null,12077,"CENTRO ESCOLAR PROFESORA JUANA ROSELIA RUIZ"]
[null,null,null,null,null,null,null,null,null,null,null,null,null,null,null,null,null,null,12079,"COMPLEJO EDUCATIVO JOSE SIMEON CAÑAS"]
[null,null,null,null,null,null,null,null,null,null,null,null,null,null,null,null,null,null,12080,"COMPLEJO EDUCATIVO MARCOS OCHOA"]
[null,null,null,null,null,null,null,null,null,null,null,null,null,null,null,null,null,null,12081,"CENTRO ESCOLAR PROFESOR ADOLFO DE JESUS MARQUEZ"]
[null,null,null,null,null,null,null,null,null,null,null,null,null,null,null,null,null,null,12082,"CENTRO ESCOLAR LOTIFICACION CAMPO VERDE"]
[null,null,null,null,null,null,null,null,null,null,null,null,null,null,null,null,null,null,12083,"INSTITUTO NACIONAL JOSE SIMEON CAÑAS"]
[null,null,null,null,null,null,null,null,null,null,null,null,null,null,null,null,null,null,12086,"ESCUELA DE EDUCACION PARVULARIA DE ZACATECOLUCA"]
[null,null,null,null,null,null,null,null,null,null,null,null,null,null,null,null,null,null,12087,"CENTRO ESCOLAR CASERIO LA LUCHITA"]
[null,null,null,null,null,null,null,null,null,null,null,null,null,null,null,null,null,null,12088,"CENTRO ESCOLAR CANTON PENITENTE ABAJO"]
[null,null,null,null,null,null,null,null,null,null,null,null,null,null,null,null,null,null,12091,"CENTRO ESCOLAR COLONIA EL CARMEN"]
[null,null,null,null,null,null,null,null,null,null,null,null,null,null,null,null,null,null,12092,"CENTRO ESCOLAR CASERIO LA MAGDALENA"]
[null,null,null,null,null,null,null,null,null,null,null,null,null,null,null,null,null,null,12093,"CENTRO ESCOLAR LOTIFICACION LAS BRISAS"]
[null,null,null,null,null,null,null,null,null,null,null,null,null,null,null,null,null,null,12095,"CENTRO ESCOLAR CANTON SAN MARCOS DE LA CRUZ"]
[null,null,null,null,null,null,null,null,null,null,null,null,null,null,null,null,null,null,12096,"CENTRO ESCOLAR CANTON LAS TABLAS"]
[null,null,null,null,null,null,null,null,null,null,null,null,null,null,null,null,null,null,12097,"CENTRO ESCOLAR PROFESOR SAUL FLORES"]
[null,null,null,null,null,null,null,null,null,null,null,null,null,null,null,null,null,null,12099,"CENTRO ESCOLAR CANTON EL AMATE"]
[null,null,null,null,null,null,null,null,null,null,null,null,null,null,null,null,null,null,12100,"CENTRO ESCOLAR CANTON PIEDRA GRANDE ABAJO"]
[null,null,null,null,null,null,null,null,null,null,null,null,null,null,null,null,null,null,12101,"CENTRO ESCOLAR PROFESOR JUAN OSCAR SALOMON"]
[null,null,null,null,null,null,null,null,null,null,null,null,null,null,null,null,null,null,12102,"CENTRO ESCOLAR CANTON EL COPINOL"]
[null,null,null,null,null,null,null,null,null,null,null,null,null,null,null,null,null,null,12104,"CENTRO ESCOLAR CANTON LA LUCHA"]
[null,null,null,null,null,null,null,null,null,null,null,null,null,null,null,null,null,null,12105,"CENTRO ESCOLAR CANTON EL CALLEJON"]
[null,null,null,null,null,null,null,null,null,null,null,null,null,null,null,null,null,null,12107,"CENTRO ESCOLAR CANTON SAN JOSECITO"]
[null,null,null,null,null,null,null,null,null,null,null,null,null,null,null,null,null,null,12109,"CENTRO ESCOLAR CANTON EL ESPINO ABAJO"]
[null,null,null,null,null,null,null,null,null,null,null,null,null,null,null,null,null,null,12110,"CENTRO ESCOLAR CANTON BUENA VISTA ABAJO"]
[null,null,null,null,null,null,null,null,null,null,null,null,null,null,null,null,null,null,12111,"CENTRO ESCOLAR 16 DE AGOSTO DE 1996"]
[null,null,null,null,null,null,null,null,null,null,null,null,null,null,null,null,null,null,12112,"CENTRO ESCOLAR CANTON SAN FRANCISCO LOS REYES"]
[null,null,null,null,null,null,null,null,null,null,null,null,null,null,null,null,null,null,12113,"CENTRO ESCOLAR JOSE VAQUERANO"]
[null,null,null,null,null,null,null,null,null,null,null,null,null,null,null,null,null,null,12114,"CENTRO ESCOLAR CANTON HATO DE LOS REYES"]
[null,null,null,null,null,null,null,null,null,null,null,null,null,null,null,null,null,null,12115,"CENTRO ESCOLAR CANTON TIERRA BLANCA"]
[null,null,null,null,null,null,null,null,null,null,null,null,null,null,null,null,null,null,12116,"CENTRO ESCOLAR SAN AGUSTIN"]
[null,null,null,null,null,null,null,null,null,null,null,null,null,null,null,null,null,null,12117,"COMPLEJO EDUCATIVO PROFESOR CARLOS LOBATO"]
[null,null,null,null,null,null,null,null,null,null,null,null,null,null,null,null,null,null,12118,"ESCUELA DE EDUCACION PARVULARIA DOCTOR MIGUEL TOMAS MOLINA"]
[null,null,null,null,null,null,null,null,null,null,null,null,null,null,null,null,null,null,12119,"ESCUELA DE EDUCACION PARVULARIA COLONIA 27 DE SEPTIEMBRE"]
[null,null,null,null,null,null,null,null,null,null,null,null,null,null,null,null,null,null,12120,"CENTRO ESCOLAR LUCIA DE VILLACORTA"]
[null,null,null,null,null,null,null,null,null,null,null,null,null,null,null,null,null,null,12121,"CENTRO ESCOLAR CANTON LOS PLATANARES"]
[null,null,null,null,null,null,null,null,null,null,null,null,null,null,null,null,null,null,12122,"CENTRO ESCOLAR 15 DE SEPTIEMBRE"]
[null,null,null,null,null,null,null,null,null,null,null,null,null,null,null,null,null,null,12123,"CENTRO ESCOLAR CLAUDIA LARS"]
[null,null,null,null,null,null,null,null,null,null,null,null,null,null,null,null,null,null,12124,"CENTRO ESCOLAR CATARINO DE JESUS ORTIZ"]
[null,null,null,null,null,null,null,null,null,null,null,null,null,null,null,null,null,null,12126,"INSTITUTO NACIONAL DE SAN LUIS LA HERRADURA"]
[null,null,null,null,null,null,null,null,null,null,null,null,null,null,null,null,null,null,12127,"CENTRO ESCOLAR CANTON SAN ANTONIO LOS BLANCOS"]
[null,null,null,null,null,null,null,null,null,null,null,null,null,null,null,null,null,null,12128,"COMPLEJO EDUCATIVO ANGELA SCORSONELLI"]
[null,null,null,null,null,null,null,null,null,null,null,null,null,null,null,null,null,null,12129,"CENTRO ESCOLAR SAN LUIS LA HERRADURA"]
[null,null,null,null,null,null,null,null,null,null,null,null,null,null,null,null,null,null,12131,"CENTRO ESCOLAR FRANCISCO CASTAÑEDA"]
[null,null,null,null,null,null,null,null,null,null,null,null,null,null,null,null,null,null,12132,"COMPLEJO EDUCATIVO PROFESOR REYNALDO PADILLA"]
[null,null,null,null,null,null,null,null,null,null,null,null,null,null,null,null,null,null,12133,"COMPLEJO EDUCATIVO CASERIO SAN FIDEL CANTON BAÑADERO"]
[null,null,null,null,null,null,null,null,null,null,null,null,null,null,null,null,null,null,12136,"CENTRO ESCOLAR CASERI\u008dO LA ANTENA CANTON TEMPISQUE"]
[null,null,null,null,null,null,null,null,null,null,null,null,null,null,null,null,null,null,12137,"CENTRO ESCOLAR CASERI\u008dO ZACAMIL CANTON TEMPISQUE"]
[null,null,null,null,null,null,null,null,null,null,null,null,null,null,null,null,null,null,12138,"CENTRO ESCOLAR CANTON AGUA ZARCA"]
[null,null,null,null,null,null,null,null,null,null,null,null,null,null,null,null,null,null,12139,"CENTRO ESCOLAR VILLA GUACOTECTI"]
[null,null,null,null,null,null,null,null,null,null,null,null,null,null,null,null,null,null,12140,"CENTRO ESCOLAR CANTON TEMPISQUE"]
[null,null,null,null,null,null,null,null,null,null,null,null,null,null,null,null,null,null,12141,"CENTRO ESCOLAR CASERIO NUEVO TEPEYAC CANTON POTRERO"]
[null,null,null,null,null,null,null,null,null,null,null,null,null,null,null,null,null,null,12143,"INSTITUTO NACIONAL DE ILOBASCO"]
[null,null,null,null,null,null,null,null,null,null,null,null,null,null,null,null,null,null,12144,"CENTRO ESCOLAR CASERIO EL TRANSITO, CANTON ORATORIO"]
[null,null,null,null,null,null,null,null,null,null,null,null,null,null,null,null,null,null,12145,"CENTRO ESCOLAR CASERIO CONCEPCION CANTON LA QUESERA"]
[null,null,null,null,null,null,null,null,null,null,null,null,null,null,null,null,null,null,12146,"CENTRO ESCOLAR CASERIO SAYULAPA CANTON SITIO VIEJO"]
[null,null,null,null,null,null,null,null,null,null,null,null,null,null,null,null,null,null,12147,"CENTRO ESCOLAR CANTON SAN FRANCISCO DEL MONTE"]
[null,null,null,null,null,null,null,null,null,null,null,null,null,null,null,null,null,null,12148,"CENTRO ESCOLAR CASERIO EL ZACAMIL CANTON LOS HOYOS"]
[null,null,null,null,null,null,null,null,null,null,null,null,null,null,null,null,null,null,12149,"CENTRO ESCOLAR CASERIO NUEVO PORVENIR CANTON LOS HOYOS"]
[null,null,null,null,null,null,null,null,null,null,null,null,null,null,null,null,null,null,12150,"CENTRO ESCOLAR CASERIO LAS FLORES CANTON CERRO COLORADO"]
[null,null,null,null,null,null,null,null,null,null,null,null,null,null,null,null,null,null,12151,"CENTRO ESCOLAR DOCTOR VIDAL SEVERO LOPEZ"]
[null,null,null,null,null,null,null,null,null,null,null,null,null,null,null,null,null,null,12156,"CENTRO ESCOLAR CASERIO POTRERILLOS CANTON SAN FRANCISCO IRAHETA"]
[null,null,null,null,null,null,null,null,null,null,null,null,null,null,null,null,null,null,12157,"CENTRO ESCOLAR PROFESOR JUAN ROBERTO JUAREZ"]
[null,null,null,null,null,null,null,null,null,null,null,null,null,null,null,null,null,null,12158,"CENTRO ESCOLAR CANTON LAS HUERTAS"]
[null,null,null,null,null,null,null,null,null,null,null,null,null,null,null,null,null,null,12160,"CENTRO ESCOLAR CANTON EL MATAZANO"]
[null,null,null,null,null,null,null,null,null,null,null,null,null,null,null,null,null,null,12161,"CENTRO ESCOLAR CASERIO PEÑAS BLANCAS CANTON MAQUILISHUAT"]
[null,null,null,null,null,null,null,null,null,null,null,null,null,null,null,null,null,null,12162,"CENTRO ESCOLAR CASERIO EL CARMEN CANTON POTRERO"]
[null,null,null,null,null,null,null,null,null,null,null,null,null,null,null,null,null,null,12163,"CENTRO ESCOLAR CASERIO SAN VICENTE CANTON MAQUILISHUAT"]
[null,null,null,null,null,null,null,null,null,null,null,null,null,null,null,null,null,null,12165,"CENTRO ESCOLAR CASERIO LOS HERNANDEZ CANTON LA LABOR"]
[null,null,null,null,null,null,null,null,null,null,null,null,null,null,null,null,null,null,12166,"CENTRO ESCOLAR CANTON AZACUALPA"]
[null,null,null,null,null,null,null,null,null,null,null,null,null,null,null,null,null,null,12167,"CENTRO ESCOLAR CANTON SAN FRANCISCO IRAHETA"]
[null,null,null,null,null,null,null,null,null,null,null,null,null,null,null,null,null,null,12168,"CENTRO ESCOLAR JERONIMO ABARCA"]
[null,null,null,null,null,null,null,null,null,null,null,null,null,null,null,null,null,null,12169,"CENTRO ESCOLAR CASERI\u008dO EL MESTIZO CANTON SAN JOSE"]
[null,null,null,null,null,null,null,null,null,null,null,null,null,null,null,null,null,null,12170,"COMPLEJO EDUCATIVO CANTON LOS HOYOS"]
[null,null,null,null,null,null,null,null,null,null,null,null,null,null,null,null,null,null,12171,"CENTRO ESCOLAR CANTON SAN JOSE LOMAS DE PEÑA"]
[null,null,null,null,null,null,null,null,null,null,null,null,null,null,null,null,null,null,12172,"CENTRO ESCOLAR CASERI\u008dO MENJI\u008dVAR CANTON LOS HOYOS"]
[null,null,null,null,null,null,null,null,null,null,null,null,null,null,null,null,null,null,12173,"CENTRO ESCOLAR CANTON SITIO VIEJO"]
[null,null,null,null,null,null,null,null,null,null,null,null,null,null,null,null,null,null,12174,"CENTRO ESCOLAR CANTON LA LABOR"]
[null,null,null,null,null,null,null,null,null,null,null,null,null,null,null,null,null,null,12175,"CENTRO ESCOLAR CASERIO LAS MINAS CANTON AZACUALPA"]
[null,null,null,null,null,null,null,null,null,null,null,null,null,null,null,null,null,null,12176,"CENTRO ESCOLAR CASERIO EL LIMON CANTON MAQUILISHUAT"]
[null,null,null,null,null,null,null,null,null,null,null,null,null,null,null,null,null,null,12177,"CENTRO ESCOLAR CANTON NANASTEPEQUE"]
[null,null,null,null,null,null,null,null,null,null,null,null,null,null,null,null,null,null,12178,"CENTRO ESCOLAR CANTON LA QUESERA"]
[null,null,null,null,null,null,null,null,null,null,null,null,null,null,null,null,null,null,12179,"CENTRO ESCOLAR CANTON ORATORIO"]
[null,null,null,null,null,null,null,null,null,null,null,null,null,null,null,null,null,null,12180,"COMPLEJO EDUCATIVO CASERIO RANCHO QUEMADO"]
[null,null,null,null,null,null,null,null,null,null,null,null,null,null,null,null,null,null,12181,"CENTRO ESCOLAR AGUSTIN RIVERA"]
[null,null,null,null,null,null,null,null,null,null,null,null,null,null,null,null,null,null,12182,"CENTRO ESCOLAR CASERI\u008dO BUENOS AIRES CANTON POTRERO"]
[null,null,null,null,null,null,null,null,null,null,null,null,null,null,null,null,null,null,12183,"CENTRO ESCOLAR ISABEL LA CATOLICA"]
[null,null,null,null,null,null,null,null,null,null,null,null,null,null,null,null,null,null,12184,"COMPLEJO EDUCATIVO CANTON CERRO COLORADO"]
[null,null,null,null,null,null,null,null,null,null,null,null,null,null,null,null,null,null,12185,"CENTRO ESCOLAR CASERI\u008dO LOS FRAILES CANTON SITIO VIEJO"]
[null,null,null,null,null,null,null,null,null,null,null,null,null,null,null,null,null,null,12186,"CENTRO ESCOLAR BERNARDO PERDOMO"]
[null,null,null,null,null,null,null,null,null,null,null,null,null,null,null,null,null,null,12188,"CENTRO ESCOLAR CANTON SAN JOSE"]
[null,null,null,null,null,null,null,null,null,null,null,null,null,null,null,null,null,null,12189,"ESCUELA DE EDUCACION PARVULARIA GABRIELA MISTRAL"]
[null,null,null,null,null,null,null,null,null,null,null,null,null,null,null,null,null,null,12190,"CENTRO ESCOLAR CANTON SANTA CRUZ LA MILAGROSA"]
[null,null,null,null,null,null,null,null,null,null,null,null,null,null,null,null,null,null,12191,"CENTRO ESCOLAR CASERIO ISLETAS PIRAGUAS CANTON MAQUILISHUAT"]
[null,null,null,null,null,null,null,null,null,null,null,null,null,null,null,null,null,null,12192,"CENTRO ESCOLAR GENERAL FRANCISCO MENENDEZ"]
[null,null,null,null,null,null,null,null,null,null,null,null,null,null,null,null,null,null,12193,"CENTRO ESCOLAR SOR HENRIQUEZ"]
[null,null,null,null,null,null,null,null,null,null,null,null,null,null,null,null,null,null,12195,"CENTRO ESCOLAR CANTON SAN SEBASTIAN"]
[null,null,null,null,null,null,null,null,null,null,null,null,null,null,null,null,null,null,12196,"CENTRO ESCOLAR CANTON PALACIOS"]
[null,null,null,null,null,null,null,null,null,null,null,null,null,null,null,null,null,null,12197,"CENTRO ESCOLAR CASERI\u008dO LOS RIVAS CANTON LLANO LARGO"]
[null,null,null,null,null,null,null,null,null,null,null,null,null,null,null,null,null,null,12198,"CENTRO ESCOLAR JOSE DE JESUS MENJIVAR"]
[null,null,null,null,null,null,null,null,null,null,null,null,null,null,null,null,null,null,12199,"CENTRO ESCOLAR CANTON CERRON GRANDE"]
[null,null,null,null,null,null,null,null,null,null,null,null,null,null,null,null,null,null,12200,"CENTRO ESCOLAR 15 DE SEPTIEMBRE"]
[null,null,null,null,null,null,null,null,null,null,null,null,null,null,null,null,null,null,12201,"CENTRO ESCOLAR PAULA DE JESUS MENJIVAR CANTON LLANO LARGO"]
[null,null,null,null,null,null,null,null,null,null,null,null,null,null,null,null,null,null,12202,"CENTRO ESCOLAR CASERIO EL JUNQUILLO CANTON EL AMATE"]
[null,null,null,null,null,null,null,null,null,null,null,null,null,null,null,null,null,null,12203,"ESCUELA DE EDUCACION PARVULARIA DE SAN ISIDRO"]
[null,null,null,null,null,null,null,null,null,null,null,null,null,null,null,null,null,null,12204,"CENTRO ESCOLAR CANTON EL AMATE"]
[null,null,null,null,null,null,null,null,null,null,null,null,null,null,null,null,null,null,12206,"CENTRO ESCOLAR CANTON LOS JOBOS"]
[null,null,null,null,null,null,null,null,null,null,null,null,null,null,null,null,null,null,12207,"CENTRO ESCOLAR CANTON SAN FRANCISCO EL DORADO"]
[null,null,null,null,null,null,null,null,null,null,null,null,null,null,null,null,null,null,12208,"CENTRO ESCOLAR CANTON IZCATAL"]
[null,null,null,null,null,null,null,null,null,null,null,null,null,null,null,null,null,null,12209,"CENTRO ESCOLAR DE SAN ISIDRO"]
[null,null,null,null,null,null,null,null,null,null,null,null,null,null,null,null,null,null,12210,"CENTRO ESCOLAR CENTRO AMERICA"]
[null,null,null,null,null,null,null,null,null,null,null,null,null,null,null,null,null,null,12211,"CENTRO ESCOLAR FELIX GALINDO MORENO"]
[null,null,null,null,null,null,null,null,null,null,null,null,null,null,null,null,null,null,12212,"CENTRO ESCOLAR CANTON POTRERO Y TABLAS"]
[null,null,null,null,null,null,null,null,null,null,null,null,null,null,null,null,null,null,12213,"CENTRO ESCOLAR CANTON POTREROS DE BATRES"]
[null,null,null,null,null,null,null,null,null,null,null,null,null,null,null,null,null,null,12216,"CENTRO ESCOLAR CASERIO CAÑA BRAVA CANTON SAN LORENZO"]
[null,null,null,null,null,null,null,null,null,null,null,null,null,null,null,null,null,null,12217,"INSTITUTO NACIONAL DE SENSUNTEPEQUE"]
[null,null,null,null,null,null,null,null,null,null,null,null,null,null,null,null,null,null,12218,"CENTRO ESCOLAR PROFESOR JOSE ANGEL CASTILLO"]
[null,null,null,null,null,null,null,null,null,null,null,null,null,null,null,null,null,null,12220,"CENTRO ESCOLAR CASERIO LA CORONA CANTON EL AGUACATE"]
[null,null,null,null,null,null,null,null,null,null,null,null,null,null,null,null,null,null,12221,"CENTRO ESCOLAR CASERIO PLAN DE VIGAS CANTON RIO GRANDE"]
[null,null,null,null,null,null,null,null,null,null,null,null,null,null,null,null,null,null,12224,"CENTRO ESCOLAR CASERIO CANDELARIA CANTON EL AGUACATE"]
[null,null,null,null,null,null,null,null,null,null,null,null,null,null,null,null,null,null,12225,"CENTRO ESCOLAR CASERI\u008dO SAN JOSE CANTON LLANO GRANDE"]
[null,null,null,null,null,null,null,null,null,null,null,null,null,null,null,null,null,null,12228,"CENTRO ESCOLAR CASERIO LA GUARUMA CANTON EL AGUACATE"]
[null,null,null,null,null,null,null,null,null,null,null,null,null,null,null,null,null,null,12229,"CENTRO ESCOLAR CASERIO LOS RANCHOS CANTON EL AGUACATE"]
[null,null,null,null,null,null,null,null,null,null,null,null,null,null,null,null,null,null,12230,"CENTRO ESCOLAR CASERIO LA ESPERANZA CANTON CHUNTE"]
[null,null,null,null,null,null,null,null,null,null,null,null,null,null,null,null,null,null,12231,"CENTRO ESCOLAR CANTON LA TRINIDAD"]
[null,null,null,null,null,null,null,null,null,null,null,null,null,null,null,null,null,null,12232,"COMPLEJO EDUCATIVO CASERIO HUISCOYOL CANTON LA TRINIDAD"]
[null,null,null,null,null,null,null,null,null,null,null,null,null,null,null,null,null,null,12233,"CENTRO ESCOLAR CASERIO EL LIMON CANTON LA TRINIDAD"]
[null,null,null,null,null,null,null,null,null,null,null,null,null,null,null,null,null,null,12235,"CENTRO ESCOLAR CASERIO FATIMA CANTON EL VOLCAN"]
[null,null,null,null,null,null,null,null,null,null,null,null,null,null,null,null,null,null,12236,"CENTRO ESCOLAR CASERIO PIEDRAS BLANCAS CANTON NOMBRE DE DIOS"]
[null,null,null,null,null,null,null,null,null,null,null,null,null,null,null,null,null,null,12237,"CENTRO ESCOLAR CASERIO EL TIZATE CANTON COPINOLAPA"]
[null,null,null,null,null,null,null,null,null,null,null,null,null,null,null,null,null,null,12238,"CENTRO ESCOLAR CANTON SANTA ROSA"]
[null,null,null,null,null,null,null,null,null,null,null,null,null,null,null,null,null,null,12239,"CENTRO ESCOLAR CANTON EL VOLCAN"]
[null,null,null,null,null,null,null,null,null,null,null,null,null,null,null,null,null,null,12240,"CENTRO ESCOLAR CASERIO EL POTRERO CANTON LA TRINIDAD"]
[null,null,null,null,null,null,null,null,null,null,null,null,null,null,null,null,null,null,12242,"CENTRO ESCOLAR CASERIO LA MARAÑA CANTON SANTA ROSA"]
[null,null,null,null,null,null,null,null,null,null,null,null,null,null,null,null,null,null,12243,"CENTRO ESCOLAR CASERI\u008dO EL PLAYON CANTON LLANO GRANDE"]
[null,null,null,null,null,null,null,null,null,null,null,null,null,null,null,null,null,null,12244,"CENTRO ESCOLAR CASERIO EL TABLON CANTON SAN MATIAS"]
[null,null,null,null,null,null,null,null,null,null,null,null,null,null,null,null,null,null,12245,"CENTRO ESCOLAR CANTON CUYANTEPEQUE"]
[null,null,null,null,null,null,null,null,null,null,null,null,null,null,null,null,null,null,12246,"CENTRO ESCOLAR CASERIO PALACIOS CANTON RIO GRANDE"]
[null,null,null,null,null,null,null,null,null,null,null,null,null,null,null,null,null,null,12247,"COMPLEJO EDUCATIVO CASERIO EL RODEO CANTON SAN MATIAS"]
[null,null,null,null,null,null,null,null,null,null,null,null,null,null,null,null,null,null,12250,"CENTRO ESCOLAR CASERIO PIEDRA PARADA CANTON EL AGUACATE"]
[null,null,null,null,null,null,null,null,null,null,null,null,null,null,null,null,null,null,12251,"CENTRO ESCOLAR CASERIO EL IRAYOL CANTON ROJAS"]
[null,null,null,null,null,null,null,null,null,null,null,null,null,null,null,null,null,null,12252,"CENTRO ESCOLAR CASERI\u008dO ESTANZUELAS CANTON LAS MARIAS"]
[null,null,null,null,null,null,null,null,null,null,null,null,null,null,null,null,null,null,12253,"CENTRO ESCOLAR CASERIO SANTA CRUZ CANTON LA TRINIDAD"]
[null,null,null,null,null,null,null,null,null,null,null,null,null,null,null,null,null,null,12254,"CENTRO ESCOLAR CANTON SAN LORENZO"]
[null,null,null,null,null,null,null,null,null,null,null,null,null,null,null,null,null,null,12255,"CENTRO ESCOLAR CANTON CUNCHIQUE"]
[null,null,null,null,null,null,null,null,null,null,null,null,null,null,null,null,null,null,12256,"CENTRO ESCOLAR CANTON TRONALAGUA"]
[null,null,null,null,null,null,null,null,null,null,null,null,null,null,null,null,null,null,12257,"CENTRO ESCOLAR CASERIO POZUELOS CANTON RIO GRANDE"]
[null,null,null,null,null,null,null,null,null,null,null,null,null,null,null,null,null,null,12258,"CENTRO ESCOLAR CASERIO SANTA LUCIA CANTON LLANO GRANDE"]
[null,null,null,null,null,null,null,null,null,null,null,null,null,null,null,null,null,null,12259,"INSTITUTO NACIONAL JACINTO CASTELLANOS PALOMO"]
[null,null,null,null,null,null,null,null,null,null,null,null,null,null,null,null,null,null,12260,"CENTRO ESCOLAR CASERIO MARIA AUXILIADORA CANTON CHUNTE"]
[null,null,null,null,null,null,null,null,null,null,null,null,null,null,null,null,null,null,12261,"CENTRO ESCOLAR JOSE ANTONIO LARREYNAGA"]
[null,null,null,null,null,null,null,null,null,null,null,null,null,null,null,null,null,null,12262,"CENTRO ESCOLAR CASERIO LOS LIMONES CANTON LAS MARIAS"]
[null,null,null,null,null,null,null,null,null,null,null,null,null,null,null,null,null,null,12263,"CENTRO ESCOLAR CANTON RIO GRANDE"]
[null,null,null,null,null,null,null,null,null,null,null,null,null,null,null,null,null,null,12265,"ESCUELA DE EDUCACION PARVULARIA JOSE MISAEL RAMOS"]
[null,null,null,null,null,null,null,null,null,null,null,null,null,null,null,null,null,null,12266,"COMPLEJO EDUCATIVO SOTERO LAINEZ"]
[null,null,null,null,null,null,null,null,null,null,null,null,null,null,null,null,null,null,12267,"CENTRO ESCOLAR CANTON SAN GREGORIO"]
[null,null,null,null,null,null,null,null,null,null,null,null,null,null,null,null,null,null,12268,"COMPLEJO EDUCATIVO ANTONIA VELASCO"]
[null,null,null,null,null,null,null,null,null,null,null,null,null,null,null,null,null,null,12269,"CENTRO ESCOLAR FERMIN VELASCO"]
[null,null,null,null,null,null,null,null,null,null,null,null,null,null,null,null,null,null,12273,"CENTRO ESCOLAR CANTON LA CONCEPCION"]
[null,null,null,null,null,null,null,null,null,null,null,null,null,null,null,null,null,null,12275,"CENTRO ESCOLAR PROFESORA ANA ROGELIA CRUZ"]
[null,null,null,null,null,null,null,null,null,null,null,null,null,null,null,null,null,null,12276,"INSTITUTO NACIONAL CRISTOBAL IGLESIAS"]
[null,null,null,null,null,null,null,null,null,null,null,null,null,null,null,null,null,null,12277,"CENTRO ESCOLAR CANTON LAS LOMAS"]
[null,null,null,null,null,null,null,null,null,null,null,null,null,null,null,null,null,null,12278,"CENTRO ESCOLAR DOCTOR IRINEO CHACON"]
[null,null,null,null,null,null,null,null,null,null,null,null,null,null,null,null,null,null,12279,"ESCUELA DE EDUCACION PARVULARIA LUIS SANTIAGO RAFUL ESPINOZA"]
[null,null,null,null,null,null,null,null,null,null,null,null,null,null,null,null,null,null,12280,"CENTRO ESCOLAR CASERIO EL JUTAL CANTON SAN ANTONIO"]
[null,null,null,null,null,null,null,null,null,null,null,null,null,null,null,null,null,null,12282,"INSTITUTO NACIONAL DE VICTORIA"]
[null,null,null,null,null,null,null,null,null,null,null,null,null,null,null,null,null,null,12286,"CENTRO ESCOLAR CANTON LA BERMUDA"]
[null,null,null,null,null,null,null,null,null,null,null,null,null,null,null,null,null,null,12288,"CENTRO ESCOLAR CASERIO SAN JUAN CANTON SAN PEDRO"]
[null,null,null,null,null,null,null,null,null,null,null,null,null,null,null,null,null,null,12292,"CENTRO ESCOLAR CASERIO LAS JICARAS CANTON AZACUALPA"]
[null,null,null,null,null,null,null,null,null,null,null,null,null,null,null,null,null,null,12293,"CENTRO ESCOLAR CANTON EL ZAPOTE"]
[null,null,null,null,null,null,null,null,null,null,null,null,null,null,null,null,null,null,12294,"CENTRO ESCOLAR ALBERTO MENJIVAR RODRIGUEZ"]
[null,null,null,null,null,null,null,null,null,null,null,null,null,null,null,null,null,null,12295,"ESCUELA DE EDUCACION PARVULARIA DE VICTORIA"]
[null,null,null,null,null,null,null,null,null,null,null,null,null,null,null,null,null,null,12298,"CENTRO ESCOLAR CANTON ROJITAS"]
[null,null,null,null,null,null,null,null,null,null,null,null,null,null,null,null,null,null,12302,"CENTRO ESCOLAR CASERIO ARGAIN CANTON CAÑAFISTULA"]
[null,null,null,null,null,null,null,null,null,null,null,null,null,null,null,null,null,null,12303,"CENTRO ESCOLAR CASERIO EL IZCANALITO CANTON SAN CARLOS"]
[null,null,null,null,null,null,null,null,null,null,null,null,null,null,null,null,null,null,12304,"ESCUELA DE EDUCACION PARVULARIA DE DOLORES"]
[null,null,null,null,null,null,null,null,null,null,null,null,null,null,null,null,null,null,12305,"INSTITUTO NACIONAL DOCTOR SALVADOR ANTONIO NAVARRETE AZURDIA"]
[null,null,null,null,null,null,null,null,null,null,null,null,null,null,null,null,null,null,12306,"CENTRO ESCOLAR LAURA URQUILLA VIUDA DE AZURDIA"]
[null,null,null,null,null,null,null,null,null,null,null,null,null,null,null,null,null,null,12310,"CENTRO ESCOLAR CASERIO EL CARRIZO"]
[null,null,null,null,null,null,null,null,null,null,null,null,null,null,null,null,null,null,12311,"CENTRO ESCOLAR CASERIO EL PANAMEÑO CANTON SAN NICOLAS"]
[null,null,null,null,null,null,null,null,null,null,null,null,null,null,null,null,null,null,12312,"CENTRO ESCOLAR CANTON SAN JUAN DE MERINO"]
[null,null,null,null,null,null,null,null,null,null,null,null,null,null,null,null,null,null,12314,"CENTRO ESCOLAR TRINIDAD GALVEZ"]
[null,null,null,null,null,null,null,null,null,null,null,null,null,null,null,null,null,null,12316,"INSTITUTO NACIONAL DE APASTEPEQUE"]
[null,null,null,null,null,null,null,null,null,null,null,null,null,null,null,null,null,null,12317,"CENTRO ESCOLAR CANTON SAN NICOLAS"]
[null,null,null,null,null,null,null,null,null,null,null,null,null,null,null,null,null,null,12318,"CENTRO ESCOLAR CASERIO SAN FELIPITO CANTON SAN NICOLAS"]
[null,null,null,null,null,null,null,null,null,null,null,null,null,null,null,null,null,null,12319,"CENTRO ESCOLAR CANTON CALDERAS"]
[null,null,null,null,null,null,null,null,null,null,null,null,null,null,null,null,null,null,12320,"CENTRO ESCOLAR CANTON SAN NICOLAS TRAS EL CERRO"]
[null,null,null,null,null,null,null,null,null,null,null,null,null,null,null,null,null,null,12321,"CENTRO ESCOLAR CANTON SAN FELIPE"]
[null,null,null,null,null,null,null,null,null,null,null,null,null,null,null,null,null,null,12323,"CENTRO ESCOLAR CANTON EL GUAYABO"]
[null,null,null,null,null,null,null,null,null,null,null,null,null,null,null,null,null,null,12324,"CENTRO ESCOLAR AGUSTIN SANCHEZ"]
[null,null,null,null,null,null,null,null,null,null,null,null,null,null,null,null,null,null,12325,"ESCUELA DE EDUCACION PARVULARIA MARTA CARBONELL DE QUITEÑO"]
[null,null,null,null,null,null,null,null,null,null,null,null,null,null,null,null,null,null,12326,"ESCUELA DE EDUCACION PARVULARIA PROFESORA BUENAVENTURA CORNEJO DE MATAL"]
[null,null,null,null,null,null,null,null,null,null,null,null,null,null,null,null,null,null,12327,"CENTRO ESCOLAR CANTON SAN EMIGDIO"]
[null,null,null,null,null,null,null,null,null,null,null,null,null,null,null,null,null,null,12328,"CENTRO ESCOLAR CANTON SAN FRANCISCO DE AGUA AGRIA"]
[null,null,null,null,null,null,null,null,null,null,null,null,null,null,null,null,null,null,12329,"INSTITUTO NACIONAL PROFESOR SANTIAGO ECHEGOYEN"]
[null,null,null,null,null,null,null,null,null,null,null,null,null,null,null,null,null,null,12330,"CENTRO ESCOLAR SALVADOR HIDALGO CORNEJO"]
[null,null,null,null,null,null,null,null,null,null,null,null,null,null,null,null,null,null,12331,"COMPLEJO EDUCATIVO DOCTOR JUSTO AGUILAR"]
[null,null,null,null,null,null,null,null,null,null,null,null,null,null,null,null,null,null,12332,"CENTRO ESCOLAR DOCTOR FRANCISCO E. GALINDO"]
[null,null,null,null,null,null,null,null,null,null,null,null,null,null,null,null,null,null,12333,"CENTRO ESCOLAR ELBA MIRANDA DE MENA"]
[null,null,null,null,null,null,null,null,null,null,null,null,null,null,null,null,null,null,12334,"CENTRO ESCOLAR CANTON CANDELARIA"]
[null,null,null,null,null,null,null,null,null,null,null,null,null,null,null,null,null,null,12335,"CENTRO ESCOLAR SAN JUAN BOSCO"]
[null,null,null,null,null,null,null,null,null,null,null,null,null,null,null,null,null,null,12337,"ESCUELA DE EDUCACION PARVULARIA DE SANTA CLARA"]
[null,null,null,null,null,null,null,null,null,null,null,null,null,null,null,null,null,null,12338,"CENTRO ESCOLAR CASERIO EL TABLON"]
[null,null,null,null,null,null,null,null,null,null,null,null,null,null,null,null,null,null,12339,"CENTRO ESCOLAR CASERIO EL NACASPILO CANTON SANTA ROSA"]
[null,null,null,null,null,null,null,null,null,null,null,null,null,null,null,null,null,null,12340,"COMPLEJO EDUCATIVO DE SANTA CLARA"]
[null,null,null,null,null,null,null,null,null,null,null,null,null,null,null,null,null,null,12343,"ESCUELA DE EDUCACION PARVULARIA DE SANTO DOMINGO"]
[null,null,null,null,null,null,null,null,null,null,null,null,null,null,null,null,null,null,12344,"CENTRO ESCOLAR CANTON EL REFUGIO"]
[null,null,null,null,null,null,null,null,null,null,null,null,null,null,null,null,null,null,12346,"INSTITUTO NACIONAL DE SANTO DOMINGO"]
[null,null,null,null,null,null,null,null,null,null,null,null,null,null,null,null,null,null,12347,"CENTRO ESCOLAR DOCTOR ESTEBAN CASTRO"]
[null,null,null,null,null,null,null,null,null,null,null,null,null,null,null,null,null,null,12348,"CENTRO ESCOLAR CANTON IXCANALES"]
[null,null,null,null,null,null,null,null,null,null,null,null,null,null,null,null,null,null,12349,"CENTRO ESCOLAR CANTON LOS TALPETATES"]
[null,null,null,null,null,null,null,null,null,null,null,null,null,null,null,null,null,null,12351,"INSTITUTO NACIONAL DOCTOR PEDRO MIGUEL RIVERA DAMAS"]
[null,null,null,null,null,null,null,null,null,null,null,null,null,null,null,null,null,null,12353,"ESCUELA DE EDUCACION PARVULARIA SOR ANGELA PANAMEÑO"]
[null,null,null,null,null,null,null,null,null,null,null,null,null,null,null,null,null,null,12355,"CENTRO ESCOLAR DOCTOR ADRIAN GARCIA"]
[null,null,null,null,null,null,null,null,null,null,null,null,null,null,null,null,null,null,12359,"CENTRO ESCOLAR CASERIO EL QUEBRACHO"]
[null,null,null,null,null,null,null,null,null,null,null,null,null,null,null,null,null,null,12360,"CENTRO ESCOLAR CASERIO PLAN DE VENADOS CANTON SAN LORENZO"]
[null,null,null,null,null,null,null,null,null,null,null,null,null,null,null,null,null,null,12361,"INSTITUTO NACIONAL DE SAN ILDEFONSO"]
[null,null,null,null,null,null,null,null,null,null,null,null,null,null,null,null,null,null,12363,"CENTRO ESCOLAR CANTON CANDELARIA LEMPA"]
[null,null,null,null,null,null,null,null,null,null,null,null,null,null,null,null,null,null,12364,"CENTRO ESCOLAR CASERIO LAS LAJAS CANTON LAJAS Y CANOAS"]
[null,null,null,null,null,null,null,null,null,null,null,null,null,null,null,null,null,null,12367,"CENTRO ESCOLAR PREZA SAN LORENZO"]
[null,null,null,null,null,null,null,null,null,null,null,null,null,null,null,null,null,null,12368,"CENTRO ESCOLAR CANTON EL CUMISTE"]
[null,null,null,null,null,null,null,null,null,null,null,null,null,null,null,null,null,null,12370,"CENTRO ESCOLAR CASERIO EL JICARO"]
[null,null,null,null,null,null,null,null,null,null,null,null,null,null,null,null,null,null,12371,"CENTRO ESCOLAR MARIA LUISA VIUDA DE MARIN"]
[null,null,null,null,null,null,null,null,null,null,null,null,null,null,null,null,null,null,12372,"CENTRO ESCOLAR CANTON EL LIMON"]
[null,null,null,null,null,null,null,null,null,null,null,null,null,null,null,null,null,null,12374,"CENTRO ESCOLAR CANTON SANTA LUCIA"]
[null,null,null,null,null,null,null,null,null,null,null,null,null,null,null,null,null,null,12378,"CENTRO ESCOLAR DOMINGO SANTOS"]
[null,null,null,null,null,null,null,null,null,null,null,null,null,null,null,null,null,null,12379,"COMPLEJO EDUCATIVO CANTON LAS ANIMAS"]
[null,null,null,null,null,null,null,null,null,null,null,null,null,null,null,null,null,null,12380,"CENTRO ESCOLAR CASERIO LOS MEJIAS CANTON SAN FRANCISCO"]
[null,null,null,null,null,null,null,null,null,null,null,null,null,null,null,null,null,null,12381,"INSTITUTO NACIONAL DE SAN SEBASTIAN"]
[null,null,null,null,null,null,null,null,null,null,null,null,null,null,null,null,null,null,12385,"CENTRO ESCOLAR CANTON LOS LAURELES"]
[null,null,null,null,null,null,null,null,null,null,null,null,null,null,null,null,null,null,12387,"CENTRO ESCOLAR CANTON LAS ROSAS"]
[null,null,null,null,null,null,null,null,null,null,null,null,null,null,null,null,null,null,12388,"CENTRO ESCOLAR CANTON EL PORVENIR AGUACAYO"]
[null,null,null,null,null,null,null,null,null,null,null,null,null,null,null,null,null,null,12389,"CENTRO ESCOLAR CANTON EL PARAISO"]
[null,null,null,null,null,null,null,null,null,null,null,null,null,null,null,null,null,null,12390,"CENTRO ESCOLAR SAN SEBASTIAN"]
[null,null,null,null,null,null,null,null,null,null,null,null,null,null,null,null,null,null,12391,"ESCUELA DE EDUCACION PARVULARIA DE SAN SEBASTIAN"]
[null,null,null,null,null,null,null,null,null,null,null,null,null,null,null,null,null,null,12392,"COMPLEJO EDUCATIVO CANTON LA LABOR"]
[null,null,null,null,null,null,null,null,null,null,null,null,null,null,null,null,null,null,12393,"CENTRO ESCOLAR CANTON SANTA TERESA"]
[null,null,null,null,null,null,null,null,null,null,null,null,null,null,null,null,null,null,12395,"COMPLEJO EDUCATIVO FEDERICO GONZALEZ"]
[null,null,null,null,null,null,null,null,null,null,null,null,null,null,null,null,null,null,12398,"CENTRO ESCOLAR CASERIO SAN FRANCISCO CANTON CHAMOCO"]
[null,null,null,null,null,null,null,null,null,null,null,null,null,null,null,null,null,null,12399,"INSTITUTO NACIONAL DOCTOR SARBELIO NAVARRETE"]
[null,null,null,null,null,null,null,null,null,null,null,null,null,null,null,null,null,null,12401,"CENTRO ESCOLAR DOCTOR SARBELIO NAVARRETE"]
[null,null,null,null,null,null,null,null,null,null,null,null,null,null,null,null,null,null,12402,"CENTRO ESCOLAR HACIENDA LA PRIMAVERA"]
[null,null,null,null,null,null,null,null,null,null,null,null,null,null,null,null,null,null,12403,"CENTRO ESCOLAR CASERIO VALLE NUEVO CANTON CHANMOCO"]
[null,null,null,null,null,null,null,null,null,null,null,null,null,null,null,null,null,null,12404,"CENTRO ESCOLAR CASERIO LOS JOBOS CANTON EL REBELDE"]
[null,null,null,null,null,null,null,null,null,null,null,null,null,null,null,null,null,null,12406,"CENTRO ESCOLAR CASERIO SAN FRANCISCO MIRALEMPA"]
[null,null,null,null,null,null,null,null,null,null,null,null,null,null,null,null,null,null,12407,"CENTRO ESCOLAR CASERIO EL PEDREGAL CANTON CHANMOCO"]
[null,null,null,null,null,null,null,null,null,null,null,null,null,null,null,null,null,null,12408,"COMPLEJO EDUCATIVO CASERIO LA GALERA"]
[null,null,null,null,null,null,null,null,null,null,null,null,null,null,null,null,null,null,12409,"CENTRO ESCOLAR CASERIO EL JUNQUILLAL, CANTON CHANMOCO"]
[null,null,null,null,null,null,null,null,null,null,null,null,null,null,null,null,null,null,12413,"ESCUELA DE EDUCACION PARVULARIA COLONIA LA CARIDAD"]
[null,null,null,null,null,null,null,null,null,null,null,null,null,null,null,null,null,null,12414,"CENTRO ESCOLAR HACIENDA SAN JUAN BUENAVISTA CANTON EL REBELDE"]
[null,null,null,null,null,null,null,null,null,null,null,null,null,null,null,null,null,null,12415,"CENTRO ESCOLAR CANTON EL REBELDE"]
[null,null,null,null,null,null,null,null,null,null,null,null,null,null,null,null,null,null,12416,"CENTRO ESCOLAR CONCEPCION DE MARIA"]
[null,null,null,null,null,null,null,null,null,null,null,null,null,null,null,null,null,null,12417,"CENTRO ESCOLAR CANTON DOS QUEBRADAS"]
[null,null,null,null,null,null,null,null,null,null,null,null,null,null,null,null,null,null,12419,"CENTRO ESCOLAR CANTON SAN DIEGO"]
[null,null,null,null,null,null,null,null,null,null,null,null,null,null,null,null,null,null,12421,"CENTRO ESCOLAR CASERIO RIO FRIO CANTON PARRAS LEMPA"]
[null,null,null,null,null,null,null,null,null,null,null,null,null,null,null,null,null,null,12423,"CENTRO ESCOLAR DOCTOR JACINTO CASTELLANOS"]
[null,null,null,null,null,null,null,null,null,null,null,null,null,null,null,null,null,null,12424,"CENTRO ESCOLAR DOCTOR JOSE ROSA PACAS"]
[null,null,null,null,null,null,null,null,null,null,null,null,null,null,null,null,null,null,12425,"COMPLEJO EDUCATIVO MARCELINO GARCIA FLAMENCO"]
[null,null,null,null,null,null,null,null,null,null,null,null,null,null,null,null,null,null,12426,"ESCUELA DE EDUCACION PARVULARIA MARIA ISABEL MIRANDA"]
[null,null,null,null,null,null,null,null,null,null,null,null,null,null,null,null,null,null,12427,"CENTRO ESCOLAR CANTON SAN ANTONIO CAMINOS"]
[null,null,null,null,null,null,null,null,null,null,null,null,null,null,null,null,null,null,12428,"CENTRO ESCOLAR DOCTOR DARIO GONZA\u0081LEZ"]
[null,null,null,null,null,null,null,null,null,null,null,null,null,null,null,null,null,null,12429,"COMPLEJO EDUCATIVO DOCTOR VICTORIANO RODRIGUEZ"]
[null,null,null,null,null,null,null,null,null,null,null,null,null,null,null,null,null,null,12430,"CENTRO ESCOLAR ANTONIA GALINDO"]
[null,null,null,null,null,null,null,null,null,null,null,null,null,null,null,null,null,null,12432,"INSTITUTO NACIONAL DE TECOLUCA"]
[null,null,null,null,null,null,null,null,null,null,null,null,null,null,null,null,null,null,12435,"CENTRO ESCOLAR CANTON EL CARAO"]
[null,null,null,null,null,null,null,null,null,null,null,null,null,null,null,null,null,null,12438,"ESCUELA DE EDUCACION PARVULARIA DE TECOLUCA"]
[null,null,null,null,null,null,null,null,null,null,null,null,null,null,null,null,null,null,12440,"CENTRO ESCOLAR CASERIO LA CRUZADILLA CANTON VAQUERANO"]
[null,null,null,null,null,null,null,null,null,null,null,null,null,null,null,null,null,null,12441,"CENTRO ESCOLAR CASERIO TEHUACAN CANTON EL ARCO"]
[null,null,null,null,null,null,null,null,null,null,null,null,null,null,null,null,null,null,12443,"CENTRO ESCOLAR CANTON SANTA BARBARA"]
[null,null,null,null,null,null,null,null,null,null,null,null,null,null,null,null,null,null,12444,"CENTRO ESCOLAR CANTON SAN JOSE LLANO GRANDE"]
[null,null,null,null,null,null,null,null,null,null,null,null,null,null,null,null,null,null,12445,"CENTRO ESCOLAR HACIENDA LAS PAMPAS"]
[null,null,null,null,null,null,null,null,null,null,null,null,null,null,null,null,null,null,12446,"CENTRO ESCOLAR CASERIO EL PLAYON CANTON SAN RAMON GRIFAL"]
[null,null,null,null,null,null,null,null,null,null,null,null,null,null,null,null,null,null,12447,"COMPLEJO EDUCATIVO ROMILIA BLANCO VIUDA DE BRIOSO"]
[null,null,null,null,null,null,null,null,null,null,null,null,null,null,null,null,null,null,12448,"CENTRO ESCOLAR CANTON SAN RAMON GRIFAL"]
[null,null,null,null,null,null,null,null,null,null,null,null,null,null,null,null,null,null,12451,"COMPLEJO EDUCATIVO CANTON SAN NICOLAS LEMPA"]
[null,null,null,null,null,null,null,null,null,null,null,null,null,null,null,null,null,null,12452,"CENTRO ESCOLAR CANTON EL PUENTE"]
[null,null,null,null,null,null,null,null,null,null,null,null,null,null,null,null,null,null,12453,"CENTRO ESCOLAR CORONEL LUIS RAUL ANGULO"]
[null,null,null,null,null,null,null,null,null,null,null,null,null,null,null,null,null,null,12454,"CENTRO ESCOLAR CANTON SAN CARLOS LEMPA"]
[null,null,null,null,null,null,null,null,null,null,null,null,null,null,null,null,null,null,12455,"COMPLEJO EDUCATIVO RAFAELA SUAREZ"]
[null,null,null,null,null,null,null,null,null,null,null,null,null,null,null,null,null,null,12457,"CENTRO ESCOLAR CANTON LA ESPERANZA"]
[null,null,null,null,null,null,null,null,null,null,null,null,null,null,null,null,null,null,12459,"COMPLEJO EDUCATIVO PEDRO PABLO CASTILLO"]
[null,null,null,null,null,null,null,null,null,null,null,null,null,null,null,null,null,null,12460,"CENTRO ESCOLAR CANTON LA VIRGEN"]
[null,null,null,null,null,null,null,null,null,null,null,null,null,null,null,null,null,null,12461,"CENTRO ESCOLAR CANTON CONCEPCION DE CAÑAS"]
[null,null,null,null,null,null,null,null,null,null,null,null,null,null,null,null,null,null,12462,"ESCUELA DE EDUCACION PARVULARIA DE TEPETITAN"]
[null,null,null,null,null,null,null,null,null,null,null,null,null,null,null,null,null,null,12463,"ESCUELA DE EDUCACION PARVULARIA DE VERAPAZ"]
[null,null,null,null,null,null,null,null,null,null,null,null,null,null,null,null,null,null,12464,"CENTRO ESCOLAR HACIENDA NUEVO ORIENTE"]
[null,null,null,null,null,null,null,null,null,null,null,null,null,null,null,null,null,null,12465,"INSTITUTO NACIONAL SAN JOSE VERAPAZ"]
[null,null,null,null,null,null,null,null,null,null,null,null,null,null,null,null,null,null,12467,"CENTRO ESCOLAR CANTON EL CARMEN"]
[null,null,null,null,null,null,null,null,null,null,null,null,null,null,null,null,null,null,12468,"CENTRO ESCOLAR CORONEL NAPOLEON ALVARADO"]
[null,null,null,null,null,null,null,null,null,null,null,null,null,null,null,null,null,null,12470,"CENTRO ESCOLAR CANTON SAN JUAN BUENAVISTA"]
[null,null,null,null,null,null,null,null,null,null,null,null,null,null,null,null,null,null,12471,"CENTRO ESCOLAR PRESBITERO NORBERTO MARROQUIN"]
[null,null,null,null,null,null,null,null,null,null,null,null,null,null,null,null,null,null,12472,"CENTRO ESCOLAR CANTON MOLINEROS"]
[null,null,null,null,null,null,null,null,null,null,null,null,null,null,null,null,null,null,12474,"CENTRO ESCOLAR PRESBITERO FRANCISCO PALACIOS"]
[null,null,null,null,null,null,null,null,null,null,null,null,null,null,null,null,null,null,12475,"INSTITUTO NACIONAL DE ALEGRIA"]
[null,null,null,null,null,null,null,null,null,null,null,null,null,null,null,null,null,null,12476,"CENTRO ESCOLAR DOCTOR ALONSO REYES GUERRA"]
[null,null,null,null,null,null,null,null,null,null,null,null,null,null,null,null,null,null,12477,"CENTRO ESCOLAR CANTON LA PEÑA"]
[null,null,null,null,null,null,null,null,null,null,null,null,null,null,null,null,null,null,12478,"CENTRO ESCOLAR CANTON LAS CASITAS"]
[null,null,null,null,null,null,null,null,null,null,null,null,null,null,null,null,null,null,12481,"CENTRO ESCOLAR CANTON YOMO"]
[null,null,null,null,null,null,null,null,null,null,null,null,null,null,null,null,null,null,12482,"CENTRO ESCOLAR CANTON GUALLINAC"]
[null,null,null,null,null,null,null,null,null,null,null,null,null,null,null,null,null,null,12483,"ESCUELA DE EDUCACION PARVULARIA DOCTOR RAMON BAUTISTA"]
[null,null,null,null,null,null,null,null,null,null,null,null,null,null,null,null,null,null,12484,"COMPLEJO EDUCATIVO RANDY LOWSKY KING"]
[null,null,null,null,null,null,null,null,null,null,null,null,null,null,null,null,null,null,12485,"CENTRO ESCOLAR ALBERTO MASFERRER "]
[null,null,null,null,null,null,null,null,null,null,null,null,null,null,null,null,null,null,12486,"CENTRO ESCOLAR COOPERATIVA LAS BURRAS"]
[null,null,null,null,null,null,null,null,null,null,null,null,null,null,null,null,null,null,12488,"INSTITUTO NACIONAL DE BERLIN PROFESOR GABRIEL HUMBERTO RODRIGUEZ"]
[null,null,null,null,null,null,null,null,null,null,null,null,null,null,null,null,null,null,12491,"CENTRO ESCOLAR CANTON SAN LORENZO"]
[null,null,null,null,null,null,null,null,null,null,null,null,null,null,null,null,null,null,12492,"CENTRO ESCOLAR CANTON EL RECREO"]
[null,null,null,null,null,null,null,null,null,null,null,null,null,null,null,null,null,null,12495,"CENTRO ESCOLAR CANTON CONCEPCION"]
[null,null,null,null,null,null,null,null,null,null,null,null,null,null,null,null,null,null,12498,"CENTRO ESCOLAR CANTON SAN ISIDRO"]
[null,null,null,null,null,null,null,null,null,null,null,null,null,null,null,null,null,null,12503,"CENTRO ESCOLAR MEARDI"]
[null,null,null,null,null,null,null,null,null,null,null,null,null,null,null,null,null,null,12504,"ESCUELA DE EDUCACION PARVULARIA FEDERICO EVERARDO NOLTENIUS"]
[null,null,null,null,null,null,null,null,null,null,null,null,null,null,null,null,null,null,12506,"ESCUELA DE EDUCACION PARVULARIA DE CALIFORNIA"]
[null,null,null,null,null,null,null,null,null,null,null,null,null,null,null,null,null,null,12507,"CENTRO ESCOLAR CALIFORNIA"]
[null,null,null,null,null,null,null,null,null,null,null,null,null,null,null,null,null,null,12508,"CENTRO ESCOLAR CASERIO EL CARAO CANTON LA ANCHILA"]
[null,null,null,null,null,null,null,null,null,null,null,null,null,null,null,null,null,null,12509,"CENTRO ESCOLAR CANTON EL PARAISAL"]
[null,null,null,null,null,null,null,null,null,null,null,null,null,null,null,null,null,null,12511,"INSTITUTO NACIONAL DE CONCEPCION BATRES"]
[null,null,null,null,null,null,null,null,null,null,null,null,null,null,null,null,null,null,12512,"COMPLEJO EDUCATIVO HACIENDA MONTE FRESCO CANTON EL CAÑAL"]
[null,null,null,null,null,null,null,null,null,null,null,null,null,null,null,null,null,null,12513,"CENTRO ESCOLAR CANTON SAN ILDEFONSO"]
[null,null,null,null,null,null,null,null,null,null,null,null,null,null,null,null,null,null,12514,"ESCUELA DE EDUCACION PARVULARIA DE CONCEPCION BATRES"]
[null,null,null,null,null,null,null,null,null,null,null,null,null,null,null,null,null,null,12517,"CENTRO ESCOLAR CANTON SAN FELIPE"]
[null,null,null,null,null,null,null,null,null,null,null,null,null,null,null,null,null,null,12518,"CENTRO ESCOLAR CANTON HACIENDA NUEVA"]
[null,null,null,null,null,null,null,null,null,null,null,null,null,null,null,null,null,null,12519,"CENTRO ESCOLAR CANTON EL PORVENIR"]
[null,null,null,null,null,null,null,null,null,null,null,null,null,null,null,null,null,null,12520,"CENTRO ESCOLAR CANTON LA ANCHILA"]
[null,null,null,null,null,null,null,null,null,null,null,null,null,null,null,null,null,null,12521,"CENTRO ESCOLAR SANTIAGO ORELLANA ZELAYA"]
[null,null,null,null,null,null,null,null,null,null,null,null,null,null,null,null,null,null,12522,"CENTRO ESCOLAR SAN ANTONIO "]
[null,null,null,null,null,null,null,null,null,null,null,null,null,null,null,null,null,null,12523,"CENTRO ESCOLAR CANTON LA PALMERA"]
[null,null,null,null,null,null,null,null,null,null,null,null,null,null,null,null,null,null,12524,"INSTITUTO NACIONAL ERNESTO FLORES"]
[null,null,null,null,null,null,null,null,null,null,null,null,null,null,null,null,null,null,12525,"CENTRO ESCOLAR CANTON EL PALON"]
[null,null,null,null,null,null,null,null,null,null,null,null,null,null,null,null,null,null,12526,"CENTRO ESCOLAR CANTON LOS NOVILLOS"]
[null,null,null,null,null,null,null,null,null,null,null,null,null,null,null,null,null,null,12528,"CENTRO ESCOLAR CANTON SAN ANTONIO"]
[null,null,null,null,null,null,null,null,null,null,null,null,null,null,null,null,null,null,12529,"CENTRO ESCOLAR SUSANA RODRIGUEZ VIUDA DE DUKE"]
[null,null,null,null,null,null,null,null,null,null,null,null,null,null,null,null,null,null,12530,"CENTRO ESCOLAR CANTON EL MACULIS"]
[null,null,null,null,null,null,null,null,null,null,null,null,null,null,null,null,null,null,12531,"CENTRO ESCOLAR CANTON PIEDRA ANCHA"]
[null,null,null,null,null,null,null,null,null,null,null,null,null,null,null,null,null,null,12532,"CENTRO ESCOLAR PROFESOR ROMULO VASQUEZ PORTILLO"]
[null,null,null,null,null,null,null,null,null,null,null,null,null,null,null,null,null,null,12534,"CENTRO ESCOLAR DE EREGUAYQUIN"]
[null,null,null,null,null,null,null,null,null,null,null,null,null,null,null,null,null,null,12535,"CENTRO ESCOLAR VISTA HERMOSA CASERIO CEIBILLA CANTON CONDADILLO"]
[null,null,null,null,null,null,null,null,null,null,null,null,null,null,null,null,null,null,12536,"COMPLEJO EDUCATIVO CANTON PUENTE CUSCATLAN"]
[null,null,null,null,null,null,null,null,null,null,null,null,null,null,null,null,null,null,12538,"COMPLEJO EDUCATIVO CANTON TECOMATAL"]
[null,null,null,null,null,null,null,null,null,null,null,null,null,null,null,null,null,null,12539,"ESCUELA DE EDUCACION PARVULARIA DE ESTANZUELAS"]
[null,null,null,null,null,null,null,null,null,null,null,null,null,null,null,null,null,null,12540,"CENTRO ESCOLAR CANTON JOCOMONTIQUE"]
[null,null,null,null,null,null,null,null,null,null,null,null,null,null,null,null,null,null,12542,"CENTRO ESCOLAR CANTON ESCARBADERO"]
[null,null,null,null,null,null,null,null,null,null,null,null,null,null,null,null,null,null,12543,"CENTRO ESCOLAR FERNANDO PORTILLO"]
[null,null,null,null,null,null,null,null,null,null,null,null,null,null,null,null,null,null,12544,"CENTRO ESCOLAR CANTON PUERTO AVALOS"]
[null,null,null,null,null,null,null,null,null,null,null,null,null,null,null,null,null,null,12545,"CENTRO ESCOLAR CASERIO VISTA HERMOSA CANTON LA CONCORDIA"]
[null,null,null,null,null,null,null,null,null,null,null,null,null,null,null,null,null,null,12547,"INSTITUTO NACIONAL DE JIQUILISCO"]
[null,null,null,null,null,null,null,null,null,null,null,null,null,null,null,null,null,null,12548,"INSTITUTO NACIONAL CANTON TIERRA BLANCA"]
[null,null,null,null,null,null,null,null,null,null,null,null,null,null,null,null,null,null,12549,"CENTRO ESCOLAR CANTON VALLE ALEGRE SECTOR II"]
[null,null,null,null,null,null,null,null,null,null,null,null,null,null,null,null,null,null,12553,"CENTRO ESCOLAR HACIENDA EL TERCIO CANTON SAN JOSE"]
[null,null,null,null,null,null,null,null,null,null,null,null,null,null,null,null,null,null,12554,"CENTRO ESCOLAR HACIENDA LA NORMANDIA CANTON SAN JUAN CRUZADILLA "]
[null,null,null,null,null,null,null,null,null,null,null,null,null,null,null,null,null,null,12558,"ESCUELA DE EDUCACION PARVULARIA JIQUILISCO"]
[null,null,null,null,null,null,null,null,null,null,null,null,null,null,null,null,null,null,12560,"CENTRO ESCOLAR ASENTAMIENTO 14 DE JULIO, CANTON SAN PEDRO"]
[null,null,null,null,null,null,null,null,null,null,null,null,null,null,null,null,null,null,12563,"CENTRO ESCOLAR CANTON EL CASTAÑO"]
[null,null,null,null,null,null,null,null,null,null,null,null,null,null,null,null,null,null,12564,"CENTRO ESCOLAR CANTON SAN JOSE"]
[null,null,null,null,null,null,null,null,null,null,null,null,null,null,null,null,null,null,12565,"CENTRO ESCOLAR GUSTAVO GUERRERO"]
[null,null,null,null,null,null,null,null,null,null,null,null,null,null,null,null,null,null,12567,"COMPLEJO EDUCATIVO CANTON LOS ESPERANZA"]
[null,null,null,null,null,null,null,null,null,null,null,null,null,null,null,null,null,null,12568,"CENTRO ESCOLAR CLUB DE LEONES"]
[null,null,null,null,null,null,null,null,null,null,null,null,null,null,null,null,null,null,12569,"CENTRO ESCOLAR CANTON CALIFORNIA"]
[null,null,null,null,null,null,null,null,null,null,null,null,null,null,null,null,null,null,12570,"CENTRO ESCOLAR CANTON EL PARAISO"]
[null,null,null,null,null,null,null,null,null,null,null,null,null,null,null,null,null,null,12571,"CENTRO ESCOLAR CANTON LA NORIA"]
[null,null,null,null,null,null,null,null,null,null,null,null,null,null,null,null,null,null,12572,"CENTRO ESCOLAR CANTON EL JAGUAL"]
[null,null,null,null,null,null,null,null,null,null,null,null,null,null,null,null,null,null,12573,"CENTRO ESCOLAR CANTON EL HULE CHACHO"]
[null,null,null,null,null,null,null,null,null,null,null,null,null,null,null,null,null,null,12574,"COMPLEJO EDUCATIVO MIGUEL DUEÑAS"]
[null,null,null,null,null,null,null,null,null,null,null,null,null,null,null,null,null,null,12575,"CENTRO ESCOLAR PROFESOR Y DOCTOR EFRAIN JOVEL"]
[null,null,null,null,null,null,null,null,null,null,null,null,null,null,null,null,null,null,12576,"CENTRO ESCOLAR CANTON LAS FLORES"]
[null,null,null,null,null,null,null,null,null,null,null,null,null,null,null,null,null,null,12577,"CENTRO ESCOLAR CANTON EL TABURETE"]
[null,null,null,null,null,null,null,null,null,null,null,null,null,null,null,null,null,null,12579,"CENTRO ESCOLAR CANTON SAN JUAN CRUZADILLA"]
[null,null,null,null,null,null,null,null,null,null,null,null,null,null,null,null,null,null,12580,"CENTRO ESCOLAR CANTON CABOS NEGROS"]
[null,null,null,null,null,null,null,null,null,null,null,null,null,null,null,null,null,null,12581,"CENTRO ESCOLAR CANTON ROQUINTE"]
[null,null,null,null,null,null,null,null,null,null,null,null,null,null,null,null,null,null,12582,"CENTRO ESCOLAR RAMIRO MARTINEZ PINEDA"]
[null,null,null,null,null,null,null,null,null,null,null,null,null,null,null,null,null,null,12583,"CENTRO ESCOLAR REPUBLICA FEDERAL CENTROAMERICANA"]
[null,null,null,null,null,null,null,null,null,null,null,null,null,null,null,null,null,null,12585,"INSTITUTO NACIONAL DE JUCUAPA"]
[null,null,null,null,null,null,null,null,null,null,null,null,null,null,null,null,null,null,12586,"COMPLEJO EDUCATIVO DE JUCUAPA"]
[null,null,null,null,null,null,null,null,null,null,null,null,null,null,null,null,null,null,12589,"CENTRO ESCOLAR CANTON TAPESQUILLO BAJO"]
[null,null,null,null,null,null,null,null,null,null,null,null,null,null,null,null,null,null,12591,"CENTRO ESCOLAR CANTON EL PARAISAL"]
[null,null,null,null,null,null,null,null,null,null,null,null,null,null,null,null,null,null,12592,"CENTRO ESCOLAR CANTON LLANO GRANDE"]
[null,null,null,null,null,null,null,null,null,null,null,null,null,null,null,null,null,null,12593,"CENTRO ESCOLAR CANTON EL TAPESQUILLO ALTO"]
[null,null,null,null,null,null,null,null,null,null,null,null,null,null,null,null,null,null,12596,"CENTRO ESCOLAR PROFESOR SAUL FLORES"]
[null,null,null,null,null,null,null,null,null,null,null,null,null,null,null,null,null,null,12597,"ESCUELA DE EDUCACION PARVULARIA JUCUAPA"]
[null,null,null,null,null,null,null,null,null,null,null,null,null,null,null,null,null,null,12598,"CENTRO ESCOLAR DR. JUAN PARADA TORRES"]
[null,null,null,null,null,null,null,null,null,null,null,null,null,null,null,null,null,null,12599,"CENTRO ESCOLAR CANTON LLANO DE CHILAMATE"]
[null,null,null,null,null,null,null,null,null,null,null,null,null,null,null,null,null,null,12600,"CENTRO ESCOLAR CANTON EL NISPERO"]
[null,null,null,null,null,null,null,null,null,null,null,null,null,null,null,null,null,null,12601,"CENTRO ESCOLAR MIGUEL ANGEL GARCIA"]
[null,null,null,null,null,null,null,null,null,null,null,null,null,null,null,null,null,null,12602,"INSTITUTO NACIONAL DE JUCUARAN"]
[null,null,null,null,null,null,null,null,null,null,null,null,null,null,null,null,null,null,12606,"CENTRO ESCOLAR CASERIO EL PLANON CANTON SAMURIA"]
[null,null,null,null,null,null,null,null,null,null,null,null,null,null,null,null,null,null,12611,"CENTRO ESCOLAR CANTON EL ALMENDRO"]
[null,null,null,null,null,null,null,null,null,null,null,null,null,null,null,null,null,null,12612," CENTRO ESCOLAR CASERIO EL SALAMAR CANTON EL LLANO"]
[null,null,null,null,null,null,null,null,null,null,null,null,null,null,null,null,null,null,12613,"CENTRO ESCOLAR CANTON LOS LLANITOS"]
[null,null,null,null,null,null,null,null,null,null,null,null,null,null,null,null,null,null,12614,"CENTRO ESCOLAR CANTON LA CABAÑA"]
[null,null,null,null,null,null,null,null,null,null,null,null,null,null,null,null,null,null,12617,"COMPLEJO EDUCATIVO CANTON SAMURIA"]
[null,null,null,null,null,null,null,null,null,null,null,null,null,null,null,null,null,null,12618,"CENTRO ESCOLAR CASERIO LA RINGLERA CANTON EL JICARO"]
[null,null,null,null,null,null,null,null,null,null,null,null,null,null,null,null,null,null,12619,"COMPLEJO EDUCATIVO CANTON EL ESPINO"]
[null,null,null,null,null,null,null,null,null,null,null,null,null,null,null,null,null,null,12620,"CENTRO ESCOLAR DOCTOR ENRIQUE MAGAÑA MENENDEZ"]
[null,null,null,null,null,null,null,null,null,null,null,null,null,null,null,null,null,null,12621,"CENTRO ESCOLAR CANTON EL LLANO"]
[null,null,null,null,null,null,null,null,null,null,null,null,null,null,null,null,null,null,12622,"CENTRO ESCOLAR CASERIO SAN SIMON CANTON LOS HORCONES"]
[null,null,null,null,null,null,null,null,null,null,null,null,null,null,null,null,null,null,12623,"INSTITUTO NACIONAL DE MERCEDES UMAÑA"]
[null,null,null,null,null,null,null,null,null,null,null,null,null,null,null,null,null,null,12624,"ESCUELA DE EDUCACION PARVULARIA CANTON CHANMICO"]
[null,null,null,null,null,null,null,null,null,null,null,null,null,null,null,null,null,null,12625,"CENTRO ESCOLAR CASERIO LA BARCA CANTON SAN SIMON"]
[null,null,null,null,null,null,null,null,null,null,null,null,null,null,null,null,null,null,12626,"CENTRO ESCOLAR CANTON SAN BENITO"]
[null,null,null,null,null,null,null,null,null,null,null,null,null,null,null,null,null,null,12627,"CENTRO ESCOLAR CANTON LA MONTAÑA"]
[null,null,null,null,null,null,null,null,null,null,null,null,null,null,null,null,null,null,12628,"CENTRO ESCOLAR CANTON LOS HORCONES"]
[null,null,null,null,null,null,null,null,null,null,null,null,null,null,null,null,null,null,12629,"CENTRO ESCOLAR CANTON LA PUERTA"]
[null,null,null,null,null,null,null,null,null,null,null,null,null,null,null,null,null,null,12630,"CENTRO ESCOLAR CANTON EL CAULOTE"]
[null,null,null,null,null,null,null,null,null,null,null,null,null,null,null,null,null,null,12631,"COMPLEJO EDUCATIVO CANTON EL JOCOTILLO"]
[null,null,null,null,null,null,null,null,null,null,null,null,null,null,null,null,null,null,12632,"CENTRO ESCOLAR PROFESOR LISANDRO AREVALO"]
[null,null,null,null,null,null,null,null,null,null,null,null,null,null,null,null,null,null,12633,"CENTRO ESCOLAR PROFESORA CONCEPCION ALEMAN CORDOVA"]
[null,null,null,null,null,null,null,null,null,null,null,null,null,null,null,null,null,null,12634,"CENTRO ESCOLAR CANTON SANTA ANITA"]
[null,null,null,null,null,null,null,null,null,null,null,null,null,null,null,null,null,null,12636,"CENTRO ESCOLAR BARRIO CONCEPCION MERCEDES UMAÑA"]
[null,null,null,null,null,null,null,null,null,null,null,null,null,null,null,null,null,null,12639,"CENTRO ESCOLAR CANTON LEPAZ"]
[null,null,null,null,null,null,null,null,null,null,null,null,null,null,null,null,null,null,12641,"CENTRO ESCOLAR JACQUELINE KENNEDY"]
[null,null,null,null,null,null,null,null,null,null,null,null,null,null,null,null,null,null,12642,"ESCUELA DE EDUCACION PARVULARIA DE NUEVA GRANADA"]
[null,null,null,null,null,null,null,null,null,null,null,null,null,null,null,null,null,null,12644,"CENTRO ESCOLAR CANTON SAN JOSE"]
[null,null,null,null,null,null,null,null,null,null,null,null,null,null,null,null,null,null,12645,"CENTRO ESCOLAR CANTON LA BREÑA"]
[null,null,null,null,null,null,null,null,null,null,null,null,null,null,null,null,null,null,12646,"CENTRO ESCOLAR CANTON LA POZA"]
[null,null,null,null,null,null,null,null,null,null,null,null,null,null,null,null,null,null,12647,"CENTRO ESCOLAR CANTON EL DELIRIO"]
[null,null,null,null,null,null,null,null,null,null,null,null,null,null,null,null,null,null,12648,"CENTRO ESCOLAR CASERIO JOCOTE DULCE CANTON LA POZA"]
[null,null,null,null,null,null,null,null,null,null,null,null,null,null,null,null,null,null,12649,"CENTRO ESCOLAR JOSE AMADEO CEDILLOS"]
[null,null,null,null,null,null,null,null,null,null,null,null,null,null,null,null,null,null,12650,"CENTRO ESCOLAR CANTON LAS TRANCAS"]
[null,null,null,null,null,null,null,null,null,null,null,null,null,null,null,null,null,null,12651,"CENTRO ESCOLAR DOCTOR ARTURO ROSALES"]
[null,null,null,null,null,null,null,null,null,null,null,null,null,null,null,null,null,null,12652,"CENTRO ESCOLAR DE OZATLAN"]
[null,null,null,null,null,null,null,null,null,null,null,null,null,null,null,null,null,null,12655,"CENTRO ESCOLAR FE Y ALEGRIA"]
[null,null,null,null,null,null,null,null,null,null,null,null,null,null,null,null,null,null,12656,"ESCUELA DE EDUCACION PARVULARIA DE PUERTO EL TRIUNFO"]
[null,null,null,null,null,null,null,null,null,null,null,null,null,null,null,null,null,null,12659,"INSTITUTO NACIONAL DE PUERTO EL TRIUNFO"]
[null,null,null,null,null,null,null,null,null,null,null,null,null,null,null,null,null,null,12660,"CENTRO ESCOLAR PUERTO EL TRIUNFO "]
[null,null,null,null,null,null,null,null,null,null,null,null,null,null,null,null,null,null,12662,"CENTRO ESCOLAR CANTON EL EUCALIPTO"]
[null,null,null,null,null,null,null,null,null,null,null,null,null,null,null,null,null,null,12665,"ESCUELA DE EDUCACION PARVULARIA DE SAN AGUSTIN"]
[null,null,null,null,null,null,null,null,null,null,null,null,null,null,null,null,null,null,12666,"INSTITUTO NACIONAL DE SAN AGUSTIN"]
[null,null,null,null,null,null,null,null,null,null,null,null,null,null,null,null,null,null,12667,"CENTRO ESCOLAR DE SAN AGUSTIN"]
[null,null,null,null,null,null,null,null,null,null,null,null,null,null,null,null,null,null,12668,"CENTRO ESCOLAR CASERIO SAN CRISTOBAL CANTON EL SEMILLERO"]
[null,null,null,null,null,null,null,null,null,null,null,null,null,null,null,null,null,null,12670,"ESCUELA DE EDUCACION PARVULARIA DE SAN BUENAVENTURA"]
[null,null,null,null,null,null,null,null,null,null,null,null,null,null,null,null,null,null,12671,"CENTRO ESCOLAR DE SAN BUENAVENTURA"]
[null,null,null,null,null,null,null,null,null,null,null,null,null,null,null,null,null,null,12672,"CENTRO ESCOLAR CANTON LA TRONCONADA JURISDICCION DE SAN BUENAVENTURA"]
[null,null,null,null,null,null,null,null,null,null,null,null,null,null,null,null,null,null,12673,"CENTRO ESCOLAR A\u0081NGELINA MARIA ARAUJO"]
[null,null,null,null,null,null,null,null,null,null,null,null,null,null,null,null,null,null,12674,"CENTRO ESCOLAR CANTON EL ACEITUNO"]
[null,null,null,null,null,null,null,null,null,null,null,null,null,null,null,null,null,null,12675,"CENTRO ESCOLAR CANTON EL SEMILLERO"]
[null,null,null,null,null,null,null,null,null,null,null,null,null,null,null,null,null,null,12676,"CENTRO ESCOLAR RAFAEL ARAUJO CANTON LAS CHARCAS"]
[null,null,null,null,null,null,null,null,null,null,null,null,null,null,null,null,null,null,12677,"COMPLEJO EDUCATIVO PROFESOR ARTURO ROMERO CASTAÑEDA"]
[null,null,null,null,null,null,null,null,null,null,null,null,null,null,null,null,null,null,12678,"CENTRO ESCOLAR CANTON IGLESIA VIEJA"]
[null,null,null,null,null,null,null,null,null,null,null,null,null,null,null,null,null,null,12681,"COMPLEJO EDUCATIVO DE SAN DIONISIO"]
[null,null,null,null,null,null,null,null,null,null,null,null,null,null,null,null,null,null,12682,"CENTRO ESCOLAR CANTON SAN FRANCISCO"]
[null,null,null,null,null,null,null,null,null,null,null,null,null,null,null,null,null,null,12683,"CENTRO ESCOLAR CANTON EL VOLCAN "]
[null,null,null,null,null,null,null,null,null,null,null,null,null,null,null,null,null,null,12684,"CENTRO ESCOLAR CASERIO LOS JOBOS CANTON CERRO DEL NANZAL"]
[null,null,null,null,null,null,null,null,null,null,null,null,null,null,null,null,null,null,12685,"INSTITUTO NACIONAL DE SANTA ELENA"]
[null,null,null,null,null,null,null,null,null,null,null,null,null,null,null,null,null,null,12686,"CENTRO ESCOLAR CANTON EL AMATE"]
[null,null,null,null,null,null,null,null,null,null,null,null,null,null,null,null,null,null,12687,"ESCUELA DE EDUCACION PARVULARIA DE SANTA ELENA"]
[null,null,null,null,null,null,null,null,null,null,null,null,null,null,null,null,null,null,12688,"CENTRO ESCOLAR CANTON JOYA ANCHA ABAJO"]
[null,null,null,null,null,null,null,null,null,null,null,null,null,null,null,null,null,null,12691,"CENTRO ESCOLAR CANTON LAS CRUCES"]
[null,null,null,null,null,null,null,null,null,null,null,null,null,null,null,null,null,null,12692,"CENTRO ESCOLAR CANTON CERRO EL NANZAL "]
[null,null,null,null,null,null,null,null,null,null,null,null,null,null,null,null,null,null,12693,"CENTRO ESCOLAR REYES ZELAYA"]
[null,null,null,null,null,null,null,null,null,null,null,null,null,null,null,null,null,null,12694,"CENTRO ESCOLAR ROBERTO EDMUNDO CANESSA"]
[null,null,null,null,null,null,null,null,null,null,null,null,null,null,null,null,null,null,12695,"CENTRO ESCOLAR HEROES DE CHAPULTEPEC"]
[null,null,null,null,null,null,null,null,null,null,null,null,null,null,null,null,null,null,12696,"CENTRO ESCOLAR PROFESORA ELENA AURORA OLIVA DE FUNES"]
[null,null,null,null,null,null,null,null,null,null,null,null,null,null,null,null,null,null,12697,"CENTRO ESCOLAR ANA ELEONORA ROOSEVELT CANTON EL TABLON"]
[null,null,null,null,null,null,null,null,null,null,null,null,null,null,null,null,null,null,12698,"ESCUELA DE EDUCACION PARVULARIA DE SAN FRANCISCO JAVIER"]
[null,null,null,null,null,null,null,null,null,null,null,null,null,null,null,null,null,null,12701,"CENTRO ESCOLAR REPUBLICA FEDERAL DE ALEMANIA"]
[null,null,null,null,null,null,null,null,null,null,null,null,null,null,null,null,null,null,12702,"CENTRO ESCOLAR CANTON LOS HORNOS"]
[null,null,null,null,null,null,null,null,null,null,null,null,null,null,null,null,null,null,12706,"CENTRO ESCOLAR FRANCISCO ANTONIO LIMA"]
[null,null,null,null,null,null,null,null,null,null,null,null,null,null,null,null,null,null,12708,"CENTRO ESCOLAR MIGUEL GUEVARA"]
[null,null,null,null,null,null,null,null,null,null,null,null,null,null,null,null,null,null,12709,"CENTRO ESCOLAR CANTON SAN FRANCISCO"]
[null,null,null,null,null,null,null,null,null,null,null,null,null,null,null,null,null,null,12710,"ESCUELA DE EDUCACION PARVULARIA DE SANTA MARIA"]
[null,null,null,null,null,null,null,null,null,null,null,null,null,null,null,null,null,null,12711,"CENTRO ESCOLAR CANTON MEJICAPA"]
[null,null,null,null,null,null,null,null,null,null,null,null,null,null,null,null,null,null,12713,"CENTRO ESCOLAR COLONIA EL CERRITO"]
[null,null,null,null,null,null,null,null,null,null,null,null,null,null,null,null,null,null,12714,"INSTITUTO NACIONAL DE SANTIAGO DE MARIA"]
[null,null,null,null,null,null,null,null,null,null,null,null,null,null,null,null,null,null,12715,"CENTRO ESCOLAR CANTON BATRES"]
[null,null,null,null,null,null,null,null,null,null,null,null,null,null,null,null,null,null,12717,"CENTRO ESCOLAR CANTON EL TIGRE"]
[null,null,null,null,null,null,null,null,null,null,null,null,null,null,null,null,null,null,12718,"CENTRO ESCOLAR CANTON LAS FLORES"]
[null,null,null,null,null,null,null,null,null,null,null,null,null,null,null,null,null,null,12719,"CENTRO ESCOLAR CANTON EL MARQUEZADO"]
[null,null,null,null,null,null,null,null,null,null,null,null,null,null,null,null,null,null,12723,"CENTRO ESCOLAR PROFESOR DOLORES DE JESUS MONTOYA"]
[null,null,null,null,null,null,null,null,null,null,null,null,null,null,null,null,null,null,12724,"CENTRO ESCOLAR SANTIAGO DE MARIA"]
[null,null,null,null,null,null,null,null,null,null,null,null,null,null,null,null,null,null,12725,"CENTRO ESCOLAR BALTAZAR PARADA"]
[null,null,null,null,null,null,null,null,null,null,null,null,null,null,null,null,null,null,12726,"CENTRO ESCOLAR CANTON PASO DE GUALACHE"]
[null,null,null,null,null,null,null,null,null,null,null,null,null,null,null,null,null,null,12727,"CENTRO ESCOLAR CANTON CERRO VERDE"]
[null,null,null,null,null,null,null,null,null,null,null,null,null,null,null,null,null,null,12728,"CENTRO ESCOLAR CANTON LOS CHAPETONES"]
[null,null,null,null,null,null,null,null,null,null,null,null,null,null,null,null,null,null,12732,"CENTRO ESCOLAR HACIENDA SAN MAURICIO CANTON PASO DE GUALACHE"]
[null,null,null,null,null,null,null,null,null,null,null,null,null,null,null,null,null,null,12733,"CENTRO ESCOLAR CASERIO LA LA QUESERA CANTON LOS CHAPETONES"]
[null,null,null,null,null,null,null,null,null,null,null,null,null,null,null,null,null,null,12734,"COMPLEJO EDUCATIVO DE TECAPAN"]
[null,null,null,null,null,null,null,null,null,null,null,null,null,null,null,null,null,null,12736,"CENTRO ESCOLAR COLONIA VISTA HERMOSA CANTON LA PEÑA"]
[null,null,null,null,null,null,null,null,null,null,null,null,null,null,null,null,null,null,12737,"ESCUELA DE EDUCACION PARVULARIA BARRIO EL MOLINO"]
[null,null,null,null,null,null,null,null,null,null,null,null,null,null,null,null,null,null,12738,"INSTITUTO NACIONAL DE USULUTAN"]
[null,null,null,null,null,null,null,null,null,null,null,null,null,null,null,null,null,null,12740,"ESCUELA DE EDUCACION PARVULARIA ANEXO A GUARDERIA INFANTIL"]
[null,null,null,null,null,null,null,null,null,null,null,null,null,null,null,null,null,null,12743,"CENTRO ESCOLAR CASERIO EL BOTONCILLO CANTON LAS SALINAS JURISDICCION DE USULUTAN"]
[null,null,null,null,null,null,null,null,null,null,null,null,null,null,null,null,null,null,12745,"CENTRO ESCOLAR CANTON EL OBRAJUELO"]
[null,null,null,null,null,null,null,null,null,null,null,null,null,null,null,null,null,null,12746,"CENTRO ESCOLAR SEXTA BRIGADA DE INFANTERIA"]
[null,null,null,null,null,null,null,null,null,null,null,null,null,null,null,null,null,null,12748,"CENTRO ESCOLAR COLONIA EL COCAL"]
[null,null,null,null,null,null,null,null,null,null,null,null,null,null,null,null,null,null,12749,"ESCUELA DE EDUCACION PARVULARIA BARRIO EL CALVARIO"]
[null,null,null,null,null,null,null,null,null,null,null,null,null,null,null,null,null,null,12750,"CENTRO ESCOLAR COLONIA EL NARANJO"]
[null,null,null,null,null,null,null,null,null,null,null,null,null,null,null,null,null,null,12751,"CENTRO ESCOLAR CASERIO MARCHENA CANTON SANTA BARBARA"]
[null,null,null,null,null,null,null,null,null,null,null,null,null,null,null,null,null,null,12752,"CENTRO ESCOLAR CANTON PUERTO EL FLOR"]
[null,null,null,null,null,null,null,null,null,null,null,null,null,null,null,null,null,null,12753,"CENTRO ESCOLAR CASERIO EL CHORIZO CANTON EL OBRAJUELO"]
[null,null,null,null,null,null,null,null,null,null,null,null,null,null,null,null,null,null,12754,"CENTRO ESCOLAR JOSE ROBERTO WRIGHT"]
[null,null,null,null,null,null,null,null,null,null,null,null,null,null,null,null,null,null,12756,"COMPLEJO EDUCATIVO CANTON LAS SALINAS"]
[null,null,null,null,null,null,null,null,null,null,null,null,null,null,null,null,null,null,12758,"CENTRO ESCOLAR CANTON PALO GALAN"]
[null,null,null,null,null,null,null,null,null,null,null,null,null,null,null,null,null,null,12759,"CENTRO ESCOLAR CANTON LA LAGUNA DE PALO GALAN"]
[null,null,null,null,null,null,null,null,null,null,null,null,null,null,null,null,null,null,12760,"CENTRO ESCOLAR CANTON OJO DE AGUA"]
[null,null,null,null,null,null,null,null,null,null,null,null,null,null,null,null,null,null,12761,"CENTRO ESCOLAR CANTON EL OJUSTE"]
[null,null,null,null,null,null,null,null,null,null,null,null,null,null,null,null,null,null,12762,"CENTRO ESCOLAR PROFESORA JOSEFA PARADA DE GUANDIQUE"]
[null,null,null,null,null,null,null,null,null,null,null,null,null,null,null,null,null,null,12765,"CENTRO ESCOLAR CANTON EL CERRITO"]
[null,null,null,null,null,null,null,null,null,null,null,null,null,null,null,null,null,null,12766,"CENTRO ESCOLAR CANTON LA LAGUNA"]
[null,null,null,null,null,null,null,null,null,null,null,null,null,null,null,null,null,null,12767,"ESCUELA DE EDUCACION PARVULARIA DE USULUTAN"]
[null,null,null,null,null,null,null,null,null,null,null,null,null,null,null,null,null,null,12769,"CENTRO ESCOLAR CANTON EL TALPETATE"]
[null,null,null,null,null,null,null,null,null,null,null,null,null,null,null,null,null,null,12770,"CENTRO ESCOLAR CANTON EL TRILLO"]
[null,null,null,null,null,null,null,null,null,null,null,null,null,null,null,null,null,null,12771,"COMPLEJO EDUCATIVO BASILIO BLANDON"]
[null,null,null,null,null,null,null,null,null,null,null,null,null,null,null,null,null,null,12772,"CENTRO ESCOLAR SALVADOR CASTILLO"]
[null,null,null,null,null,null,null,null,null,null,null,null,null,null,null,null,null,null,12773,"COMPLEJO EDUCATIVO ANITA GUERRERO"]
[null,null,null,null,null,null,null,null,null,null,null,null,null,null,null,null,null,null,12774,"CENTRO ESCOLAR MANUELA EDELMIRA CORDOVA"]
[null,null,null,null,null,null,null,null,null,null,null,null,null,null,null,null,null,null,12775,"COMPLEJO EDUCATIVO PROFESORA BLANCA RAMIREZ DE AVILES"]
[null,null,null,null,null,null,null,null,null,null,null,null,null,null,null,null,null,null,12776,"CENTRO ESCOLAR GREGORIO MELARA"]
[null,null,null,null,null,null,null,null,null,null,null,null,null,null,null,null,null,null,12777,"CENTRO ESCOLAR CEFERINO ALBERTO OSEGUEDA"]
[null,null,null,null,null,null,null,null,null,null,null,null,null,null,null,null,null,null,12778,"CENTRO ESCOLAR ALBERTO MASFERRER"]
[null,null,null,null,null,null,null,null,null,null,null,null,null,null,null,null,null,null,12779,"CENTRO ESCOLAR CASERIO EL TERRERO"]
[null,null,null,null,null,null,null,null,null,null,null,null,null,null,null,null,null,null,12780,"INSTITUTO NACIONAL DE CAROLINA"]
[null,null,null,null,null,null,null,null,null,null,null,null,null,null,null,null,null,null,12782,"CENTRO ESCOLAR CIRILO ANTONIO QUINTANILLA VARGAS"]
[null,null,null,null,null,null,null,null,null,null,null,null,null,null,null,null,null,null,12785,"CENTRO ESCOLAR CANTON ROSAS DE NACASPILO"]
[null,null,null,null,null,null,null,null,null,null,null,null,null,null,null,null,null,null,12787,"CENTRO ESCOLAR CANTON LOMAS DE JALTEBA"]
[null,null,null,null,null,null,null,null,null,null,null,null,null,null,null,null,null,null,12788,"CENTRO ESCOLAR CASERIO SAN ISIDRO CANTON SAN CRISTOBAL"]
[null,null,null,null,null,null,null,null,null,null,null,null,null,null,null,null,null,null,12791,"CENTRO ESCOLAR CASERIO LA CEIBA CANTON NUEVO PORVENIR"]
[null,null,null,null,null,null,null,null,null,null,null,null,null,null,null,null,null,null,12793,"INSTITUTO NACIONAL DE CIUDAD BARRIOS"]
[null,null,null,null,null,null,null,null,null,null,null,null,null,null,null,null,null,null,12794,"CENTRO ESCOLAR CANTON SAN MATIAS"]
[null,null,null,null,null,null,null,null,null,null,null,null,null,null,null,null,null,null,12795,"CENTRO ESCOLAR CANTON GUANASTE"]
[null,null,null,null,null,null,null,null,null,null,null,null,null,null,null,null,null,null,12796,"CENTRO ESCOLAR CANTON TEPONAHUASTE"]
[null,null,null,null,null,null,null,null,null,null,null,null,null,null,null,null,null,null,12797,"CENTRO ESCOLAR CANTON SAN CRISTOBAL"]
[null,null,null,null,null,null,null,null,null,null,null,null,null,null,null,null,null,null,12798,"CENTRO ESCOLAR DE LA COLONIA BOILLAT"]
[null,null,null,null,null,null,null,null,null,null,null,null,null,null,null,null,null,null,12800,"CENTRO ESCOLAR CASERIO CERRO DE ARENA"]
[null,null,null,null,null,null,null,null,null,null,null,null,null,null,null,null,null,null,12801,"CENTRO ESCOLAR CANTON LA TORRECILLA"]
[null,null,null,null,null,null,null,null,null,null,null,null,null,null,null,null,null,null,12803,"CENTRO ESCOLAR CANTON LLANO EL ANGEL"]
[null,null,null,null,null,null,null,null,null,null,null,null,null,null,null,null,null,null,12804,"CENTRO ESCOLAR CANTON BELEN"]
[null,null,null,null,null,null,null,null,null,null,null,null,null,null,null,null,null,null,12805,"CENTRO ESCOLAR CANTON SAN LUISITO"]
[null,null,null,null,null,null,null,null,null,null,null,null,null,null,null,null,null,null,12806,"CENTRO ESCOLAR CANTON SAN JUAN"]
[null,null,null,null,null,null,null,null,null,null,null,null,null,null,null,null,null,null,12807,"CENTRO ESCOLAR CANTON NUEVO PORVENIR"]
[null,null,null,null,null,null,null,null,null,null,null,null,null,null,null,null,null,null,12808,"CENTRO ESCOLAR CAPITAN GENERAL GERARDO BARRIOS"]
[null,null,null,null,null,null,null,null,null,null,null,null,null,null,null,null,null,null,12809,"ESCUELA DE EDUCACION PARVULARIA DE CIUDAD BARRIOS"]
[null,null,null,null,null,null,null,null,null,null,null,null,null,null,null,null,null,null,12810,"CENTRO ESCOLAR GENERAL FRANCISCO MORAZAN"]
[null,null,null,null,null,null,null,null,null,null,null,null,null,null,null,null,null,null,12811,"CENTRO ESCOLAR CASERIO EL PACUN CANTON CANDELARIA"]
[null,null,null,null,null,null,null,null,null,null,null,null,null,null,null,null,null,null,12812,"CENTRO ESCOLAR CASERIO EL TERRERO"]
[null,null,null,null,null,null,null,null,null,null,null,null,null,null,null,null,null,null,12813,"CENTRO ESCOLAR DOCTOR FELIX CHARLAIX CANTON EL HORMIGUERO"]
[null,null,null,null,null,null,null,null,null,null,null,null,null,null,null,null,null,null,12814,"CENTRO ESCOLAR ANDRES TOBIAS ROVIRA"]
[null,null,null,null,null,null,null,null,null,null,null,null,null,null,null,null,null,null,12815,"CENTRO ESCOLAR CANTON  PLATANARIO"]
[null,null,null,null,null,null,null,null,null,null,null,null,null,null,null,null,null,null,12816,"CENTRO ESCOLAR CANTON EL COLORADO"]
[null,null,null,null,null,null,null,null,null,null,null,null,null,null,null,null,null,null,12817,"CENTRO ESCOLAR CASERIO LA JOYA CANTON EL JICARAL"]
[null,null,null,null,null,null,null,null,null,null,null,null,null,null,null,null,null,null,12818,"COMPLEJO EDUCATIVO PROFESOR JOSE WALTER ESCOLERO NUÑEZ"]
[null,null,null,null,null,null,null,null,null,null,null,null,null,null,null,null,null,null,12820,"CENTRO ESCOLAR COLONIA LA PAZ"]
[null,null,null,null,null,null,null,null,null,null,null,null,null,null,null,null,null,null,12821,"CENTRO ESCOLAR EDGAR MAURICIO HERNÍ\u0081NDEZ"]
[null,null,null,null,null,null,null,null,null,null,null,null,null,null,null,null,null,null,12823,"CENTRO ESCOLAR CANTON PIE DE LA CUESTA"]
[null,null,null,null,null,null,null,null,null,null,null,null,null,null,null,null,null,null,12825,"CENTRO ESCOLAR CANTON LOS AMATES"]
[null,null,null,null,null,null,null,null,null,null,null,null,null,null,null,null,null,null,12826,"CENTRO ESCOLAR CANTON PAPALONES"]
[null,null,null,null,null,null,null,null,null,null,null,null,null,null,null,null,null,null,12827,"CENTRO ESCOLAR RICARDO HAROLD KRITTE"]
[null,null,null,null,null,null,null,null,null,null,null,null,null,null,null,null,null,null,12828,"CENTRO ESCOLAR CASERIO CERRO EL JIOTE CANTON SAN PEDRO"]
[null,null,null,null,null,null,null,null,null,null,null,null,null,null,null,null,null,null,12829,"CENTRO ESCOLAR CANTON HUALAMA"]
[null,null,null,null,null,null,null,null,null,null,null,null,null,null,null,null,null,null,12830,"ESCUELA DE EDUCACION PARVULARIA DE CHAPELTIQUE"]
[null,null,null,null,null,null,null,null,null,null,null,null,null,null,null,null,null,null,12831,"CENTRO ESCOLAR ELISEO HENRIQUEZ"]
[null,null,null,null,null,null,null,null,null,null,null,null,null,null,null,null,null,null,12833,"CENTRO ESCOLAR CASERIO LOS VILLALOBOS CANTON OJOS DE AGUA"]
[null,null,null,null,null,null,null,null,null,null,null,null,null,null,null,null,null,null,12834,"CENTRO ESCOLAR GLORIA ARGUELLO DE SILVA"]
[null,null,null,null,null,null,null,null,null,null,null,null,null,null,null,null,null,null,12835,"CENTRO ESCOLAR DE CHINAMECA"]
[null,null,null,null,null,null,null,null,null,null,null,null,null,null,null,null,null,null,12836,"CENTRO ESCOLAR CANTON PLANES TERCERO"]
[null,null,null,null,null,null,null,null,null,null,null,null,null,null,null,null,null,null,12837,"INSTITUTO NACIONAL DE CHINAMECA"]
[null,null,null,null,null,null,null,null,null,null,null,null,null,null,null,null,null,null,12838,"CENTRO ESCOLAR ALBERTO RECINOS H."]
[null,null,null,null,null,null,null,null,null,null,null,null,null,null,null,null,null,null,12839,"CENTRO ESCOLAR PLANES DE SANTA LUCIA "]
[null,null,null,null,null,null,null,null,null,null,null,null,null,null,null,null,null,null,12841,"CENTRO ESCOLAR CANTON CHAMBALA"]
[null,null,null,null,null,null,null,null,null,null,null,null,null,null,null,null,null,null,12842,"CENTRO ESCOLAR CANTON LA CRUZ SEGUNDA"]
[null,null,null,null,null,null,null,null,null,null,null,null,null,null,null,null,null,null,12843,"CENTRO ESCOLAR EMILIA CALLEJAS"]
[null,null,null,null,null,null,null,null,null,null,null,null,null,null,null,null,null,null,12844,"CENTRO ESCOLAR CANTON SAN SANTONIO"]
[null,null,null,null,null,null,null,null,null,null,null,null,null,null,null,null,null,null,12845,"CENTRO ESCOLAR CANTON EL BOQUERON"]
[null,null,null,null,null,null,null,null,null,null,null,null,null,null,null,null,null,null,12846,"CENTRO ESCOLAR CANTON JOCOTE DULCE"]
[null,null,null,null,null,null,null,null,null,null,null,null,null,null,null,null,null,null,12847,"CENTRO ESCOLAR CANTON CRUZ PRIMERA"]
[null,null,null,null,null,null,null,null,null,null,null,null,null,null,null,null,null,null,12848,"CENTRO ESCOLAR CANTON ZARAGOZA"]
[null,null,null,null,null,null,null,null,null,null,null,null,null,null,null,null,null,null,12849,"CENTRO ESCOLAR CANTON LOS PLANES PRIMEROS"]
[null,null,null,null,null,null,null,null,null,null,null,null,null,null,null,null,null,null,12852,"CENTRO ESCOLAR DR. MANUEL CASTRO RAMIREZ P."]
[null,null,null,null,null,null,null,null,null,null,null,null,null,null,null,null,null,null,12853,"CENTRO ESCOLAR SRA. ROSA HIRLEMANN DE GARCIA PRIETO"]
[null,null,null,null,null,null,null,null,null,null,null,null,null,null,null,null,null,null,12856,"COMPLEJO EDUCATIVO JOSE A. MORA"]
[null,null,null,null,null,null,null,null,null,null,null,null,null,null,null,null,null,null,12857,"CENTRO ESCOLAR JULIAN APARICIO"]
[null,null,null,null,null,null,null,null,null,null,null,null,null,null,null,null,null,null,12859,"CENTRO ESCOLAR AALBERTO SANCHEZ"]
[null,null,null,null,null,null,null,null,null,null,null,null,null,null,null,null,null,null,12860,"CENTRO ESCOLAR DOCTOR RAFAEL SEVERO LOPEZ"]
[null,null,null,null,null,null,null,null,null,null,null,null,null,null,null,null,null,null,12863,"CENTRO ESCOLAR CASERIO HACIENDA VIEJA, CANTON CHILANGUERA"]
[null,null,null,null,null,null,null,null,null,null,null,null,null,null,null,null,null,null,12866,"ESCUELA DE EDUCACION PARVULARIA DE CHIRILAGUA"]
[null,null,null,null,null,null,null,null,null,null,null,null,null,null,null,null,null,null,12869,"CENTRO ESCOLAR CANTON EL CAPULIN"]
[null,null,null,null,null,null,null,null,null,null,null,null,null,null,null,null,null,null,12870,"CENTRO ESCOLAR CASERIO EL CASTAÑO CANTON SAN PEDRO"]
[null,null,null,null,null,null,null,null,null,null,null,null,null,null,null,null,null,null,12873,"COMPLEJO EDUCATIVO CHARLAIX"]
[null,null,null,null,null,null,null,null,null,null,null,null,null,null,null,null,null,null,12874,"CENTRO ESCOLAR CANTON CHILANGUERA"]
[null,null,null,null,null,null,null,null,null,null,null,null,null,null,null,null,null,null,12876,"CENTRO ESCOLAR CANTON ZAPATAGUA"]
[null,null,null,null,null,null,null,null,null,null,null,null,null,null,null,null,null,null,12877,"COMPLEJO EDUCATIVO CANTON SAN PEDRO"]
[null,null,null,null,null,null,null,null,null,null,null,null,null,null,null,null,null,null,12880,"CENTRO ESCOLAR CANTON NUEVA CONCEPCION"]
[null,null,null,null,null,null,null,null,null,null,null,null,null,null,null,null,null,null,12881,"CENTRO ESCOLAR DAVID J. GUZMA\u0081N"]
[null,null,null,null,null,null,null,null,null,null,null,null,null,null,null,null,null,null,12883,"CENTRO ESCOLAR CANTON LLANO DEL COYOL"]
[null,null,null,null,null,null,null,null,null,null,null,null,null,null,null,null,null,null,12884,"CENTRO ESCOLAR CANTON PRIMAVERA"]
[null,null,null,null,null,null,null,null,null,null,null,null,null,null,null,null,null,null,12886,"CENTRO ESCOLAR CANTON EL BORBOLLON"]
[null,null,null,null,null,null,null,null,null,null,null,null,null,null,null,null,null,null,12890,"INSTITUTO NACIONAL EL TRANSITO"]
[null,null,null,null,null,null,null,null,null,null,null,null,null,null,null,null,null,null,12893,"CENTRO ESCOLAR MONSEÑOR OSCAR ARNULFO ROMERO Y GALDAMEZ"]
[null,null,null,null,null,null,null,null,null,null,null,null,null,null,null,null,null,null,12895,"INSTITUTO NACIONAL DE LOLOTIQUE"]
[null,null,null,null,null,null,null,null,null,null,null,null,null,null,null,null,null,null,12899,"ESCUELA DE EDUCACION PARVULARIA MANUEL DE JESUS ZELAYA"]
[null,null,null,null,null,null,null,null,null,null,null,null,null,null,null,null,null,null,12903,"CENTRO ESCOLAR CANTON EL NANCITO"]
[null,null,null,null,null,null,null,null,null,null,null,null,null,null,null,null,null,null,12905,"CENTRO ESCOLAR CANTON EL PALON"]
[null,null,null,null,null,null,null,null,null,null,null,null,null,null,null,null,null,null,12907,"CENTRO ESCOLAR JOSE EVARISTO MEJIA"]
[null,null,null,null,null,null,null,null,null,null,null,null,null,null,null,null,null,null,12911,"CENTRO ESCOLAR HACIENDA LA REFORMA"]
[null,null,null,null,null,null,null,null,null,null,null,null,null,null,null,null,null,null,12913,"INSTITUTO NACIONAL DE MONCAGUA"]
[null,null,null,null,null,null,null,null,null,null,null,null,null,null,null,null,null,null,12918,"CENTRO ESCOLAR CANTON VALLE ALEGRE"]
[null,null,null,null,null,null,null,null,null,null,null,null,null,null,null,null,null,null,12919,"CENTRO ESCOLAR CANTON RODEO, MONCAGUA, SAN MIGUEL"]
[null,null,null,null,null,null,null,null,null,null,null,null,null,null,null,null,null,null,12921,"CENTRO ESCOLAR CANTON EL PAPALON"]
[null,null,null,null,null,null,null,null,null,null,null,null,null,null,null,null,null,null,12922,"CENTRO ESCOLAR FEDERICO ARNOLDO GARCIA PRIETO HIRLEMANN"]
[null,null,null,null,null,null,null,null,null,null,null,null,null,null,null,null,null,null,12925,"CENTRO ESCOLAR CARLOS ALBERTO BORGONOVO POHL"]
[null,null,null,null,null,null,null,null,null,null,null,null,null,null,null,null,null,null,12926,"CENTRO ESCOLAR MARIA LUISA PARADA"]
[null,null,null,null,null,null,null,null,null,null,null,null,null,null,null,null,null,null,12928,"INSTITUTO NACIONAL DE NUEVA GUADALUPE"]
[null,null,null,null,null,null,null,null,null,null,null,null,null,null,null,null,null,null,12929,"CENTRO ESCOLAR CANTON SAN LUIS"]
[null,null,null,null,null,null,null,null,null,null,null,null,null,null,null,null,null,null,12931,"CENTRO ESCOLAR DE NUEVA GUADALUPE"]
[null,null,null,null,null,null,null,null,null,null,null,null,null,null,null,null,null,null,12932,"ESCUELA DE EDUCACION PARVULARIA NUEVA GUADALUPE"]
[null,null,null,null,null,null,null,null,null,null,null,null,null,null,null,null,null,null,12934,"CENTRO ESCOLAR CASERIO LA ZUNCUYA CANTON CUCURUCHOS"]
[null,null,null,null,null,null,null,null,null,null,null,null,null,null,null,null,null,null,12935,"CENTRO ESCOLAR CANTON LOS LAURELES"]
[null,null,null,null,null,null,null,null,null,null,null,null,null,null,null,null,null,null,12941,"CENTRO ESCOLAR CASERIO LAS LOMITAS"]
[null,null,null,null,null,null,null,null,null,null,null,null,null,null,null,null,null,null,12942," CENTRO ESCOLAR CANTON SAN ANTONIO"]
[null,null,null,null,null,null,null,null,null,null,null,null,null,null,null,null,null,null,12945,"CENTRO ESCOLAR CANTON SAN JOSE"]
[null,null,null,null,null,null,null,null,null,null,null,null,null,null,null,null,null,null,12946,"CENTRO ESCOLAR CANTON EL OBRAJUELO"]
[null,null,null,null,null,null,null,null,null,null,null,null,null,null,null,null,null,null,12949,"CENTRO ESCOLAR CASERIO EL CHILAMO CANTON SAN MARCOS"]
[null,null,null,null,null,null,null,null,null,null,null,null,null,null,null,null,null,null,12951,"COMPLEJO EDUCATIVO BARRIO LA CRUZ VILLA SAN ANTONIO"]
[null,null,null,null,null,null,null,null,null,null,null,null,null,null,null,null,null,null,12957,"CENTRO ESCOLAR HACIENDA EL AMATILLO CANTON SAN JERONIMO"]
[null,null,null,null,null,null,null,null,null,null,null,null,null,null,null,null,null,null,12959,"CENTRO ESCOLAR CANTON LA LAGUNA "]
[null,null,null,null,null,null,null,null,null,null,null,null,null,null,null,null,null,null,12961,"CENTRO ESCOLAR CASERIO SAN ANDRES"]
[null,null,null,null,null,null,null,null,null,null,null,null,null,null,null,null,null,null,12962,"COMPLEJO EDUCATIVO DE SAN GERARDO"]
[null,null,null,null,null,null,null,null,null,null,null,null,null,null,null,null,null,null,12965,"INSTITUTO NACIONAL DE SAN JORGE"]
[null,null,null,null,null,null,null,null,null,null,null,null,null,null,null,null,null,null,12966,"CENTRO ESCOLAR CANTON JOYA DE VENTURA"]
[null,null,null,null,null,null,null,null,null,null,null,null,null,null,null,null,null,null,12969,"CENTRO ESCOLAR JUAN PABLO ESPINOZA"]
[null,null,null,null,null,null,null,null,null,null,null,null,null,null,null,null,null,null,12970,"CENTRO ESCOLAR CANTON SAN JULIAN"]
[null,null,null,null,null,null,null,null,null,null,null,null,null,null,null,null,null,null,12976,"CENTRO ESCOLAR CANTON OSTUCAL"]
[null,null,null,null,null,null,null,null,null,null,null,null,null,null,null,null,null,null,12977,"INSTITUTO NACIONAL JOAQUIN ERNESTO CARDENAS"]
[null,null,null,null,null,null,null,null,null,null,null,null,null,null,null,null,null,null,12979,"INSTITUTO NACIONAL ISIDRO MENENDEZ"]
[null,null,null,null,null,null,null,null,null,null,null,null,null,null,null,null,null,null,12980,"INSTITUTO NACIONAL FEDERICO GARCIA PRIETO N."]
[null,null,null,null,null,null,null,null,null,null,null,null,null,null,null,null,null,null,12984,"CENTRO ESCOLAR CASERIO EL ESPINO CANTON MIRAFLORES"]
[null,null,null,null,null,null,null,null,null,null,null,null,null,null,null,null,null,null,12985,"CENTRO ESCOLAR COLONIA AGROPECUARIA"]
[null,null,null,null,null,null,null,null,null,null,null,null,null,null,null,null,null,null,12987,"CENTRO ESCOLAR DE LA COLONIA SANTA LUISA"]
[null,null,null,null,null,null,null,null,null,null,null,null,null,null,null,null,null,null,12988,"CENTRO ESCOLAR COLONIA BRISAS DEL EDEN"]
[null,null,null,null,null,null,null,null,null,null,null,null,null,null,null,null,null,null,12991,"CENTRO ESCOLAR JARDIN N° 3"]
[null,null,null,null,null,null,null,null,null,null,null,null,null,null,null,null,null,null,12992,"CENTRO ESCOLAR HACIENDA DIVINA PROVIDENCIA"]
[null,null,null,null,null,null,null,null,null,null,null,null,null,null,null,null,null,null,12995,"CENTRO ESCOLAR COLONIAS UNIDAS"]
[null,null,null,null,null,null,null,null,null,null,null,null,null,null,null,null,null,null,12996,"CENTRO ESCOLAR URBANIZACION CALIFORNIA"]
[null,null,null,null,null,null,null,null,null,null,null,null,null,null,null,null,null,null,13000,"ESCUELA DE EDUCACION ESPECIAL LICENCIADA ELDA OFELIA DE CASTELLON"]
[null,null,null,null,null,null,null,null,null,null,null,null,null,null,null,null,null,null,13001,"CENTRO ESCOLAR COLONIA SAN FRANCISCO"]
[null,null,null,null,null,null,null,null,null,null,null,null,null,null,null,null,null,null,13003,"ESCUELA DE EDUCACION PARVULARIA JOYA DE CEREN"]
[null,null,null,null,null,null,null,null,null,null,null,null,null,null,null,null,null,null,13004,"ESCUELA DE EDUCACION PARVULARIA SAN JOSE"]
[null,null,null,null,null,null,null,null,null,null,null,null,null,null,null,null,null,null,13007,"CENTRO ESCOLAR COLONIA 15 DE SEPTIEMBRE"]
[null,null,null,null,null,null,null,null,null,null,null,null,null,null,null,null,null,null,13008,"CENTRO ESCOLAR CASERIO CHAPARRASTIQUE CANTON EL NIÑO"]
[null,null,null,null,null,null,null,null,null,null,null,null,null,null,null,null,null,null,13012,"CENTRO ESCOLAR ASENTAMIENTO SAN JACINTO"]
[null,null,null,null,null,null,null,null,null,null,null,null,null,null,null,null,null,null,13013,"CENTRO ESCOLAR HACIENDA EL GUAYABAL"]
[null,null,null,null,null,null,null,null,null,null,null,null,null,null,null,null,null,null,13015,"CENTRO ESCOLAR COLONIA DOLORES"]
[null,null,null,null,null,null,null,null,null,null,null,null,null,null,null,null,null,null,13016,"ESCUELA DE EDUCACION PARVULARIA DE EL CARRIZAL"]
[null,null,null,null,null,null,null,null,null,null,null,null,null,null,null,null,null,null,13018,"CENTRO ESCOLAR CASERIO LA MASCOTA CANTON EL VOLCAN"]
[null,null,null,null,null,null,null,null,null,null,null,null,null,null,null,null,null,null,13019,"ESCUELA DE EDUCACION PARVULARIA DE SAN MIGUEL"]
[null,null,null,null,null,null,null,null,null,null,null,null,null,null,null,null,null,null,13022,"CENTRO ESCOLAR CANTON EL VOLCAN N°2"]
[null,null,null,null,null,null,null,null,null,null,null,null,null,null,null,null,null,null,13023,"CENTRO ESCOLAR CASERIO EL ZAPOTAL"]
[null,null,null,null,null,null,null,null,null,null,null,null,null,null,null,null,null,null,13026,"CENTRO ESCOLAR CASERIO ZUNIGA CANTON SANTA INES"]
[null,null,null,null,null,null,null,null,null,null,null,null,null,null,null,null,null,null,13027,"CENTRO ESCOLAR LICENCIADA LESLIE S. VOGEL"]
[null,null,null,null,null,null,null,null,null,null,null,null,null,null,null,null,null,null,13029,"CENTRO ESCOLAR CANTON LAS DELICIAS"]
[null,null,null,null,null,null,null,null,null,null,null,null,null,null,null,null,null,null,13030,"CENTRO ESCOLAR CANTON LA PUERTA"]
[null,null,null,null,null,null,null,null,null,null,null,null,null,null,null,null,null,null,13033,"CENTRO ESCOLAR FINCA SANTA ISABEL CANTON EL VOLCAN"]
[null,null,null,null,null,null,null,null,null,null,null,null,null,null,null,null,null,null,13034,"CENTRO ESCOLAR CASERIO EL TULAR CANTON LAS DELICIAS"]
[null,null,null,null,null,null,null,null,null,null,null,null,null,null,null,null,null,null,13036,"CENTRO ESCOLAR CASERIO EL TAMARINDO CANTON LAS DELICIAS"]
[null,null,null,null,null,null,null,null,null,null,null,null,null,null,null,null,null,null,13037,"CENTRO ESCOLAR CANTON SAN ANTONIO CHAVEZ"]
[null,null,null,null,null,null,null,null,null,null,null,null,null,null,null,null,null,null,13039,"CENTRO ESCOLAR CASERIO LOS RANCHOS, CANTON MIRAFLORES"]
[null,null,null,null,null,null,null,null,null,null,null,null,null,null,null,null,null,null,13040,"CENTRO ESCOLAR CASERIO AGUA ZARCA CANTON SANTA INES"]
[null,null,null,null,null,null,null,null,null,null,null,null,null,null,null,null,null,null,13043,"CENTRO ESCOLAR CANTON SANTA INES"]
[null,null,null,null,null,null,null,null,null,null,null,null,null,null,null,null,null,null,13044,"CENTRO ESCOLAR CASERIO EL SASO CANTON EL HAVILLAL"]
[null,null,null,null,null,null,null,null,null,null,null,null,null,null,null,null,null,null,13046,"CENTRO ESCOLAR CANTON LAS CASITAS"]
[null,null,null,null,null,null,null,null,null,null,null,null,null,null,null,null,null,null,13047,"CENTRO ESCOLAR CANTON  SAN JACINTO"]
[null,null,null,null,null,null,null,null,null,null,null,null,null,null,null,null,null,null,13049,"CENTRO ESCOLAR CANTON EL ZAMORAN"]
[null,null,null,null,null,null,null,null,null,null,null,null,null,null,null,null,null,null,13050,"CENTRO ESCOLAR CANTON LAS MESAS"]
[null,null,null,null,null,null,null,null,null,null,null,null,null,null,null,null,null,null,13053,"CENTRO ESCOLAR CANTON MONTE GRANDE"]
[null,null,null,null,null,null,null,null,null,null,null,null,null,null,null,null,null,null,13054,"CENTRO ESCOLAR CASERIO SANTA LUCIA CANTON LAS LOMITAS"]
[null,null,null,null,null,null,null,null,null,null,null,null,null,null,null,null,null,null,13056,"CENTRO ESCOLAR MANUEL JOSE ARCE"]
[null,null,null,null,null,null,null,null,null,null,null,null,null,null,null,null,null,null,13057,"CENTRO ESCOLAR CANTON EL TECOMATAL"]
[null,null,null,null,null,null,null,null,null,null,null,null,null,null,null,null,null,null,13060,"CENTRO ESCOLAR DOCTOR JOSE ANTONIO QUIROZ"]
[null,null,null,null,null,null,null,null,null,null,null,null,null,null,null,null,null,null,13061,"CENTRO ESCOLAR CANTON LAS LOMITAS"]
[null,null,null,null,null,null,null,null,null,null,null,null,null,null,null,null,null,null,13064,"CENTRO ESCOLAR CANTON EL CERRO BONITO"]
[null,null,null,null,null,null,null,null,null,null,null,null,null,null,null,null,null,null,13065,"CENTRO ESCOLAR CANTON SAN ANDRES"]
[null,null,null,null,null,null,null,null,null,null,null,null,null,null,null,null,null,null,13067,"CENTRO ESCOLAR PROFESORA LILIAN ISABEL PEÑA ORELLANA"]
[null,null,null,null,null,null,null,null,null,null,null,null,null,null,null,null,null,null,13068,"CENTRO ESCOLAR CANTON SAN ANTONIO SILVA"]
[null,null,null,null,null,null,null,null,null,null,null,null,null,null,null,null,null,null,13070,"CENTRO ESCOLAR CANTON LA TRINIDAD"]
[null,null,null,null,null,null,null,null,null,null,null,null,null,null,null,null,null,null,13071,"CENTRO ESCOLAR HERBERT DE SOLA"]
[null,null,null,null,null,null,null,null,null,null,null,null,null,null,null,null,null,null,13074,"CENTRO ESCOLAR CANTON EL JALACATAL"]
[null,null,null,null,null,null,null,null,null,null,null,null,null,null,null,null,null,null,13075,"CENTRO ESCOLAR PROFESOR ATILIO ARMANDO PEREZ SOTO"]
[null,null,null,null,null,null,null,null,null,null,null,null,null,null,null,null,null,null,13077,"ESCUELA DE EDUCACION PARVULARIA GRACIELA FLORES VIUDA DE GRIMALDI"]
[null,null,null,null,null,null,null,null,null,null,null,null,null,null,null,null,null,null,13079,"CENTRO ESCOLAR DOCTOR ARTURO RAMON A\u0081VILA"]
[null,null,null,null,null,null,null,null,null,null,null,null,null,null,null,null,null,null,13081,"CENTRO ESCOLAR UNION PANAMERICANA"]
[null,null,null,null,null,null,null,null,null,null,null,null,null,null,null,null,null,null,13082,"COMPLEJO EDUCATIVO OFELIA HERRERA"]
[null,null,null,null,null,null,null,null,null,null,null,null,null,null,null,null,null,null,13084,"CENTRO ESCOLAR JESUS ESCOBAR DE CARDENAS"]
[null,null,null,null,null,null,null,null,null,null,null,null,null,null,null,null,null,null,13085,"CENTRO ESCOLAR DOLORES SOUZA"]
[null,null,null,null,null,null,null,null,null,null,null,null,null,null,null,null,null,null,13088,"CENTRO ESCOLAR CASERIO SANTA FIDELIA CANTON LA CANOA"]
[null,null,null,null,null,null,null,null,null,null,null,null,null,null,null,null,null,null,13089,"CENTRO ESCOLAR DOLORES C. RETES"]
[null,null,null,null,null,null,null,null,null,null,null,null,null,null,null,null,null,null,13091,"CENTRO ESCOLAR ABDON CORDERO "]
[null,null,null,null,null,null,null,null,null,null,null,null,null,null,null,null,null,null,13092,"CENTRO ESCOLAR PABLO J. AGUIRRE"]
[null,null,null,null,null,null,null,null,null,null,null,null,null,null,null,null,null,null,13094,"CENTRO ESCOLAR SAGRADO CORAZON"]
[null,null,null,null,null,null,null,null,null,null,null,null,null,null,null,null,null,null,13095,"CENTRO ESCOLAR NIÑO JESUS DE PRAGA"]
[null,null,null,null,null,null,null,null,null,null,null,null,null,null,null,null,null,null,13098,"CENTRO ESCOLAR CANTON PIEDRA AZUL"]
[null,null,null,null,null,null,null,null,null,null,null,null,null,null,null,null,null,null,13099,"CENTRO ESCOLAR CANTON RODEO DE PEDRON"]
[null,null,null,null,null,null,null,null,null,null,null,null,null,null,null,null,null,null,13101,"CENTRO ESCOLAR CASERIO LO GIRON CANTON PIEDRA AZUL"]
[null,null,null,null,null,null,null,null,null,null,null,null,null,null,null,null,null,null,13102,"CENTRO ESCOLAR CASERIO LOS LEMUS CANTON SANTA CLARA"]
[null,null,null,null,null,null,null,null,null,null,null,null,null,null,null,null,null,null,13105,"CENTRO ESCOLAR ALBERTO MASFERRER"]
[null,null,null,null,null,null,null,null,null,null,null,null,null,null,null,null,null,null,13106,"CENTRO ESCOLAR BARRIO LA MERCED"]
[null,null,null,null,null,null,null,null,null,null,null,null,null,null,null,null,null,null,13118,"CENTRO ESCOLAR CASERIO QUESERITAS CANTON MINITAS"]
[null,null,null,null,null,null,null,null,null,null,null,null,null,null,null,null,null,null,13122,"CENTRO ESCOLAR DOCTOR MANUEL QUIJANO HERNANDEZ"]
[null,null,null,null,null,null,null,null,null,null,null,null,null,null,null,null,null,null,13126,"CENTRO ESCOLAR CANTON EL TIZATE"]
[null,null,null,null,null,null,null,null,null,null,null,null,null,null,null,null,null,null,13127,"CENTRO ESCOLAR CANTON LOS PILONES"]
[null,null,null,null,null,null,null,null,null,null,null,null,null,null,null,null,null,null,13129,"INSTITUTO NACIONAL DE ULUAZAPA"]
[null,null,null,null,null,null,null,null,null,null,null,null,null,null,null,null,null,null,13130,"CENTRO ESCOLAR MARTA LUCINDA VARGAS"]
[null,null,null,null,null,null,null,null,null,null,null,null,null,null,null,null,null,null,13136,"CENTRO ESCOLAR CASERIO MACULIS CANTON ESTANCIA"]
[null,null,null,null,null,null,null,null,null,null,null,null,null,null,null,null,null,null,13139,"CENTRO ESCOLARA CASERIO LLANO EL NANCE CANTON SUNSULACA"]
[null,null,null,null,null,null,null,null,null,null,null,null,null,null,null,null,null,null,13141,"CENTRO ESCOLAR CASERIO ALBANIA CANTON OCOTILLO"]
[null,null,null,null,null,null,null,null,null,null,null,null,null,null,null,null,null,null,13142,"CENTRO ESCOLAR JUAN MANUEL RODRIGUEZ"]
[null,null,null,null,null,null,null,null,null,null,null,null,null,null,null,null,null,null,13145,"INSTITUTO NACIONAL DE CORINTO"]
[null,null,null,null,null,null,null,null,null,null,null,null,null,null,null,null,null,null,13148,"CENTRO ESCOLAR MIGUEL ANGEL BENITEZ FUENTES"]
[null,null,null,null,null,null,null,null,null,null,null,null,null,null,null,null,null,null,13158,"CENTRO ESCOLAR CASERIO GUACAMAYA CANTON LA LAGUNA"]
[null,null,null,null,null,null,null,null,null,null,null,null,null,null,null,null,null,null,13160,"CENTRO ESCOLAR CANTON SAN FELIPE"]
[null,null,null,null,null,null,null,null,null,null,null,null,null,null,null,null,null,null,13162,"CENTRO ESCOLAR CANTON EL CHAPARRAL"]
[null,null,null,null,null,null,null,null,null,null,null,null,null,null,null,null,null,null,13166,"CENTRO ESCOLAR CANTON EL PEDERNAL"]
[null,null,null,null,null,null,null,null,null,null,null,null,null,null,null,null,null,null,13171,"CENTRO ESCOLAR CASERIO LA COMIDERA CANTON EL VOLCAN"]
[null,null,null,null,null,null,null,null,null,null,null,null,null,null,null,null,null,null,13172,"CENTRO ESCOLAR CASERIO LOS ARGUETA"]
[null,null,null,null,null,null,null,null,null,null,null,null,null,null,null,null,null,null,13177,"INSTITUTO NACIONAL DE EL DIVISADERO"]
[null,null,null,null,null,null,null,null,null,null,null,null,null,null,null,null,null,null,13178,"CENTRO ESCOLAR CANTON LOMA LARGA"]
[null,null,null,null,null,null,null,null,null,null,null,null,null,null,null,null,null,null,13180,"CENTRO ESCOLAR CANTON LOMA TENDIDA"]
[null,null,null,null,null,null,null,null,null,null,null,null,null,null,null,null,null,null,13181,"CENTRO ESCOLAR CANTON NOMBRE DE JESUS "]
[null,null,null,null,null,null,null,null,null,null,null,null,null,null,null,null,null,null,13183,"CENTRO ESCOLAR CASERIO MONTECRISTO CANTON LLANO DE SANTIAGO"]
[null,null,null,null,null,null,null,null,null,null,null,null,null,null,null,null,null,null,13184,"CENTRO ESCOLAR CANTON LLANO DE SANTIAGO"]
[null,null,null,null,null,null,null,null,null,null,null,null,null,null,null,null,null,null,13186,"CENTRO ESCOLAR CASERIO EL CARRIZAL CANTON SAN PEDRO"]
[null,null,null,null,null,null,null,null,null,null,null,null,null,null,null,null,null,null,13187,"CENTRO ESCOLAR CANTON SAN PEDRO RIO SECO"]
[null,null,null,null,null,null,null,null,null,null,null,null,null,null,null,null,null,null,13190,"CENTRO ESCOLAR JACINTO FLORES"]
[null,null,null,null,null,null,null,null,null,null,null,null,null,null,null,null,null,null,13191,"COMPLEJO EDUCATIVO PRESBITERO JOSE SERAPIO PONCE DE LEON"]
[null,null,null,null,null,null,null,null,null,null,null,null,null,null,null,null,null,null,13193,"CENTRO ESCOLAR CASERIO PEÑA BLANCA"]
[null,null,null,null,null,null,null,null,null,null,null,null,null,null,null,null,null,null,13196,"CENTRO ESCOLAR CANTON MAIGUERA"]
[null,null,null,null,null,null,null,null,null,null,null,null,null,null,null,null,null,null,13199,"ESCUELA DE EDUCACION PARVULARIA DE GUATAJIAGUA"]
[null,null,null,null,null,null,null,null,null,null,null,null,null,null,null,null,null,null,13200,"CENTRO ESCOLAR CANTON SAN BARTOLO"]
[null,null,null,null,null,null,null,null,null,null,null,null,null,null,null,null,null,null,13203,"CENTRO ESCOLAR CASERIO LOS QUEBRACHOS"]
[null,null,null,null,null,null,null,null,null,null,null,null,null,null,null,null,null,null,13205,"COMPLEJO EDUCATIVO FLORINDA DE JUAREZ ALEMAN"]
[null,null,null,null,null,null,null,null,null,null,null,null,null,null,null,null,null,null,13207,"ESCUELA DE EDUCACION PARVULARIA SAN SEBASTIAN MARTIR"]
[null,null,null,null,null,null,null,null,null,null,null,null,null,null,null,null,null,null,13208,"CENTRO ESCOLAR DOCTOR RICARDO TRIGUEROS DE LEON"]
[null,null,null,null,null,null,null,null,null,null,null,null,null,null,null,null,null,null,13210,"CENTRO ESCOLAR CANTON LAGUNETAS"]
[null,null,null,null,null,null,null,null,null,null,null,null,null,null,null,null,null,null,13211,"CENTRO ESCOLAR CASERIO LOS ROMERO"]
[null,null,null,null,null,null,null,null,null,null,null,null,null,null,null,null,null,null,13214,"CENTRO ESCOLAR CANTON SAN JUAN"]
[null,null,null,null,null,null,null,null,null,null,null,null,null,null,null,null,null,null,13216,"CENTRO ESCOLAR CANTON FLAMENCO"]
[null,null,null,null,null,null,null,null,null,null,null,null,null,null,null,null,null,null,13218,"CENTRO ESCOLAR GENERAL FRANCISCO MORAZAN"]
[null,null,null,null,null,null,null,null,null,null,null,null,null,null,null,null,null,null,13219,"CENTRO ESCOLAR CASERIO LAS CRUCES CANTON HUALINDO"]
[null,null,null,null,null,null,null,null,null,null,null,null,null,null,null,null,null,null,13221,"CENTRO ESCOLAR CASERIO VALLE NUEVO"]
[null,null,null,null,null,null,null,null,null,null,null,null,null,null,null,null,null,null,13222,"CENTRO ESCOLAR DE LOLOTIQUILLO"]
[null,null,null,null,null,null,null,null,null,null,null,null,null,null,null,null,null,null,13229,"INSTITUTO NACIONAL SEGUNDO MONTES"]
[null,null,null,null,null,null,null,null,null,null,null,null,null,null,null,null,null,null,13230,"ESCUELA DE EDUCACION PARVULARIA SERGIO ROMERO"]
[null,null,null,null,null,null,null,null,null,null,null,null,null,null,null,null,null,null,13232,"CENTRO ESCOLAR CANTON SOLEDAD"]
[null,null,null,null,null,null,null,null,null,null,null,null,null,null,null,null,null,null,13235,"CENTRO ESCOLAR CANTON LA MONTAÑITA"]
[null,null,null,null,null,null,null,null,null,null,null,null,null,null,null,null,null,null,13238,"CENTRO ESCOLAR PROFESOR EMNER ABILIO ROMERO"]
[null,null,null,null,null,null,null,null,null,null,null,null,null,null,null,null,null,null,13239,"CENTRO ESCOLAR CANTON CERRO EL COYOL"]
[null,null,null,null,null,null,null,null,null,null,null,null,null,null,null,null,null,null,13243,"CENTRO ESCOLAR CASERIO LA TEJERA CANTON CASA BLANCA"]
[null,null,null,null,null,null,null,null,null,null,null,null,null,null,null,null,null,null,13246,"COMPLEJO EDUCATIVO ASENTAMIENTO SANTA BA\u0081RBARA CANTON SAN MARCOS"]
[null,null,null,null,null,null,null,null,null,null,null,null,null,null,null,null,null,null,13248,"CENTRO ESCOLAR CANTON VALLE NUEVO"]
[null,null,null,null,null,null,null,null,null,null,null,null,null,null,null,null,null,null,13249,"CENTRO ESCOLAR LICENCIADO JUAN JOSE GUZMAN"]
[null,null,null,null,null,null,null,null,null,null,null,null,null,null,null,null,null,null,13252,"COMPLEJO EDUCATIVO DE SAN FERNANDO"]
[null,null,null,null,null,null,null,null,null,null,null,null,null,null,null,null,null,null,13253,"CENTRO ESCOLAR ASENTAMIENTO EL CAMPO"]
[null,null,null,null,null,null,null,null,null,null,null,null,null,null,null,null,null,null,13258,"CENTRO ESCOLAR CORONEL MAURICIO ERNESTO VARGAS"]
[null,null,null,null,null,null,null,null,null,null,null,null,null,null,null,null,null,null,13259,"CENTRO ESCOLAR CASERIO LOS ROMERO CANTON EL TRIUNFO"]
[null,null,null,null,null,null,null,null,null,null,null,null,null,null,null,null,null,null,13261,"CENTRO ESCOLAR CANTON EL NORTE"]
[null,null,null,null,null,null,null,null,null,null,null,null,null,null,null,null,null,null,13262,"CENTRO ESCOLAR PROFESORA JOSEFA VALLE DE FUENTES CANTON LAS CONCHAS"]
[null,null,null,null,null,null,null,null,null,null,null,null,null,null,null,null,null,null,13264,"ESCUELA DE EDUCACION PARVULARIA DE SAN FRANCISCO GOTERA"]
[null,null,null,null,null,null,null,null,null,null,null,null,null,null,null,null,null,null,13265,"CENTRO ESCOLAR CANTON SAN JOSE"]
[null,null,null,null,null,null,null,null,null,null,null,null,null,null,null,null,null,null,13267,"CENTRO ESCOLAR FELIPE SOTO"]
[null,null,null,null,null,null,null,null,null,null,null,null,null,null,null,null,null,null,13268,"CENTRO ESCOLAR SAN FRANCISCO GOTERA"]
[null,null,null,null,null,null,null,null,null,null,null,null,null,null,null,null,null,null,13273,"CENTRO ESCOLAR ALBERTO MASFERRER"]
[null,null,null,null,null,null,null,null,null,null,null,null,null,null,null,null,null,null,13274,"CENTRO ESCOLAR CANTON POTRERO DE ADENTRO"]
[null,null,null,null,null,null,null,null,null,null,null,null,null,null,null,null,null,null,13278,"CENTRO ESCOLAR CANTON SAN FRANCISCO"]
[null,null,null,null,null,null,null,null,null,null,null,null,null,null,null,null,null,null,13279,"ESCUELA DE EDUCACION PARVULARIA DE SAN SIMON"]
[null,null,null,null,null,null,null,null,null,null,null,null,null,null,null,null,null,null,13281,"CENTRO ESCOLAR CASERIO POTRERILLO"]
[null,null,null,null,null,null,null,null,null,null,null,null,null,null,null,null,null,null,13282,"CENTRO ESCOLAR CASERIO LOS CORRALES CANTON VALLE GRANDE"]
[null,null,null,null,null,null,null,null,null,null,null,null,null,null,null,null,null,null,13285,"CENTRO ESCOLAR CANTON EL RODEO"]
[null,null,null,null,null,null,null,null,null,null,null,null,null,null,null,null,null,null,13286,"CENTRO ESCOLAR CANTON EL LIMON"]
[null,null,null,null,null,null,null,null,null,null,null,null,null,null,null,null,null,null,13288,"CENTRO ESCOLAR DOCTOR RAMON ROSA"]
[null,null,null,null,null,null,null,null,null,null,null,null,null,null,null,null,null,null,13289,"CENTRO ESCOLAR CANTON EL TABLON"]
[null,null,null,null,null,null,null,null,null,null,null,null,null,null,null,null,null,null,13291,"CENTRO ESCOLAR CANTON CANDELARIA"]
[null,null,null,null,null,null,null,null,null,null,null,null,null,null,null,null,null,null,13292,"CENTRO ESCOLAR SARA CASTELLANOS"]
[null,null,null,null,null,null,null,null,null,null,null,null,null,null,null,null,null,null,13295,"CENTRO ESCOLAR CASERIO TROMPINA CANTON EL BEJUCAL"]
[null,null,null,null,null,null,null,null,null,null,null,null,null,null,null,null,null,null,13296,"CENTRO ESCOLAR CANTON LA JOYA"]
[null,null,null,null,null,null,null,null,null,null,null,null,null,null,null,null,null,null,13299,"CENTRO ESCOLAR ALBERTO GUZMAN MEJIA"]
[null,null,null,null,null,null,null,null,null,null,null,null,null,null,null,null,null,null,13301,"COMPLEJO EDUCATIVO MARCELINO GARCIA FLAMENCO"]
[null,null,null,null,null,null,null,null,null,null,null,null,null,null,null,null,null,null,13304,"CENTRO ESCOLAR BLANCA BENITEZ DE FLORES"]
[null,null,null,null,null,null,null,null,null,null,null,null,null,null,null,null,null,null,13307,"CENTRO ESCOLAR CANTON ISLETAS"]
[null,null,null,null,null,null,null,null,null,null,null,null,null,null,null,null,null,null,13311,"CENTRO ESCOLAR CANTON EL ACEITUNO"]
[null,null,null,null,null,null,null,null,null,null,null,null,null,null,null,null,null,null,13312,"ESCUELA DE EDUCACION PARVULARIA DE YOLOAIQUIN"]
[null,null,null,null,null,null,null,null,null,null,null,null,null,null,null,null,null,null,13314,"CENTRO ESCOLAR CASERIO LA LAGUNA CANTON VOLCAN"]
[null,null,null,null,null,null,null,null,null,null,null,null,null,null,null,null,null,null,13315,"ESCUELA DE EDUCACION PARVULARIA CANTON EL ACEITUNO"]
[null,null,null,null,null,null,null,null,null,null,null,null,null,null,null,null,null,null,13322,"CENTRO ESCOLAR LUCILA SORTO"]
[null,null,null,null,null,null,null,null,null,null,null,null,null,null,null,null,null,null,13323,"CENTRO ESCOLAR CASERIO LOS REYES CANTON TERERITOS"]
[null,null,null,null,null,null,null,null,null,null,null,null,null,null,null,null,null,null,13330,"CENTRO ESCOLAR CANTON EL CARBONAL"]
[null,null,null,null,null,null,null,null,null,null,null,null,null,null,null,null,null,null,13331,"CENTRO ESCOLAR DE ANAMOROS"]
[null,null,null,null,null,null,null,null,null,null,null,null,null,null,null,null,null,null,13333,"CENTRO ESCOLAR CANTON CORDONCILLO"]
[null,null,null,null,null,null,null,null,null,null,null,null,null,null,null,null,null,null,13335,"CENTRO ESCOLAR CANTON GUADALUPE"]
[null,null,null,null,null,null,null,null,null,null,null,null,null,null,null,null,null,null,13338,"CENTRO ESCOLAR CANTON EL ALBORNOZ"]
[null,null,null,null,null,null,null,null,null,null,null,null,null,null,null,null,null,null,13339,"CENTRO ESCOLAR CASERIO LOS MAJANITOS CANTON GUADALUPE"]
[null,null,null,null,null,null,null,null,null,null,null,null,null,null,null,null,null,null,13342,"CENTRO ESCOLAR CANTON EL TRANSITO"]
[null,null,null,null,null,null,null,null,null,null,null,null,null,null,null,null,null,null,13343,"COMPLEJO EDUCATIVO DE BOLIVAR "]
[null,null,null,null,null,null,null,null,null,null,null,null,null,null,null,null,null,null,13346,"CENTRO ESCOLAR CASERIO CUEVAS CANTON GUERIPE"]
[null,null,null,null,null,null,null,null,null,null,null,null,null,null,null,null,null,null,13347,"CENTRO ESCOLAR CANTON EL GUAYABO"]
[null,null,null,null,null,null,null,null,null,null,null,null,null,null,null,null,null,null,13349,"CENTRO ESCOLAR CANTON GUERIPE"]
[null,null,null,null,null,null,null,null,null,null,null,null,null,null,null,null,null,null,13350,"CENTRO ESCOLAR CASERIO EL MANZANILLO CANTON EL MOLINO"]
[null,null,null,null,null,null,null,null,null,null,null,null,null,null,null,null,null,null,13352,"COMPLEJO EDUCATIVO PROFESOR VIDAL UMANZOR"]
[null,null,null,null,null,null,null,null,null,null,null,null,null,null,null,null,null,null,13353,"CENTRO ESCOLAR CASERIO EL HABILLAL CANTON EL CIPRES"]
[null,null,null,null,null,null,null,null,null,null,null,null,null,null,null,null,null,null,13359,"CENTRO ESCOLAR COLONIA BUENA VISTA"]
[null,null,null,null,null,null,null,null,null,null,null,null,null,null,null,null,null,null,13360,"CENTRO ESCOLAR HACIENDA SAN RAMON CANTON LLANO DE LOS PATOS"]
[null,null,null,null,null,null,null,null,null,null,null,null,null,null,null,null,null,null,13362,"CENTRO ESCOLAR CANTON EL CACAO"]
[null,null,null,null,null,null,null,null,null,null,null,null,null,null,null,null,null,null,13363,"CENTRO ESCOLAR CANTON EL FARITO"]
[null,null,null,null,null,null,null,null,null,null,null,null,null,null,null,null,null,null,13365,"COMPLEJO EDUCATIVO CANTON EL JAGUEY"]
[null,null,null,null,null,null,null,null,null,null,null,null,null,null,null,null,null,null,13366,"CENTRO ESCOLAR CANTON PLAYAS NEGRAS"]
[null,null,null,null,null,null,null,null,null,null,null,null,null,null,null,null,null,null,13372,"CENTRO ESCOLAR CANTON EL PILON"]
[null,null,null,null,null,null,null,null,null,null,null,null,null,null,null,null,null,null,13373,"CENTRO ESCOLAR CANTON LOS PATOS"]
[null,null,null,null,null,null,null,null,null,null,null,null,null,null,null,null,null,null,13375,"COMPLEJO EDUCATIVO MARIO GOMEZ"]
[null,null,null,null,null,null,null,null,null,null,null,null,null,null,null,null,null,null,13376,"COMPLEJO EDUCATIVO CANTON EL TAMARINDO"]
[null,null,null,null,null,null,null,null,null,null,null,null,null,null,null,null,null,null,13378,"CENTRO ESCOLAR CASERIO EL CHILE CANTON EL CAULOTILLO"]
[null,null,null,null,null,null,null,null,null,null,null,null,null,null,null,null,null,null,13380,"CENTRO ESCOLAR CANTON LA CAÑADA"]
[null,null,null,null,null,null,null,null,null,null,null,null,null,null,null,null,null,null,13384,"CENTRO ESCOLAR CANTON ALTO EL ROBLE"]
[null,null,null,null,null,null,null,null,null,null,null,null,null,null,null,null,null,null,13385,"COMPLEJO EDUCATIVO JOHN F. KENNEDY"]
[null,null,null,null,null,null,null,null,null,null,null,null,null,null,null,null,null,null,13388,"CENTRO ESCOLAR EL CARMEN"]
[null,null,null,null,null,null,null,null,null,null,null,null,null,null,null,null,null,null,13390,"CENTRO ESCOLAR CASERIO AGUA CALIENTE"]
[null,null,null,null,null,null,null,null,null,null,null,null,null,null,null,null,null,null,13392,"CENTRO ESCOLAR CASERIO PAPALAMBRE CANTON EL TALPETATE"]
[null,null,null,null,null,null,null,null,null,null,null,null,null,null,null,null,null,null,13393,"CENTRO ESCOLAR CANTON CANAIRE"]
[null,null,null,null,null,null,null,null,null,null,null,null,null,null,null,null,null,null,13399,"CENTRO ESCOLAR CRISOGENO PEREZ"]
[null,null,null,null,null,null,null,null,null,null,null,null,null,null,null,null,null,null,13400,"CENTRO ESCOLAR JORGE WASHINGTON"]
[null,null,null,null,null,null,null,null,null,null,null,null,null,null,null,null,null,null,13403,"CENTRO ESCOLAR CASERIO EL AMATILLO CANTON EL TALPETATE"]
[null,null,null,null,null,null,null,null,null,null,null,null,null,null,null,null,null,null,13404,"CENTRO ESCOLAR CASERIO LA AGENCIA"]
[null,null,null,null,null,null,null,null,null,null,null,null,null,null,null,null,null,null,13410,"CENTRO ESCOLAR CANTON EL CARAO"]
[null,null,null,null,null,null,null,null,null,null,null,null,null,null,null,null,null,null,13411,"INSTITUTO NACIONAL CANTON AMAPALITA"]
[null,null,null,null,null,null,null,null,null,null,null,null,null,null,null,null,null,null,13414,"CENTRO ESCOLAR CASERIO PLAYITAS CANTON ISLA ZACATILLO"]
[null,null,null,null,null,null,null,null,null,null,null,null,null,null,null,null,null,null,13415,"CENTRO ESCOLAR BEATRIZ BENITEZ"]
[null,null,null,null,null,null,null,null,null,null,null,null,null,null,null,null,null,null,13417,"CENTRO ESCOLAR CASERIO PUEBLO VIEJO CANTON AGUA ESCONDIDA"]
[null,null,null,null,null,null,null,null,null,null,null,null,null,null,null,null,null,null,13419,"CENTRO ESCOLAR COLONIA BELEN"]
[null,null,null,null,null,null,null,null,null,null,null,null,null,null,null,null,null,null,13423,"CENTRO ESCOLAR NAPOLEON VIERA ALTAMIRANO"]
[null,null,null,null,null,null,null,null,null,null,null,null,null,null,null,null,null,null,13425,"CENTRO ESCOLAR CASERIO PLAYONA CANTON ISLA ZACATILLO"]
[null,null,null,null,null,null,null,null,null,null,null,null,null,null,null,null,null,null,13429,"CENTRO ESCOLAR CANTON EL TABLON"]
[null,null,null,null,null,null,null,null,null,null,null,null,null,null,null,null,null,null,13430,"CENTRO ESCOLAR CASERIO EL HIGUERON CANTON LA QUEZADILLA"]
[null,null,null,null,null,null,null,null,null,null,null,null,null,null,null,null,null,null,13433,"CENTRO ESCOLAR CANTON AGUA CALIENTE"]
[null,null,null,null,null,null,null,null,null,null,null,null,null,null,null,null,null,null,13434,"COMPLEJO EDUCATIVO CASERIO LA ESTUFA CANTON ISLA ZACATILLO"]
[null,null,null,null,null,null,null,null,null,null,null,null,null,null,null,null,null,null,13436,"CENTRO ESCOLAR CANTON SIRAMA"]
[null,null,null,null,null,null,null,null,null,null,null,null,null,null,null,null,null,null,13437,"CENTRO ESCOLAR CANTON EL COYOLITO"]
[null,null,null,null,null,null,null,null,null,null,null,null,null,null,null,null,null,null,13440,"CENTRO ESCOLAR CASERIO CHIQUIRIN CANTON AGUA ESCONDIDA"]
[null,null,null,null,null,null,null,null,null,null,null,null,null,null,null,null,null,null,13441,"CENTRO ESCOLAR GREGORIO ALVAREZ NUÑEZ"]
[null,null,null,null,null,null,null,null,null,null,null,null,null,null,null,null,null,null,13443,"COMPLEJO EDUCATIVO JOSE PANTOJA HIJO"]
[null,null,null,null,null,null,null,null,null,null,null,null,null,null,null,null,null,null,13444,"CENTRO ESCOLAR VICTORIA ZELAYA"]
[null,null,null,null,null,null,null,null,null,null,null,null,null,null,null,null,null,null,13446,"CENTRO ESCOLAR BARRIO LA FATIMA"]
[null,null,null,null,null,null,null,null,null,null,null,null,null,null,null,null,null,null,13447,"CENTRO ESCOLAR REPUBLICA DE HONDURAS"]
[null,null,null,null,null,null,null,null,null,null,null,null,null,null,null,null,null,null,13449,"COMPLEJO EDUCATIVO DE LISLIQUE"]
[null,null,null,null,null,null,null,null,null,null,null,null,null,null,null,null,null,null,13452,"CENTRO ESCOLAR CASERIO LOS RUIZ CANTON AGUA FRIA"]
[null,null,null,null,null,null,null,null,null,null,null,null,null,null,null,null,null,null,13455,"CENTRO ESCOLAR CANTON EL SALVADOR"]
[null,null,null,null,null,null,null,null,null,null,null,null,null,null,null,null,null,null,13456,"CENTRO ESCOLAR CANTON LA NEGRA"]
[null,null,null,null,null,null,null,null,null,null,null,null,null,null,null,null,null,null,13459,"COMPLEJO EDUCATIVO CATALINO AMAYA"]
[null,null,null,null,null,null,null,null,null,null,null,null,null,null,null,null,null,null,13462,"CENTRO ESCOLAR CASERIO EL ALTO CANTON EL PORTILLO"]
[null,null,null,null,null,null,null,null,null,null,null,null,null,null,null,null,null,null,13466,"CENTRO ESCOLAR FRANCISCO ALVARADO CRUZ"]
[null,null,null,null,null,null,null,null,null,null,null,null,null,null,null,null,null,null,13467,"CENTRO ESCOLAR CASERIO UPIRE CANTON MONTECA"]
[null,null,null,null,null,null,null,null,null,null,null,null,null,null,null,null,null,null,13470,"CENTRO ESCOLAR JOSE SIMEON CAÑAS"]
[null,null,null,null,null,null,null,null,null,null,null,null,null,null,null,null,null,null,13471,"ESCUELA DE EDUCACION PARVULARIA DE NUEVA ESPARTA"]
[null,null,null,null,null,null,null,null,null,null,null,null,null,null,null,null,null,null,13475,"INSTITUTO NACIONAL DANIEL ARIAS"]
[null,null,null,null,null,null,null,null,null,null,null,null,null,null,null,null,null,null,13477,"CENTRO ESCOLAR CASERIO EL AMATILLO CANTON SANTA CLARA"]
[null,null,null,null,null,null,null,null,null,null,null,null,null,null,null,null,null,null,13479,"CENTRO ESCOLAR RUBEN DARIO VELASQUEZ"]
[null,null,null,null,null,null,null,null,null,null,null,null,null,null,null,null,null,null,13482,"CENTRO ESCOLAR CANTON EL REBALSE"]
[null,null,null,null,null,null,null,null,null,null,null,null,null,null,null,null,null,null,13485,"CENTRO ESCOLAR CANTON SAN FELIPE"]
[null,null,null,null,null,null,null,null,null,null,null,null,null,null,null,null,null,null,13487,"CENTRO ESCOLAR CASERIO AGUA AGRIA CANTON VALLE AFUERA"]
[null,null,null,null,null,null,null,null,null,null,null,null,null,null,null,null,null,null,13489,"CENTRO ESCOLAR CANTON PIEDRAS BLANCAS"]
[null,null,null,null,null,null,null,null,null,null,null,null,null,null,null,null,null,null,13490,"CENTRO ESCOLAR CANTON SAN CARLOS"]
[null,null,null,null,null,null,null,null,null,null,null,null,null,null,null,null,null,null,13493,"CENTRO ESCOLAR CANTON LOS HORCONES"]
[null,null,null,null,null,null,null,null,null,null,null,null,null,null,null,null,null,null,13494,"CENTRO ESCOLAR CANTON SAN EDUARDO"]
[null,null,null,null,null,null,null,null,null,null,null,null,null,null,null,null,null,null,13498,"ESCUELA DE EDUCACION PARVULARIA DE PASAQUINA"]
[null,null,null,null,null,null,null,null,null,null,null,null,null,null,null,null,null,null,13499,"CENTRO ESCOLAR CASERIO EL PICACHO CANTON CERRO PELON"]
[null,null,null,null,null,null,null,null,null,null,null,null,null,null,null,null,null,null,13501,"CENTRO ESCOLAR RAMON MENDOZA"]
[null,null,null,null,null,null,null,null,null,null,null,null,null,null,null,null,null,null,13502,"CENTRO ESCOLAR CASERIO LA CEIBA CANTON PUEBLO"]
[null,null,null,null,null,null,null,null,null,null,null,null,null,null,null,null,null,null,13505,"ESCUELA DE EDUCACION PARVULARIA DE SAN ISIDRO"]
[null,null,null,null,null,null,null,null,null,null,null,null,null,null,null,null,null,null,13509,"CENTRO ESCOLAR CANTON LAJITAS"]
[null,null,null,null,null,null,null,null,null,null,null,null,null,null,null,null,null,null,13515,"CENTRO ESCOLAR CASERIO BUENA VISTA CANTON MALALAJA"]
[null,null,null,null,null,null,null,null,null,null,null,null,null,null,null,null,null,null,13516,"COMPLEJO EDUCATIVO DE POLOROS"]
[null,null,null,null,null,null,null,null,null,null,null,null,null,null,null,null,null,null,13520,"CENTRO ESCOLAR PROFESOR LUIS ARMANDO ROBLES"]
[null,null,null,null,null,null,null,null,null,null,null,null,null,null,null,null,null,null,13521,"CENTRO ESCOLAR CASERIO EL CARAO CANTON TERRERO BLANCO"]
[null,null,null,null,null,null,null,null,null,null,null,null,null,null,null,null,null,null,13523,"CENTRO ESCOLAR CASERIO EL RETUMBO"]
[null,null,null,null,null,null,null,null,null,null,null,null,null,null,null,null,null,null,13524,"CENTRO ESCOLAR CANTON PIEDRA GORDA"]
[null,null,null,null,null,null,null,null,null,null,null,null,null,null,null,null,null,null,13529,"CENTRO ESCOLAR CANTON CERCO DE PIEDRA"]
[null,null,null,null,null,null,null,null,null,null,null,null,null,null,null,null,null,null,13530,"CENTRO ESCOLAR CANTON TERRERO BLANCO"]
[null,null,null,null,null,null,null,null,null,null,null,null,null,null,null,null,null,null,13532,"CENTRO ESCOLAR CANTON CEIBITAS"]
[null,null,null,null,null,null,null,null,null,null,null,null,null,null,null,null,null,null,13533,"CENTRO ESCOLAR CANTON LA PREZA"]
[null,null,null,null,null,null,null,null,null,null,null,null,null,null,null,null,null,null,13536,"CENTRO ESCOLAR CANTON EL TIZATIO"]
[null,null,null,null,null,null,null,null,null,null,null,null,null,null,null,null,null,null,13537,"CENTRO ESCOLAR CANTON LA TRINCHERA"]
[null,null,null,null,null,null,null,null,null,null,null,null,null,null,null,null,null,null,13539,"COMPLEJO EDUCATIVO CANTON PAVANITA"]
[null,null,null,null,null,null,null,null,null,null,null,null,null,null,null,null,null,null,13540,"CENTRO ESCOLAR CANTON SAN JOSE"]
[null,null,null,null,null,null,null,null,null,null,null,null,null,null,null,null,null,null,13543,"CENTRO ESCOLAR CANTON HATO NUEVO"]
[null,null,null,null,null,null,null,null,null,null,null,null,null,null,null,null,null,null,13544,"CENTRO ESCOLAR BENIGNA HERRERA DE MARTINEZ"]
[null,null,null,null,null,null,null,null,null,null,null,null,null,null,null,null,null,null,13546,"CENTRO ESCOLAR DE SAN ALEJO"]
[null,null,null,null,null,null,null,null,null,null,null,null,null,null,null,null,null,null,13547,"CENTRO ESCOLAR DE SAN JOSE LA FUENTE"]
[null,null,null,null,null,null,null,null,null,null,null,null,null,null,null,null,null,null,13550,"INSTITUTO NACIONAL PROFESOR FRANCISCO VENTURA ZELAYA"]
[null,null,null,null,null,null,null,null,null,null,null,null,null,null,null,null,null,null,13551,"CENTRO ESCOLAR ALONSO ANTONIO VENTURA PERLA"]
[null,null,null,null,null,null,null,null,null,null,null,null,null,null,null,null,null,null,13555,"COMPLEJO EDUCATIVO SAN FRANCISCO"]
[null,null,null,null,null,null,null,null,null,null,null,null,null,null,null,null,null,null,13556,"CENTRO ESCOLAR BARRIO LAS DELICIAS"]
[null,null,null,null,null,null,null,null,null,null,null,null,null,null,null,null,null,null,13559,"CENTRO ESCOLAR CASERIO QUEBRADA HONDA CANTON EL ALGODÓN"]
[null,null,null,null,null,null,null,null,null,null,null,null,null,null,null,null,null,null,13560,"CENTRO ESCOLAR VENTURA PERLA"]
[null,null,null,null,null,null,null,null,null,null,null,null,null,null,null,null,null,null,13562,"CENTRO ESCOLAR JOSE ANTONIO LAZO"]
[null,null,null,null,null,null,null,null,null,null,null,null,null,null,null,null,null,null,13563,"CENTRO ESCOLAR CANTON MINAS DE SAN SEBASTIAN"]
[null,null,null,null,null,null,null,null,null,null,null,null,null,null,null,null,null,null,13566,"CENTRO ESCOLAR PROFESOR JULIO CESAR CORDERO LARA"]
[null,null,null,null,null,null,null,null,null,null,null,null,null,null,null,null,null,null,13567,"CENTRO ESCOLAR CANTON PASAQUINITA"]
[null,null,null,null,null,null,null,null,null,null,null,null,null,null,null,null,null,null,13569,"CENTRO ESCOLAR CANTON LOS MOJONES"]
[null,null,null,null,null,null,null,null,null,null,null,null,null,null,null,null,null,null,13570,"CENTRO ESCOLAR CASERIO LOS VILLATOROS CANTON LOS MOJONES"]
[null,null,null,null,null,null,null,null,null,null,null,null,null,null,null,null,null,null,13572,"CENTRO ESCOLAR CENTRO AMERICA"]
[null,null,null,null,null,null,null,null,null,null,null,null,null,null,null,null,null,null,13573,"CENTRO ESCOLAR TRINIDAD SANCHEZ DE QUEZADA"]
[null,null,null,null,null,null,null,null,null,null,null,null,null,null,null,null,null,null,13576,"CENTRO ESCOLAR CASERIO LOS RANCHOS CANTON EL PORTILLO"]
[null,null,null,null,null,null,null,null,null,null,null,null,null,null,null,null,null,null,13577,"CENTRO ESCOLAR CANTON EL SOCORRO"]
[null,null,null,null,null,null,null,null,null,null,null,null,null,null,null,null,null,null,13579,"CENTRO ESCOLAR CANTON LA JOYA"]
[null,null,null,null,null,null,null,null,null,null,null,null,null,null,null,null,null,null,13580,"COMPLEJO EDUCATIVO DE YAYANTIQUE"]
[null,null,null,null,null,null,null,null,null,null,null,null,null,null,null,null,null,null,13582,"CENTRO ESCOLAR CANTON EL CENTENO"]
[null,null,null,null,null,null,null,null,null,null,null,null,null,null,null,null,null,null,13583,"CENTRO ESCOLAR CANTON EL PASTOR"]
[null,null,null,null,null,null,null,null,null,null,null,null,null,null,null,null,null,null,13586,"CENTRO ESCOLAR LUIS ALONSO FLORES"]
[null,null,null,null,null,null,null,null,null,null,null,null,null,null,null,null,null,null,13587,"CENTRO ESCOLAR CANTON LAS MARIAS"]
[null,null,null,null,null,null,null,null,null,null,null,null,null,null,null,null,null,null,13590,"ESCUELA DE EDUCACION PARVULARIA DE SAN JUAN TALPA"]
[null,null,null,null,null,null,null,null,null,null,null,null,null,null,null,null,null,null,13591,"CENTRO ESCOLAR CANTON CANDELARIA"]
[null,null,null,null,null,null,null,null,null,null,null,null,null,null,null,null,null,null,13595,"CENTRO ESCOLAR DE YUCUAIQUIN"]
[null,null,null,null,null,null,null,null,null,null,null,null,null,null,null,null,null,null,13596,"INSTITUTO NACIONAL DE ANTIGUO CUSCATLAN"]
[null,null,null,null,null,null,null,null,null,null,null,null,null,null,null,null,null,null,13601,"INSTITUTO NACIONAL DE SAN LORENZO"]
[null,null,null,null,null,null,null,null,null,null,null,null,null,null,null,null,null,null,13607,"INSTITUTO NACIONAL DE JUJUTLA"]
[null,null,null,null,null,null,null,null,null,null,null,null,null,null,null,null,null,null,13611,"INSTITUTO NACIONAL DE EREGUAYQUIN"]
[null,null,null,null,null,null,null,null,null,null,null,null,null,null,null,null,null,null,13620,"COMPLEJO EDUCATIVO COLONIA SAN LUIS"]
[null,null,null,null,null,null,null,null,null,null,null,null,null,null,null,null,null,null,13630,"ESCUELA DE EDUCACION PARVULARIA DE YUQUAIQUIN"]
[null,null,null,null,null,null,null,null,null,null,null,null,null,null,null,null,null,null,13636,"ESCUELA DE EDUCACION PARVULARIA DE OSICALA"]
[null,null,null,null,null,null,null,null,null,null,null,null,null,null,null,null,null,null,13668,"CENTRO ESCOLAR AGUSTIN LINARES"]
[null,null,null,null,null,null,null,null,null,null,null,null,null,null,null,null,null,null,13671,"CENTRO ESCOLAR LA PONDEROSA"]
[null,null,null,null,null,null,null,null,null,null,null,null,null,null,null,null,null,null,13707,"CENTRO ESCOLAR CANTON CORRAL DE MULAS II"]
[null,null,null,null,null,null,null,null,null,null,null,null,null,null,null,null,null,null,13713,"CENTRO ESCOLAR URBANIZACION LAS MARGARITAS"]
[null,null,null,null,null,null,null,null,null,null,null,null,null,null,null,null,null,null,13738,"ESCUELA DE EDUCACION PARVULARIA DE GUALOCOCTI"]
[null,null,null,null,null,null,null,null,null,null,null,null,null,null,null,null,null,null,13739,"CENTRO ESCOLAR CASERIO LOS REYES CANTON ANIMAS"]
[null,null,null,null,null,null,null,null,null,null,null,null,null,null,null,null,null,null,13779,"CENTRO ESCOLAR CASERIO VALLE NUEVO CANTON SANTA MARTA"]
[null,null,null,null,null,null,null,null,null,null,null,null,null,null,null,null,null,null,13785,"CENTRO ESCOLAR CANTON EL HIGUERAL"]
[null,null,null,null,null,null,null,null,null,null,null,null,null,null,null,null,null,null,13790,"CENTRO ESCOLAR LEANDRO MARIA GUARDADO"]
[null,null,null,null,null,null,null,null,null,null,null,null,null,null,null,null,null,null,13808,"CENTRO ESCOLAR COLONIA EL CARMEN"]
[null,null,null,null,null,null,null,null,null,null,null,null,null,null,null,null,null,null,13816,"ESCUELA DE EDUCACION PARVULARIA CANTON LAS ISLETAS"]
[null,null,null,null,null,null,null,null,null,null,null,null,null,null,null,null,null,null,13820,"ESCUELA DE EDUCACION PARVULARIA SAN JUAN BOSCO DE SAN VICENTE"]
[null,null,null,null,null,null,null,null,null,null,null,null,null,null,null,null,null,null,13829,"CENTRO ESCOLAR CASERIO QUEZALAPA CANTON QUEZALAPA"]
[null,null,null,null,null,null,null,null,null,null,null,null,null,null,null,null,null,null,13831,"CENTRO ESCOLAR PARAISO REAL"]
[null,null,null,null,null,null,null,null,null,null,null,null,null,null,null,null,null,null,14278,"CENTRO ESCOLAR CANTON EL ZAPOTE"]
[null,null,null,null,null,null,null,null,null,null,null,null,null,null,null,null,null,null,14640,"CENTRO ESCOLAR DOCTOR NICOLAS AGUILAR"]
[null,null,null,null,null,null,null,null,null,null,null,null,null,null,null,null,null,null,14726,"ESCUELA DE EDUCACION PARVULARIA CANTON EL LIMON"]
[null,null,null,null,null,null,null,null,null,null,null,null,null,null,null,null,null,null,14732,"INSTITUTO NACIONAL DE CIUDAD DELGADO"]
[null,null,null,null,null,null,null,null,null,null,null,null,null,null,null,null,null,null,14734,"CENTRO ESCOLAR CANTON HACIENDA VIEJA"]
[null,null,null,null,null,null,null,null,null,null,null,null,null,null,null,null,null,null,14736,"CENTRO ESCOLAR ANTONIO FERNANDEZ IBAÑEZ"]
[null,null,null,null,null,null,null,null,null,null,null,null,null,null,null,null,null,null,14753,"INSTITUTO NACIONAL TEXISTEPEQUE"]
[null,null,null,null,null,null,null,null,null,null,null,null,null,null,null,null,null,null,14757,"INSTITUTO NACIONAL DE NOMBRE DE JESUS"]
[null,null,null,null,null,null,null,null,null,null,null,null,null,null,null,null,null,null,14774,"INSTITUTO NACIONAL DE NUEVA ESPARTA"]
[null,null,null,null,null,null,null,null,null,null,null,null,null,null,null,null,null,null,14775,"COMPLEJO EDUCATIVO CANTON SANTA CLARA"]
[null,null,null,null,null,null,null,null,null,null,null,null,null,null,null,null,null,null,14783,"INSTITUTO NACIONAL DE SAN ISIDRO"]
[null,null,null,null,null,null,null,null,null,null,null,null,null,null,null,null,null,null,14784,"CENTRO ESCOLAR DE COLONIA SAN JOAQUIN"]
[null,null,null,null,null,null,null,null,null,null,null,null,null,null,null,null,null,null,14788,"CENTRO ESCOLAR CASERIO LOS MORENOS CANTON CORRALITO"]
[null,null,null,null,null,null,null,null,null,null,null,null,null,null,null,null,null,null,14789,"INSTITUTO NACIONAL DE ESTANZUELAS"]
[null,null,null,null,null,null,null,null,null,null,null,null,null,null,null,null,null,null,14791,"INSTITUTO NACIONAL DE OZATLAN ANA SILVIA PARADA"]
[null,null,null,null,null,null,null,null,null,null,null,null,null,null,null,null,null,null,14792,"INSTITUTO NACIONAL DE EL PAISNAL"]
[null,null,null,null,null,null,null,null,null,null,null,null,null,null,null,null,null,null,14794,"INSTITUTO NACIONAL DE POTONICO"]
[null,null,null,null,null,null,null,null,null,null,null,null,null,null,null,null,null,null,14795,"INSTITUTO NACIONAL DE LA LAGUNA"]
[null,null,null,null,null,null,null,null,null,null,null,null,null,null,null,null,null,null,14798,"INSTITUTO NACIONAL DE SOCIEDAD"]
[null,null,null,null,null,null,null,null,null,null,null,null,null,null,null,null,null,null,14799,"INSTITUTO NACIONAL DE SANTIAGO TEXACUANGOS"]
[null,null,null,null,null,null,null,null,null,null,null,null,null,null,null,null,null,null,14802,"INSTITUTO NACIONAL DE SAN LORENZO"]
[null,null,null,null,null,null,null,null,null,null,null,null,null,null,null,null,null,null,14803,"INSTITUTO NACIONAL DE SAN LUIS DE LA REINA"]
[null,null,null,null,null,null,null,null,null,null,null,null,null,null,null,null,null,null,14805,"INSTITUTO NACIONAL CANTON EL PACUN"]
[null,null,null,null,null,null,null,null,null,null,null,null,null,null,null,null,null,null,14806,"CENTRO ESCOLAR ALTAVISTA"]
[null,null,null,null,null,null,null,null,null,null,null,null,null,null,null,null,null,null,14808,"INSTITUTO NACIONAL DE LA COLONIA SANTA LUCIA"]
[null,null,null,null,null,null,null,null,null,null,null,null,null,null,null,null,null,null,14809,"CENTRO ESCOLAR COLONIA LAS PALMERAS"]
[null,null,null,null,null,null,null,null,null,null,null,null,null,null,null,null,null,null,14815,"CENTRO ESCOLAR VALLE VERDE"]
[null,null,null,null,null,null,null,null,null,null,null,null,null,null,null,null,null,null,14816,"INSTITUTO NACIONAL ESTADO DE ISRAEL"]
[null,null,null,null,null,null,null,null,null,null,null,null,null,null,null,null,null,null,14818,"COMPLEJO EDUCATIVO SANTA EDUVIGES"]
[null,null,null,null,null,null,null,null,null,null,null,null,null,null,null,null,null,null,14819,"INSTITUTO NACIONAL HERBER REMBERTO TRUJILLO DIAZ"]
[null,null,null,null,null,null,null,null,null,null,null,null,null,null,null,null,null,null,14825,"CENTRO ESCOLAR CASERIO LOS VIOLANTES"]
[null,null,null,null,null,null,null,null,null,null,null,null,null,null,null,null,null,null,14826,"CENTRO ESCOLAR CATALINO PINEDA RIVERA"]
[null,null,null,null,null,null,null,null,null,null,null,null,null,null,null,null,null,null,14830,"CENTRO ESCOLAR CASERIO EL LIMON CANTON EL VOLCAN"]
[null,null,null,null,null,null,null,null,null,null,null,null,null,null,null,null,null,null,14831,"INSTITUTO NACIONAL NUEVA ESPERANZA DEL BAJO LEMPA"]
[null,null,null,null,null,null,null,null,null,null,null,null,null,null,null,null,null,null,14834,"CENTRO ESCOLAR COLONIA VERACRUZ"]
[null,null,null,null,null,null,null,null,null,null,null,null,null,null,null,null,null,null,14835,"CENTRO ESCOLAR FRANCOIS MITTERRAND"]
[null,null,null,null,null,null,null,null,null,null,null,null,null,null,null,null,null,null,14837,"CENTRO ESCOLAR COMUNIDAD SANTA MARIA"]
[null,null,null,null,null,null,null,null,null,null,null,null,null,null,null,null,null,null,14840,"CENTRO ESCOLAR LA CIMA DOS"]
[null,null,null,null,null,null,null,null,null,null,null,null,null,null,null,null,null,null,14843,"CENTRO ESCOLAR COLONIA LAGUNA SECA"]
[null,null,null,null,null,null,null,null,null,null,null,null,null,null,null,null,null,null,14845,"CENTRO ESCOLAR CARLOS S. LANGENEGGER"]
[null,null,null,null,null,null,null,null,null,null,null,null,null,null,null,null,null,null,14847,"CENTRO ESCOLAR CASERIO LAS POZAS N°2 CANTON EL TALPETATE"]
[null,null,null,null,null,null,null,null,null,null,null,null,null,null,null,null,null,null,14848,"INSTITUTO NACIONAL DE SAN JOSE LAS FLORES"]
[null,null,null,null,null,null,null,null,null,null,null,null,null,null,null,null,null,null,14850,"CENTRO ESCOLAR CANTON SAN MIGUELITO"]
[null,null,null,null,null,null,null,null,null,null,null,null,null,null,null,null,null,null,14851,"CENTRO ESCOLAR COLONIA EL COCO"]
[null,null,null,null,null,null,null,null,null,null,null,null,null,null,null,null,null,null,14854,"CENTRO ESCOLAR CASERIO TROMPINA ABAJO CANTON EL BEJUCAL"]
[null,null,null,null,null,null,null,null,null,null,null,null,null,null,null,null,null,null,14855,"CENTRO ESCOLAR CASERIO EL CARBON CANTON ABELINES"]
[null,null,null,null,null,null,null,null,null,null,null,null,null,null,null,null,null,null,14858,"CENTRO ESCOLAR ATONAL"]
[null,null,null,null,null,null,null,null,null,null,null,null,null,null,null,null,null,null,14860,"CENTRO ESCOLAR CASERIO EL SITIO CANTON SANTA LUCIA"]
[null,null,null,null,null,null,null,null,null,null,null,null,null,null,null,null,null,null,14862,"CENTRO ESCOLAR CALERA GRANDE CANTON RIO FRIO "]
[null,null,null,null,null,null,null,null,null,null,null,null,null,null,null,null,null,null,14863,"CENTRO ESCOLAR COMUNIDAD EL PARAISO"]
[null,null,null,null,null,null,null,null,null,null,null,null,null,null,null,null,null,null,14866,"ESCUELA DE EDUCACION PARVULARIA DEL CANTON SANTA ROSA"]
[null,null,null,null,null,null,null,null,null,null,null,null,null,null,null,null,null,null,14867,"CENTRO ESCOLAR COLONIA ALTAMIRA"]
[null,null,null,null,null,null,null,null,null,null,null,null,null,null,null,null,null,null,14869,"INSTITUTO NACIONAL TECPAN"]
[null,null,null,null,null,null,null,null,null,null,null,null,null,null,null,null,null,null,14870,"CENTRO ESCOLAR SANTA MARIA"]
[null,null,null,null,null,null,null,null,null,null,null,null,null,null,null,null,null,null,14873,"INSTITUTO NACIONAL DE SAN MATIAS"]
[null,null,null,null,null,null,null,null,null,null,null,null,null,null,null,null,null,null,14874,"INSTITUTO NACIONAL DE SAN ANTONIO LOS RANCHOS"]
[null,null,null,null,null,null,null,null,null,null,null,null,null,null,null,null,null,null,14877,"CENTRO ESCOLAR JUAN PABLO RODRIGUEZ ALFARO"]
[null,null,null,null,null,null,null,null,null,null,null,null,null,null,null,null,null,null,20000,"COLEGIO CARLOS PARRAULT"]
[null,null,null,null,null,null,null,null,null,null,null,null,null,null,null,null,null,null,20002,"ESCUELA MUNICIPAL DR. GUSTAVO MAGAÑA MENENDEZ"]
[null,null,null,null,null,null,null,null,null,null,null,null,null,null,null,null,null,null,20003,"LICEO CRISTIANO REVERENDO JUAN BUENO DE AHUACHAPAN"]
[null,null,null,null,null,null,null,null,null,null,null,null,null,null,null,null,null,null,20006,"COLEGIO ALBERTO MASFERRER"]
[null,null,null,null,null,null,null,null,null,null,null,null,null,null,null,null,null,null,20007,"COLEGIO GUILLERMINA AYALA DE SOLANO"]
[null,null,null,null,null,null,null,null,null,null,null,null,null,null,null,null,null,null,20009,"COLEGIO LOURDES DE AHUACHAPAN"]
[null,null,null,null,null,null,null,null,null,null,null,null,null,null,null,null,null,null,20012,"COLEGIO MONTE CARMELO"]
[null,null,null,null,null,null,null,null,null,null,null,null,null,null,null,null,null,null,20016,"LICEO PROFESOR FLAVIO JIMENEZ"]
[null,null,null,null,null,null,null,null,null,null,null,null,null,null,null,null,null,null,20018,"COLEGIO CRISTIANO PROFESOR JUSTO GONZALEZ CARRASCO"]
[null,null,null,null,null,null,null,null,null,null,null,null,null,null,null,null,null,null,20024,"LICEO CRISTIANO REVERENDO JUAN BUENO DEL CANTON SAN JOSE EL NARANJO"]
[null,null,null,null,null,null,null,null,null,null,null,null,null,null,null,null,null,null,20030,"LICEO CRISTIANO REVERENDO JUAN BUENO DE TACUBA"]
[null,null,null,null,null,null,null,null,null,null,null,null,null,null,null,null,null,null,20035,"LICEO CRISTIANO REVERENDO JUAN BUENO DEL CANTON EL TINTERAL"]
[null,null,null,null,null,null,null,null,null,null,null,null,null,null,null,null,null,null,20037,"COLEGIO LA FE"]
[null,null,null,null,null,null,null,null,null,null,null,null,null,null,null,null,null,null,20040,"COLEGIO BAUTISTA DE CHALCHUAPA"]
[null,null,null,null,null,null,null,null,null,null,null,null,null,null,null,null,null,null,20041,"COLEGIO CRISTIANO \"PROFESOR JUSTO GONZALEZ CARRASCO\""]
[null,null,null,null,null,null,null,null,null,null,null,null,null,null,null,null,null,null,20045,"LICEO TECNICO EN COMERCIO Y ADMINISTRACION JUAN NAPIER"]
[null,null,null,null,null,null,null,null,null,null,null,null,null,null,null,null,null,null,20058,"COLEGIO SALESIANO SAN JOSE"]
[null,null,null,null,null,null,null,null,null,null,null,null,null,null,null,null,null,null,20062,"COLEGIO BAUTISTA"]
[null,null,null,null,null,null,null,null,null,null,null,null,null,null,null,null,null,null,20065,"INSTITUTO MARIA AUXILIADORA"]
[null,null,null,null,null,null,null,null,null,null,null,null,null,null,null,null,null,null,20068,"ESCUELA INTERAMERICANA"]
[null,null,null,null,null,null,null,null,null,null,null,null,null,null,null,null,null,null,20069,"COLEGIO ADVENTISTA JOHN NEVINS ANDREWS"]
[null,null,null,null,null,null,null,null,null,null,null,null,null,null,null,null,null,null,20073,"COLEGIO LAS MERCEDES"]
[null,null,null,null,null,null,null,null,null,null,null,null,null,null,null,null,null,null,20074,"CENTRO PSICOPEDAGOGICO BENITO PEREZ GALDOS"]
[null,null,null,null,null,null,null,null,null,null,null,null,null,null,null,null,null,null,20082,"COLEGIO BILINGÜE LIDIA SALMAN DE BARGAS"]
[null,null,null,null,null,null,null,null,null,null,null,null,null,null,null,null,null,null,20083,"ESCUELA CRISTIANA OASIS"]
[null,null,null,null,null,null,null,null,null,null,null,null,null,null,null,null,null,null,20088,"LICEO JUAN ENRIQUE PESCALOZZI"]
[null,null,null,null,null,null,null,null,null,null,null,null,null,null,null,null,null,null,20089,"ESCUELA SANTANECA DE ENSEÑANZA ESPECIALIZADA"]
[null,null,null,null,null,null,null,null,null,null,null,null,null,null,null,null,null,null,20094,"COLEGIO CENTRO CRISTIANO DE LAS ASAMBLEAS DE DIOS"]
[null,null,null,null,null,null,null,null,null,null,null,null,null,null,null,null,null,null,20095,"LICEO \"GUADALUPANO 24 DE FEBRERO DE 1998\""]
[null,null,null,null,null,null,null,null,null,null,null,null,null,null,null,null,null,null,20099,"COLEGIO NUEVO SAN JOSE HENRIQUEZ GUERRERO"]
[null,null,null,null,null,null,null,null,null,null,null,null,null,null,null,null,null,null,20100,"COLEGIO DOMINICO SANTO TOMAS DE AQUINO"]
[null,null,null,null,null,null,null,null,null,null,null,null,null,null,null,null,null,null,20105,"NUEVO LICEO PANAMERICANO"]
[null,null,null,null,null,null,null,null,null,null,null,null,null,null,null,null,null,null,20108,"LICEO DE ACAJUTLA"]
[null,null,null,null,null,null,null,null,null,null,null,null,null,null,null,null,null,null,20113,"COLEGIO BAUTISTA DE IZALCO"]
[null,null,null,null,null,null,null,null,null,null,null,null,null,null,null,null,null,null,20118,"CENTRO ESCOLAR PRIMAVERA"]
[null,null,null,null,null,null,null,null,null,null,null,null,null,null,null,null,null,null,20120,"COLEGIO SAN CARLOS"]
[null,null,null,null,null,null,null,null,null,null,null,null,null,null,null,null,null,null,20122,"COLEGIO DIAS FELICES"]
[null,null,null,null,null,null,null,null,null,null,null,null,null,null,null,null,null,null,20127,"COLEGIO CENTRO AMERICA"]
[null,null,null,null,null,null,null,null,null,null,null,null,null,null,null,null,null,null,20128,"CENTRO BILINGÜE SAN JOSE CALIFORNIA"]
[null,null,null,null,null,null,null,null,null,null,null,null,null,null,null,null,null,null,20138,"COLEGIO SAN FRANCISCO DE ASIS"]
[null,null,null,null,null,null,null,null,null,null,null,null,null,null,null,null,null,null,20140,"COLEGIO SALARRUE"]
[null,null,null,null,null,null,null,null,null,null,null,null,null,null,null,null,null,null,20144,"INSTITUTO POLITECNICO SONSONATE"]
[null,null,null,null,null,null,null,null,null,null,null,null,null,null,null,null,null,null,20146,"COLEGIO ADVENTISTA DE CHALATENANGO"]
[null,null,null,null,null,null,null,null,null,null,null,null,null,null,null,null,null,null,20150,"CENTRO CULTURAL NUEVA CONCEPCION"]
[null,null,null,null,null,null,null,null,null,null,null,null,null,null,null,null,null,null,20151,"COLEGIO EVANGELICO AMIGOS DE EL SALVADOR"]
[null,null,null,null,null,null,null,null,null,null,null,null,null,null,null,null,null,null,20157,"COLEGIO SAN FRANCISCO"]
[null,null,null,null,null,null,null,null,null,null,null,null,null,null,null,null,null,null,20158,"COLEGIO ANDRES BELLO"]
[null,null,null,null,null,null,null,null,null,null,null,null,null,null,null,null,null,null,20160,"COLEGIO JOSE INGENIEROS"]
[null,null,null,null,null,null,null,null,null,null,null,null,null,null,null,null,null,null,20164,"COLEGIO ESPARZA"]
[null,null,null,null,null,null,null,null,null,null,null,null,null,null,null,null,null,null,20171,"ESCUELA CRISTIANA OASIS EL SALVADOR"]
[null,null,null,null,null,null,null,null,null,null,null,null,null,null,null,null,null,null,20172,"CENTRO PSICOPEDAGOGICO ASTURIAS"]
[null,null,null,null,null,null,null,null,null,null,null,null,null,null,null,null,null,null,20175,"COLEGIO CRISTIANO PROFESOR JUSTO GONZALEZ CARRASCO"]
[null,null,null,null,null,null,null,null,null,null,null,null,null,null,null,null,null,null,20176,"LICEO INMACULADO CORAZON DE MARIA"]
[null,null,null,null,null,null,null,null,null,null,null,null,null,null,null,null,null,null,20179,"COLEGIO ARCE JERIEL"]
[null,null,null,null,null,null,null,null,null,null,null,null,null,null,null,null,null,null,20180,"INSTITUTO SAN ANDRES"]
[null,null,null,null,null,null,null,null,null,null,null,null,null,null,null,null,null,null,20183,"CENTRO EDUCATIVO AZTECA"]
[null,null,null,null,null,null,null,null,null,null,null,null,null,null,null,null,null,null,20184,"COLEGIO RIDVAN"]
[null,null,null,null,null,null,null,null,null,null,null,null,null,null,null,null,null,null,20190,"LICEO CULTURAL AMERICANO"]
[null,null,null,null,null,null,null,null,null,null,null,null,null,null,null,null,null,null,20191,"COLEGIO HUGO LINDO OLIVARES"]
[null,null,null,null,null,null,null,null,null,null,null,null,null,null,null,null,null,null,20193,"COLEGIO PROFESORA ROSA AGAZZI"]
[null,null,null,null,null,null,null,null,null,null,null,null,null,null,null,null,null,null,20197,"COLEGIO INMACULADA CONCEPCION"]
[null,null,null,null,null,null,null,null,null,null,null,null,null,null,null,null,null,null,20200,"INSTITUTO BETHANIA"]
[null,null,null,null,null,null,null,null,null,null,null,null,null,null,null,null,null,null,20201,"COLEGIO SANTA INES"]
[null,null,null,null,null,null,null,null,null,null,null,null,null,null,null,null,null,null,20207,"JARDIN INFANTIL ARCO IRIS"]
[null,null,null,null,null,null,null,null,null,null,null,null,null,null,null,null,null,null,20208,"ACADEMIA BRITANICA CUSCATLECA"]
[null,null,null,null,null,null,null,null,null,null,null,null,null,null,null,null,null,null,20213,"COLEGIO INFANTIL SAN ANTONIO"]
[null,null,null,null,null,null,null,null,null,null,null,null,null,null,null,null,null,null,20214,"LICEO SAN VICENTE DE PAUL"]
[null,null,null,null,null,null,null,null,null,null,null,null,null,null,null,null,null,null,20216,"COLEGIO BELEN"]
[null,null,null,null,null,null,null,null,null,null,null,null,null,null,null,null,null,null,20217,"ESCUELA PARVULARIA ROSA EMMA RIVAS"]
[null,null,null,null,null,null,null,null,null,null,null,null,null,null,null,null,null,null,20222,"COLEGIO HEROES DE CUSCATLAN"]
[null,null,null,null,null,null,null,null,null,null,null,null,null,null,null,null,null,null,20226,"COLEGIO HISPANOAMERICANO"]
[null,null,null,null,null,null,null,null,null,null,null,null,null,null,null,null,null,null,20229,"COLEGIO NAZARETH"]
[null,null,null,null,null,null,null,null,null,null,null,null,null,null,null,null,null,null,20230,"COLEGIO HNA. CORALIA HAYDEE QUIROZ"]
[null,null,null,null,null,null,null,null,null,null,null,null,null,null,null,null,null,null,20232,"COLEGIO LAMATEPEC"]
[null,null,null,null,null,null,null,null,null,null,null,null,null,null,null,null,null,null,20234,"COLEGIO MADRE TERESA MARGARITA SANCHEZ"]
[null,null,null,null,null,null,null,null,null,null,null,null,null,null,null,null,null,null,20245,"COLEGIO GUSTAVO ADOLFO BECQUER"]
[null,null,null,null,null,null,null,null,null,null,null,null,null,null,null,null,null,null,20247,"LICEO JORGE ADALBERTO LAGOS"]
[null,null,null,null,null,null,null,null,null,null,null,null,null,null,null,null,null,null,20250,"ESCUELA EN COMERCIO Y ADMINISTRACION"]
[null,null,null,null,null,null,null,null,null,null,null,null,null,null,null,null,null,null,20252,"COLEGIO RAMON GONZALEZ MONTALVO"]
[null,null,null,null,null,null,null,null,null,null,null,null,null,null,null,null,null,null,20258,"COLEGIO EPISCOPAL ANGLICANO SAN MIGUEL ARCANGEL"]
[null,null,null,null,null,null,null,null,null,null,null,null,null,null,null,null,null,null,20260,"CENTRO DE DESARROLLO INTEGRAL CARMEN VIUDA DE SANTOS"]
[null,null,null,null,null,null,null,null,null,null,null,null,null,null,null,null,null,null,20264,"COLEGIO MARIA GREGORIA TORRUELLA"]
[null,null,null,null,null,null,null,null,null,null,null,null,null,null,null,null,null,null,20265,"COLEGIO ARCO IRIS"]
[null,null,null,null,null,null,null,null,null,null,null,null,null,null,null,null,null,null,20271,"COLEGIO ZARAGOZA"]
[null,null,null,null,null,null,null,null,null,null,null,null,null,null,null,null,null,null,20277,"COLEGIO LICENCIADA ANA DE LOS ANGELES ESCOBAR"]
[null,null,null,null,null,null,null,null,null,null,null,null,null,null,null,null,null,null,20281,"INSTITUTO NOE CANJURA"]
[null,null,null,null,null,null,null,null,null,null,null,null,null,null,null,null,null,null,20282,"COLEGIO SANTA CRUZ"]
[null,null,null,null,null,null,null,null,null,null,null,null,null,null,null,null,null,null,20286,"LICEO HILDEBRANDO JUAREZ"]
[null,null,null,null,null,null,null,null,null,null,null,null,null,null,null,null,null,null,20288,"COLEGIO SAN JERONIMO"]
[null,null,null,null,null,null,null,null,null,null,null,null,null,null,null,null,null,null,20295,"COLEGIO NUESTRA SEÑORA DEL PERPETUO SOCORRO"]
[null,null,null,null,null,null,null,null,null,null,null,null,null,null,null,null,null,null,20296,"COLEGIO GEORGE VANCOUVER"]
[null,null,null,null,null,null,null,null,null,null,null,null,null,null,null,null,null,null,20302,"COLEGIO CRISTIANO DIVINO MAESTRO"]
[null,null,null,null,null,null,null,null,null,null,null,null,null,null,null,null,null,null,20304,"COLEGIO ROMAN MAYORGA RIVAS"]
[null,null,null,null,null,null,null,null,null,null,null,null,null,null,null,null,null,null,20307,"COLEGIO REVERENDO SANTIAGO MAGAÑA"]
[null,null,null,null,null,null,null,null,null,null,null,null,null,null,null,null,null,null,20309,"COLEGIO LUTERANO CABAÑITAS"]
[null,null,null,null,null,null,null,null,null,null,null,null,null,null,null,null,null,null,20319,"COLEGIO SAN FRANCISCO DE ASIS"]
[null,null,null,null,null,null,null,null,null,null,null,null,null,null,null,null,null,null,20320,"COLEGIO PROFESOR SAUL EDMUNDO MONTERO"]
[null,null,null,null,null,null,null,null,null,null,null,null,null,null,null,null,null,null,20329,"COLEGIO ORLANDO FRESEDO"]
[null,null,null,null,null,null,null,null,null,null,null,null,null,null,null,null,null,null,20333,"COLEGIO GABRIEL GARCIA MARQUEZ"]
[null,null,null,null,null,null,null,null,null,null,null,null,null,null,null,null,null,null,20335,"LICEO CRISTIANO REVERENDO JUAN BUENO DE LA COLONIA LAS MARGARITAS"]
[null,null,null,null,null,null,null,null,null,null,null,null,null,null,null,null,null,null,20338,"CENTRO CULTURAL ALBERTO RIVAS BONILLA"]
[null,null,null,null,null,null,null,null,null,null,null,null,null,null,null,null,null,null,20345,"COLEGIO CRISTIANO NUEVA VIDA Y ESPERANZA"]
[null,null,null,null,null,null,null,null,null,null,null,null,null,null,null,null,null,null,20347,"COLEGIO LICENCIADO LUIS ALONSO APARICIO OSEGUEDA"]
[null,null,null,null,null,null,null,null,null,null,null,null,null,null,null,null,null,null,20353,"COLEGIO JUAN BUNYAN"]
[null,null,null,null,null,null,null,null,null,null,null,null,null,null,null,null,null,null,20354,"LICEO DOCTORA MATILDE ELENA LOPEZ"]
[null,null,null,null,null,null,null,null,null,null,null,null,null,null,null,null,null,null,20358,"LICEO ALTAVISTA JUAN COTO"]
[null,null,null,null,null,null,null,null,null,null,null,null,null,null,null,null,null,null,20361,"COLEGIO PABLO MONTESINO"]
[null,null,null,null,null,null,null,null,null,null,null,null,null,null,null,null,null,null,20365,"COLEGIO REVERENDO JUAN GIRAUDO"]
[null,null,null,null,null,null,null,null,null,null,null,null,null,null,null,null,null,null,20366,"COLEGIO PROFESORA BLANCA ELENA DE HERNANDEZ"]
[null,null,null,null,null,null,null,null,null,null,null,null,null,null,null,null,null,null,20368,"COLEGIO EVANGELICO EL EDEN"]
[null,null,null,null,null,null,null,null,null,null,null,null,null,null,null,null,null,null,20369,"LICEO CRISTIANO REVERENDO JUAN BUENO EL MATAZANO"]
[null,null,null,null,null,null,null,null,null,null,null,null,null,null,null,null,null,null,20371,"COLEGIO MANOS DE JESUS"]
[null,null,null,null,null,null,null,null,null,null,null,null,null,null,null,null,null,null,20372,"COLEGIO LICENCIADA HAYDEE ARAUJO DE LUCHA"]
[null,null,null,null,null,null,null,null,null,null,null,null,null,null,null,null,null,null,20377,"COLEGIO LA CIMA"]
[null,null,null,null,null,null,null,null,null,null,null,null,null,null,null,null,null,null,20379,"LICEO CRISTIANO REVERENDO JUAN BUENO DE SAN BARTOLO"]
[null,null,null,null,null,null,null,null,null,null,null,null,null,null,null,null,null,null,20385,"COLEGIO DOCTOR REYNALDO GALINDO POHL"]
[null,null,null,null,null,null,null,null,null,null,null,null,null,null,null,null,null,null,20386,"COLEGIO JARDIN"]
[null,null,null,null,null,null,null,null,null,null,null,null,null,null,null,null,null,null,20391,"COLEGIO MARGARITA ZALDIVAR DE WILSON"]
[null,null,null,null,null,null,null,null,null,null,null,null,null,null,null,null,null,null,20392,"COLEGIO JULIO VERNE"]
[null,null,null,null,null,null,null,null,null,null,null,null,null,null,null,null,null,null,20394,"LICEO CRISTIANO REVERENDO JUAN BUENO DE LA COLONIA METROPOLI"]
[null,null,null,null,null,null,null,null,null,null,null,null,null,null,null,null,null,null,20395,"COLEGIO GENESIS"]
[null,null,null,null,null,null,null,null,null,null,null,null,null,null,null,null,null,null,20405,"COLEGIO MUNDO DE PAZ"]
[null,null,null,null,null,null,null,null,null,null,null,null,null,null,null,null,null,null,20406,"COLEGIO CRISTIANO PAN DE VIDA"]
[null,null,null,null,null,null,null,null,null,null,null,null,null,null,null,null,null,null,20409,"COLEGIO LUIS GALLEGOS VALDEZ"]
[null,null,null,null,null,null,null,null,null,null,null,null,null,null,null,null,null,null,20410,"COLEGIO BRADFORD"]
[null,null,null,null,null,null,null,null,null,null,null,null,null,null,null,null,null,null,20413,"COLEGIO CRISTIANO HOREB"]
[null,null,null,null,null,null,null,null,null,null,null,null,null,null,null,null,null,null,20414,"COLEGIO PROFESORA MARIA MERCEDES LUNA VIUDA DE GODOY"]
[null,null,null,null,null,null,null,null,null,null,null,null,null,null,null,null,null,null,20424,"COLEGIO JESUS DE NAZARETH"]
[null,null,null,null,null,null,null,null,null,null,null,null,null,null,null,null,null,null,20427,"ESCUELA CRISTIANA ROSARIO DE MORA"]
[null,null,null,null,null,null,null,null,null,null,null,null,null,null,null,null,null,null,20432,"LICEO CRISTIANO SAULO DE TARSO"]
[null,null,null,null,null,null,null,null,null,null,null,null,null,null,null,null,null,null,20434,"COLEGIO JOSE CECILIO DEL VALLE"]
[null,null,null,null,null,null,null,null,null,null,null,null,null,null,null,null,null,null,20442,"LICEO POLITECNICO EL SALVADOR"]
[null,null,null,null,null,null,null,null,null,null,null,null,null,null,null,null,null,null,20445,"COLEGIO PROFESORA MERCEDES MAITI DE LUARCA"]
[null,null,null,null,null,null,null,null,null,null,null,null,null,null,null,null,null,null,20448,"LICEO 1° DE OCTUBRE"]
[null,null,null,null,null,null,null,null,null,null,null,null,null,null,null,null,null,null,20449,"COLEGIO SIGLO XXI"]
[null,null,null,null,null,null,null,null,null,null,null,null,null,null,null,null,null,null,20453,"COLEGIO LUTERANO ABELINA CENTENO DE GOMEZ"]
[null,null,null,null,null,null,null,null,null,null,null,null,null,null,null,null,null,null,20456,"COLEGIO FRANCISCO MIRANDA RUANO"]
[null,null,null,null,null,null,null,null,null,null,null,null,null,null,null,null,null,null,20460,"COLEGIO PANCHO LARA"]
[null,null,null,null,null,null,null,null,null,null,null,null,null,null,null,null,null,null,20461,"LICEO CRISTIANO REVERENDO JUAN BUENO DEL CANTON LAS DELICIAS"]
[null,null,null,null,null,null,null,null,null,null,null,null,null,null,null,null,null,null,20465,"COLEGIO LA SAGRADA FAMILIA"]
[null,null,null,null,null,null,null,null,null,null,null,null,null,null,null,null,null,null,20466,"COLEGIO SAN PABLO"]
[null,null,null,null,null,null,null,null,null,null,null,null,null,null,null,null,null,null,20468,"COLEGIO GARCIA FLAMENCO"]
[null,null,null,null,null,null,null,null,null,null,null,null,null,null,null,null,null,null,20469,"INSTITUTO TECNICO DE EX ALUMNOS SALESIANOS"]
[null,null,null,null,null,null,null,null,null,null,null,null,null,null,null,null,null,null,20471,"CENTRO CULTURAL SALVADOREÑO AMERICANO"]
[null,null,null,null,null,null,null,null,null,null,null,null,null,null,null,null,null,null,20473,"COLEGIO EL MUNDO DE LOS NIÑOS"]
[null,null,null,null,null,null,null,null,null,null,null,null,null,null,null,null,null,null,20481,"LICEO SAN BENITO"]
[null,null,null,null,null,null,null,null,null,null,null,null,null,null,null,null,null,null,20482,"ESCUELA PANAMERICANA"]
[null,null,null,null,null,null,null,null,null,null,null,null,null,null,null,null,null,null,20484,"LICEO SALVADOREÑO"]
[null,null,null,null,null,null,null,null,null,null,null,null,null,null,null,null,null,null,20485,"ESCUELA PARVULARIA ANEXA AL CENTRO DE DESARROLLO INFANTIL DE LA CORTE SUPREMA DE JUSTICIA"]
[null,null,null,null,null,null,null,null,null,null,null,null,null,null,null,null,null,null,20490,"INSTITUTO HERMANAS SOMASCAS"]
[null,null,null,null,null,null,null,null,null,null,null,null,null,null,null,null,null,null,20492,"COLEGIO LOS ROBLES"]
[null,null,null,null,null,null,null,null,null,null,null,null,null,null,null,null,null,null,20499,"COLEGIO BAUTISTA EMMANUEL"]
[null,null,null,null,null,null,null,null,null,null,null,null,null,null,null,null,null,null,20500,"COLEGIO PROFESOR JOSE JERONIMO FERNANDEZ"]
[null,null,null,null,null,null,null,null,null,null,null,null,null,null,null,null,null,null,20503,"COLEGIO LUZ DE ISRAEL"]
[null,null,null,null,null,null,null,null,null,null,null,null,null,null,null,null,null,null,20504,"CENTRO EDUCATIVO DENVER"]
[null,null,null,null,null,null,null,null,null,null,null,null,null,null,null,null,null,null,20507,"COLEGIO EUCARISTICO"]
[null,null,null,null,null,null,null,null,null,null,null,null,null,null,null,null,null,null,20510,"COMPLEJO EDUCATIVO CATOLICO SAN FRANCISCO"]
[null,null,null,null,null,null,null,null,null,null,null,null,null,null,null,null,null,null,20513,"COLEGIO CRISTOBAL COLON"]
[null,null,null,null,null,null,null,null,null,null,null,null,null,null,null,null,null,null,20515,"COLEGIO JEAN PIAGET"]
[null,null,null,null,null,null,null,null,null,null,null,null,null,null,null,null,null,null,20518,"COLEGIO MAYA"]
[null,null,null,null,null,null,null,null,null,null,null,null,null,null,null,null,null,null,20519,"BERRY COLLEGE SCHOOL OF BUSINESS"]
[null,null,null,null,null,null,null,null,null,null,null,null,null,null,null,null,null,null,20521,"COLEGIO PALAS ATENEA"]
[null,null,null,null,null,null,null,null,null,null,null,null,null,null,null,null,null,null,20522,"ESCUELA PARVULARIA EL PARAISO DE LOS NIÑOS"]
[null,null,null,null,null,null,null,null,null,null,null,null,null,null,null,null,null,null,20525,"COLEGIO ANGLO AMERICANO"]
[null,null,null,null,null,null,null,null,null,null,null,null,null,null,null,null,null,null,20527,"LICEO MIGUEL JOSE DE CASTRO Y LARA"]
[null,null,null,null,null,null,null,null,null,null,null,null,null,null,null,null,null,null,20530,"COLEGIO MALINALLI"]
[null,null,null,null,null,null,null,null,null,null,null,null,null,null,null,null,null,null,20532,"ESCUELA PARVULARIA SOLO PARA NIÑOS"]
[null,null,null,null,null,null,null,null,null,null,null,null,null,null,null,null,null,null,20539,"LICEO SANTA ANITA"]
[null,null,null,null,null,null,null,null,null,null,null,null,null,null,null,null,null,null,20541,"LICEO NUESTRA SEÑORA DE LOS ANGELES"]
[null,null,null,null,null,null,null,null,null,null,null,null,null,null,null,null,null,null,20543,"COLEGIO LA DIVINA PROVIDENCIA"]
[null,null,null,null,null,null,null,null,null,null,null,null,null,null,null,null,null,null,20544,"COLEGIO MARIA AUXILIADORA"]
[null,null,null,null,null,null,null,null,null,null,null,null,null,null,null,null,null,null,20547,"COLEGIO SAN CARLOS"]
[null,null,null,null,null,null,null,null,null,null,null,null,null,null,null,null,null,null,20549,"ESCUELA BILINGÜE TAZUMAL"]
[null,null,null,null,null,null,null,null,null,null,null,null,null,null,null,null,null,null,20551,"COLEGIO CRISTIANO BILINGÜE JESUS ES SEÑOR"]
[null,null,null,null,null,null,null,null,null,null,null,null,null,null,null,null,null,null,20557,"COLEGIO LICENCIADA THELMA XOCHILT AMAYA ARCE DE RENDEROS"]
[null,null,null,null,null,null,null,null,null,null,null,null,null,null,null,null,null,null,20560,"COLEGIO CASA DE JUEGOS"]
[null,null,null,null,null,null,null,null,null,null,null,null,null,null,null,null,null,null,20561,"LICEO REVERENDO FRANCISCO RAMIREZ ARBIZU"]
[null,null,null,null,null,null,null,null,null,null,null,null,null,null,null,null,null,null,20568,"COLEGIO MARIA ESCOBAR VDA DE BRUNNER PASITOS"]
[null,null,null,null,null,null,null,null,null,null,null,null,null,null,null,null,null,null,20570,"LICEO CRISTIANO REVERENDO JUAN BUENO DE LA COLONIA SAN BENITO"]
[null,null,null,null,null,null,null,null,null,null,null,null,null,null,null,null,null,null,20574,"CENTRO EDUCATIVO JOYAS DE CEREN"]
[null,null,null,null,null,null,null,null,null,null,null,null,null,null,null,null,null,null,20576,"COLEGIO MARIE PAUL"]
[null,null,null,null,null,null,null,null,null,null,null,null,null,null,null,null,null,null,20579,"INSTITUTO CRISTIANO EL SEMBRADOR"]
[null,null,null,null,null,null,null,null,null,null,null,null,null,null,null,null,null,null,20580,"COLEGIO CRISTIANO JOSUE"]
[null,null,null,null,null,null,null,null,null,null,null,null,null,null,null,null,null,null,20586,"COLEGIO LAS AMERICAS"]
[null,null,null,null,null,null,null,null,null,null,null,null,null,null,null,null,null,null,20587,"KINDERGARTEN BENDIX"]
[null,null,null,null,null,null,null,null,null,null,null,null,null,null,null,null,null,null,20589,"COLEGIO EL MUNDO MAGICO INFANTIL"]
[null,null,null,null,null,null,null,null,null,null,null,null,null,null,null,null,null,null,20590,"COLEGIO CRISTIANO BILINGÜE UN NIÑO PARA CRISTO"]
[null,null,null,null,null,null,null,null,null,null,null,null,null,null,null,null,null,null,20594,"ESCUELA CRISTIANA AMERICANA"]
[null,null,null,null,null,null,null,null,null,null,null,null,null,null,null,null,null,null,20595,"COLEGIO JARDIN DE NIÑOS EL DESPERTAR"]
[null,null,null,null,null,null,null,null,null,null,null,null,null,null,null,null,null,null,20603,"CENTRO EDUCATIVO PARVULARIO MOMENTOS MAGICOS"]
[null,null,null,null,null,null,null,null,null,null,null,null,null,null,null,null,null,null,20606,"INSTITUTO TECNICO OBRERO EMPRESARIAL DON BOSCO"]
[null,null,null,null,null,null,null,null,null,null,null,null,null,null,null,null,null,null,20610,"COLEGIO ABC"]
[null,null,null,null,null,null,null,null,null,null,null,null,null,null,null,null,null,null,20613,"KINDERGARTEN SANTA TERESITA"]
[null,null,null,null,null,null,null,null,null,null,null,null,null,null,null,null,null,null,20619,"COLEGIO SANTIAGO ELIAS ECHEGOYEN"]
[null,null,null,null,null,null,null,null,null,null,null,null,null,null,null,null,null,null,20624,"COLEGIO AGUSTINA CHARVIN"]
[null,null,null,null,null,null,null,null,null,null,null,null,null,null,null,null,null,null,20626,"COLEGIO SIMON BOLIVAR"]
[null,null,null,null,null,null,null,null,null,null,null,null,null,null,null,null,null,null,20627,"COLEGIO CENTROAMERICA"]
[null,null,null,null,null,null,null,null,null,null,null,null,null,null,null,null,null,null,20633,"LICEO CRISTIANO REVERENDO JUAN BUENO DEL BARRIO MODELO"]
[null,null,null,null,null,null,null,null,null,null,null,null,null,null,null,null,null,null,20634,"LICEO CRISTIANO REVERENDO JUAN BUENO DEL BARRIO CANDELARIA"]
[null,null,null,null,null,null,null,null,null,null,null,null,null,null,null,null,null,null,20636,"LICEO CRISTIANO REVERENDO JUAN BUENO DE LA COLONIA DOLORES"]
[null,null,null,null,null,null,null,null,null,null,null,null,null,null,null,null,null,null,20637,"LICEO CRISTIANO REVERENDO JUAN BUENO DE LA URBANIZACIÓN SAN MATEO"]
[null,null,null,null,null,null,null,null,null,null,null,null,null,null,null,null,null,null,20640,"COLEGIO EVANGELICO CENTROAMERICANO"]
[null,null,null,null,null,null,null,null,null,null,null,null,null,null,null,null,null,null,20642,"LICEO PROFESORA JUANA BARRIERE DE MARTINEZ"]
[null,null,null,null,null,null,null,null,null,null,null,null,null,null,null,null,null,null,20647,"ESCUELA CRISTIANA MARANATHA"]
[null,null,null,null,null,null,null,null,null,null,null,null,null,null,null,null,null,null,20648,"LICEO CRISTIANO REVERENDO JUAN BUENO DE LA COLONIA COSTA RICA"]
[null,null,null,null,null,null,null,null,null,null,null,null,null,null,null,null,null,null,20657,"INSTITUTO TECNICO RICALDONE"]
[null,null,null,null,null,null,null,null,null,null,null,null,null,null,null,null,null,null,20658,"COLEGIO LA ASUNCION"]
[null,null,null,null,null,null,null,null,null,null,null,null,null,null,null,null,null,null,20662,"INSTITUTO POLITECNICO NAZARETH"]
[null,null,null,null,null,null,null,null,null,null,null,null,null,null,null,null,null,null,20671,"QUEEN'S SCHOOL OF BUSINESS S.A. DE C.V."]
[null,null,null,null,null,null,null,null,null,null,null,null,null,null,null,null,null,null,20675,"INSTITUTO EMILIANI"]
[null,null,null,null,null,null,null,null,null,null,null,null,null,null,null,null,null,null,20681,"ESCUELA MONTEMIRA"]
[null,null,null,null,null,null,null,null,null,null,null,null,null,null,null,null,null,null,20688,"INSTITUTO CULTURAL OXFORD"]
[null,null,null,null,null,null,null,null,null,null,null,null,null,null,null,null,null,null,20693,"LICEO TECNOLOGICO CANADIENSE"]
[null,null,null,null,null,null,null,null,null,null,null,null,null,null,null,null,null,null,20704,"COLEGIO PIERRE FAURE DE EL SALVADOR"]
[null,null,null,null,null,null,null,null,null,null,null,null,null,null,null,null,null,null,20705,"COLEGIO FLORENCIA"]
[null,null,null,null,null,null,null,null,null,null,null,null,null,null,null,null,null,null,20710,"COLEGIO ALFREDO ESPINO"]
[null,null,null,null,null,null,null,null,null,null,null,null,null,null,null,null,null,null,20714,"LICEO CRISTIANO REVERENDO JUAN BUENO DE LA COLONIA LOS ALPES"]
[null,null,null,null,null,null,null,null,null,null,null,null,null,null,null,null,null,null,20718,"COLEGIO JOSE MARTI"]
[null,null,null,null,null,null,null,null,null,null,null,null,null,null,null,null,null,null,20720,"LICEO 10 DE MAYO"]
[null,null,null,null,null,null,null,null,null,null,null,null,null,null,null,null,null,null,20724,"LICEO ALEXANDER FLEMING"]
[null,null,null,null,null,null,null,null,null,null,null,null,null,null,null,null,null,null,20726,"COLEGIO CRISTIANO JARDINES DE SAN JOSE"]
[null,null,null,null,null,null,null,null,null,null,null,null,null,null,null,null,null,null,20731,"COLEGIO MORENA CELARIE"]
[null,null,null,null,null,null,null,null,null,null,null,null,null,null,null,null,null,null,20734,"COLEGIO VICTOR HUGO"]
[null,null,null,null,null,null,null,null,null,null,null,null,null,null,null,null,null,null,20737,"COLEGIO HONORATO DE BALZAC"]
[null,null,null,null,null,null,null,null,null,null,null,null,null,null,null,null,null,null,20739,"HOGAR ESCUELA BERTHA DE ALBIÑANA"]
[null,null,null,null,null,null,null,null,null,null,null,null,null,null,null,null,null,null,20743,"COLEGIO MAESTRO ANIBAL PONCE"]
[null,null,null,null,null,null,null,null,null,null,null,null,null,null,null,null,null,null,20746,"LICEO CRISTIANO REVERENDO JUAN BUENO DE LA COLONIA GUADALUPE"]
[null,null,null,null,null,null,null,null,null,null,null,null,null,null,null,null,null,null,20749,"COLEGIO LA PAZ"]
[null,null,null,null,null,null,null,null,null,null,null,null,null,null,null,null,null,null,20751,"COLEGIO JEAN DE LA FONTAINE"]
[null,null,null,null,null,null,null,null,null,null,null,null,null,null,null,null,null,null,20756,"COLEGIO SOR ISABEL CASTILLO"]
[null,null,null,null,null,null,null,null,null,null,null,null,null,null,null,null,null,null,20759,"LICEO CRISTIANO LICENCIADO SAMUEL HUMBERTO LEIVA"]
[null,null,null,null,null,null,null,null,null,null,null,null,null,null,null,null,null,null,20766,"COLEGIO VICTORIA"]
[null,null,null,null,null,null,null,null,null,null,null,null,null,null,null,null,null,null,20767,"CENTRO ESCOLAR CATOLICO HERMANOS GODOFREDO Y ANTONIO DE GRAZ"]
[null,null,null,null,null,null,null,null,null,null,null,null,null,null,null,null,null,null,20771,"COLEGIO REVERENDO SANTIAGO MAGAÑA"]
[null,null,null,null,null,null,null,null,null,null,null,null,null,null,null,null,null,null,20772,"LICEO FRANCISCO LOPEZ RAMOS"]
[null,null,null,null,null,null,null,null,null,null,null,null,null,null,null,null,null,null,20779,"LICEO MONTES DE SAN BARTOLO"]
[null,null,null,null,null,null,null,null,null,null,null,null,null,null,null,null,null,null,20780,"LICEO LAS AMERICAS"]
[null,null,null,null,null,null,null,null,null,null,null,null,null,null,null,null,null,null,20790,"COLEGIO PAULO FREIRE"]
[null,null,null,null,null,null,null,null,null,null,null,null,null,null,null,null,null,null,20791,"COLEGIO BAUTISTA MIES"]
[null,null,null,null,null,null,null,null,null,null,null,null,null,null,null,null,null,null,20794,"COLEGIO PSICOPEDAGOGICO CARMEN ALVAREZ"]
[null,null,null,null,null,null,null,null,null,null,null,null,null,null,null,null,null,null,20795,"COLEGIO JOSE MARIA PERALTA LAGOS"]
[null,null,null,null,null,null,null,null,null,null,null,null,null,null,null,null,null,null,20801,"COLEGIO CRISTIANO REY SALOMON"]
[null,null,null,null,null,null,null,null,null,null,null,null,null,null,null,null,null,null,20804,"COLEGIO ADVENTISTA DE SOYAPANGO"]
[null,null,null,null,null,null,null,null,null,null,null,null,null,null,null,null,null,null,20812,"COLEGIO JERICO"]
[null,null,null,null,null,null,null,null,null,null,null,null,null,null,null,null,null,null,20813,"COLEGIO MIGUEL SERVET"]
[null,null,null,null,null,null,null,null,null,null,null,null,null,null,null,null,null,null,20817,"COLEGIO ESPAÑOL PADRE ARRUPE"]
[null,null,null,null,null,null,null,null,null,null,null,null,null,null,null,null,null,null,20820,"COLEGIO MIGUEL ANGEL ASTURIAS"]
[null,null,null,null,null,null,null,null,null,null,null,null,null,null,null,null,null,null,20833,"LICEO CRISTIANO MANUEL ANTONIO VILLALOBOS"]
[null,null,null,null,null,null,null,null,null,null,null,null,null,null,null,null,null,null,20834,"COLEGIO LICENCIADO JOSE DE JESUS VILLAFAÑE"]
[null,null,null,null,null,null,null,null,null,null,null,null,null,null,null,null,null,null,20838,"COLEGIO LEON SIGÜENZA"]
[null,null,null,null,null,null,null,null,null,null,null,null,null,null,null,null,null,null,20839,"COLEGIO JARDIN MONTESSORI DE COJUTEPEQUE"]
[null,null,null,null,null,null,null,null,null,null,null,null,null,null,null,null,null,null,20841,"LICEO RAUL CONTRERAS"]
[null,null,null,null,null,null,null,null,null,null,null,null,null,null,null,null,null,null,20842,"COLEGIO ADVENTISTA"]
[null,null,null,null,null,null,null,null,null,null,null,null,null,null,null,null,null,null,20846,"INSTITUTO POLITECNICO HENRY FORD"]
[null,null,null,null,null,null,null,null,null,null,null,null,null,null,null,null,null,null,20848,"COLEGIO PRESBITERO LUIS MONTESINOS"]
[null,null,null,null,null,null,null,null,null,null,null,null,null,null,null,null,null,null,20851,"COLEGIO JARDIN INFANTIL SAN RAFAEL"]
[null,null,null,null,null,null,null,null,null,null,null,null,null,null,null,null,null,null,20853,"COLEGIO ADVENTISTA DE SANTA CRUZ MICHAPA"]
[null,null,null,null,null,null,null,null,null,null,null,null,null,null,null,null,null,null,20857,"COLEGIO ROMULO GALLEGOS"]
[null,null,null,null,null,null,null,null,null,null,null,null,null,null,null,null,null,null,20858,"COLEGIO SAN JOSE"]
[null,null,null,null,null,null,null,null,null,null,null,null,null,null,null,null,null,null,20861,"COLEGIO MONSEÑOR PEDRO ARNOLDO APARICIO Y QUINTANILLA"]
[null,null,null,null,null,null,null,null,null,null,null,null,null,null,null,null,null,null,20865,"LICEO CRISTIANO REVERENDO JUAN BUENO"]
[null,null,null,null,null,null,null,null,null,null,null,null,null,null,null,null,null,null,20869,"LICEO VIROLEÑO DE COMERCIO"]
[null,null,null,null,null,null,null,null,null,null,null,null,null,null,null,null,null,null,20871,"CENTRO PSICOPEDAGOGICO LA PAZ"]
[null,null,null,null,null,null,null,null,null,null,null,null,null,null,null,null,null,null,20873,"LICEO CRISTIANO REVERENDO JUAN BUENO DE ZACATECOLUCA"]
[null,null,null,null,null,null,null,null,null,null,null,null,null,null,null,null,null,null,20874,"COLEGIO MODELO ADVENTISTA DE ZACATECOLUCA"]
[null,null,null,null,null,null,null,null,null,null,null,null,null,null,null,null,null,null,20882,"COLEGIO ADVENTISTA DE SENSUNTEPEQUE"]
[null,null,null,null,null,null,null,null,null,null,null,null,null,null,null,null,null,null,20887,"COLEGIO EUCARISTICO DEL DIVINO SALVADOR"]
[null,null,null,null,null,null,null,null,null,null,null,null,null,null,null,null,null,null,20890,"COLEGIO MODELO"]
[null,null,null,null,null,null,null,null,null,null,null,null,null,null,null,null,null,null,20891,"LICEO CRISTIANO REVERENDO JUAN BUENO"]
[null,null,null,null,null,null,null,null,null,null,null,null,null,null,null,null,null,null,20900,"LICEO CULTURAL SANTIAGUEÑO"]
[null,null,null,null,null,null,null,null,null,null,null,null,null,null,null,null,null,null,20901,"COLEGIO JUAN PABLO II"]
[null,null,null,null,null,null,null,null,null,null,null,null,null,null,null,null,null,null,20906,"COLEGIO EL ESPIRITU SANTO"]
[null,null,null,null,null,null,null,null,null,null,null,null,null,null,null,null,null,null,20907,"COLEGIO BAUTISTA"]
[null,null,null,null,null,null,null,null,null,null,null,null,null,null,null,null,null,null,20912,"COLEGIO SAN AGUSTIN"]
[null,null,null,null,null,null,null,null,null,null,null,null,null,null,null,null,null,null,20918,"COLEGIO CRISTIANO CAMPAMENTO DE DIOS PROFESOR LADISLAO LEIVA HIJO"]
[null,null,null,null,null,null,null,null,null,null,null,null,null,null,null,null,null,null,20921,"COLEGIO TECNOLOGICO CRISTIANO PROFESOR JUSTO GONZALEZ CARRASCO"]
[null,null,null,null,null,null,null,null,null,null,null,null,null,null,null,null,null,null,20923,"ESCUELA LATINO AMERICANA"]
[null,null,null,null,null,null,null,null,null,null,null,null,null,null,null,null,null,null,20925,"COLEGIO JOSEFINO NUESTRA SEÑORA DE LA PAZ"]
[null,null,null,null,null,null,null,null,null,null,null,null,null,null,null,null,null,null,20926,"INSTITUTO CATOLICO DE ORIENTE"]
[null,null,null,null,null,null,null,null,null,null,null,null,null,null,null,null,null,null,20930,"COLEGIO EL RINCONCITO DE OZ"]
[null,null,null,null,null,null,null,null,null,null,null,null,null,null,null,null,null,null,20932,"LICEO BAUTISTA PANAMERICANO"]
[null,null,null,null,null,null,null,null,null,null,null,null,null,null,null,null,null,null,20937,"COLEGIO CRISTIANO JOSUE"]
[null,null,null,null,null,null,null,null,null,null,null,null,null,null,null,null,null,null,20942,"LICEO AMERICA"]
[null,null,null,null,null,null,null,null,null,null,null,null,null,null,null,null,null,null,20948,"COLEGIO PADRE AGUSTIN VALENTIN"]
[null,null,null,null,null,null,null,null,null,null,null,null,null,null,null,null,null,null,20956,"COLEGIO JESUS DE NAZARETH"]
[null,null,null,null,null,null,null,null,null,null,null,null,null,null,null,null,null,null,20961,"ESCUELA INTERNACIONAL DE COMERCIO Y COMPUTACION PROFESORA LEANDRA ALVAREZ DE AYALA"]
[null,null,null,null,null,null,null,null,null,null,null,null,null,null,null,null,null,null,20965,"LICEO FRANCISCO GAVIDIA"]
[null,null,null,null,null,null,null,null,null,null,null,null,null,null,null,null,null,null,20967,"COLEGIO SUPERIOR DE COMERCIO"]
[null,null,null,null,null,null,null,null,null,null,null,null,null,null,null,null,null,null,20970,"LICEO CRISTIANO REVERENDO JUAN BUENO DE GUATAJIAGUA"]
[null,null,null,null,null,null,null,null,null,null,null,null,null,null,null,null,null,null,20973,"COLEGIO PROFESORA EMILIA FLORES MARTINEZ DE HERNANDEZ"]
[null,null,null,null,null,null,null,null,null,null,null,null,null,null,null,null,null,null,20975,"COLEGIO ADVENTISTA CANTON EL NORTE"]
[null,null,null,null,null,null,null,null,null,null,null,null,null,null,null,null,null,null,20979,"COLEGIO CRISTIANO PROFESOR JUSTO GONZALEZ CARRASCO DE LA UNION"]
[null,null,null,null,null,null,null,null,null,null,null,null,null,null,null,null,null,null,20981,"INSTITUTO TECNOLOGICO DE COMERCIO"]
[null,null,null,null,null,null,null,null,null,null,null,null,null,null,null,null,null,null,20984,"COLEGIO CRISTIANO DOCTOR JUAN ALLWOOD PAREDES"]
[null,null,null,null,null,null,null,null,null,null,null,null,null,null,null,null,null,null,20987,"COLEGIO EL BARQUITO DE PAPEL"]
[null,null,null,null,null,null,null,null,null,null,null,null,null,null,null,null,null,null,20990,"COLEGIO NUESTRO MUNDO INFANTIL"]
[null,null,null,null,null,null,null,null,null,null,null,null,null,null,null,null,null,null,20992,"COLEGIO EVANGELICO \"MISION CENTROAMERICANA\""]
[null,null,null,null,null,null,null,null,null,null,null,null,null,null,null,null,null,null,21000,"LICEO CRISTIANO REVERENDO FRANCISCO RAMIREZ ARBIZU"]
[null,null,null,null,null,null,null,null,null,null,null,null,null,null,null,null,null,null,21001,"COLEGIO TOMAS FIDIAS JIMENEZ"]
[null,null,null,null,null,null,null,null,null,null,null,null,null,null,null,null,null,null,21014,"COLEGIO LICENCIADO AGUSTIN FERNANDEZ SANTOS"]
[null,null,null,null,null,null,null,null,null,null,null,null,null,null,null,null,null,null,21015,"ESCUELA PARVULARIA TIEMPO DE ALEGRIA"]
[null,null,null,null,null,null,null,null,null,null,null,null,null,null,null,null,null,null,21017,"COLEGIO CARLOS BUSTAMANTE"]
[null,null,null,null,null,null,null,null,null,null,null,null,null,null,null,null,null,null,21020,"COLEGIO PABLO PEÑA AVALOS"]
[null,null,null,null,null,null,null,null,null,null,null,null,null,null,null,null,null,null,21026,"COLEGIO LOS PINOS"]
[null,null,null,null,null,null,null,null,null,null,null,null,null,null,null,null,null,null,21027,"CENTRO PEDAGOGICO MI CASITA HELEN WHITE"]
[null,null,null,null,null,null,null,null,null,null,null,null,null,null,null,null,null,null,21029,"COLEGIO ACADEMIA EUROPEA SALVADOREÑA"]
[null,null,null,null,null,null,null,null,null,null,null,null,null,null,null,null,null,null,21030,"LICEO CLARIBEL ALEGRIA"]
[null,null,null,null,null,null,null,null,null,null,null,null,null,null,null,null,null,null,21033,"COLEGIO TIERRA DE LAS MARAVILLAS"]
[null,null,null,null,null,null,null,null,null,null,null,null,null,null,null,null,null,null,21040,"COLEGIO LAURA LEHTINEN"]
[null,null,null,null,null,null,null,null,null,null,null,null,null,null,null,null,null,null,21044,"COLEGIO RUISEÑOR"]
[null,null,null,null,null,null,null,null,null,null,null,null,null,null,null,null,null,null,21046,"CENTRO ESCOLAR PRIVADO ESCUELA PARVULARIA NIÑO JESUS"]
[null,null,null,null,null,null,null,null,null,null,null,null,null,null,null,null,null,null,21060,"COLEGIO CRISTIANO EMANUEL"]
[null,null,null,null,null,null,null,null,null,null,null,null,null,null,null,null,null,null,21066,"COLEGIO CORONEL FRANCISCO LINARES"]
[null,null,null,null,null,null,null,null,null,null,null,null,null,null,null,null,null,null,21070,"CENTRO TECNICO DE CAPACITACION CONTABLE"]
[null,null,null,null,null,null,null,null,null,null,null,null,null,null,null,null,null,null,21074,"INSTITUTO TECNICO DE EDUCACION MILITAR CORONEL CIRIACO DE JESUS ALAS"]
[null,null,null,null,null,null,null,null,null,null,null,null,null,null,null,null,null,null,21078,"INSTITUTO TECNICO DE EDUCACION MULTIPLE AGUSTIN ALVAREZ"]
[null,null,null,null,null,null,null,null,null,null,null,null,null,null,null,null,null,null,21079,"CENTRO INFANTIL BILINGÜE MI PEQUEÑA CASITA"]
[null,null,null,null,null,null,null,null,null,null,null,null,null,null,null,null,null,null,21086,"JARDIN DE INFANTES PADRE MIGUEL GONZALEZ"]
[null,null,null,null,null,null,null,null,null,null,null,null,null,null,null,null,null,null,21088,"LICEO CRISTIANO ADVENTISTA"]
[null,null,null,null,null,null,null,null,null,null,null,null,null,null,null,null,null,null,21095,"COLEGIO DAVID LIVINGSTONE"]
[null,null,null,null,null,null,null,null,null,null,null,null,null,null,null,null,null,null,21096,"ESCUELA PARVULARIA AMIGUITOS"]
[null,null,null,null,null,null,null,null,null,null,null,null,null,null,null,null,null,null,21098,"CENTRO ESCOLAR SALVADOR SALAZAR ARRUE"]
[null,null,null,null,null,null,null,null,null,null,null,null,null,null,null,null,null,null,21099,"COLEGIO JARDIN INFANTIL TIERRA DE INFANCIA"]
[null,null,null,null,null,null,null,null,null,null,null,null,null,null,null,null,null,null,21106,"COLEGIO DE INFORMATICA Y ADMINISTRACION JULIO VERNE"]
[null,null,null,null,null,null,null,null,null,null,null,null,null,null,null,null,null,null,21108,"LICEO CRISTIANO EL SALVADOR"]
[null,null,null,null,null,null,null,null,null,null,null,null,null,null,null,null,null,null,21116,"COLEGIO ADVENTISTA DE CITALA"]
[null,null,null,null,null,null,null,null,null,null,null,null,null,null,null,null,null,null,21117,"COLEGIO CRISTIANO EL SEMBRADOR"]
[null,null,null,null,null,null,null,null,null,null,null,null,null,null,null,null,null,null,21120,"COLEGIO CULTURAL ITALIANO"]
[null,null,null,null,null,null,null,null,null,null,null,null,null,null,null,null,null,null,21126,"COLEGIO NUEVO MILENIO"]
[null,null,null,null,null,null,null,null,null,null,null,null,null,null,null,null,null,null,21129,"COLEGIO JESSIE MACKINDER"]
[null,null,null,null,null,null,null,null,null,null,null,null,null,null,null,null,null,null,21130,"INSTITUTO EN COMERCIO Y ADMINISTRACION DEMOCRACIA"]
[null,null,null,null,null,null,null,null,null,null,null,null,null,null,null,null,null,null,21132,"COLEGIO GERTRUDIS MAZZINI DE MELENDEZ"]
[null,null,null,null,null,null,null,null,null,null,null,null,null,null,null,null,null,null,21133,"COLEGIO JESHUA"]
[null,null,null,null,null,null,null,null,null,null,null,null,null,null,null,null,null,null,21138,"COLEGIO CRISTIANO PENIEL DE ZARAGOZA"]
[null,null,null,null,null,null,null,null,null,null,null,null,null,null,null,null,null,null,21142,"COLEGIO DOCTORA CONSUELO DEL CARMEN COTO SAAVEDRA"]
[null,null,null,null,null,null,null,null,null,null,null,null,null,null,null,null,null,null,21151,"COLEGIO EDUCATIVO SALESIANO SAN JUAN BOSCO"]
[null,null,null,null,null,null,null,null,null,null,null,null,null,null,null,null,null,null,21152,"ESCUELA PARVULARIA ALBINO LUCIANI"]
[null,null,null,null,null,null,null,null,null,null,null,null,null,null,null,null,null,null,21157,"CENTRO ESCOLAR CHICOS FELICES"]
[null,null,null,null,null,null,null,null,null,null,null,null,null,null,null,null,null,null,21163,"COLEGIO THEODOR HERZL"]
[null,null,null,null,null,null,null,null,null,null,null,null,null,null,null,null,null,null,21167,"COLEGIO DELFINA SANCHEZ MORALES"]
[null,null,null,null,null,null,null,null,null,null,null,null,null,null,null,null,null,null,21169,"JARDIN INFANTIL TORRE DEL SABER"]
[null,null,null,null,null,null,null,null,null,null,null,null,null,null,null,null,null,null,21178,"COLEGIO EVANGELICO BEREA"]
[null,null,null,null,null,null,null,null,null,null,null,null,null,null,null,null,null,null,21179,"CENTRO DE FORMACION INFANTIL LICENCIADA RAFAELA ANTONIA CASTANEDA DE CORDON"]
[null,null,null,null,null,null,null,null,null,null,null,null,null,null,null,null,null,null,21187,"LICEO CRISTIANO EL SALVADOR"]
[null,null,null,null,null,null,null,null,null,null,null,null,null,null,null,null,null,null,21189,"COLEGIO ARCOIRIS FELIZ"]
[null,null,null,null,null,null,null,null,null,null,null,null,null,null,null,null,null,null,21192,"COLEGIO JARDIN DE ACUARELAS"]
[null,null,null,null,null,null,null,null,null,null,null,null,null,null,null,null,null,null,21195,"COLEGIO CRISTIANO REVERENDO JUAN ALBERTO BENAVIDES"]
[null,null,null,null,null,null,null,null,null,null,null,null,null,null,null,null,null,null,21199,"ESCUELA PARVULARIA CENTRO DE DESARROLLO INFANTIL DE LA CORTE SUPREMA DE JUSTICIA"]
[null,null,null,null,null,null,null,null,null,null,null,null,null,null,null,null,null,null,21201,"COLEGIO JOSE ROSA CIERRA"]
[null,null,null,null,null,null,null,null,null,null,null,null,null,null,null,null,null,null,21205,"COLEGIO DE LA PRIMERA IGLESIA BAUTISTA"]
[null,null,null,null,null,null,null,null,null,null,null,null,null,null,null,null,null,null,21208,"COLEGIO DR. ALBERT EINSTEIN \"14 DE MARZO DE 1879\""]
[null,null,null,null,null,null,null,null,null,null,null,null,null,null,null,null,null,null,21211,"COLEGIO PROFESORA BLANCA LIDIA AYALA"]
[null,null,null,null,null,null,null,null,null,null,null,null,null,null,null,null,null,null,21216,"CENTRO EDUCATIVO SAMARIA"]
[null,null,null,null,null,null,null,null,null,null,null,null,null,null,null,null,null,null,21219,"COLEGIO RICARDO QUIÑONEZ"]
[null,null,null,null,null,null,null,null,null,null,null,null,null,null,null,null,null,null,21224,"COLEGIO DE LA IGLESIA EVANGELICA EL DIOS DE ISRAEL"]
[null,null,null,null,null,null,null,null,null,null,null,null,null,null,null,null,null,null,21233,"ESCUELA CRISTIANA OASIS"]
[null,null,null,null,null,null,null,null,null,null,null,null,null,null,null,null,null,null,21235,"COLEGIO CRISTIANO JOSUE"]
[null,null,null,null,null,null,null,null,null,null,null,null,null,null,null,null,null,null,21239,"LICEO FLAVIO JOSEFO"]
[null,null,null,null,null,null,null,null,null,null,null,null,null,null,null,null,null,null,21243,"COLEGIO MAHANAIM"]
[null,null,null,null,null,null,null,null,null,null,null,null,null,null,null,null,null,null,21245,"LICEO CRISTIANO REVERENDO JUAN BUENO DE SAN FRANCISCO GOTERA"]
[null,null,null,null,null,null,null,null,null,null,null,null,null,null,null,null,null,null,21246,"LICEO PROFESOR LUIS ALFONSO PINO"]
[null,null,null,null,null,null,null,null,null,null,null,null,null,null,null,null,null,null,21253,"CENTRO INFANTIL DE DESARROLLO, MEJICANOS"]
[null,null,null,null,null,null,null,null,null,null,null,null,null,null,null,null,null,null,21255,"COLEGIO CLAUDIA LARS"]
[null,null,null,null,null,null,null,null,null,null,null,null,null,null,null,null,null,null,21257,"COLEGIO DOCTOR ANDRES VESALIO"]
[null,null,null,null,null,null,null,null,null,null,null,null,null,null,null,null,null,null,21258,"COLEGIO DRA CARLA ELISA DE RONDEAU"]
[null,null,null,null,null,null,null,null,null,null,null,null,null,null,null,null,null,null,21263,"COLEGIO CARLOS PELLICER"]
[null,null,null,null,null,null,null,null,null,null,null,null,null,null,null,null,null,null,21265,"COLEGIO MUNDO DE SONRISAS"]
[null,null,null,null,null,null,null,null,null,null,null,null,null,null,null,null,null,null,21270,"LICEO OCTAVIO PAZ"]
[null,null,null,null,null,null,null,null,null,null,null,null,null,null,null,null,null,null,21272,"COLEGIO ALFRED BINET"]
[null,null,null,null,null,null,null,null,null,null,null,null,null,null,null,null,null,null,21275,"COLEGIO BAUTISTA DE LOURDES COLON"]
[null,null,null,null,null,null,null,null,null,null,null,null,null,null,null,null,null,null,21276,"CENTRO ESCOLAR CATOLICO MADRE CLARA QUIROS"]
[null,null,null,null,null,null,null,null,null,null,null,null,null,null,null,null,null,null,21281,"LICEO CRISTIANO REVERENDO JUAN BUENO DEL CANTON EL ACHIOTAL"]
[null,null,null,null,null,null,null,null,null,null,null,null,null,null,null,null,null,null,21287,"COLEGIO WILLIAM JAMES"]
[null,null,null,null,null,null,null,null,null,null,null,null,null,null,null,null,null,null,21290,"COLEGIO CATOLICO KERYGMA"]
[null,null,null,null,null,null,null,null,null,null,null,null,null,null,null,null,null,null,21293,"COLEGIO FRANCISCO HERRERA VELADO DE COLON"]
[null,null,null,null,null,null,null,null,null,null,null,null,null,null,null,null,null,null,21297,"COLEGIO ASAMBLEAS DE DIOS"]
[null,null,null,null,null,null,null,null,null,null,null,null,null,null,null,null,null,null,21298,"LICEO JOSE CARMEN DE PIETRO"]
[null,null,null,null,null,null,null,null,null,null,null,null,null,null,null,null,null,null,21302,"COLEGIO ENSUEÑO"]
[null,null,null,null,null,null,null,null,null,null,null,null,null,null,null,null,null,null,21303,"COLEGIO BAUTISTA JERUSALEM"]
[null,null,null,null,null,null,null,null,null,null,null,null,null,null,null,null,null,null,21308,"COLEGIO BAUTISTA ALEJANDRO MAGNO"]
[null,null,null,null,null,null,null,null,null,null,null,null,null,null,null,null,null,null,21311,"COLEGIO LA NUEVA ESPERANZA"]
[null,null,null,null,null,null,null,null,null,null,null,null,null,null,null,null,null,null,21322,"LICEO CRISTIANO LICENCIADO JOAQUIN EDGARDO GARCIA LEMUS"]
[null,null,null,null,null,null,null,null,null,null,null,null,null,null,null,null,null,null,21323,"COLEGIO MIS PRIMEROS PASOS"]
[null,null,null,null,null,null,null,null,null,null,null,null,null,null,null,null,null,null,21332,"ESCUELA CRISTIANA CRISTO A LAS NACIONES"]
[null,null,null,null,null,null,null,null,null,null,null,null,null,null,null,null,null,null,21333,"COLEGIO GENTE MENUDA"]
[null,null,null,null,null,null,null,null,null,null,null,null,null,null,null,null,null,null,21338,"COLEGIO EL CAMINO"]
[null,null,null,null,null,null,null,null,null,null,null,null,null,null,null,null,null,null,21339,"LICEO DOCTOR SAMUEL HUMBERTO LEIVA JOYA"]
[null,null,null,null,null,null,null,null,null,null,null,null,null,null,null,null,null,null,21341,"COLEGIO CRISTIANO LICENCIADO EDGARDO ARTURO CABRERA"]
[null,null,null,null,null,null,null,null,null,null,null,null,null,null,null,null,null,null,21342,"COLEGIO MIGUEL PEÑA"]
[null,null,null,null,null,null,null,null,null,null,null,null,null,null,null,null,null,null,21345,"LICEO CRISTIANO REVERENDO DAVID PERAZA LEMUS"]
[null,null,null,null,null,null,null,null,null,null,null,null,null,null,null,null,null,null,21346,"JARDIN INFANTIL MUNDO LATINO"]
[null,null,null,null,null,null,null,null,null,null,null,null,null,null,null,null,null,null,21349,"JARDIN DE NIÑOS LOS NIÑOS SON NIÑOS"]
[null,null,null,null,null,null,null,null,null,null,null,null,null,null,null,null,null,null,21350,"COLEGIO FRAY JOSE PASCUAL GONZALEZ CORVERA"]
[null,null,null,null,null,null,null,null,null,null,null,null,null,null,null,null,null,null,21355,"COLEGIO ELIZABETH DE CALDERON SOL"]
[null,null,null,null,null,null,null,null,null,null,null,null,null,null,null,null,null,null,21356,"COLEGIO HIGHLANDS"]
[null,null,null,null,null,null,null,null,null,null,null,null,null,null,null,null,null,null,21358,"COLEGIO NIÑO JESUS DE BELEN"]
[null,null,null,null,null,null,null,null,null,null,null,null,null,null,null,null,null,null,21360,"COLEGIO ANGELES FELICES"]
[null,null,null,null,null,null,null,null,null,null,null,null,null,null,null,null,null,null,21364,"COLEGIO GLADIS JACQUELINE POSADA DE CLAROS"]
[null,null,null,null,null,null,null,null,null,null,null,null,null,null,null,null,null,null,21365,"COLEGIO REINA VICTORIA DE SUECIA"]
[null,null,null,null,null,null,null,null,null,null,null,null,null,null,null,null,null,null,21370,"COLEGIO LA SAGRADA FAMILIA DE NAZARETH"]
[null,null,null,null,null,null,null,null,null,null,null,null,null,null,null,null,null,null,21371,"COLEGIO PROFESORA ANGELA PINEDA ALTAMIRANO"]
[null,null,null,null,null,null,null,null,null,null,null,null,null,null,null,null,null,null,21373,"COLEGIO BAUTISTA CRISTO SALVA"]
[null,null,null,null,null,null,null,null,null,null,null,null,null,null,null,null,null,null,21375,"COLEGIO EL ALQUIMISTA"]
[null,null,null,null,null,null,null,null,null,null,null,null,null,null,null,null,null,null,21379,"COLEGIO MI PINCELITO"]
[null,null,null,null,null,null,null,null,null,null,null,null,null,null,null,null,null,null,21380,"COLEGIO GIRASOLES"]
[null,null,null,null,null,null,null,null,null,null,null,null,null,null,null,null,null,null,21386,"COLEGIO DANTE GABRIEL ROSSETTI"]
[null,null,null,null,null,null,null,null,null,null,null,null,null,null,null,null,null,null,21388,"ESCUELA CRISTIANA OASIS SONSONATE"]
[null,null,null,null,null,null,null,null,null,null,null,null,null,null,null,null,null,null,21391,"COLEGIO SURTIDOR DE TRINOS"]
[null,null,null,null,null,null,null,null,null,null,null,null,null,null,null,null,null,null,21393,"COLEGIO PROFESOR ADAN ESCOBAR"]
[null,null,null,null,null,null,null,null,null,null,null,null,null,null,null,null,null,null,21396,"COLEGIO VICENTE ESPINEL"]
[null,null,null,null,null,null,null,null,null,null,null,null,null,null,null,null,null,null,21399,"COLEGIO MARIA GORETTI"]
[null,null,null,null,null,null,null,null,null,null,null,null,null,null,null,null,null,null,21403,"COLEGIO MERCEDES DURAND"]
[null,null,null,null,null,null,null,null,null,null,null,null,null,null,null,null,null,null,21405,"COLEGIO JOHN DALTON"]
[null,null,null,null,null,null,null,null,null,null,null,null,null,null,null,null,null,null,21407,"COLEGIO PEQUEÑAS MARAVILLAS"]
[null,null,null,null,null,null,null,null,null,null,null,null,null,null,null,null,null,null,21409,"LICEO CRISTIANO SHADDAI 12 DE AGOSTO DE 2003"]
[null,null,null,null,null,null,null,null,null,null,null,null,null,null,null,null,null,null,21411,"COLEGIO PADRE KENNETH"]
[null,null,null,null,null,null,null,null,null,null,null,null,null,null,null,null,null,null,21412,"COLEGIO ROBERT A. MUNDELL"]
[null,null,null,null,null,null,null,null,null,null,null,null,null,null,null,null,null,null,21417,"COLEGIO CARLOS DARWIN"]
[null,null,null,null,null,null,null,null,null,null,null,null,null,null,null,null,null,null,21418,"LICEO CULTURAL USULUTECO VICENTE HERNANDEZ ARAGON"]
[null,null,null,null,null,null,null,null,null,null,null,null,null,null,null,null,null,null,21425,"COLEGIO DE LA MISION BAUTISTA INTERNACIONAL"]
[null,null,null,null,null,null,null,null,null,null,null,null,null,null,null,null,null,null,21430,"COLEGIO AMERICANO DE EL SALVADOR"]
[null,null,null,null,null,null,null,null,null,null,null,null,null,null,null,null,null,null,21432,"JARDIN INFANTIL CARMEN LYRA"]
[null,null,null,null,null,null,null,null,null,null,null,null,null,null,null,null,null,null,21436,"LICEO PROFESOR LADISLAO LEIVA"]
[null,null,null,null,null,null,null,null,null,null,null,null,null,null,null,null,null,null,21447,"COLEGIO BELLOS MOMENTOS"]
[null,null,null,null,null,null,null,null,null,null,null,null,null,null,null,null,null,null,21448,"COLEGIO ANA FRANK"]
[null,null,null,null,null,null,null,null,null,null,null,null,null,null,null,null,null,null,21451,"LICEO CRISTIANO BETUEL"]
[null,null,null,null,null,null,null,null,null,null,null,null,null,null,null,null,null,null,21453,"COLEGIO FRANCISCO ACUÑA DE FIGUEROA"]
[null,null,null,null,null,null,null,null,null,null,null,null,null,null,null,null,null,null,21455,"COLEGIO MISION BAUTISTA INTERNACIONAL"]
[null,null,null,null,null,null,null,null,null,null,null,null,null,null,null,null,null,null,21456,"COLEGIO EVANGELICO FILADELFIA"]
[null,null,null,null,null,null,null,null,null,null,null,null,null,null,null,null,null,null,21459,"COLEGIO MARCEL PROUST"]
[null,null,null,null,null,null,null,null,null,null,null,null,null,null,null,null,null,null,21460,"COLEGIO JOHAN KEPLER"]
[null,null,null,null,null,null,null,null,null,null,null,null,null,null,null,null,null,null,21464,"COLEGIO EL ALFARERO"]
[null,null,null,null,null,null,null,null,null,null,null,null,null,null,null,null,null,null,21465,"COLEGIO EL DULCE NIÑO"]
[null,null,null,null,null,null,null,null,null,null,null,null,null,null,null,null,null,null,21469,"COLEGIO PROFESOR ROMEO ASENCIO"]
[null,null,null,null,null,null,null,null,null,null,null,null,null,null,null,null,null,null,21470,"COLEGIO MOISES MENDELSSONH"]
[null,null,null,null,null,null,null,null,null,null,null,null,null,null,null,null,null,null,21476,"LICEO CASTILLA"]
[null,null,null,null,null,null,null,null,null,null,null,null,null,null,null,null,null,null,21477,"COLEGIO URUGUAYO SALVADOREÑO"]
[null,null,null,null,null,null,null,null,null,null,null,null,null,null,null,null,null,null,21480,"COLEGIO PAMPANITOS"]
[null,null,null,null,null,null,null,null,null,null,null,null,null,null,null,null,null,null,21482,"ESCUELA CRISTIANA DE LA PALMA"]
[null,null,null,null,null,null,null,null,null,null,null,null,null,null,null,null,null,null,21484,"COLEGIO MADRE DE LA IGLESIA"]
[null,null,null,null,null,null,null,null,null,null,null,null,null,null,null,null,null,null,21487,"COLEGIO CAMILO JOSE CELA"]
[null,null,null,null,null,null,null,null,null,null,null,null,null,null,null,null,null,null,21490,"JARDIN DE INFANTES MIS PRIMEROS PASITOS"]
[null,null,null,null,null,null,null,null,null,null,null,null,null,null,null,null,null,null,21492,"COLEGIO INTERAMERICANO LICENCIADA CARMEN DURAN"]
[null,null,null,null,null,null,null,null,null,null,null,null,null,null,null,null,null,null,21495,"COLEGIO ADVENTISTA REDENCION"]
[null,null,null,null,null,null,null,null,null,null,null,null,null,null,null,null,null,null,21496,"COLEGIO PROFESORA CORALIA DE VELASQUEZ"]
[null,null,null,null,null,null,null,null,null,null,null,null,null,null,null,null,null,null,21502,"COLEGIO CARITAS FELICES"]
[null,null,null,null,null,null,null,null,null,null,null,null,null,null,null,null,null,null,21503,"COLEGIO MARIA ANGELA OSORIO DE ROSA"]
[null,null,null,null,null,null,null,null,null,null,null,null,null,null,null,null,null,null,21505,"COLEGIO SACRAMENTO"]
[null,null,null,null,null,null,null,null,null,null,null,null,null,null,null,null,null,null,21506,"COLEGIO BAUTISTA FEDERICO ERNESTO MEBIUS"]
[null,null,null,null,null,null,null,null,null,null,null,null,null,null,null,null,null,null,21512,"ESCUELA CRISTIANA INTERNACIONAL"]
[null,null,null,null,null,null,null,null,null,null,null,null,null,null,null,null,null,null,21513,"COLEGIO EL MARAVILLOSO MUNDO DE JUGUETE"]
[null,null,null,null,null,null,null,null,null,null,null,null,null,null,null,null,null,null,21517,"COLEGIO JOHN FRANK ADAMS"]
[null,null,null,null,null,null,null,null,null,null,null,null,null,null,null,null,null,null,21519,"COLEGIO MISION ORIENTAL SALVADOREÑA DE LOS ADVENTISTAS DEL SEPTIMO DIA CANTON EL CARMEN"]
[null,null,null,null,null,null,null,null,null,null,null,null,null,null,null,null,null,null,21523,"CENTRO DE DESARROLLO INTEGRAL AMUN SHEA"]
[null,null,null,null,null,null,null,null,null,null,null,null,null,null,null,null,null,null,21524,"COLEGIO RAFAEL ORELLANA"]
[null,null,null,null,null,null,null,null,null,null,null,null,null,null,null,null,null,null,21528,"COLEGIO LAS MARAVILLAS DEL SABER"]
[null,null,null,null,null,null,null,null,null,null,null,null,null,null,null,null,null,null,21529,"COLEGIO DINAMARCA"]
[null,null,null,null,null,null,null,null,null,null,null,null,null,null,null,null,null,null,21532,"COLEGIO EPISCOPAL IV VILLA ANGLICANA"]
[null,null,null,null,null,null,null,null,null,null,null,null,null,null,null,null,null,null,21533,"COLEGIO HANS CHRISTIAN ANDERSEN"]
[null,null,null,null,null,null,null,null,null,null,null,null,null,null,null,null,null,null,21538,"COLEGIO RAYITOS DE SOL"]
[null,null,null,null,null,null,null,null,null,null,null,null,null,null,null,null,null,null,21540,"COLEGIO CRISTIANO EL OLIVO"]
[null,null,null,null,null,null,null,null,null,null,null,null,null,null,null,null,null,null,21547,"COLEGIO THOMAS GRAY"]
[null,null,null,null,null,null,null,null,null,null,null,null,null,null,null,null,null,null,21548,"COLEGIO GALILEO GALILEI"]
[null,null,null,null,null,null,null,null,null,null,null,null,null,null,null,null,null,null,21550,"COLEGIO FEDERICO FROEBEL"]
[null,null,null,null,null,null,null,null,null,null,null,null,null,null,null,null,null,null,21551,"COLEGIO IRENA SENDLER"]
[null,null,null,null,null,null,null,null,null,null,null,null,null,null,null,null,null,null,21553,"COLEGIO LEWIS M. TERMAN"]
[null,null,null,null,null,null,null,null,null,null,null,null,null,null,null,null,null,null,21554,"COLEGIO MARIO MONTEFORTE TOLEDO"]
[null,null,null,null,null,null,null,null,null,null,null,null,null,null,null,null,null,null,21556,"COLEGIO DINORA DEL CARMEN VASQUEZ BOJORGE DE CORNEJO"]
[null,null,null,null,null,null,null,null,null,null,null,null,null,null,null,null,null,null,21557,"COLEGIO ANA ELEONORA PINEDA DE CASTRO"]
[null,null,null,null,null,null,null,null,null,null,null,null,null,null,null,null,null,null,21561,"ESCUELA CRISTIANA OASIS LA UNION"]
[null,null,null,null,null,null,null,null,null,null,null,null,null,null,null,null,null,null,21563,"CENTRO ESCOLAR CATOLICO PADRE \"NICOLAS ANTONIO RODRIGUEZ\""]
[null,null,null,null,null,null,null,null,null,null,null,null,null,null,null,null,null,null,21567,"COLEGIO TEMACHTECATL"]
[null,null,null,null,null,null,null,null,null,null,null,null,null,null,null,null,null,null,21568,"COLEGIO PABLO DE TARSO"]
[null,null,null,null,null,null,null,null,null,null,null,null,null,null,null,null,null,null,21571,"COLEGIO INMACULADO CORAZON DE MARIA"]
[null,null,null,null,null,null,null,null,null,null,null,null,null,null,null,null,null,null,21572,"COLEGIO ING MAURICIO ALONSO RODRIGUEZ LINDO"]
[null,null,null,null,null,null,null,null,null,null,null,null,null,null,null,null,null,null,21576,"COLEGIO MARIANELLA GARCIA VILLAS"]
[null,null,null,null,null,null,null,null,null,null,null,null,null,null,null,null,null,null,21578,"COLEGIO MONTECARLO"]
[null,null,null,null,null,null,null,null,null,null,null,null,null,null,null,null,null,null,21580,"COLEGIO REPUBLICA DE CUBA"]
[null,null,null,null,null,null,null,null,null,null,null,null,null,null,null,null,null,null,21581,"LICEO MARIANO GALVEZ"]
[null,null,null,null,null,null,null,null,null,null,null,null,null,null,null,null,null,null,21589,"COLEGIO CORONEL JOSE ARTURO CASTELLANOS"]
[null,null,null,null,null,null,null,null,null,null,null,null,null,null,null,null,null,null,21590,"COLEGIO \"JEAN ITARD\""]
[null,null,null,null,null,null,null,null,null,null,null,null,null,null,null,null,null,null,21594,"COLEGIO MI MUNDO DIVERTIDO"]
[null,null,null,null,null,null,null,null,null,null,null,null,null,null,null,null,null,null,21596,"COLEGIO MI TRENCITO DE MADERA"]
[null,null,null,null,null,null,null,null,null,null,null,null,null,null,null,null,null,null,21600,"COLEGIO ADOLFO DE VARNHAGEN"]
[null,null,null,null,null,null,null,null,null,null,null,null,null,null,null,null,null,null,21604,"COLEGIO JUAN HUSS"]
[null,null,null,null,null,null,null,null,null,null,null,null,null,null,null,null,null,null,21607,"COLEGIO CRISTIANO MENONITA TORRE FUERTE"]
[null,null,null,null,null,null,null,null,null,null,null,null,null,null,null,null,null,null,21608,"COLEGIO IGNACIO MARTIN BARO"]
[null,null,null,null,null,null,null,null,null,null,null,null,null,null,null,null,null,null,21611,"COLEGIO RAFAEL MENJIVAR OCHOA"]
[null,null,null,null,null,null,null,null,null,null,null,null,null,null,null,null,null,null,21612,"LICEO FRANKFURT"]
[null,null,null,null,null,null,null,null,null,null,null,null,null,null,null,null,null,null,21614,"COLEGIO MADRE MARIETJE"]
[null,null,null,null,null,null,null,null,null,null,null,null,null,null,null,null,null,null,21615,"COLEGIO ARTHUR HENDERSON"]
[null,null,null,null,null,null,null,null,null,null,null,null,null,null,null,null,null,null,30417,"CENTRO ESCOLAR DESARROLLO INFANTIL MIS PRIMEROS PASITOS"]
[null,null,null,null,null,null,null,null,null,null,null,null,null,null,null,null,null,null,60001,"CENTRO ESCOLAR CASERIO LOS NANCES CANTON EL TIGRE"]
[null,null,null,null,null,null,null,null,null,null,null,null,null,null,null,null,null,null,60004,"CENTRO ESCOLAR CASERIO SAN VENANCIO CANTON EL JUNQUILLO "]
[null,null,null,null,null,null,null,null,null,null,null,null,null,null,null,null,null,null,60005,"CENTRO ESCOLAR CANTON SAN RAMON"]
[null,null,null,null,null,null,null,null,null,null,null,null,null,null,null,null,null,null,60007,"CENTRO ESCOLAR CASERIO HACIENDA EL OBRAJUELO"]
[null,null,null,null,null,null,null,null,null,null,null,null,null,null,null,null,null,null,60008,"CENTRO ESCOLAR CASERIO LAS CUREÑAS CANTON LOS TOLES"]
[null,null,null,null,null,null,null,null,null,null,null,null,null,null,null,null,null,null,60010,"CENTRO ESCOLAR CASERIO TAHUAPA, CANTON EL JUNQUILLO"]
[null,null,null,null,null,null,null,null,null,null,null,null,null,null,null,null,null,null,60011,"CENTRO ESCOLAR CANTON EL ANONAL"]
[null,null,null,null,null,null,null,null,null,null,null,null,null,null,null,null,null,null,60014,"CENTRO ESCOLAR CASERIO LAGUNA VERDE CANTON PALO VERDE"]
[null,null,null,null,null,null,null,null,null,null,null,null,null,null,null,null,null,null,60015,"CENTRO ESCOLAR CANTON PALO VERDE"]
[null,null,null,null,null,null,null,null,null,null,null,null,null,null,null,null,null,null,60020,"CENTRO ESCOLAR CANTON TALTAPANCA"]
[null,null,null,null,null,null,null,null,null,null,null,null,null,null,null,null,null,null,60021,"CENTRO ESCOLAR CASERIO SAN JORGE CANTON SAN RAMONCITO"]
[null,null,null,null,null,null,null,null,null,null,null,null,null,null,null,null,null,null,60023,"CENTRO ESCOLAR CANTON PEPENANCE"]
[null,null,null,null,null,null,null,null,null,null,null,null,null,null,null,null,null,null,60024,"CENTRO ESCOLAR CASERIO MONTE DEL PADRE CANTON SANTO TOMAS"]
[null,null,null,null,null,null,null,null,null,null,null,null,null,null,null,null,null,null,60027,"CENTRO ESCOLAR CASERIO EL ESPINO, CANTON LA CEIBA"]
[null,null,null,null,null,null,null,null,null,null,null,null,null,null,null,null,null,null,60029,"CENTRO ESCOLAR CASERIO TEAPAN CANTON SAN JOSE"]
[null,null,null,null,null,null,null,null,null,null,null,null,null,null,null,null,null,null,60032,"CENTRO ESCOLAR CANTON EL ARCO"]
[null,null,null,null,null,null,null,null,null,null,null,null,null,null,null,null,null,null,60033,"CENTRO ESCOLAR CANTON EL LIMO"]
[null,null,null,null,null,null,null,null,null,null,null,null,null,null,null,null,null,null,60035,"CENTRO ESCOLAR CASERIO FINCA MATALA, CANTON EL NARANJITO"]
[null,null,null,null,null,null,null,null,null,null,null,null,null,null,null,null,null,null,60036,"CENTRO ESCOLAR CASERIO CASHAGUA, CANTON CAUTA ARRIBA"]
[null,null,null,null,null,null,null,null,null,null,null,null,null,null,null,null,null,null,60038,"CENTRO ESCOLAR CASERIO LOS RIVAS, CANTON CAUTA ABAJO"]
[null,null,null,null,null,null,null,null,null,null,null,null,null,null,null,null,null,null,60039,"CENTRO ESCOLAR CANTON EL ESCALON"]
[null,null,null,null,null,null,null,null,null,null,null,null,null,null,null,null,null,null,60042,"CENTRO ESCOLAR CANTON ISTAGAPAN"]
[null,null,null,null,null,null,null,null,null,null,null,null,null,null,null,null,null,null,60043,"CENTRO ESCOLAR CASERIO EL CAMALOTE CANTON VAINILLAS"]
[null,null,null,null,null,null,null,null,null,null,null,null,null,null,null,null,null,null,60045,"CENTRO ESCOLAR CASERIO LOS GUARDADOS, CANTON SAN MARTIN"]
[null,null,null,null,null,null,null,null,null,null,null,null,null,null,null,null,null,null,60047,"CENTRO ESCOLAR CANTON EL ROSARIO"]
[null,null,null,null,null,null,null,null,null,null,null,null,null,null,null,null,null,null,60049,"CENTRO ESCOLAR CANTON LA ESPERANZA"]
[null,null,null,null,null,null,null,null,null,null,null,null,null,null,null,null,null,null,60050,"CENTRO ESCOLAR CANTON LA PAZ"]
[null,null,null,null,null,null,null,null,null,null,null,null,null,null,null,null,null,null,60053,"CENTRO ESCOLAR CASERIO AHUACHAPIO CANTON LA FALLA "]
[null,null,null,null,null,null,null,null,null,null,null,null,null,null,null,null,null,null,60054,"CENTRO ESCOLAR CASERIO EL ESCONDIDO, CANTON LA FALLA"]
[null,null,null,null,null,null,null,null,null,null,null,null,null,null,null,null,null,null,60056,"CENTRO ESCOLAR CASERIO VALLE NUEVO CANTON GUAYAPA ABAJO"]
[null,null,null,null,null,null,null,null,null,null,null,null,null,null,null,null,null,null,60057,"CENTRO ESCOLAR CANTON EL DIAMANTE"]
[null,null,null,null,null,null,null,null,null,null,null,null,null,null,null,null,null,null,60059,"CENTRO ESCOLAR CANTON TIHUICHA"]
[null,null,null,null,null,null,null,null,null,null,null,null,null,null,null,null,null,null,60060,"CENTRO ESCOLAR CASERIO LA HONDA CANTON SAN DIEGO"]
[null,null,null,null,null,null,null,null,null,null,null,null,null,null,null,null,null,null,60063,"COMPLEJO EDUCATIVO CASERIO EL REFUGIO CANTON SAN BENITO "]
[null,null,null,null,null,null,null,null,null,null,null,null,null,null,null,null,null,null,60064,"CENTRO ESCOLAR CASERIO SAN BENITO, CANTON SAN BENITO"]
[null,null,null,null,null,null,null,null,null,null,null,null,null,null,null,null,null,null,60066,"CENTRO ESCOLAR CASERIO EL CHINO, CANTON GARITA PALMERA"]
[null,null,null,null,null,null,null,null,null,null,null,null,null,null,null,null,null,null,60067,"CENTRO ESCOLAR CASERIO PLAYA BOLA DE MONTE"]
[null,null,null,null,null,null,null,null,null,null,null,null,null,null,null,null,null,null,60069,"CENTRO ESCOLAR CASERIO EL GOLONDRINO CANTON SACRAMENTO "]
[null,null,null,null,null,null,null,null,null,null,null,null,null,null,null,null,null,null,60070,"CENTRO ESCOLAR CASERIO LA MAQUINA"]
[null,null,null,null,null,null,null,null,null,null,null,null,null,null,null,null,null,null,60074,"CENTRO ESCOLAR CASERIO LOS ENCUENTROS CANTON EL COROZO"]
[null,null,null,null,null,null,null,null,null,null,null,null,null,null,null,null,null,null,60075,"CENTRO ESCOLAR CASERIO TAMASHA, CANTON EL COROZO"]
[null,null,null,null,null,null,null,null,null,null,null,null,null,null,null,null,null,null,60077,"CENTRO ESCOLAR CASERIO SAN MATIAS, CANTON EL JICARAL"]
[null,null,null,null,null,null,null,null,null,null,null,null,null,null,null,null,null,null,60079,"CENTRO ESCOLAR CANTON PULULAPA"]
[null,null,null,null,null,null,null,null,null,null,null,null,null,null,null,null,null,null,60081,"CENTRO ESCOLAR CANTON EL DURAZNO"]
[null,null,null,null,null,null,null,null,null,null,null,null,null,null,null,null,null,null,60082,"CENTRO ESCOLAR CANTON TEXISPULCO"]
[null,null,null,null,null,null,null,null,null,null,null,null,null,null,null,null,null,null,60085,"CENTRO ESCOLAR CASERIO EL MOLINO CANTON EL NISPERO "]
[null,null,null,null,null,null,null,null,null,null,null,null,null,null,null,null,null,null,60086,"CENTRO ESCOLAR CASERIO ASHUQUEMA, CANTON EL NISPERO"]
[null,null,null,null,null,null,null,null,null,null,null,null,null,null,null,null,null,null,60088,"CENTRO ESCOLAR CANTON EL RODEO"]
[null,null,null,null,null,null,null,null,null,null,null,null,null,null,null,null,null,null,60089,"CENTRO ESCOLAR CASERIO SANTA TERESA CANTON EL ROSARIO"]
[null,null,null,null,null,null,null,null,null,null,null,null,null,null,null,null,null,null,60091,"CENTRO ESCOLAR CASERIO LAS PALMERAS CANTON SAN JUAN"]
[null,null,null,null,null,null,null,null,null,null,null,null,null,null,null,null,null,null,60092,"CENTRO ESCOLAR CANTON SAN JUAN"]
[null,null,null,null,null,null,null,null,null,null,null,null,null,null,null,null,null,null,60094,"CENTRO ESCOLAR CASERIO EL NARANJITO, CANTON EL SINCUYO"]
[null,null,null,null,null,null,null,null,null,null,null,null,null,null,null,null,null,null,60095,"CENTRO ESCOLAR CASERIO LOS ORANTES CANTON EL SINCUYO"]
[null,null,null,null,null,null,null,null,null,null,null,null,null,null,null,null,null,null,60098,"CENTRO ESCOLAR CASERIO LOMAS DE SAN ANTONIO CANTON EL CHAGUITE"]
[null,null,null,null,null,null,null,null,null,null,null,null,null,null,null,null,null,null,60099,"CENTRO ESCOLAR CANTON EL CHAGUITE"]
[null,null,null,null,null,null,null,null,null,null,null,null,null,null,null,null,null,null,60102,"CENTRO ESCOLAR CASERIO HACIENDA EL MILAGRO CANTON MONTE HERMOSO ABAJO"]
[null,null,null,null,null,null,null,null,null,null,null,null,null,null,null,null,null,null,60103,"CENTRO ESCOLAR CANTON MONTE HERMOSO ABAJO"]
[null,null,null,null,null,null,null,null,null,null,null,null,null,null,null,null,null,null,60105,"CENTRO ESCOLAR CASERIO LOS ORELLANA"]
[null,null,null,null,null,null,null,null,null,null,null,null,null,null,null,null,null,null,60106,"CENTRO ESCOLAR CASERIO EL CARMEN, CANTON EL JOBO"]
[null,null,null,null,null,null,null,null,null,null,null,null,null,null,null,null,null,null,60109,"CENTRO ESCOLAR CASERIO OJOS DE AGUA CANTON AGUA ZARCA"]
[null,null,null,null,null,null,null,null,null,null,null,null,null,null,null,null,null,null,60110,"CENTRO ESCOLAR CASERIO VOLCANCILLO CANTON VOLCANCILLO"]
[null,null,null,null,null,null,null,null,null,null,null,null,null,null,null,null,null,null,60112,"CENTRO ESCOLAR CASERIO EL CAMPO CANTON JUNQUILLO"]
[null,null,null,null,null,null,null,null,null,null,null,null,null,null,null,null,null,null,60113,"CENTRO ESCOLAR CASERIO GUACHIPILIN CENTRO CANTON GUACHIPILIN"]
[null,null,null,null,null,null,null,null,null,null,null,null,null,null,null,null,null,null,60115,"CENTRO ESCOLAR CASERIO EL SALAMO CANTON CALAVERA"]
[null,null,null,null,null,null,null,null,null,null,null,null,null,null,null,null,null,null,60116,"CENTRO ESCOLAR CASERIO EL PROGRESO, CANTON SAN ALFONSO"]
[null,null,null,null,null,null,null,null,null,null,null,null,null,null,null,null,null,null,60120,"CENTRO ESCOLAR CANTON CUJUAPA"]
[null,null,null,null,null,null,null,null,null,null,null,null,null,null,null,null,null,null,60121,"CENTRO ESCOLAR CASERIO NUEVO CONSUMIDERO"]
[null,null,null,null,null,null,null,null,null,null,null,null,null,null,null,null,null,null,60123,"CENTRO ESCOLAR CANTON EL TRANSITO"]
[null,null,null,null,null,null,null,null,null,null,null,null,null,null,null,null,null,null,60125,"CENTRO ESCOLAR CASERIO COLONIA EL BOSQUE CANTON SANTA LUCIA"]
[null,null,null,null,null,null,null,null,null,null,null,null,null,null,null,null,null,null,60127,"CENTRO ESCOLAR CASERIO VILLA LA ESPERANZA"]
[null,null,null,null,null,null,null,null,null,null,null,null,null,null,null,null,null,null,60128,"CENTRO ESCOLAR CASERIO LA MONTAÑITA CANTON EL TUNEL"]
[null,null,null,null,null,null,null,null,null,null,null,null,null,null,null,null,null,null,60131,"CENTRO ESCOLAR CASERIO CERRO PARTIDO CANTON LOS APOYOS"]
[null,null,null,null,null,null,null,null,null,null,null,null,null,null,null,null,null,null,60132,"CENTRO ESCOLAR CASERIO LOMA ALTA CANTON LOMA DE LA GLORIA"]
[null,null,null,null,null,null,null,null,null,null,null,null,null,null,null,null,null,null,60135,"CENTRO ESCOLAR CASERIO LOS AREVALOS CANTON EL ANONAL"]
[null,null,null,null,null,null,null,null,null,null,null,null,null,null,null,null,null,null,60136,"CENTRO ESCOLAR CASERIO EL SALITRILLO, CANTON EL JOBO"]
[null,null,null,null,null,null,null,null,null,null,null,null,null,null,null,null,null,null,60139,"CENTRO ESCOLAR CANTON ROSARIO ARRIBA"]
[null,null,null,null,null,null,null,null,null,null,null,null,null,null,null,null,null,null,60140,"CENTRO ESCOLAR CASERIO LOS PEÑATE"]
[null,null,null,null,null,null,null,null,null,null,null,null,null,null,null,null,null,null,60143,"CENTRO ESCOLAR CASERIO BELLA VISTA CANTON LOS PLANES"]
[null,null,null,null,null,null,null,null,null,null,null,null,null,null,null,null,null,null,60144,"CENTRO ESCOLAR CANTON LAS FLORES"]
[null,null,null,null,null,null,null,null,null,null,null,null,null,null,null,null,null,null,60146,"CENTRO ESCOLAR CASERIO QUISLUA CANTON LA CALZADA"]
[null,null,null,null,null,null,null,null,null,null,null,null,null,null,null,null,null,null,60147,"CENTRO ESCOLAR CASERIO LA JOYA CANTON PENITENTE ABAJO"]
[null,null,null,null,null,null,null,null,null,null,null,null,null,null,null,null,null,null,60149,"CENTRO ESCOLAR CANTON TEHUISTE ABAJO"]
[null,null,null,null,null,null,null,null,null,null,null,null,null,null,null,null,null,null,60150,"CENTRO ESCOLAR URBANIZACION FLORES"]
[null,null,null,null,null,null,null,null,null,null,null,null,null,null,null,null,null,null,60153,"CENTRO ESCOLAR CANTON CERRO GRANDE"]
[null,null,null,null,null,null,null,null,null,null,null,null,null,null,null,null,null,null,60154,"CENTRO ESCOLAR CASERIO LA BOLSA CANTON SAN ANTONIO"]
[null,null,null,null,null,null,null,null,null,null,null,null,null,null,null,null,null,null,60157,"CENTRO ESCOLAR CANTON MIZATA"]
[null,null,null,null,null,null,null,null,null,null,null,null,null,null,null,null,null,null,60158,"CENTRO ESCOLAR CASERIO LOS GRAMALES"]
[null,null,null,null,null,null,null,null,null,null,null,null,null,null,null,null,null,null,60160,"CENTRO ESCOLAR CASERIO EL PROGRESO, CANTON LA PUERTA"]
[null,null,null,null,null,null,null,null,null,null,null,null,null,null,null,null,null,null,60161,"CENTRO ESCOLAR CASERIO LA CHACRA, CANTON AGUA CALIENTE "]
[null,null,null,null,null,null,null,null,null,null,null,null,null,null,null,null,null,null,60163,"CENTRO ESCOLAR CASERIO EL CASTAÑO CANTON EL PRESIDIO"]
[null,null,null,null,null,null,null,null,null,null,null,null,null,null,null,null,null,null,60164,"CENTRO ESCOLAR LOTIFICACION SAN JOSE CANTON LOMA DEL MUERTO"]
[null,null,null,null,null,null,null,null,null,null,null,null,null,null,null,null,null,null,60167,"CENTRO ESCOLAR CASERIO LAS VISTAS CANTON LOS HOYOS"]
[null,null,null,null,null,null,null,null,null,null,null,null,null,null,null,null,null,null,60168,"CENTRO ESCOLAR CASERIO LOS CERROS CANTON LA CONCEPCION"]
[null,null,null,null,null,null,null,null,null,null,null,null,null,null,null,null,null,null,60170,"CENTRO ESCOLAR CASERIO LA CAÑADA CANTON AZACUALPA"]
[null,null,null,null,null,null,null,null,null,null,null,null,null,null,null,null,null,null,60171,"CENTRO ESCOLAR CASERIO EL ESCAMIL CANTON SANTA ROSA"]
[null,null,null,null,null,null,null,null,null,null,null,null,null,null,null,null,null,null,60174,"CENTRO ESCOLAR CANTON TENANGO"]
[null,null,null,null,null,null,null,null,null,null,null,null,null,null,null,null,null,null,60175,"CENTRO ESCOLAR COMUNIDAD EL TULE I, CANTON POTRERO GRANDE"]
[null,null,null,null,null,null,null,null,null,null,null,null,null,null,null,null,null,null,60178,"CENTRO ESCOLAR COLONIA JUAN BOSCO UNO"]
[null,null,null,null,null,null,null,null,null,null,null,null,null,null,null,null,null,null,60179,"CENTRO ESCOLAR CASERIO SAN JOSE CANTON LAS FLORES"]
[null,null,null,null,null,null,null,null,null,null,null,null,null,null,null,null,null,null,60181,"CENTRO ESCOLAR CASERIO EL TULAR CANTON CORRAL DE MULAS"]
[null,null,null,null,null,null,null,null,null,null,null,null,null,null,null,null,null,null,60182,"CENTRO ESCOLAR CASERIO LA ERMITA CANTON LAS TRANCAS"]
[null,null,null,null,null,null,null,null,null,null,null,null,null,null,null,null,null,null,60184,"CENTRO ESCOLAR CASERIO HUILIHUISTE"]
[null,null,null,null,null,null,null,null,null,null,null,null,null,null,null,null,null,null,60185,"CENTRO ESCOLAR COMUNIDAD SAN FERNANDO"]
[null,null,null,null,null,null,null,null,null,null,null,null,null,null,null,null,null,null,60188,"CENTRO ESCOLAR CANTON EL AMATON"]
[null,null,null,null,null,null,null,null,null,null,null,null,null,null,null,null,null,null,60189,"CENTRO ESCOLAR CASERIO SAN PEDRO CANTON GUACHIPILIN"]
[null,null,null,null,null,null,null,null,null,null,null,null,null,null,null,null,null,null,60191,"CENTRO ESCOLAR CASERIO LAS CONCHAS CANTON TECOMAPA"]
[null,null,null,null,null,null,null,null,null,null,null,null,null,null,null,null,null,null,60192,"CENTRO ESCOLAR CASERIO CARRIZALILLO, CANTON CARRIZALILLO"]
[null,null,null,null,null,null,null,null,null,null,null,null,null,null,null,null,null,null,60194,"CENTRO ESCOLAR CASERIO LAS MESAS CANTON AYUTA"]
[null,null,null,null,null,null,null,null,null,null,null,null,null,null,null,null,null,null,60195,"CENTRO ESCOLAR CASERIO EL RECUERDO, CANTON AYUTA"]
[null,null,null,null,null,null,null,null,null,null,null,null,null,null,null,null,null,null,60198,"CENTRO ESCOLAR CANTON SAN CRISTOBAL"]
[null,null,null,null,null,null,null,null,null,null,null,null,null,null,null,null,null,null,60199,"CENTRO ESCOLAR CANTON PIEDRA RAYADA"]
[null,null,null,null,null,null,null,null,null,null,null,null,null,null,null,null,null,null,60201,"CENTRO ESCOLAR CASERIO LAS TUNAS CANTON EL DERRUMBADO"]
[null,null,null,null,null,null,null,null,null,null,null,null,null,null,null,null,null,null,60202,"CENTRO ESCOLAR CANTON EL RODEO"]
[null,null,null,null,null,null,null,null,null,null,null,null,null,null,null,null,null,null,60204,"CENTRO ESCOLAR CASERIO EL RETIRITO CANTON HONDURITAS"]
[null,null,null,null,null,null,null,null,null,null,null,null,null,null,null,null,null,null,60205,"CENTRO ESCOLAR CASERIO MARIA PURA CANTON CANAIRE"]
[null,null,null,null,null,null,null,null,null,null,null,null,null,null,null,null,null,null,60208,"CENTRO ESCOLAR CASERIO COMUNIDAD SAN JUAN LA CEIBA CANTON SAN ANTONIO"]
[null,null,null,null,null,null,null,null,null,null,null,null,null,null,null,null,null,null,60209,"CENTRO ESCOLAR CASERIO LOS PALMOS LA DANTA CANTON LA HACHADURA"]
[null,null,null,null,null,null,null,null,null,null,null,null,null,null,null,null,null,null,60211,"CENTRO ESCOLAR CASERIO LAS VIBORAS CANTON BUENA VISTA"]
[null,null,null,null,null,null,null,null,null,null,null,null,null,null,null,null,null,null,60212,"CENTRO ESCOLAR CASERIO COMUNIDAD ELENO CASTRO CANTON LOMAS DE RAMOS"]
[null,null,null,null,null,null,null,null,null,null,null,null,null,null,null,null,null,null,60214,"CENTRO ESCOLAR CASERIO COMUNIDAD DEL VALLE CANTON PALACIOS"]
[null,null,null,null,null,null,null,null,null,null,null,null,null,null,null,null,null,null,60215,"CENTRO ESCOLAR CASERIO LA ISLA CANTON AGUA ESCONDIDA"]
[null,null,null,null,null,null,null,null,null,null,null,null,null,null,null,null,null,null,60218,"CENTRO ESCOLAR COLONIA MONSEÑOR RODRIGO ORLANDO CABRERA"]
[null,null,null,null,null,null,null,null,null,null,null,null,null,null,null,null,null,null,60219,"CENTRO ESCOLAR CANTON SAN MARCOS"]
[null,null,null,null,null,null,null,null,null,null,null,null,null,null,null,null,null,null,60221,"CENTRO ESCOLAR CASERIO EL CHAPERNAL CANTON LOS JIOTES"]
[null,null,null,null,null,null,null,null,null,null,null,null,null,null,null,null,null,null,60222,"CENTRO ESCOLAR CANTON CUSAMALUCO"]
[null,null,null,null,null,null,null,null,null,null,null,null,null,null,null,null,null,null,60224,"CENTRO ESCOLAR CASERIO LA MONTAÑITA CANTON SAN JOSE SACARE"]
[null,null,null,null,null,null,null,null,null,null,null,null,null,null,null,null,null,null,60225,"CENTRO ESCOLAR CASERIO PALOS BONITOS CANTON LAGUNETAS"]
[null,null,null,null,null,null,null,null,null,null,null,null,null,null,null,null,null,null,60227,"CENTRO ESCOLAR CASERIO EL PICACHO CANTON SAN NICOLAS"]
[null,null,null,null,null,null,null,null,null,null,null,null,null,null,null,null,null,null,60228,"CENTRO ESCOLAR CASERIO LA FRUTILLA CANTON  EL TABLON"]
[null,null,null,null,null,null,null,null,null,null,null,null,null,null,null,null,null,null,60231,"CENTRO ESCOLAR CANTON SANTA ROSA"]
[null,null,null,null,null,null,null,null,null,null,null,null,null,null,null,null,null,null,60232,"CENTRO ESCOLAR CASERI\u008dO EL SALAMAR CANTON NOMBRE DE DIOS"]
[null,null,null,null,null,null,null,null,null,null,null,null,null,null,null,null,null,null,60235,"CENTRO ESCOLAR COMUNIDAD SAN FRANCISCO, CANTON TACANAGUA"]
[null,null,null,null,null,null,null,null,null,null,null,null,null,null,null,null,null,null,60236,"CENTRO ESCOLAR CASERIO VILLA TZU CHI"]
[null,null,null,null,null,null,null,null,null,null,null,null,null,null,null,null,null,null,60238,"CENTRO ESCOLAR CASERIO LA ERMITA CANTON LOS NARANJOS"]
[null,null,null,null,null,null,null,null,null,null,null,null,null,null,null,null,null,null,60239,"CENTRO ESCOLAR CANTON LLANO VERDE"]
[null,null,null,null,null,null,null,null,null,null,null,null,null,null,null,null,null,null,60242,"CENTRO ESCOLAR CASERIO EL AMATE"]
[null,null,null,null,null,null,null,null,null,null,null,null,null,null,null,null,null,null,60243,"CENTRO ESCOLAR CANTON LOS ANGELES"]
[null,null,null,null,null,null,null,null,null,null,null,null,null,null,null,null,null,null,60245,"CENTRO ESCOLAR CASERIO LAS PIÑAS CANTON COPETILLO"]
[null,null,null,null,null,null,null,null,null,null,null,null,null,null,null,null,null,null,60246,"CENTRO ESCOLAR CANTON EL RINCON"]
[null,null,null,null,null,null,null,null,null,null,null,null,null,null,null,null,null,null,60248,"CENTRO ESCOLAR CASERIO EL ARENAL CANTON EL COCO"]
[null,null,null,null,null,null,null,null,null,null,null,null,null,null,null,null,null,null,60249,"CENTRO ESCOLAR PROVINCIA EXTREMADURA, CASERIO LA MONTAÑONA"]
[null,null,null,null,null,null,null,null,null,null,null,null,null,null,null,null,null,null,60252,"CENTRO ESCOLAR COMUNIDAD NUEVA CRUZADILLA DE SAN JUAN CANTON CRUZADILLA DE SAN JUAN"]
[null,null,null,null,null,null,null,null,null,null,null,null,null,null,null,null,null,null,60253,"CENTRO ESCOLAR CANTON LA TIRANA"]
[null,null,null,null,null,null,null,null,null,null,null,null,null,null,null,null,null,null,60255,"CENTRO ESCOLAR CASERIO EL MECATE CANTON SEGURA"]
[null,null,null,null,null,null,null,null,null,null,null,null,null,null,null,null,null,null,60256,"CENTRO ESCOLAR CASERIO LOS LOTES CANTON LA PUEBLA"]
[null,null,null,null,null,null,null,null,null,null,null,null,null,null,null,null,null,null,60258,"CENTRO ESCOLAR 13 DE FEBRERO DE 2001"]
[null,null,null,null,null,null,null,null,null,null,null,null,null,null,null,null,null,null,60259,"CENTRO ESCOLAR CASERIO GUAYAPA ARRIBA, CANTON GUAYAPA ARRIBA"]
[null,null,null,null,null,null,null,null,null,null,null,null,null,null,null,null,null,null,60262,"CENTRO ESCOLAR PAZ Y PROGRESO"]
[null,null,null,null,null,null,null,null,null,null,null,null,null,null,null,null,null,null,60263,"CENTRO ESCOLAR CASERIO LOS PINOS CANTON SAN RAFAEL"]
[null,null,null,null,null,null,null,null,null,null,null,null,null,null,null,null,null,null,60266,"CENTRO ESCOLAR CASERIO EL QUEBRACHO CANTON SAN ANTONIO "]
[null,null,null,null,null,null,null,null,null,null,null,null,null,null,null,null,null,null,60267,"CENTRO ESCOLAR CANTON MACANCE"]
[null,null,null,null,null,null,null,null,null,null,null,null,null,null,null,null,null,null,60269,"CENTRO ESCOLAR CASERI\u008dO POZAS VERDES CANTON TEMPISQUE"]
[null,null,null,null,null,null,null,null,null,null,null,null,null,null,null,null,null,null,60271,"CENTRO ESCOLAR COMUNIDAD LA GRACIA DEL 13 DE ENERO"]
[null,null,null,null,null,null,null,null,null,null,null,null,null,null,null,null,null,null,60275,"CENTRO ESCOLAR EL MOZOTE CANTON SAN ANTONIO LOS BLANCOS"]
[null,null,null,null,null,null,null,null,null,null,null,null,null,null,null,null,null,null,60276,"CENTRO ESCOLAR CASERIO ULAPA ARRIBA, CANTON ULAPA ARRIBA"]
[null,null,null,null,null,null,null,null,null,null,null,null,null,null,null,null,null,null,60278,"CENTRO ESCOLAR CASERIO ALTO DEL JOBAL CANTON ARROZALES"]
[null,null,null,null,null,null,null,null,null,null,null,null,null,null,null,null,null,null,60279,"CENTRO ESCOLAR CASERIO EL OLIMPO CANTON LAS DELICIAS"]
[null,null,null,null,null,null,null,null,null,null,null,null,null,null,null,null,null,null,60281,"CENTRO ESCOLAR ASENTAMIENTO BUENA VISTA CANTON LA UNION"]
[null,null,null,null,null,null,null,null,null,null,null,null,null,null,null,null,null,null,60282,"CENTRO ESCOLAR COLONIA EL MILAGRO CASERIO LAS MERCEDES CANTON LOS LAGARTOS"]
[null,null,null,null,null,null,null,null,null,null,null,null,null,null,null,null,null,null,60285,"CENTRO ESCOLAR COMUNIDAD EL BAMBU CASERIO ROSARIO DE CEREN CANTON EL SUNZA"]
[null,null,null,null,null,null,null,null,null,null,null,null,null,null,null,null,null,null,60286,"CENTRO ESCOLAR CASERIO LA CEIBA"]
[null,null,null,null,null,null,null,null,null,null,null,null,null,null,null,null,null,null,60288,"CENTRO ESCOLAR LA REFORMA CANTON CUTUMAY CAMONES"]
[null,null,null,null,null,null,null,null,null,null,null,null,null,null,null,null,null,null,60289,"CENTRO ESCOLAR CASERIO VALLE NUEVO CANTON LAS PIEDRAS"]
[null,null,null,null,null,null,null,null,null,null,null,null,null,null,null,null,null,null,60292,"CENTRO ESCOLAR \"URBANIZACION BELLA VISTA\", CANTON PRIMAVERA"]
[null,null,null,null,null,null,null,null,null,null,null,null,null,null,null,null,null,null,60294,"CENTRO ESCOLAR ASENTAMIENTO LA GLORIA CASERIO EL AGUACATE CANTON LLANO GRANDE"]
[null,null,null,null,null,null,null,null,null,null,null,null,null,null,null,null,null,null,60296,"CENTRO ESCOLAR CASERIO COPINULA CANTON SUNCITA"]
[null,null,null,null,null,null,null,null,null,null,null,null,null,null,null,null,null,null,60297,"CENTRO ESCOLAR CASERIO EL ZUNGANO CANTON LOS ABELINES"]
[null,null,null,null,null,null,null,null,null,null,null,null,null,null,null,null,null,null,60300,"CENTRO ESCOLAR CASERIO LOS PINEDA"]
[null,null,null,null,null,null,null,null,null,null,null,null,null,null,null,null,null,null,60301,"CENTRO ESCOLAR CASERIO LA LECHERA CANTON LA UNION"]
[null,null,null,null,null,null,null,null,null,null,null,null,null,null,null,null,null,null,60303,"CENTRO ESCOLAR CASERIO EL TIZATE CANTON PATURLA"]
[null,null,null,null,null,null,null,null,null,null,null,null,null,null,null,null,null,null,60304,"CENTRO ESCOLAR CASERIO SAN ANTONIO DEL MONTE, CANTON PLATANARES"]
[null,null,null,null,null,null,null,null,null,null,null,null,null,null,null,null,null,null,60306,"CENTRO ESCOLAR MONSEÑOR GREGORIO ROSA CHAVEZ"]
[null,null,null,null,null,null,null,null,null,null,null,null,null,null,null,null,null,null,60307,"CENTRO ESCOLAR CASERIO EL MILAGRO CANTON EL COYOL"]
[null,null,null,null,null,null,null,null,null,null,null,null,null,null,null,null,null,null,60310,"CENTRO ESCOLAR LOTIFICACION EL JORDAN 1"]
[null,null,null,null,null,null,null,null,null,null,null,null,null,null,null,null,null,null,60311,"CENTRO ESCOLAR CANTON SAN JOSE SHANGALLO"]
[null,null,null,null,null,null,null,null,null,null,null,null,null,null,null,null,null,null,60314,"CENTRO ESCOLAR CASERIO EL CALVARIO, CANTON LA LOMA"]
[null,null,null,null,null,null,null,null,null,null,null,null,null,null,null,null,null,null,60315,"CENTRO ESCOLAR COLONIA EL PROGRESO CANTON EL PUENTE"]
[null,null,null,null,null,null,null,null,null,null,null,null,null,null,null,null,null,null,60317,"CENTRO ESCOLAR CASERIO BUENAVISTA, CANTON SANTA RITA"]
[null,null,null,null,null,null,null,null,null,null,null,null,null,null,null,null,null,null,60318,"CENTRO ESCOLAR COMUNIDAD BOSQUES DE PERULAPIA"]
[null,null,null,null,null,null,null,null,null,null,null,null,null,null,null,null,null,null,60321,"CENTRO ESCOLAR CASERIO EL GUAYABO CANTON SAN ISIDRO LOS PLANES"]
[null,null,null,null,null,null,null,null,null,null,null,null,null,null,null,null,null,null,60322,"CENTRO ESCOLAR CANTON SAN NICOLAS ANCHICO"]
[null,null,null,null,null,null,null,null,null,null,null,null,null,null,null,null,null,null,60324,"CENTRO ESCOLAR CASERIO EL ARCO CANTON EL RINCON"]
[null,null,null,null,null,null,null,null,null,null,null,null,null,null,null,null,null,null,60326,"CENTRO ESCOLAR CANTON RAMIREZ"]
[null,null,null,null,null,null,null,null,null,null,null,null,null,null,null,null,null,null,60328,"CENTRO ESCOLAR CASERIO UTALCO"]
[null,null,null,null,null,null,null,null,null,null,null,null,null,null,null,null,null,null,60329,"CENTRO ESCOLAR CANTON GUILIGUISTE"]
[null,null,null,null,null,null,null,null,null,null,null,null,null,null,null,null,null,null,60333,"CENTRO ESCOLAR COLONIA NUEVA ILAMATEPEC"]
[null,null,null,null,null,null,null,null,null,null,null,null,null,null,null,null,null,null,60335,"CENTRO ESCOLAR CANTON LOS HATILLOS"]
[null,null,null,null,null,null,null,null,null,null,null,null,null,null,null,null,null,null,60338,"CENTRO ESCOLAR JOSEPH DE RAYMOND"]
[null,null,null,null,null,null,null,null,null,null,null,null,null,null,null,null,null,null,60339,"CENTRO ESCOLAR SANTA LUCIA"]
[null,null,null,null,null,null,null,null,null,null,null,null,null,null,null,null,null,null,60341,"CENTRO ESCOLAR MARIA TIMOTEA VASQUEZ VIUDA DE PEREZ"]
[null,null,null,null,null,null,null,null,null,null,null,null,null,null,null,null,null,null,60342,"CENTRO ESCOLAR JOSE TORIBIO GARCIA GOMEZ"]
[null,null,null,null,null,null,null,null,null,null,null,null,null,null,null,null,null,null,60345,"CENTRO ESCOLAR JORGE ALBERTO GONZA\u0081LEZ SUVILLAGA"]
[null,null,null,null,null,null,null,null,null,null,null,null,null,null,null,null,null,null,60346,"CENTRO ESCOLAR PADRE MIGUEL FRANCISCO ANDUEZA ARAMBURU"]
[null,null,null,null,null,null,null,null,null,null,null,null,null,null,null,null,null,null,62002,"CENTRO ESCOLAR CASERIO LA COLMENA"]
[null,null,null,null,null,null,null,null,null,null,null,null,null,null,null,null,null,null,62003,"CENTRO ESCOLAR CASERIO EL MARAÑON CANTON SOLIMAN"]
[null,null,null,null,null,null,null,null,null,null,null,null,null,null,null,null,null,null,62005,"CENTRO ESCOLAR CANTON LAS PILETAS"]
[null,null,null,null,null,null,null,null,null,null,null,null,null,null,null,null,null,null,62006,"CENTRO ESCOLAR CASERIO LUISIANA"]
[null,null,null,null,null,null,null,null,null,null,null,null,null,null,null,null,null,null,62011,"CENTRO ESCOLAR CASERIO EL PITAL, CANTON LA MAGDALENA"]
[null,null,null,null,null,null,null,null,null,null,null,null,null,null,null,null,null,null,62012,"CENTRO ESCOLAR CASERIO SAN ISIDRO CANTON EL TANQUE"]
[null,null,null,null,null,null,null,null,null,null,null,null,null,null,null,null,null,null,62014,"CENTRO ESCOLAR CASERIO LOTIFICACION SAN IGNACIO CANTON GALEANO"]
[null,null,null,null,null,null,null,null,null,null,null,null,null,null,null,null,null,null,62015,"CENTRO ESCOLAR CASERIO EL ROSARIO CANTON SAN JOSE LAS FLORES"]
[null,null,null,null,null,null,null,null,null,null,null,null,null,null,null,null,null,null,62017,"CENTRO ESCOLAR CANTON EL ROSARIO"]
[null,null,null,null,null,null,null,null,null,null,null,null,null,null,null,null,null,null,62018,"CENTRO ESCOLAR CASERIO CERRO LAS FLORES CANTON EL CARMEN"]
[null,null,null,null,null,null,null,null,null,null,null,null,null,null,null,null,null,null,62020,"CENTRO ESCOLAR CANTON EL CARMEN"]
[null,null,null,null,null,null,null,null,null,null,null,null,null,null,null,null,null,null,62021,"CENTRO ESCOLAR CASERIO EL RODEO, CANTON LA JOYA"]
[null,null,null,null,null,null,null,null,null,null,null,null,null,null,null,null,null,null,62024,"CENTRO ESCOLAR CASERIO EL CARRIZAL, CANTON LA RUDA"]
[null,null,null,null,null,null,null,null,null,null,null,null,null,null,null,null,null,null,62025,"CENTRO ESCOLAR CASERIO LA RUDITA, CANTON LA RUDA"]
[null,null,null,null,null,null,null,null,null,null,null,null,null,null,null,null,null,null,62027,"CENTRO ESCOLAR CANTON LA RUDA"]
[null,null,null,null,null,null,null,null,null,null,null,null,null,null,null,null,null,null,62028,"CENTRO ESCOLAR CASERIO LAS ALMOHADAS, CANTON SAN SEBASTIAN"]
[null,null,null,null,null,null,null,null,null,null,null,null,null,null,null,null,null,null,62030,"CENTRO ESCOLAR CANTON HONDURITAS"]
[null,null,null,null,null,null,null,null,null,null,null,null,null,null,null,null,null,null,62031,"CENTRO ESCOLAR CASERIO HONDURITAS CANTON EL ROSARIO"]
[null,null,null,null,null,null,null,null,null,null,null,null,null,null,null,null,null,null,62034,"CENTRO ESCOLAR PROFESORA YESENIA LIZETH MOLINA DE SALINAS"]
[null,null,null,null,null,null,null,null,null,null,null,null,null,null,null,null,null,null,62035,"CENTRO ESCOLAR CASERIO LEMPA CANTON CUYUISCAT"]
[null,null,null,null,null,null,null,null,null,null,null,null,null,null,null,null,null,null,62037,"CENTRO ESCOLAR CASERIO LAGUNETAS CANTON LA CEIBITA"]
[null,null,null,null,null,null,null,null,null,null,null,null,null,null,null,null,null,null,62038,"CENTRO ESCOLAR CASERIO LAS MARIAS CANTON LA ISLA"]
[null,null,null,null,null,null,null,null,null,null,null,null,null,null,null,null,null,null,62040,"CENTRO ESCOLAR CASERIO EL CUJE, CANTON TAHUILAPA"]
[null,null,null,null,null,null,null,null,null,null,null,null,null,null,null,null,null,null,62041,"CENTRO ESCOLAR CASERIO SAN CRISTOBAL CANTON EL CAPULIN"]
[null,null,null,null,null,null,null,null,null,null,null,null,null,null,null,null,null,null,62044,"CENTRO ESCOLAR CASERIO EL AMATAL CANTON SAN JERONIMO"]
[null,null,null,null,null,null,null,null,null,null,null,null,null,null,null,null,null,null,62045,"CENTRO ESCOLAR CASERIO GUAYABILLAS, CANTON SAN JERONIMO"]
[null,null,null,null,null,null,null,null,null,null,null,null,null,null,null,null,null,null,62047,"CENTRO ESCOLAR CASERIO VALLE NUEVO CANTON SAN ANTONIO MASAHUAT"]
[null,null,null,null,null,null,null,null,null,null,null,null,null,null,null,null,null,null,62048,"CENTRO ESCOLAR CASERIO LAS CRUCES, CANTON BELEN GUIJAT"]
[null,null,null,null,null,null,null,null,null,null,null,null,null,null,null,null,null,null,62050,"CENTRO ESCOLAR CASERIO LAS LAJAS CANTON LAS PIEDRAS"]
[null,null,null,null,null,null,null,null,null,null,null,null,null,null,null,null,null,null,62051,"CENTRO ESCOLAR CASERIO EL RODEO, CANTON LAS PIEDRAS"]
[null,null,null,null,null,null,null,null,null,null,null,null,null,null,null,null,null,null,62054,"CENTRO ESCOLAR CANTON EL SHISTE"]
[null,null,null,null,null,null,null,null,null,null,null,null,null,null,null,null,null,null,62055,"CENTRO ESCOLAR CASERIO LOS QUIJADA, CANTON MALPASO"]
[null,null,null,null,null,null,null,null,null,null,null,null,null,null,null,null,null,null,62057,"CENTRO ESCOLAR CASERIO ANGUIATU, CANTON EL BRUJO"]
[null,null,null,null,null,null,null,null,null,null,null,null,null,null,null,null,null,null,62058,"CENTRO ESCOLAR CASERIO LAS CUEVITAS CANTON EL ANGEL"]
[null,null,null,null,null,null,null,null,null,null,null,null,null,null,null,null,null,null,62062,"CENTRO ESCOLAR CASERIO AYUTICA, CANTON AYUTA"]
[null,null,null,null,null,null,null,null,null,null,null,null,null,null,null,null,null,null,62063,"CENTRO ESCOLAR CASERIO LOTIFICACION SAN MAURICIO CANTON CANTARRANA"]
[null,null,null,null,null,null,null,null,null,null,null,null,null,null,null,null,null,null,62067,"CENTRO ESCOLAR CASERIO FINCA MALACARA, CANTON MONTAÑITA"]
[null,null,null,null,null,null,null,null,null,null,null,null,null,null,null,null,null,null,62069,"CENTRO ESCOLAR CASERIO ESQUIPULAS CANTON NANCINTEPEQUE"]
[null,null,null,null,null,null,null,null,null,null,null,null,null,null,null,null,null,null,62071,"CENTRO ESCOLAR CASERIO LOS MORALITOS CANTON NANCINTEPEQUE"]
[null,null,null,null,null,null,null,null,null,null,null,null,null,null,null,null,null,null,62072,"CENTRO ESCOLAR CASERIO LOS ORELLANA, CANTON NANCINTEPEQUE"]
[null,null,null,null,null,null,null,null,null,null,null,null,null,null,null,null,null,null,62074,"CENTRO ESCOLAR CASERIO EL PINALITO, CANTON EL CIPRESAL"]
[null,null,null,null,null,null,null,null,null,null,null,null,null,null,null,null,null,null,62075,"CENTRO ESCOLAR CASERIO EL SAUCE CANTON PINALITO"]
[null,null,null,null,null,null,null,null,null,null,null,null,null,null,null,null,null,null,62078,"CENTRO ESCOLAR CASERIO MENENDEZ ZETINO"]
[null,null,null,null,null,null,null,null,null,null,null,null,null,null,null,null,null,null,62079,"CENTRO ESCOLAR CANTON EL DESPOBLADO"]
[null,null,null,null,null,null,null,null,null,null,null,null,null,null,null,null,null,null,62081,"CENTRO ESCOLAR CASERIO EL CACAHUITO, CANTON PALO GALAN"]
[null,null,null,null,null,null,null,null,null,null,null,null,null,null,null,null,null,null,62082,"CENTRO ESCOLAR CANTON EL MATAZANO"]
[null,null,null,null,null,null,null,null,null,null,null,null,null,null,null,null,null,null,62085,"CENTRO ESCOLAR CANTON LA DANTA"]
[null,null,null,null,null,null,null,null,null,null,null,null,null,null,null,null,null,null,62086,"CENTRO ESCOLAR CANTON EL FLOR"]
[null,null,null,null,null,null,null,null,null,null,null,null,null,null,null,null,null,null,62088,"CENTRO ESCOLAR SANTOS ISAIAS BERGANZA ACEVEDO"]
[null,null,null,null,null,null,null,null,null,null,null,null,null,null,null,null,null,null,62089,"CENTRO ESCOLAR CANTON COSTA RICA"]
[null,null,null,null,null,null,null,null,null,null,null,null,null,null,null,null,null,null,62092,"CENTRO ESCOLAR CASERIO LOS HORCONES CANTON EL JUTE"]
[null,null,null,null,null,null,null,null,null,null,null,null,null,null,null,null,null,null,62093,"CENTRO ESCOLAR CASERIO BARRANQUILLA"]
[null,null,null,null,null,null,null,null,null,null,null,null,null,null,null,null,null,null,62095,"CENTRO ESCOLAR CASERIO VALLE DE LOS AMATES"]
[null,null,null,null,null,null,null,null,null,null,null,null,null,null,null,null,null,null,62096,"CENTRO ESCOLAR CASERIO LAS MARIAS"]
[null,null,null,null,null,null,null,null,null,null,null,null,null,null,null,null,null,null,64001,"CENTRO ESCOLAR CASERIO COLONIA NUEVA SANTA MARTA CANTON SAN JULIAN"]
[null,null,null,null,null,null,null,null,null,null,null,null,null,null,null,null,null,null,64002,"CENTRO ESCOLAR CASERIO MIRAMAR CANTON METALIO"]
[null,null,null,null,null,null,null,null,null,null,null,null,null,null,null,null,null,null,64005,"CENTRO ESCOLAR CASERIO LAS CUREÑAS, CANTON METALIO"]
[null,null,null,null,null,null,null,null,null,null,null,null,null,null,null,null,null,null,64006,"CENTRO ESCOLAR CASERIO EL NANCE CANTON METALIO"]
[null,null,null,null,null,null,null,null,null,null,null,null,null,null,null,null,null,null,64008,"CENTRO ESCOLAR CASERIO LA PLAYA CANTON METALIO"]
[null,null,null,null,null,null,null,null,null,null,null,null,null,null,null,null,null,null,64009,"CENTRO ESCOLAR MANUEL LARIN"]
[null,null,null,null,null,null,null,null,null,null,null,null,null,null,null,null,null,null,64011,"CENTRO ESCOLAR CANTON EL SALAMO"]
[null,null,null,null,null,null,null,null,null,null,null,null,null,null,null,null,null,null,64013,"CENTRO ESCOLAR CANTON LAS CRUCITAS"]
[null,null,null,null,null,null,null,null,null,null,null,null,null,null,null,null,null,null,64016,"COMPLEJO EDUCATIVO CASERIO SANTA TERESA, CANTON TRES CEIBAS"]
[null,null,null,null,null,null,null,null,null,null,null,null,null,null,null,null,null,null,64017,"CENTRO ESCOLAR CANTON LAS FLORES"]
[null,null,null,null,null,null,null,null,null,null,null,null,null,null,null,null,null,null,64019,"CENTRO ESCOLAR CASERIO EL ESCALON CANTON AGUA SHUCA"]
[null,null,null,null,null,null,null,null,null,null,null,null,null,null,null,null,null,null,64020,"COMPLEJO EDUCATIVO CASERIO EL TULAR, CANTON APANCOYO ARRIBA"]
[null,null,null,null,null,null,null,null,null,null,null,null,null,null,null,null,null,null,64022,"CENTRO ESCOLAR CASERIO COQUIAMITA CANTON COQUIAMA"]
[null,null,null,null,null,null,null,null,null,null,null,null,null,null,null,null,null,null,64023,"CENTRO ESCOLAR CASERIO QUEBRADA SECA, CANTON COQUIAMA"]
[null,null,null,null,null,null,null,null,null,null,null,null,null,null,null,null,null,null,64026,"CENTRO ESCOLAR CANTON EL BALSAMAR"]
[null,null,null,null,null,null,null,null,null,null,null,null,null,null,null,null,null,null,64027,"CENTRO ESCOLAR CASERIO EL PALMAR CANTON SAN LUCAS"]
[null,null,null,null,null,null,null,null,null,null,null,null,null,null,null,null,null,null,64029,"CENTRO ESCOLAR CASERIO LA FLORIDA CANTON PASO DE CANOAS"]
[null,null,null,null,null,null,null,null,null,null,null,null,null,null,null,null,null,null,64030,"CENTRO ESCOLAR CASERIO LOS PEÑAS CANTON ACACHAPA"]
[null,null,null,null,null,null,null,null,null,null,null,null,null,null,null,null,null,null,64032,"CENTRO ESCOLAR CASERIO CHIQUILIQUITA CANTON EL COROZAL"]
[null,null,null,null,null,null,null,null,null,null,null,null,null,null,null,null,null,null,64033,"CENTRO ESCOLAR CASERIO LOS ENCUENTROS CANTON ACACHAPA ARRIBA"]
[null,null,null,null,null,null,null,null,null,null,null,null,null,null,null,null,null,null,64036,"CENTRO ESCOLAR CASERIO COOPERATIVA BUENA VISTA CANTON TALCOMUNCA"]
[null,null,null,null,null,null,null,null,null,null,null,null,null,null,null,null,null,null,64037,"CENTRO ESCOLAR CANTON TESHCAL"]
[null,null,null,null,null,null,null,null,null,null,null,null,null,null,null,null,null,null,64039,"CENTRO ESCOLAR CASERIO LAS MARIAS CANTON LAS MARIAS"]
[null,null,null,null,null,null,null,null,null,null,null,null,null,null,null,null,null,null,64040,"CENTRO ESCOLAR CASERIO SANTO TOMAS"]
[null,null,null,null,null,null,null,null,null,null,null,null,null,null,null,null,null,null,64042,"CENTRO ESCOLAR CANTON TAPALCHUCUT NORTE"]
[null,null,null,null,null,null,null,null,null,null,null,null,null,null,null,null,null,null,64043,"CENTRO ESCOLAR CASERIO LA CHACARITA CANTON LAS LAJAS"]
[null,null,null,null,null,null,null,null,null,null,null,null,null,null,null,null,null,null,64047,"CENTRO ESCOLAR LICENCIADO TOMAS REGALADO DUEÑAS"]
[null,null,null,null,null,null,null,null,null,null,null,null,null,null,null,null,null,null,64048,"CENTRO ESCOLAR CANTON CANGREJERA"]
[null,null,null,null,null,null,null,null,null,null,null,null,null,null,null,null,null,null,64051,"CENTRO ESCOLAR CANTON BUENOS AIRES"]
[null,null,null,null,null,null,null,null,null,null,null,null,null,null,null,null,null,null,64052,"CENTRO ESCOLAR CASERIO LAS ILUSIONES"]
[null,null,null,null,null,null,null,null,null,null,null,null,null,null,null,null,null,null,64055,"CENTRO ESCOLAR CASERIO LA CUMBRE CANTON LOS NARANJOS"]
[null,null,null,null,null,null,null,null,null,null,null,null,null,null,null,null,null,null,64057,"CENTRO ESCOLAR CANTON LOS APANTES"]
[null,null,null,null,null,null,null,null,null,null,null,null,null,null,null,null,null,null,64059,"CENTRO ESCOLAR CASERIO TATALPA CANTON ANAL ABAJO"]
[null,null,null,null,null,null,null,null,null,null,null,null,null,null,null,null,null,null,64060,"CENTRO ESCOLAR CANTON ANAL ARRIBA"]
[null,null,null,null,null,null,null,null,null,null,null,null,null,null,null,null,null,null,64063,"CENTRO ESCOLAR CASERIO AGUILARES CANTON EL CHAPARRON"]
[null,null,null,null,null,null,null,null,null,null,null,null,null,null,null,null,null,null,64064,"CENTRO ESCOLAR CASERIO LOS LUCAS, CANTON LA GUACAMAYA"]
[null,null,null,null,null,null,null,null,null,null,null,null,null,null,null,null,null,null,64066,"CENTRO ESCOLAR CASERIO LA BOLSONA CANTON ALEMAN"]
[null,null,null,null,null,null,null,null,null,null,null,null,null,null,null,null,null,null,64067,"CENTRO ESCOLAR CASERIO SAN MIGUELITO CANTON ALEMAN"]
[null,null,null,null,null,null,null,null,null,null,null,null,null,null,null,null,null,null,64069,"CENTRO ESCOLAR CASERI\u008dO FINCA SANTA ELENA CANTON EL PUENTE"]
[null,null,null,null,null,null,null,null,null,null,null,null,null,null,null,null,null,null,64070,"CENTRO ESCOLAR CANTON LOS ANIZALES"]
[null,null,null,null,null,null,null,null,null,null,null,null,null,null,null,null,null,null,64073,"CENTRO ESCOLAR CANTON LAS HOJAS"]
[null,null,null,null,null,null,null,null,null,null,null,null,null,null,null,null,null,null,64074,"CENTRO ESCOLAR CASERIO CASA BLANCA CANTON LOS LAGARTOS"]
[null,null,null,null,null,null,null,null,null,null,null,null,null,null,null,null,null,null,64076,"CENTRO ESCOLAR CASERIO EL SAUCE, CANTON PETACAS"]
[null,null,null,null,null,null,null,null,null,null,null,null,null,null,null,null,null,null,64077,"CENTRO ESCOLAR CANTON PETACAS"]
[null,null,null,null,null,null,null,null,null,null,null,null,null,null,null,null,null,null,64079,"CENTRO ESCOLAR CASERIO SAN JOSE, CANTON PALO VERDE"]
[null,null,null,null,null,null,null,null,null,null,null,null,null,null,null,null,null,null,64080,"CENTRO ESCOLAR CASERIO EL PALMAR CANTON PEÑA BLANCA"]
[null,null,null,null,null,null,null,null,null,null,null,null,null,null,null,null,null,null,64084,"CENTRO ESCOLAR CASERIO EL TEMPISQUE CANTON CUYUAPA ARRIBA"]
[null,null,null,null,null,null,null,null,null,null,null,null,null,null,null,null,null,null,64085,"CENTRO ESCOLAR CASERIO EL PORVENIR"]
[null,null,null,null,null,null,null,null,null,null,null,null,null,null,null,null,null,null,64087,"CENTRO ESCOLAR REGINA DE LANGENEGGER"]
[null,null,null,null,null,null,null,null,null,null,null,null,null,null,null,null,null,null,64088,"CENTRO ESCOLAR CASERIO EL CIPRES, CANTON LAS PEÑAS"]
[null,null,null,null,null,null,null,null,null,null,null,null,null,null,null,null,null,null,64090,"CENTRO ESCOLAR CASERIO LOS MACHADOS CANTON SAN RAFAEL"]
[null,null,null,null,null,null,null,null,null,null,null,null,null,null,null,null,null,null,64091,"COMPLEJO EDUCATIVO CASERIO LOS VASQUEZ, CANTON EL ZARZAL"]
[null,null,null,null,null,null,null,null,null,null,null,null,null,null,null,null,null,null,64094,"CENTRO ESCOLAR CASERIO SANTA MARIA COQUIAMA CANTON CHIQUIHUAT"]
[null,null,null,null,null,null,null,null,null,null,null,null,null,null,null,null,null,null,64095,"COMPLEJO EDUCATIVO CASERIO RODESIA CANTON CHIQUIHUAT"]
[null,null,null,null,null,null,null,null,null,null,null,null,null,null,null,null,null,null,64097,"CENTRO ESCOLAR CASERIO NUEVO MEXICO, CANTON CHIQUIHUAT"]
[null,null,null,null,null,null,null,null,null,null,null,null,null,null,null,null,null,null,64098,"CENTRO ESCOLAR CASERI\u008dO HACIENDA CANADA CANTON EL PRESIDIO"]
[null,null,null,null,null,null,null,null,null,null,null,null,null,null,null,null,null,null,64100,"CENTRO ESCOLAR CASERIO LOTIFICACION SAN ANTONIO, CANTON LAS DELICIAS"]
[null,null,null,null,null,null,null,null,null,null,null,null,null,null,null,null,null,null,64101,"CENTRO ESCOLAR CASERIO AGUA ESCONDIDA CANTON LAS TABLAS"]
[null,null,null,null,null,null,null,null,null,null,null,null,null,null,null,null,null,null,64104,"CENTRO ESCOLAR CASERIO EL JOCOTILLO, CANTON MIRAVALLE"]
[null,null,null,null,null,null,null,null,null,null,null,null,null,null,null,null,null,null,64105,"CENTRO ESCOLAR CASERIO EL PORTEZUELO CANTON MIRAVALLE"]
[null,null,null,null,null,null,null,null,null,null,null,null,null,null,null,null,null,null,64107,"CENTRO ESCOLAR CASERIO LOTIFICACION BUENOS AIRES 1"]
[null,null,null,null,null,null,null,null,null,null,null,null,null,null,null,null,null,null,64108,"CENTRO ESCOLAR CASERIO LOTIFICACION BUENOS AIRES 2, CANTON LOMA DEL MUERTO"]
[null,null,null,null,null,null,null,null,null,null,null,null,null,null,null,null,null,null,64110,"CENTRO ESCOLAR CASERIO EL SALAMAR CANTON TONALA"]
[null,null,null,null,null,null,null,null,null,null,null,null,null,null,null,null,null,null,64111,"CENTRO ESCOLAR CANTON LA ENSENADA"]
[null,null,null,null,null,null,null,null,null,null,null,null,null,null,null,null,null,null,64114,"CENTRO ESCOLAR MARGINACION EL PROGRESO I Y II"]
[null,null,null,null,null,null,null,null,null,null,null,null,null,null,null,null,null,null,64115,"CENTRO ESCOLAR BARRA SALADA CANTON SALINAS DE AYACACHAPA"]
[null,null,null,null,null,null,null,null,null,null,null,null,null,null,null,null,null,null,64117,"CENTRO ESCOLAR CANTON EL PUENTE"]
[null,null,null,null,null,null,null,null,null,null,null,null,null,null,null,null,null,null,64118,"COMPLEJO EDUCATIVO CANTON PALO COMBO"]
[null,null,null,null,null,null,null,null,null,null,null,null,null,null,null,null,null,null,64120,"CENTRO ESCOLAR CASERIO COSTA BRAVA CANTON METALIO"]
[null,null,null,null,null,null,null,null,null,null,null,null,null,null,null,null,null,null,64123,"CENTRO ESCOLAR CASERIO SAN CRISTOBAL, CANTON MIRAVALLES"]
[null,null,null,null,null,null,null,null,null,null,null,null,null,null,null,null,null,null,64125,"CENTRO ESCOLAR CASERIO COLONIA LA COLINA CANTON EL ROSARIO"]
[null,null,null,null,null,null,null,null,null,null,null,null,null,null,null,null,null,null,64126,"CENTRO ESCOLAR CASERIO COLONIA LA SABANA CANTON APANCOYO ARRIBA"]
[null,null,null,null,null,null,null,null,null,null,null,null,null,null,null,null,null,null,66003,"CENTRO ESCOLAR CASERIO EL JUTE, CANTON CERRO GRANDE"]
[null,null,null,null,null,null,null,null,null,null,null,null,null,null,null,null,null,null,66005,"CENTRO ESCOLAR BONIFACIO PINEDA"]
[null,null,null,null,null,null,null,null,null,null,null,null,null,null,null,null,null,null,66007,"CENTRO ESCOLAR CASERIO CHAGUITON, CANTON GUALCHO"]
[null,null,null,null,null,null,null,null,null,null,null,null,null,null,null,null,null,null,66008,"CENTRO ESCOLAR CANTON LLANO DE LA VIRGEN"]
[null,null,null,null,null,null,null,null,null,null,null,null,null,null,null,null,null,null,66010,"CENTRO ESCOLAR CANTON SAN RAMON"]
[null,null,null,null,null,null,null,null,null,null,null,null,null,null,null,null,null,null,66011,"CENTRO ESCOLAR CANTON TALQUEZALAR"]
[null,null,null,null,null,null,null,null,null,null,null,null,null,null,null,null,null,null,66016,"CENTRO ESCOLAR CANTON GUACHIPILIN"]
[null,null,null,null,null,null,null,null,null,null,null,null,null,null,null,null,null,null,66018,"CENTRO ESCOLAR CANTON OLOSINGO"]
[null,null,null,null,null,null,null,null,null,null,null,null,null,null,null,null,null,null,66020,"CENTRO ESCOLAR CASERIO LOS ALAS CANTON LAS MINAS"]
[null,null,null,null,null,null,null,null,null,null,null,null,null,null,null,null,null,null,66021,"CENTRO ESCOLAR CASERIO LOS CALLES CANTON LAS MINAS"]
[null,null,null,null,null,null,null,null,null,null,null,null,null,null,null,null,null,null,66023,"CENTRO ESCOLAR CANTON EL COMUN"]
[null,null,null,null,null,null,null,null,null,null,null,null,null,null,null,null,null,null,66025,"CENTRO ESCOLAR CASERIO EL MANZANO CANTON EL OCOTAL"]
[null,null,null,null,null,null,null,null,null,null,null,null,null,null,null,null,null,null,66029,"CENTRO ESCOLAR CASERIO SAN CRISTOBAL CANTON POTRERILLOS"]
[null,null,null,null,null,null,null,null,null,null,null,null,null,null,null,null,null,null,66030,"CENTRO ESCOLAR CANTON TRINIDAD"]
[null,null,null,null,null,null,null,null,null,null,null,null,null,null,null,null,null,null,66032,"CENTRO ESCOLAR CANTON LAS PACAYAS"]
[null,null,null,null,null,null,null,null,null,null,null,null,null,null,null,null,null,null,66033,"CENTRO ESCOLAR CANTON LA CUCHILLA"]
[null,null,null,null,null,null,null,null,null,null,null,null,null,null,null,null,null,null,66035,"CENTRO ESCOLAR CASERIO LAS MINAS, CANTON EL AGUACATAL"]
[null,null,null,null,null,null,null,null,null,null,null,null,null,null,null,null,null,null,66036,"CENTRO ESCOLAR CASERIO MIRAMUNDO CANTON EL AGUACATAL"]
[null,null,null,null,null,null,null,null,null,null,null,null,null,null,null,null,null,null,66039,"CENTRO ESCOLAR CANTON LAS GRANADILLAS"]
[null,null,null,null,null,null,null,null,null,null,null,null,null,null,null,null,null,null,66040,"CENTRO ESCOLAR CASERIO LAS CUMBRES, CANTON LAS GRANADILLAS"]
[null,null,null,null,null,null,null,null,null,null,null,null,null,null,null,null,null,null,66042,"CENTRO ESCOLAR CASERIO LOS MORALES CANTON LAS GRANADILLAS"]
[null,null,null,null,null,null,null,null,null,null,null,null,null,null,null,null,null,null,66043,"COMPLEJO EDUCATIVO CANTON LOS PLANES"]
[null,null,null,null,null,null,null,null,null,null,null,null,null,null,null,null,null,null,66045,"CENTRO ESCOLAR CASERIO HIERBA BUENA CANTON LOS PLANES"]
[null,null,null,null,null,null,null,null,null,null,null,null,null,null,null,null,null,null,66046,"CENTRO ESCOLAR CASERIO LOS ROMEROS CANTON LOS PLANES"]
[null,null,null,null,null,null,null,null,null,null,null,null,null,null,null,null,null,null,66051,"CENTRO ESCOLAR CANTON LOS HORCONES"]
[null,null,null,null,null,null,null,null,null,null,null,null,null,null,null,null,null,null,66052,"CENTRO ESCOLAR CASERIO GUAYABITO CANTON LOS HORCONES"]
[null,null,null,null,null,null,null,null,null,null,null,null,null,null,null,null,null,null,66054,"CENTRO ESCOLAR CASERIO PLAN DE LA LIMA"]
[null,null,null,null,null,null,null,null,null,null,null,null,null,null,null,null,null,null,66055,"CENTRO ESCOLAR CANTON EL PEPETO"]
[null,null,null,null,null,null,null,null,null,null,null,null,null,null,null,null,null,null,66058,"CENTRO ESCOLAR CASERIO EL AMATILLO CANTON EL PEPETO"]
[null,null,null,null,null,null,null,null,null,null,null,null,null,null,null,null,null,null,66060,"CENTRO ESCOLAR CASERIO LOS NANCES"]
[null,null,null,null,null,null,null,null,null,null,null,null,null,null,null,null,null,null,66063,"CENTRO ESCOLAR CASERIO POTRERILLOS CANTON LAS CAÑAS"]
[null,null,null,null,null,null,null,null,null,null,null,null,null,null,null,null,null,null,66065,"CENTRO ESCOLAR CASERIO LAS ISLETAS CANTON LAS PEÑAS"]
[null,null,null,null,null,null,null,null,null,null,null,null,null,null,null,null,null,null,66067,"CENTRO ESCOLAR CASERIO SAN ANTONIO CANTON TALCHALUYA"]
[null,null,null,null,null,null,null,null,null,null,null,null,null,null,null,null,null,null,66068,"CENTRO ESCOLAR CANTON LOS TECOMATES"]
[null,null,null,null,null,null,null,null,null,null,null,null,null,null,null,null,null,null,66070,"CENTRO ESCOLAR CASERIO SAN FRANCISCO DE ASIS, CANTON EL CERRON"]
[null,null,null,null,null,null,null,null,null,null,null,null,null,null,null,null,null,null,66071,"CENTRO ESCOLAR CANTON CONCEPCION"]
[null,null,null,null,null,null,null,null,null,null,null,null,null,null,null,null,null,null,66074,"CENTRO ESCOLAR CANTON EL BARRANCON"]
[null,null,null,null,null,null,null,null,null,null,null,null,null,null,null,null,null,null,66075,"CENTRO ESCOLAR CANTON PINTALITA"]
[null,null,null,null,null,null,null,null,null,null,null,null,null,null,null,null,null,null,66077,"CENTRO ESCOLAR CANTON LOS ESCALANTE"]
[null,null,null,null,null,null,null,null,null,null,null,null,null,null,null,null,null,null,66078,"CENTRO ESCOLAR CANTON PLAZUELAS"]
[null,null,null,null,null,null,null,null,null,null,null,null,null,null,null,null,null,null,66082,"CENTRO ESCOLAR CANTON EL JUNQUILLO"]
[null,null,null,null,null,null,null,null,null,null,null,null,null,null,null,null,null,null,66083,"CENTRO ESCOLAR CANTON PATAMERA"]
[null,null,null,null,null,null,null,null,null,null,null,null,null,null,null,null,null,null,66085,"CENTRO ESCOLAR CANTON HACIENDA VIEJA"]
[null,null,null,null,null,null,null,null,null,null,null,null,null,null,null,null,null,null,66086,"CENTRO ESCOLAR CASERIO CANDUNGO CANTON POTRERILLO"]
[null,null,null,null,null,null,null,null,null,null,null,null,null,null,null,null,null,null,66089,"CENTRO ESCOLAR CASERIO EL EMBARCAJE CANTON LOS CHILAMATES"]
[null,null,null,null,null,null,null,null,null,null,null,null,null,null,null,null,null,null,66090,"CENTRO ESCOLAR CASERIO RANCHO LUNA CANTON CHILAMATES"]
[null,null,null,null,null,null,null,null,null,null,null,null,null,null,null,null,null,null,66093,"CENTRO ESCOLAR CASERIO EL ASTILLERO CANTON EL GAVILAN"]
[null,null,null,null,null,null,null,null,null,null,null,null,null,null,null,null,null,null,66094,"CENTRO ESCOLAR CASERIO EL PATERNO CANTON LAGUNA SECA"]
[null,null,null,null,null,null,null,null,null,null,null,null,null,null,null,null,null,null,66096,"CENTRO ESCOLAR CANTON LAS TABLAS"]
[null,null,null,null,null,null,null,null,null,null,null,null,null,null,null,null,null,null,66097,"CENTRO ESCOLAR CASERIO EL CARAO CANTON POTENCIANA"]
[null,null,null,null,null,null,null,null,null,null,null,null,null,null,null,null,null,null,66100,"CENTRO ESCOLAR CASERIO LA CEBADIA CANTON POTRERO SULA"]
[null,null,null,null,null,null,null,null,null,null,null,null,null,null,null,null,null,null,66101,"CENTRO ESCOLAR CASERIO LAS CAÑAS CANTON POTRERO SULA"]
[null,null,null,null,null,null,null,null,null,null,null,null,null,null,null,null,null,null,66103,"CENTRO ESCOLAR CASERIO LA LOMITA CANTON SANTA ROSA"]
[null,null,null,null,null,null,null,null,null,null,null,null,null,null,null,null,null,null,66104,"CENTRO ESCOLAR CASERIO LA LAGUNETA, CANTON SUNAPA"]
[null,null,null,null,null,null,null,null,null,null,null,null,null,null,null,null,null,null,66107,"CENTRO ESCOLAR CASERIO LOS PLANES CANTON EL ZAPOTE"]
[null,null,null,null,null,null,null,null,null,null,null,null,null,null,null,null,null,null,66108,"CENTRO ESCOLAR CANTON PAÑANALAPA"]
[null,null,null,null,null,null,null,null,null,null,null,null,null,null,null,null,null,null,66111,"CENTRO ESCOLAR CASERIO LOS NAVARRETES CANTON JAGUATAYA"]
[null,null,null,null,null,null,null,null,null,null,null,null,null,null,null,null,null,null,66112,"CENTRO ESCOLAR CASERIO SANTA LUCIA CANTON JAGUATAYA"]
[null,null,null,null,null,null,null,null,null,null,null,null,null,null,null,null,null,null,66114,"CENTRO ESCOLAR CANTON EL COYOLAR"]
[null,null,null,null,null,null,null,null,null,null,null,null,null,null,null,null,null,null,66115,"CENTRO ESCOLAR CANTON LOS SITIOS"]
[null,null,null,null,null,null,null,null,null,null,null,null,null,null,null,null,null,null,66117,"CENTRO ESCOLAR CASERIO LOS RAMIREZ CANTON EL ZAPOTE"]
[null,null,null,null,null,null,null,null,null,null,null,null,null,null,null,null,null,null,66118,"COMPLEJO EDUCATIVO CANTON SAN BENITO"]
[null,null,null,null,null,null,null,null,null,null,null,null,null,null,null,null,null,null,66122,"CENTRO ESCOLAR CASERIO EL JOCOTE CANTON SAN JUAN DE LA CRUZ"]
[null,null,null,null,null,null,null,null,null,null,null,null,null,null,null,null,null,null,66123,"CENTRO ESCOLAR CANTON VALLE DE JESUS"]
[null,null,null,null,null,null,null,null,null,null,null,null,null,null,null,null,null,null,66125,"CENTRO ESCOLAR CANTON LOS NARANJOS"]
[null,null,null,null,null,null,null,null,null,null,null,null,null,null,null,null,null,null,66126,"CENTRO ESCOLAR CANTON TREMEDAL"]
[null,null,null,null,null,null,null,null,null,null,null,null,null,null,null,null,null,null,66128,"CENTRO ESCOLAR CASERIO EL IZOTALIO CANTON EL HIGUERAL"]
[null,null,null,null,null,null,null,null,null,null,null,null,null,null,null,null,null,null,66129,"CENTRO ESCOLAR CASERIO EL  CHAGUITON, CANTON EL CARMEN"]
[null,null,null,null,null,null,null,null,null,null,null,null,null,null,null,null,null,null,66132,"CENTRO ESCOLAR CASERIO LAS ARADAS CANTON EL CENTRO"]
[null,null,null,null,null,null,null,null,null,null,null,null,null,null,null,null,null,null,66134,"CENTRO ESCOLAR CASERIO BUENA VISTA"]
[null,null,null,null,null,null,null,null,null,null,null,null,null,null,null,null,null,null,66136,"CENTRO ESCOLAR CANTON SANTA ROSA"]
[null,null,null,null,null,null,null,null,null,null,null,null,null,null,null,null,null,null,66137,"CENTRO ESCOLAR CASERIO TEOSINTE CANTON SANTA ROSA"]
[null,null,null,null,null,null,null,null,null,null,null,null,null,null,null,null,null,null,66139,"CENTRO ESCOLAR CASERIO LAS BRISAS CANTON LAS BRISAS"]
[null,null,null,null,null,null,null,null,null,null,null,null,null,null,null,null,null,null,66140,"CENTRO ESCOLAR CASERIO LOS DERAS"]
[null,null,null,null,null,null,null,null,null,null,null,null,null,null,null,null,null,null,66143,"CENTRO ESCOLAR CASERIO EL CONACASTE"]
[null,null,null,null,null,null,null,null,null,null,null,null,null,null,null,null,null,null,66144,"CENTRO ESCOLAR CASERIO EL COYOLITO CANTON QUITASOL"]
[null,null,null,null,null,null,null,null,null,null,null,null,null,null,null,null,null,null,66147,"CENTRO ESCOLAR CASERIO EL TABLON CANTON EL PORTILLO"]
[null,null,null,null,null,null,null,null,null,null,null,null,null,null,null,null,null,null,66148,"CENTRO ESCOLAR CANTON EL ALTO"]
[null,null,null,null,null,null,null,null,null,null,null,null,null,null,null,null,null,null,66150,"CENTRO ESCOLAR CANTON LA MONTAÑITA"]
[null,null,null,null,null,null,null,null,null,null,null,null,null,null,null,null,null,null,66153,"CENTRO ESCOLAR CASERIO COMUNIDAD SANTA FE, CANTON EL TABLON"]
[null,null,null,null,null,null,null,null,null,null,null,null,null,null,null,null,null,null,66155,"CENTRO ESCOLAR CASERIO LAS TORERAS"]
[null,null,null,null,null,null,null,null,null,null,null,null,null,null,null,null,null,null,66156,"CENTRO ESCOLAR CANTON EL CONACASTE"]
[null,null,null,null,null,null,null,null,null,null,null,null,null,null,null,null,null,null,68003,"CENTRO ESCOLAR CASERIO LA REFORMA CANTON FINCA EL ESPINO"]
[null,null,null,null,null,null,null,null,null,null,null,null,null,null,null,null,null,null,68005,"CENTRO ESCOLAR CANTON LA ESPERANZA"]
[null,null,null,null,null,null,null,null,null,null,null,null,null,null,null,null,null,null,68007,"CENTRO ESCOLAR CANTON LAS CRUCES"]
[null,null,null,null,null,null,null,null,null,null,null,null,null,null,null,null,null,null,68008,"CENTRO ESCOLAR CASERIO COMUNIDAD TECPAN, CANTON SITIO DEL NIÑO"]
[null,null,null,null,null,null,null,null,null,null,null,null,null,null,null,null,null,null,68010,"CENTRO ESCOLAR CASERIO LOS INDIOS"]
[null,null,null,null,null,null,null,null,null,null,null,null,null,null,null,null,null,null,68011,"CENTRO ESCOLAR CANTON ZAPOTITAN"]
[null,null,null,null,null,null,null,null,null,null,null,null,null,null,null,null,null,null,68014,"CENTRO ESCOLAR CASERIO COLONIA LA ESPERANZA, CANTON EL CAPULIN"]
[null,null,null,null,null,null,null,null,null,null,null,null,null,null,null,null,null,null,68015,"CENTRO ESCOLAR CASERIO SAN JOSE NUMERO TRES"]
[null,null,null,null,null,null,null,null,null,null,null,null,null,null,null,null,null,null,68017,"CENTRO ESCOLAR CASERIO HERMOSA PROVIDENCIA CANTON LOURDES"]
[null,null,null,null,null,null,null,null,null,null,null,null,null,null,null,null,null,null,68018,"CENTRO ESCOLAR CASERIO EL PITAL CANTON ENTRE RIOS"]
[null,null,null,null,null,null,null,null,null,null,null,null,null,null,null,null,null,null,68022,"CENTRO ESCOLAR CASERIO TRES DE MAYO CANTON EL MATAZANO"]
[null,null,null,null,null,null,null,null,null,null,null,null,null,null,null,null,null,null,68024,"CENTRO ESCOLAR CANTON EL PEÑON"]
[null,null,null,null,null,null,null,null,null,null,null,null,null,null,null,null,null,null,68029,"CENTRO ESCOLAR CASERIO COOPERATIVA EL SITIO"]
[null,null,null,null,null,null,null,null,null,null,null,null,null,null,null,null,null,null,68030,"CENTRO ESCOLAR CANTON SAN ANTONIO"]
[null,null,null,null,null,null,null,null,null,null,null,null,null,null,null,null,null,null,68032,"CENTRO ESCOLAR CASERIO EL CACIQUE CANTON EL CONACASTE"]
[null,null,null,null,null,null,null,null,null,null,null,null,null,null,null,null,null,null,68033,"CENTRO ESCOLAR CANTON LAS FLORES"]
[null,null,null,null,null,null,null,null,null,null,null,null,null,null,null,null,null,null,68035,"CENTRO ESCOLAR CASERIO CORINTO CANTON LAS TERMOPILAS"]
[null,null,null,null,null,null,null,null,null,null,null,null,null,null,null,null,null,null,68036,"CENTRO ESCOLAR CANTON SANTA LUCIA"]
[null,null,null,null,null,null,null,null,null,null,null,null,null,null,null,null,null,null,68039,"CENTRO ESCOLAR CASERIO SAN LUIS CANTON SIBERIA"]
[null,null,null,null,null,null,null,null,null,null,null,null,null,null,null,null,null,null,68040,"CENTRO ESCOLAR CANTON CUERVO ABAJO"]
[null,null,null,null,null,null,null,null,null,null,null,null,null,null,null,null,null,null,68042,"CENTRO ESCOLAR CANTON EL REGADIO"]
[null,null,null,null,null,null,null,null,null,null,null,null,null,null,null,null,null,null,68045,"CENTRO ESCOLAR CASERIO HACIENDA SHUTIA, CANTON TAQUILLO"]
[null,null,null,null,null,null,null,null,null,null,null,null,null,null,null,null,null,null,68047,"CENTRO ESCOLAR CASERIO LA ESPERANZA"]
[null,null,null,null,null,null,null,null,null,null,null,null,null,null,null,null,null,null,68048,"CENTRO ESCOLAR CANTON LA LIMA"]
[null,null,null,null,null,null,null,null,null,null,null,null,null,null,null,null,null,null,68053,"CENTRO ESCOLAR CASERIO EL IZOTE CANTON OJO DE AGUA"]
[null,null,null,null,null,null,null,null,null,null,null,null,null,null,null,null,null,null,68054,"CENTRO ESCOLAR CANTON SAN JUAN BUENAVISTA"]
[null,null,null,null,null,null,null,null,null,null,null,null,null,null,null,null,null,null,68056,"CENTRO ESCOLAR CANTON LA LABOR"]
[null,null,null,null,null,null,null,null,null,null,null,null,null,null,null,null,null,null,68057,"CENTRO ESCOLAR CASERIO COLONIA DOS DE MAYO CANTON LA LABOR "]
[null,null,null,null,null,null,null,null,null,null,null,null,null,null,null,null,null,null,68060,"CENTRO ESCOLAR CASERIO COLONIA LLANO VERDE, CANTON LAS FLORES"]
[null,null,null,null,null,null,null,null,null,null,null,null,null,null,null,null,null,null,68062,"CENTRO ESCOLAR CANTON JUAN HIGINIO"]
[null,null,null,null,null,null,null,null,null,null,null,null,null,null,null,null,null,null,68066,"CENTRO ESCOLAR CASERIO COLONIA HERMOSA PROVIDENCIA CANTON LA PERLA"]
[null,null,null,null,null,null,null,null,null,null,null,null,null,null,null,null,null,null,68067,"CENTRO ESCOLAR CANTON SAN MATIAS"]
[null,null,null,null,null,null,null,null,null,null,null,null,null,null,null,null,null,null,68069,"CENTRO ESCOLAR CASERIO HACIENDA CUMAESLAND"]
[null,null,null,null,null,null,null,null,null,null,null,null,null,null,null,null,null,null,68070,"CENTRO ESCOLAR CASERIO SAN LUIS EL COYOLAR CANTON EL CIMARRON"]
[null,null,null,null,null,null,null,null,null,null,null,null,null,null,null,null,null,null,68073,"CENTRO ESCOLAR CANTON TEPEAGUA"]
[null,null,null,null,null,null,null,null,null,null,null,null,null,null,null,null,null,null,68074,"CENTRO ESCOLAR CANTON LAS MESAS"]
[null,null,null,null,null,null,null,null,null,null,null,null,null,null,null,null,null,null,68076,"CENTRO ESCOLAR CASERIO EL IZCANAL CANTON MAJAHUAL ARRIBA"]
[null,null,null,null,null,null,null,null,null,null,null,null,null,null,null,null,null,null,68077,"COMPLEJO EDUCATIVO AMIGOS DEL VOLCAN"]
[null,null,null,null,null,null,null,null,null,null,null,null,null,null,null,null,null,null,68081,"CENTRO ESCOLAR CANTON EL SACAZIL"]
[null,null,null,null,null,null,null,null,null,null,null,null,null,null,null,null,null,null,68084,"CENTRO ESCOLAR CASERIO LAS NUBES CANTON LOS AMATES"]
[null,null,null,null,null,null,null,null,null,null,null,null,null,null,null,null,null,null,68086,"CENTRO ESCOLAR CANTON VICTORIA"]
[null,null,null,null,null,null,null,null,null,null,null,null,null,null,null,null,null,null,68089,"CENTRO ESCOLAR CASERI\u008dO ESTANZUELAS, CANTON EL PUENTE"]
[null,null,null,null,null,null,null,null,null,null,null,null,null,null,null,null,null,null,68094,"CENTRO ESCOLAR CASERIO EL CERRITO CANTON SAN FRANCISCO"]
[null,null,null,null,null,null,null,null,null,null,null,null,null,null,null,null,null,null,68095,"CENTRO ESCOLAR CANTON SAN JUAN LOS PLANES"]
[null,null,null,null,null,null,null,null,null,null,null,null,null,null,null,null,null,null,68098,"CENTRO ESCOLAR CASERIO TACACHICO CANTON TACACHICO"]
[null,null,null,null,null,null,null,null,null,null,null,null,null,null,null,null,null,null,68100,"CENTRO ESCOLAR COLONIA LAS MARGARITAS UNO Y DOS CANTON SANTA ROSA ARRIBA"]
[null,null,null,null,null,null,null,null,null,null,null,null,null,null,null,null,null,null,68102,"CENTRO ESCOLAR CASERIO EL PREDIO CANTON ATEOS "]
[null,null,null,null,null,null,null,null,null,null,null,null,null,null,null,null,null,null,68103,"CENTRO ESCOLAR CANTON BUENA VISTA"]
[null,null,null,null,null,null,null,null,null,null,null,null,null,null,null,null,null,null,68105,"CENTRO ESCOLAR CASERIO ESPIRITU SANTO CANTON ESCALON"]
[null,null,null,null,null,null,null,null,null,null,null,null,null,null,null,null,null,null,68106,"CENTRO ESCOLAR CASERIO LA SERENA CANTON TULA"]
[null,null,null,null,null,null,null,null,null,null,null,null,null,null,null,null,null,null,68110,"CENTRO ESCOLAR CASERIO EL CAMBIO CANTON CHANMICO"]
[null,null,null,null,null,null,null,null,null,null,null,null,null,null,null,null,null,null,68111,"CENTRO ESCOLAR CASERIO EL JABALINCITO"]
[null,null,null,null,null,null,null,null,null,null,null,null,null,null,null,null,null,null,68114,"CENTRO ESCOLAR CANTON EL JABALINON"]
[null,null,null,null,null,null,null,null,null,null,null,null,null,null,null,null,null,null,68117,"CENTRO ESCOLAR CANTON PITICHORRO"]
[null,null,null,null,null,null,null,null,null,null,null,null,null,null,null,null,null,null,68119,"CENTRO ESCOLAR CANTON SAN NICOLAS LOS ENCUENTROS UNO"]
[null,null,null,null,null,null,null,null,null,null,null,null,null,null,null,null,null,null,68120,"CENTRO ESCOLAR CANTON SAN NICOLAS LOS ENCUENTROS DOS"]
[null,null,null,null,null,null,null,null,null,null,null,null,null,null,null,null,null,null,68123,"CENTRO ESCOLAR CANTON SITIO GRANDE"]
[null,null,null,null,null,null,null,null,null,null,null,null,null,null,null,null,null,null,68125,"CENTRO ESCOLAR CASERIO SANTA BARBARA CANTON JOYA DE CEREN"]
[null,null,null,null,null,null,null,null,null,null,null,null,null,null,null,null,null,null,68127,"CENTRO ESCOLAR CANTON LOS PALMITOS"]
[null,null,null,null,null,null,null,null,null,null,null,null,null,null,null,null,null,null,68129,"CENTRO ESCOLAR CANTON SANTA TERESA"]
[null,null,null,null,null,null,null,null,null,null,null,null,null,null,null,null,null,null,68131,"CENTRO ESCOLAR CANTON HACIENDA SAN PEDRO LAS FLORES"]
[null,null,null,null,null,null,null,null,null,null,null,null,null,null,null,null,null,null,68132,"CENTRO ESCOLAR CASERIO EL RANCHO CANTON SAN PEDRO LAS FLORES"]
[null,null,null,null,null,null,null,null,null,null,null,null,null,null,null,null,null,null,68135,"CENTRO ESCOLAR CANTON CAMPANA"]
[null,null,null,null,null,null,null,null,null,null,null,null,null,null,null,null,null,null,68136,"CENTRO ESCOLAR CASERIO EL ONCE CANTON CAMPANA"]
[null,null,null,null,null,null,null,null,null,null,null,null,null,null,null,null,null,null,68139,"CENTRO ESCOLAR CASERIO EL ROSARIO CANTON EL TRANSITO"]
[null,null,null,null,null,null,null,null,null,null,null,null,null,null,null,null,null,null,68141,"CENTRO ESCOLAR CASERIO NUEVA ESPERANZA"]
[null,null,null,null,null,null,null,null,null,null,null,null,null,null,null,null,null,null,68143,"CENTRO ESCOLAR CASERIO LAS DELICIAS CANTON MOGOTES"]
[null,null,null,null,null,null,null,null,null,null,null,null,null,null,null,null,null,null,68144,"CENTRO ESCOLAR CANTON MONCAGUA"]
[null,null,null,null,null,null,null,null,null,null,null,null,null,null,null,null,null,null,68147,"CENTRO ESCOLAR CASERIO MALPANECA CANTON MONCAGUA"]
[null,null,null,null,null,null,null,null,null,null,null,null,null,null,null,null,null,null,68148,"CENTRO ESCOLAR CASERIO COPINULA CANTON MONCAGUA"]
[null,null,null,null,null,null,null,null,null,null,null,null,null,null,null,null,null,null,68150,"CENTRO ESCOLAR CASERIO HUIZISILAPA, CANTON OBRAJE NUEVO"]
[null,null,null,null,null,null,null,null,null,null,null,null,null,null,null,null,null,null,68151,"CENTRO ESCOLAR CASERIO LAS ARENAS"]
[null,null,null,null,null,null,null,null,null,null,null,null,null,null,null,null,null,null,68154,"CENTRO ESCOLAR CASERIO TRINIDAD DEL ROSARIO CANTON SAN ISIDRO LEMPA"]
[null,null,null,null,null,null,null,null,null,null,null,null,null,null,null,null,null,null,68155,"CENTRO ESCOLAR CASERIO PLAN DEL AMATE CANTON SAN ISIDRO LEMPA"]
[null,null,null,null,null,null,null,null,null,null,null,null,null,null,null,null,null,null,68157,"CENTRO ESCOLAR CASERIO DOS MONTES CANTON SAN ISIDRO LEMPA"]
[null,null,null,null,null,null,null,null,null,null,null,null,null,null,null,null,null,null,68159,"CENTRO ESCOLAR CANTON HACIENDA PASO HONDO"]
[null,null,null,null,null,null,null,null,null,null,null,null,null,null,null,null,null,null,68163,"CENTRO ESCOLAR CASERIO EL IZCANAL CANTON EL PALMAR"]
[null,null,null,null,null,null,null,null,null,null,null,null,null,null,null,null,null,null,68164,"CENTRO ESCOLAR CASERIO CORRAL DE PIEDRA, CANTON EL PALMAR"]
[null,null,null,null,null,null,null,null,null,null,null,null,null,null,null,null,null,null,68166,"CENTRO ESCOLAR CASERIO EL RANCHON CANTON EL ZUNZAL"]
[null,null,null,null,null,null,null,null,null,null,null,null,null,null,null,null,null,null,68167,"CENTRO ESCOLAR CASERIO EL CENTRO CANTON SAN ISIDRO"]
[null,null,null,null,null,null,null,null,null,null,null,null,null,null,null,null,null,null,68169,"CENTRO ESCOLAR CASERIO EL TESORO CANTON SAN ISIDRO"]
[null,null,null,null,null,null,null,null,null,null,null,null,null,null,null,null,null,null,68170,"CENTRO ESCOLAR CANTON SANTA LUCIA"]
[null,null,null,null,null,null,null,null,null,null,null,null,null,null,null,null,null,null,68178,"CENTRO ESCOLAR CANTON EL ANGEL"]
[null,null,null,null,null,null,null,null,null,null,null,null,null,null,null,null,null,null,68179,"CENTRO ESCOLAR CANTON EL MATAZANO"]
[null,null,null,null,null,null,null,null,null,null,null,null,null,null,null,null,null,null,68182,"CENTRO ESCOLAR CASERIO CANOAS CANTON MIZATA"]
[null,null,null,null,null,null,null,null,null,null,null,null,null,null,null,null,null,null,68183,"CENTRO ESCOLAR CANTON SAN BENITO ARRIBA"]
[null,null,null,null,null,null,null,null,null,null,null,null,null,null,null,null,null,null,68185,"CENTRO ESCOLAR CASERIO EL NISPERO CANTON METAYO"]
[null,null,null,null,null,null,null,null,null,null,null,null,null,null,null,null,null,null,68186,"CENTRO ESCOLAR CANTON SIHUAPILAPA CENTRO"]
[null,null,null,null,null,null,null,null,null,null,null,null,null,null,null,null,null,null,68189,"CENTRO ESCOLAR CANTON EL CARRIZO"]
[null,null,null,null,null,null,null,null,null,null,null,null,null,null,null,null,null,null,68190,"CENTRO ESCOLAR CANTON EL GUAMO"]
[null,null,null,null,null,null,null,null,null,null,null,null,null,null,null,null,null,null,68192,"CENTRO ESCOLAR CANTON EL ZACAMIL"]
[null,null,null,null,null,null,null,null,null,null,null,null,null,null,null,null,null,null,68193,"CENTRO ESCOLAR CANTON LA JAVILLA"]
[null,null,null,null,null,null,null,null,null,null,null,null,null,null,null,null,null,null,68195,"CENTRO ESCOLAR CASERIO LA PRIMAVERA CANTON LOS LAURELES"]
[null,null,null,null,null,null,null,null,null,null,null,null,null,null,null,null,null,null,68196,"CENTRO ESCOLAR CANTON SAN ANTONIO"]
[null,null,null,null,null,null,null,null,null,null,null,null,null,null,null,null,null,null,68199,"CENTRO ESCOLAR CASERIO CASA BLANCA CANTON LOS ALPES"]
[null,null,null,null,null,null,null,null,null,null,null,null,null,null,null,null,null,null,68200,"CENTRO ESCOLAR CASERIO HACIENDA CORINTO CANTON SAN FRANCISCO "]
[null,null,null,null,null,null,null,null,null,null,null,null,null,null,null,null,null,null,68203,"CENTRO ESCOLAR COMUNIDAD EL MILAGRO, FINCA EL PORVENIR"]
[null,null,null,null,null,null,null,null,null,null,null,null,null,null,null,null,null,null,68204,"CENTRO ESCOLAR CASERIO EL CONACASTE, CANTON EL CONACASTE"]
[null,null,null,null,null,null,null,null,null,null,null,null,null,null,null,null,null,null,70001,"COMPLEJO EDUCATIVO CANTON LOS MANGOS"]
[null,null,null,null,null,null,null,null,null,null,null,null,null,null,null,null,null,null,70002,"CENTRO ESCOLAR CASERIO SIHUATAN CANTON PIÑALITOS"]
[null,null,null,null,null,null,null,null,null,null,null,null,null,null,null,null,null,null,70008,"CENTRO ESCOLAR LOTIFICACION SAN NICOLAS"]
[null,null,null,null,null,null,null,null,null,null,null,null,null,null,null,null,null,null,70009,"CENTRO ESCOLAR CANTON TRES CEIBAS ARRIBA"]
[null,null,null,null,null,null,null,null,null,null,null,null,null,null,null,null,null,null,70011,"CENTRO ESCOLAR CASERIO SAN PEDRO, CANTON LOS LLANITOS"]
[null,null,null,null,null,null,null,null,null,null,null,null,null,null,null,null,null,null,70013,"CENTRO ESCOLAR CASERIO COMUNIDADES UNIDAS"]
[null,null,null,null,null,null,null,null,null,null,null,null,null,null,null,null,null,null,70015,"COMPLEJO EDUCATIVO CANTON SAN FRANCISCO DOS CERROS"]
[null,null,null,null,null,null,null,null,null,null,null,null,null,null,null,null,null,null,70016,"CENTRO ESCOLAR CANTON POTRERO GRANDE"]
[null,null,null,null,null,null,null,null,null,null,null,null,null,null,null,null,null,null,70019,"CENTRO ESCOLAR CASERIO COMUNIDAD FE, CANTON SAN DIEGO"]
[null,null,null,null,null,null,null,null,null,null,null,null,null,null,null,null,null,null,70020,"CENTRO ESCOLAR CASERIO LOTIFICACION LA ESPERANZA, CANTON CALLE NUEVA"]
[null,null,null,null,null,null,null,null,null,null,null,null,null,null,null,null,null,null,70022,"CENTRO ESCOLAR CASERIO AGUA FRIA CANTON ZACAMIL"]
[null,null,null,null,null,null,null,null,null,null,null,null,null,null,null,null,null,null,70023,"CENTRO ESCOLAR CASERIO SANTA ISABEL, CANTON SAN LUCAS"]
[null,null,null,null,null,null,null,null,null,null,null,null,null,null,null,null,null,null,70025,"CENTRO ESCOLAR CANTON DOLORES APULO"]
[null,null,null,null,null,null,null,null,null,null,null,null,null,null,null,null,null,null,70026,"COMPLEJO EDUCATIVO CANTON SAN BARTOLO"]
[null,null,null,null,null,null,null,null,null,null,null,null,null,null,null,null,null,null,70029,"CENTRO ESCOLAR CASERIO LOMA DE LOS AGUACATES CANTON SAN RAMON"]
[null,null,null,null,null,null,null,null,null,null,null,null,null,null,null,null,null,null,70031,"CENTRO ESCOLAR CASERIO PUERTA DEL LLANO"]
[null,null,null,null,null,null,null,null,null,null,null,null,null,null,null,null,null,null,70034,"CENTRO ESCOLAR CANTON EL BONETE"]
[null,null,null,null,null,null,null,null,null,null,null,null,null,null,null,null,null,null,70035,"CENTRO ESCOLAR CASERIO EL CASTAÑO CANTON EL CONACASTE"]
[null,null,null,null,null,null,null,null,null,null,null,null,null,null,null,null,null,null,70037,"COMPLEJO EDUCATIVO CANTON SAN JERONIMO LOS PLANES"]
[null,null,null,null,null,null,null,null,null,null,null,null,null,null,null,null,null,null,70038,"CENTRO ESCOLAR CASERIO SUCHINANGUITO, CANTON SUCHINANGO"]
[null,null,null,null,null,null,null,null,null,null,null,null,null,null,null,null,null,null,70040,"CENTRO ESCOLAR CASERIO LAS MESAS, CANTON GALERA QUEMADA"]
[null,null,null,null,null,null,null,null,null,null,null,null,null,null,null,null,null,null,70041,"CENTRO ESCOLAR CANTON AMAYON"]
[null,null,null,null,null,null,null,null,null,null,null,null,null,null,null,null,null,null,70044,"CENTRO ESCOLAR CASERIO LAS VICTORIAS, CANTON AMAYON"]
[null,null,null,null,null,null,null,null,null,null,null,null,null,null,null,null,null,null,70045,"CENTRO ESCOLAR CASERIO EL SILLAR, CANTON AMAYON"]
[null,null,null,null,null,null,null,null,null,null,null,null,null,null,null,null,null,null,70047,"CENTRO ESCOLAR CANTON EL CEDRO"]
[null,null,null,null,null,null,null,null,null,null,null,null,null,null,null,null,null,null,70048,"CENTRO ESCOLAR CANTON EL GUAYABO"]
[null,null,null,null,null,null,null,null,null,null,null,null,null,null,null,null,null,null,70050,"CENTRO ESCOLAR ELISA CARRILLO DE MENDOZA"]
[null,null,null,null,null,null,null,null,null,null,null,null,null,null,null,null,null,null,70051,"CENTRO ESCOLAR CANTON LOS PAJALES"]
[null,null,null,null,null,null,null,null,null,null,null,null,null,null,null,null,null,null,70056,"COMPLEJO EDUCATIVO CANTON SAN ISIDRO"]
[null,null,null,null,null,null,null,null,null,null,null,null,null,null,null,null,null,null,70057,"CENTRO ESCOLAR CANTON EL DIVISADERO"]
[null,null,null,null,null,null,null,null,null,null,null,null,null,null,null,null,null,null,70059,"CENTRO ESCOLAR CASERIO LAS MARGARITAS, CANTON SAN RAMON"]
[null,null,null,null,null,null,null,null,null,null,null,null,null,null,null,null,null,null,70061,"CENTRO ESCOLAR CASERIO EL MOJON, CANTON LA FLOR"]
[null,null,null,null,null,null,null,null,null,null,null,null,null,null,null,null,null,null,70063,"CENTRO ESCOLAR CASERIO COMUNIDAD SAN ANDRES"]
[null,null,null,null,null,null,null,null,null,null,null,null,null,null,null,null,null,null,70064,"COMPLEJO EDUCATIVO CASERIO COMUNIDAD VALLE LAS DELICIAS, CANTON LAS DELICIAS"]
[null,null,null,null,null,null,null,null,null,null,null,null,null,null,null,null,null,null,70067,"CENTRO ESCOLAR CASERIO SANTA MARIA LA ESPERANZA, CANTON ASINO"]
[null,null,null,null,null,null,null,null,null,null,null,null,null,null,null,null,null,null,70068,"CENTRO ESCOLAR CASERIO SANTA ISABEL CANTON ASINO"]
[null,null,null,null,null,null,null,null,null,null,null,null,null,null,null,null,null,null,70070,"CENTRO ESCOLAR CANTON JOYA GRANDE"]
[null,null,null,null,null,null,null,null,null,null,null,null,null,null,null,null,null,null,70071,"CENTRO ESCOLAR CASERIO LOS PLANES, CANTON JOYA GRANDE"]
[null,null,null,null,null,null,null,null,null,null,null,null,null,null,null,null,null,null,70074,"CENTRO ESCOLAR CASERIO LA BASA CANTON LA CUCHILLA"]
[null,null,null,null,null,null,null,null,null,null,null,null,null,null,null,null,null,null,70076,"CENTRO ESCOLAR CANTON CAÑA BRAVA"]
[null,null,null,null,null,null,null,null,null,null,null,null,null,null,null,null,null,null,70079,"CENTRO ESCOLAR CANTON EL CARMEN"]
[null,null,null,null,null,null,null,null,null,null,null,null,null,null,null,null,null,null,70080,"CENTRO ESCOLAR CANTON EL GUAJE"]
[null,null,null,null,null,null,null,null,null,null,null,null,null,null,null,null,null,null,70083,"CENTRO ESCOLAR CANTON POTRERILLOS"]
[null,null,null,null,null,null,null,null,null,null,null,null,null,null,null,null,null,null,70085,"CENTRO ESCOLAR CASERIO RIO LAS CAÑAS CANTON EL TRANSITO"]
[null,null,null,null,null,null,null,null,null,null,null,null,null,null,null,null,null,null,70087,"CENTRO ESCOLAR NEMESIO DEL CARMEN GONZALEZ"]
[null,null,null,null,null,null,null,null,null,null,null,null,null,null,null,null,null,null,70088,"CENTRO ESCOLAR DOCTORA MATILDE ELENA LOPEZ"]
[null,null,null,null,null,null,null,null,null,null,null,null,null,null,null,null,null,null,70091,"CENTRO ESCOLAR CASERIO LOS PARADA"]
[null,null,null,null,null,null,null,null,null,null,null,null,null,null,null,null,null,null,70093,"CENTRO ESCOLAR CASERIO URBANIZACION LIRIOS DEL NORTE, CANTON SAN LUIS MARIONA"]
[null,null,null,null,null,null,null,null,null,null,null,null,null,null,null,null,null,null,70095,"CENTRO ESCOLAR CASERIO AMATITAN"]
[null,null,null,null,null,null,null,null,null,null,null,null,null,null,null,null,null,null,70096,"CENTRO ESCOLAR CASERIO FINCA SANTA ISABEL, CANTON SAN JERONIMO LOS PLANES"]
[null,null,null,null,null,null,null,null,null,null,null,null,null,null,null,null,null,null,70098,"CENTRO ESCOLAR CANTON EL MATAZANO"]
[null,null,null,null,null,null,null,null,null,null,null,null,null,null,null,null,null,null,70099,"CENTRO ESCOLAR CASERIO SANTA BARBARITA, CANTON SANTA BARBARA"]
[null,null,null,null,null,null,null,null,null,null,null,null,null,null,null,null,null,null,72003,"CENTRO ESCOLAR CANTON SAN JOSE LA CEIBA"]
[null,null,null,null,null,null,null,null,null,null,null,null,null,null,null,null,null,null,72006,"CENTRO ESCOLAR CANTON SAN JUAN MIRAFLORES ARRIBA"]
[null,null,null,null,null,null,null,null,null,null,null,null,null,null,null,null,null,null,72010,"CENTRO ESCOLAR CANTON CONCEPCION"]
[null,null,null,null,null,null,null,null,null,null,null,null,null,null,null,null,null,null,72011,"CENTRO ESCOLAR CANTON EL CARMEN"]
[null,null,null,null,null,null,null,null,null,null,null,null,null,null,null,null,null,null,72014,"CENTRO ESCOLAR CANTON SAN SEBASTIAN"]
[null,null,null,null,null,null,null,null,null,null,null,null,null,null,null,null,null,null,72015,"CENTRO ESCOLAR CANTON SANTA LUCIA"]
[null,null,null,null,null,null,null,null,null,null,null,null,null,null,null,null,null,null,72017,"CENTRO ESCOLAR CANTON EL ROSARIO"]
[null,null,null,null,null,null,null,null,null,null,null,null,null,null,null,null,null,null,72019,"CENTRO ESCOLAR CANTON SAN ANDRES"]
[null,null,null,null,null,null,null,null,null,null,null,null,null,null,null,null,null,null,72022,"CENTRO ESCOLAR CANTON SAN NICOLAS"]
[null,null,null,null,null,null,null,null,null,null,null,null,null,null,null,null,null,null,72023,"CENTRO ESCOLAR CANTON PALACIOS"]
[null,null,null,null,null,null,null,null,null,null,null,null,null,null,null,null,null,null,72027,"CENTRO ESCOLAR CANTON SAN ANTONIO"]
[null,null,null,null,null,null,null,null,null,null,null,null,null,null,null,null,null,null,72029,"CENTRO ESCOLAR CANTON LLANO GRANDE"]
[null,null,null,null,null,null,null,null,null,null,null,null,null,null,null,null,null,null,72032,"CENTRO ESCOLAR CANTON PIEDRA LABRADA"]
[null,null,null,null,null,null,null,null,null,null,null,null,null,null,null,null,null,null,72033,"CENTRO ESCOLAR CASERIO SANTA INES CANTON PIEDRA LABRADA"]
[null,null,null,null,null,null,null,null,null,null,null,null,null,null,null,null,null,null,72036,"CENTRO ESCOLAR CANTON BUENOS AIRES"]
[null,null,null,null,null,null,null,null,null,null,null,null,null,null,null,null,null,null,72037,"CENTRO ESCOLAR CANTON EL RODEO"]
[null,null,null,null,null,null,null,null,null,null,null,null,null,null,null,null,null,null,72041,"CENTRO ESCOLAR CANTON MIRAFLORES"]
[null,null,null,null,null,null,null,null,null,null,null,null,null,null,null,null,null,null,72045,"CENTRO ESCOLAR CANTON LA ESPERANZA"]
[null,null,null,null,null,null,null,null,null,null,null,null,null,null,null,null,null,null,72047,"CENTRO ESCOLAR CANTON SAN AGUSTIN"]
[null,null,null,null,null,null,null,null,null,null,null,null,null,null,null,null,null,null,72049,"CENTRO ESCOLAR CANTON SAN PEDRO"]
[null,null,null,null,null,null,null,null,null,null,null,null,null,null,null,null,null,null,72052,"CENTRO ESCOLAR CANTON BUENA VISTA"]
[null,null,null,null,null,null,null,null,null,null,null,null,null,null,null,null,null,null,72053,"CENTRO ESCOLAR CASERIO EL LIBANO, CANTON BUENA VISTA"]
[null,null,null,null,null,null,null,null,null,null,null,null,null,null,null,null,null,null,72055,"COMPLEJO EDUCATIVO CANTON COPAPAYO"]
[null,null,null,null,null,null,null,null,null,null,null,null,null,null,null,null,null,null,72056,"CENTRO ESCOLAR CASERIO LA CAJA CANTON LAS DELICIAS"]
[null,null,null,null,null,null,null,null,null,null,null,null,null,null,null,null,null,null,72058,"CENTRO ESCOLAR CASERIO VALLE VERDE CANTON PLATANARES"]
[null,null,null,null,null,null,null,null,null,null,null,null,null,null,null,null,null,null,72059,"CENTRO ESCOLAR CASERIO ZACAMIL, CANTON PLATANARES"]
[null,null,null,null,null,null,null,null,null,null,null,null,null,null,null,null,null,null,72062,"COMPLEJO EDUCATIVO CASERIO LOS ALMENDROS CANTON EL ZAPOTE"]
[null,null,null,null,null,null,null,null,null,null,null,null,null,null,null,null,null,null,72065,"CENTRO ESCOLAR CANTON LA BERMUDA"]
[null,null,null,null,null,null,null,null,null,null,null,null,null,null,null,null,null,null,72067,"COMPLEJO EDUCATIVO CASERIO LAS AMERICAS CANTON LA BERMUDA"]
[null,null,null,null,null,null,null,null,null,null,null,null,null,null,null,null,null,null,72068,"CENTRO ESCOLAR CASERIO SAN RAFAEL CANTON LA BERMUDA"]
[null,null,null,null,null,null,null,null,null,null,null,null,null,null,null,null,null,null,72071,"COMPLEJO EDUCATIVO DOCTOR GUILLERMO MANUEL UNGO"]
[null,null,null,null,null,null,null,null,null,null,null,null,null,null,null,null,null,null,72072,"CENTRO ESCOLAR CANTON SAN JOSE PALO GRANDE"]
[null,null,null,null,null,null,null,null,null,null,null,null,null,null,null,null,null,null,72076,"CENTRO ESCOLAR CASERIO EL PAPAYAN"]
[null,null,null,null,null,null,null,null,null,null,null,null,null,null,null,null,null,null,72077,"CENTRO ESCOLAR CASERIO LA MORA CANTON LA MORA"]
[null,null,null,null,null,null,null,null,null,null,null,null,null,null,null,null,null,null,72079,"CENTRO ESCOLAR CANTON COPALCHAN"]
[null,null,null,null,null,null,null,null,null,null,null,null,null,null,null,null,null,null,72080,"CENTRO ESCOLAR CANTON EL PEPETO"]
[null,null,null,null,null,null,null,null,null,null,null,null,null,null,null,null,null,null,72082,"CENTRO ESCOLAR CANTON ROSARIO PERICO"]
[null,null,null,null,null,null,null,null,null,null,null,null,null,null,null,null,null,null,72083,"CENTRO ESCOLAR CANTON SANTA ANITA"]
[null,null,null,null,null,null,null,null,null,null,null,null,null,null,null,null,null,null,72085,"CENTRO ESCOLAR CANTON EL ROSARIO"]
[null,null,null,null,null,null,null,null,null,null,null,null,null,null,null,null,null,null,74001,"CENTRO ESCOLAR CASERIO SANTA EMILIA CANTON SAN ANTONIO "]
[null,null,null,null,null,null,null,null,null,null,null,null,null,null,null,null,null,null,74004,"CENTRO ESCOLAR CASERIO VERACRUZ ABAJO"]
[null,null,null,null,null,null,null,null,null,null,null,null,null,null,null,null,null,null,74005,"COMPLEJO EDUCATIVO CANTON JOYAS DE GIRON"]
[null,null,null,null,null,null,null,null,null,null,null,null,null,null,null,null,null,null,74008,"CENTRO ESCOLAR CANTON SANTA FE"]
[null,null,null,null,null,null,null,null,null,null,null,null,null,null,null,null,null,null,74009,"CENTRO ESCOLAR CANTON LOS ZACATALES"]
[null,null,null,null,null,null,null,null,null,null,null,null,null,null,null,null,null,null,74012,"CENTRO ESCOLAR CANTON SAN ANTONIO LA LOMA"]
[null,null,null,null,null,null,null,null,null,null,null,null,null,null,null,null,null,null,74013,"CENTRO ESCOLAR CANTON SAN JOSE LOS SOLARES"]
[null,null,null,null,null,null,null,null,null,null,null,null,null,null,null,null,null,null,74016,"CENTRO ESCOLAR CASERIO CHANGALLO, CANTON SANTA CRUZ LA VEGA"]
[null,null,null,null,null,null,null,null,null,null,null,null,null,null,null,null,null,null,74017,"CENTRO ESCOLAR CASERIO EL PEGADERO CANTON SANTA CRUZ DE LA VEGA"]
[null,null,null,null,null,null,null,null,null,null,null,null,null,null,null,null,null,null,74019,"CENTRO ESCOLAR CASERIO EL SALITRAL CANTON EL GOLFO "]
[null,null,null,null,null,null,null,null,null,null,null,null,null,null,null,null,null,null,74020,"CENTRO ESCOLAR CANTON EL SALTO"]
[null,null,null,null,null,null,null,null,null,null,null,null,null,null,null,null,null,null,74026,"CENTRO ESCOLAR CANTON LOS LAURELES"]
[null,null,null,null,null,null,null,null,null,null,null,null,null,null,null,null,null,null,74027,"COMPLEJO EDUCATIVO LOTIFICACION COMALAPA CANTON LA CUCHILLA COMALAPA"]
[null,null,null,null,null,null,null,null,null,null,null,null,null,null,null,null,null,null,74030,"CENTRO ESCOLAR CASERIO LOTIFICACION SANTA CRISTINA CANTON LA CUCHILLA COMALAPA"]
[null,null,null,null,null,null,null,null,null,null,null,null,null,null,null,null,null,null,74031,"CENTRO ESCOLAR CANTON SAN MARCOS JIBOA"]
[null,null,null,null,null,null,null,null,null,null,null,null,null,null,null,null,null,null,74034,"CENTRO ESCOLAR CANTON EL ANGEL"]
[null,null,null,null,null,null,null,null,null,null,null,null,null,null,null,null,null,null,74035,"CENTRO ESCOLAR CANTON EL CARMEN"]
[null,null,null,null,null,null,null,null,null,null,null,null,null,null,null,null,null,null,74037,"CENTRO ESCOLAR JOSE LUIS DOMINGUEZ ORELLANA"]
[null,null,null,null,null,null,null,null,null,null,null,null,null,null,null,null,null,null,74038,"CENTRO ESCOLAR CARMEN RODEZNO DE RODRIGUEZ"]
[null,null,null,null,null,null,null,null,null,null,null,null,null,null,null,null,null,null,74042,"CENTRO ESCOLAR CANTON EL ROBLE"]
[null,null,null,null,null,null,null,null,null,null,null,null,null,null,null,null,null,null,74046,"CENTRO ESCOLAR CANTON CONCEPCION"]
[null,null,null,null,null,null,null,null,null,null,null,null,null,null,null,null,null,null,74049,"CENTRO ESCOLAR CANTON LOMA LARGA"]
[null,null,null,null,null,null,null,null,null,null,null,null,null,null,null,null,null,null,74051,"CENTRO ESCOLAR PROFESORA VILMA DEL ROSARIO CERON DE MEJIA"]
[null,null,null,null,null,null,null,null,null,null,null,null,null,null,null,null,null,null,74054,"CENTRO ESCOLAR CANTON LAS ANIMAS"]
[null,null,null,null,null,null,null,null,null,null,null,null,null,null,null,null,null,null,74055,"CENTRO ESCOLAR CASERIO EL PITO CANTON LAS GUARUMAS"]
[null,null,null,null,null,null,null,null,null,null,null,null,null,null,null,null,null,null,74059,"CENTRO ESCOLAR CASERIO EL ESPIRITU SANTO, CANTON SAN SEBASTIAN ABAJO"]
[null,null,null,null,null,null,null,null,null,null,null,null,null,null,null,null,null,null,74060,"CENTRO ESCOLAR CANTON SANTA CRUZ LA LOMA"]
[null,null,null,null,null,null,null,null,null,null,null,null,null,null,null,null,null,null,74062,"COMPLEJO EDUCATIVO JOSE ISMAEL ABARCA OCHOA"]
[null,null,null,null,null,null,null,null,null,null,null,null,null,null,null,null,null,null,74064,"CENTRO ESCOLAR CANTON EL DESPOBLADO"]
[null,null,null,null,null,null,null,null,null,null,null,null,null,null,null,null,null,null,74066,"CENTRO ESCOLAR CASERIO LOS MARRANITOS"]
[null,null,null,null,null,null,null,null,null,null,null,null,null,null,null,null,null,null,74067,"CENTRO ESCOLAR CANTON LA ISLETA"]
[null,null,null,null,null,null,null,null,null,null,null,null,null,null,null,null,null,null,74070,"CENTRO ESCOLAR CANTON SAN JOSE DE LA MONTAÑA"]
[null,null,null,null,null,null,null,null,null,null,null,null,null,null,null,null,null,null,74071,"CENTRO ESCOLAR CORONEL JAIME MAURICIO GUZMAN MORALES"]
[null,null,null,null,null,null,null,null,null,null,null,null,null,null,null,null,null,null,74073,"CENTRO ESCOLAR CASERIO PALO GALAN, CANTON SAN MARCOS DE LA CRUZ"]
[null,null,null,null,null,null,null,null,null,null,null,null,null,null,null,null,null,null,74074,"CENTRO ESCOLAR CASERIO SAN JOSE LAS FLORES"]
[null,null,null,null,null,null,null,null,null,null,null,null,null,null,null,null,null,null,74076,"CENTRO ESCOLAR CASERIO AGUA ZARCA"]
[null,null,null,null,null,null,null,null,null,null,null,null,null,null,null,null,null,null,74077,"CENTRO ESCOLAR CASERIO EL GARRAPATERO, CANTON LAS TABLAS"]
[null,null,null,null,null,null,null,null,null,null,null,null,null,null,null,null,null,null,74079,"CENTRO ESCOLAR PLAYA DORADA"]
[null,null,null,null,null,null,null,null,null,null,null,null,null,null,null,null,null,null,74080,"CENTRO ESCOLAR CASERIO SAN CRISTOBAL LA ARENERA"]
[null,null,null,null,null,null,null,null,null,null,null,null,null,null,null,null,null,null,74083,"CENTRO ESCOLAR MADRE TERESA DE CALCUTA"]
[null,null,null,null,null,null,null,null,null,null,null,null,null,null,null,null,null,null,74084,"CENTRO ESCOLAR CANTON SAN SEBASTIAN EL CHINGO"]
[null,null,null,null,null,null,null,null,null,null,null,null,null,null,null,null,null,null,74086,"CENTRO ESCOLAR CANTON LA CALZADA"]
[null,null,null,null,null,null,null,null,null,null,null,null,null,null,null,null,null,null,74088,"CENTRO ESCOLAR CASERIO EL SALAMAR CANTON SAN SEBASTIAN EL CHINGO"]
[null,null,null,null,null,null,null,null,null,null,null,null,null,null,null,null,null,null,74090,"CENTRO ESCOLAR CASERIO SANTA IRENE CANTON PENITENTE ABAJO"]
[null,null,null,null,null,null,null,null,null,null,null,null,null,null,null,null,null,null,74091,"CENTRO ESCOLAR CASERIO LOTIFICACION MARISCAL CANTON NUEVO EDEN"]
[null,null,null,null,null,null,null,null,null,null,null,null,null,null,null,null,null,null,74094,"CENTRO ESCOLAR CANTON EL MANEADERO"]
[null,null,null,null,null,null,null,null,null,null,null,null,null,null,null,null,null,null,76001,"CENTRO ESCOLAR CANTON SAN NICOLAS"]
[null,null,null,null,null,null,null,null,null,null,null,null,null,null,null,null,null,null,76005,"CENTRO ESCOLAR CASERIO CACAHUATAL CANTON TEMPISQUE"]
[null,null,null,null,null,null,null,null,null,null,null,null,null,null,null,null,null,null,76006,"CENTRO ESCOLAR CASERIO EL GAVILAN CANTON AGUA ZARCA"]
[null,null,null,null,null,null,null,null,null,null,null,null,null,null,null,null,null,null,76008,"CENTRO ESCOLAR CANTON EL MESTIZO"]
[null,null,null,null,null,null,null,null,null,null,null,null,null,null,null,null,null,null,76009,"CENTRO ESCOLAR CASERIO EL CARRIZAL CANTON LAS HUERTAS"]
[null,null,null,null,null,null,null,null,null,null,null,null,null,null,null,null,null,null,76012,"CENTRO ESCOLAR CASERIO ZAMORA CANTON LOS HOYOS"]
[null,null,null,null,null,null,null,null,null,null,null,null,null,null,null,null,null,null,76013,"CENTRO ESCOLAR CASERI\u008dO CUCHILLAS CANTON SAN FRANCISCO DEL MONTE"]
[null,null,null,null,null,null,null,null,null,null,null,null,null,null,null,null,null,null,76015,"CENTRO ESCOLAR CASERIO SAN LUIS GRAMAL CANTON SAN FRANCISCO DEL MONTE"]
[null,null,null,null,null,null,null,null,null,null,null,null,null,null,null,null,null,null,76016,"CENTRO ESCOLAR CASERIO SANTA MARIA LOS MILAGROS CANTON CALERA"]
[null,null,null,null,null,null,null,null,null,null,null,null,null,null,null,null,null,null,76018,"CENTRO ESCOLAR CASERIO EL PILON CANTON CALERA"]
[null,null,null,null,null,null,null,null,null,null,null,null,null,null,null,null,null,null,76019,"CENTRO ESCOLAR CASERI\u008dO TERRERO NEGRO CANTON CALERA "]
[null,null,null,null,null,null,null,null,null,null,null,null,null,null,null,null,null,null,76022,"CENTRO ESCOLAR CANTON COLONIA LA PALMA"]
[null,null,null,null,null,null,null,null,null,null,null,null,null,null,null,null,null,null,76023,"CENTRO ESCOLAR CANTON CAROLINA N°2"]
[null,null,null,null,null,null,null,null,null,null,null,null,null,null,null,null,null,null,76025,"CENTRO ESCOLAR CASERI\u008dO LA LOMA CANTON EL AMATE"]
[null,null,null,null,null,null,null,null,null,null,null,null,null,null,null,null,null,null,76026,"CENTRO ESCOLAR CASERIO FLOR AMARILLA CANTON EL AMATE"]
[null,null,null,null,null,null,null,null,null,null,null,null,null,null,null,null,null,null,76028,"CENTRO ESCOLAR CASERIO CERRO GRANDE CANTON COPINOLAPA"]
[null,null,null,null,null,null,null,null,null,null,null,null,null,null,null,null,null,null,76029,"CENTRO ESCOLAR CASERIO SANTA CRUZ LA JUNTA CANTON COPINOLAPA"]
[null,null,null,null,null,null,null,null,null,null,null,null,null,null,null,null,null,null,76032,"COMPLEJO EDUCATIVO CASERIO EL ESPINO CANTON CUYANTEPEQUE"]
[null,null,null,null,null,null,null,null,null,null,null,null,null,null,null,null,null,null,76033,"CENTRO ESCOLAR CASERI\u008dO EL CORDONCILLO CANTON CHUNTE"]
[null,null,null,null,null,null,null,null,null,null,null,null,null,null,null,null,null,null,76035,"CENTRO ESCOLAR CASERIO SAN BRANO CANTON NOMBRE DE DIOS"]
[null,null,null,null,null,null,null,null,null,null,null,null,null,null,null,null,null,null,76036,"CENTRO ESCOLAR CASERIO PROVIDENCIA CANTON NOMBRE DE DIOS"]
[null,null,null,null,null,null,null,null,null,null,null,null,null,null,null,null,null,null,76038,"CENTRO ESCOLAR CASERIO MUNDO NUEVO CANTON NOMBRE DE DIOS"]
[null,null,null,null,null,null,null,null,null,null,null,null,null,null,null,null,null,null,76039,"CENTRO ESCOLAR CASERIO EL IZCATAL CANTON NOMBRE DE DIOS"]
[null,null,null,null,null,null,null,null,null,null,null,null,null,null,null,null,null,null,76042,"CENTRO ESCOLAR CASERIO EL SALITRE CANTON SAN GREGORIO"]
[null,null,null,null,null,null,null,null,null,null,null,null,null,null,null,null,null,null,76043,"CENTRO ESCOLAR CASERIO LAS DELICIAS CANTON SAN GREGORIO"]
[null,null,null,null,null,null,null,null,null,null,null,null,null,null,null,null,null,null,76045,"CENTRO ESCOLAR CASERIO EL SAMBO CANTON SANTA ROSA"]
[null,null,null,null,null,null,null,null,null,null,null,null,null,null,null,null,null,null,76046,"CENTRO ESCOLAR CASERIO AZACUALPITA CANTON EL ZAPOTE"]
[null,null,null,null,null,null,null,null,null,null,null,null,null,null,null,null,null,null,76048,"CENTRO ESCOLAR CANTON SAN FRANCISCO ECHEVERRIA"]
[null,null,null,null,null,null,null,null,null,null,null,null,null,null,null,null,null,null,76049,"CENTRO ESCOLAR CANTON SANTA OLAYA"]
[null,null,null,null,null,null,null,null,null,null,null,null,null,null,null,null,null,null,76051,"CENTRO ESCOLAR CANTON AZACUALPA"]
[null,null,null,null,null,null,null,null,null,null,null,null,null,null,null,null,null,null,76052,"CENTRO ESCOLAR CANTON EL CARACOL"]
[null,null,null,null,null,null,null,null,null,null,null,null,null,null,null,null,null,null,76055,"CENTRO ESCOLAR CASERIO EL PALOMAR CANTON PARATAO"]
[null,null,null,null,null,null,null,null,null,null,null,null,null,null,null,null,null,null,76056,"CENTRO ESCOLAR CASERIO EL PAPALON CANTON PARATAO"]
[null,null,null,null,null,null,null,null,null,null,null,null,null,null,null,null,null,null,76058,"CENTRO ESCOLAR CASERIO LAS DANTAS CANTON SAN PEDRO"]
[null,null,null,null,null,null,null,null,null,null,null,null,null,null,null,null,null,null,76059,"CENTRO ESCOLAR CASERIO LOS NARANJOS CANTON CAÑAFISTULA"]
[null,null,null,null,null,null,null,null,null,null,null,null,null,null,null,null,null,null,76061,"CENTRO ESCOLAR CASERI\u008dO CHAPELCORO ARRIBA CANTON CHAPELCORO"]
[null,null,null,null,null,null,null,null,null,null,null,null,null,null,null,null,null,null,76062,"CENTRO ESCOLAR CASERIO LA MONTAÑA CANTON CHAPELCORO"]
[null,null,null,null,null,null,null,null,null,null,null,null,null,null,null,null,null,null,76065,"CENTRO ESCOLAR CASERIO EL JOCOTE CANTON NIQUERESQUE"]
[null,null,null,null,null,null,null,null,null,null,null,null,null,null,null,null,null,null,76066,"CENTRO ESCOLAR CANTON SAN CARLOS"]
[null,null,null,null,null,null,null,null,null,null,null,null,null,null,null,null,null,null,76068,"CENTRO ESCOLAR CASERIO LOS DELGADO CANTON SAN JOSE"]
[null,null,null,null,null,null,null,null,null,null,null,null,null,null,null,null,null,null,76069,"CENTRO ESCOLAR CASERIO CHIGUELE CANTON SITIO VIEJO"]
[null,null,null,null,null,null,null,null,null,null,null,null,null,null,null,null,null,null,76071,"CENTRO ESCOLAR CASERIO LA JOYA CANTON ROJAS"]
[null,null,null,null,null,null,null,null,null,null,null,null,null,null,null,null,null,null,76073,"CENTRO ESCOLAR CASERIO LOS NARANJOS CANTON NOMBRE DE DIOS"]
[null,null,null,null,null,null,null,null,null,null,null,null,null,null,null,null,null,null,78001,"CENTRO ESCOLAR CASERIO LA LOMA CANTON CALDERAS"]
[null,null,null,null,null,null,null,null,null,null,null,null,null,null,null,null,null,null,78002,"CENTRO ESCOLAR MARIA ANTONIA MARTINEZ DE GARCIA"]
[null,null,null,null,null,null,null,null,null,null,null,null,null,null,null,null,null,null,78005,"CENTRO ESCOLAR CASERIO FLORES DEL TEPEYAC CANTON CUTUMAYO"]
[null,null,null,null,null,null,null,null,null,null,null,null,null,null,null,null,null,null,78007,"CENTRO ESCOLAR CASERIO LOTIFICACION VALLE VERDE CANTON LAS MINAS"]
[null,null,null,null,null,null,null,null,null,null,null,null,null,null,null,null,null,null,78009,"CENTRO ESCOLAR CANTON SAN JACINTO"]
[null,null,null,null,null,null,null,null,null,null,null,null,null,null,null,null,null,null,78010,"CENTRO ESCOLAR CASERIO LAS PILETAS CANTON SAN JACINTO"]
[null,null,null,null,null,null,null,null,null,null,null,null,null,null,null,null,null,null,78013,"CENTRO ESCOLAR CASERIO GUADALUPE CANTON SAN JOSE ALMENDROS"]
[null,null,null,null,null,null,null,null,null,null,null,null,null,null,null,null,null,null,78014,"CENTRO ESCOLAR CASERIO SANTA PAULA CANTON SAN NICOLA\u0081S"]
[null,null,null,null,null,null,null,null,null,null,null,null,null,null,null,null,null,null,78016,"CENTRO ESCOLAR CASERIO LAS ANIMAS CANTON SAN PEDRO"]
[null,null,null,null,null,null,null,null,null,null,null,null,null,null,null,null,null,null,78017,"CENTRO ESCOLAR CASERIO LA SAPA CANTON SAN PEDRO"]
[null,null,null,null,null,null,null,null,null,null,null,null,null,null,null,null,null,null,78020,"CENTRO ESCOLAR CASERIO SAN LA\u0081ZARO CANTON SAN PEDRO"]
[null,null,null,null,null,null,null,null,null,null,null,null,null,null,null,null,null,null,78021,"CENTRO ESCOLAR CANTON SAN BENITO PIEDRA GORDA"]
[null,null,null,null,null,null,null,null,null,null,null,null,null,null,null,null,null,null,78024,"CENTRO ESCOLAR CANTON SAN JOSE CERRO GRANDE"]
[null,null,null,null,null,null,null,null,null,null,null,null,null,null,null,null,null,null,78025,"CENTRO ESCOLAR CASERIO SANTA ELENA CANTON SAN JOSE CERRO GRANDE"]
[null,null,null,null,null,null,null,null,null,null,null,null,null,null,null,null,null,null,78027,"CENTRO ESCOLAR CANTON EL TORTUGUERO"]
[null,null,null,null,null,null,null,null,null,null,null,null,null,null,null,null,null,null,78028,"CENTRO ESCOLAR CANTON SAN JERONIMO"]
[null,null,null,null,null,null,null,null,null,null,null,null,null,null,null,null,null,null,78030,"CENTRO ESCOLAR CANTON SANTA ROSA"]
[null,null,null,null,null,null,null,null,null,null,null,null,null,null,null,null,null,null,78031,"CENTRO ESCOLAR CANTON LOS RODRIGUEZ"]
[null,null,null,null,null,null,null,null,null,null,null,null,null,null,null,null,null,null,78035,"CENTRO ESCOLAR CASERIO CALDERITAS CANTON SAN ILDEFONSO"]
[null,null,null,null,null,null,null,null,null,null,null,null,null,null,null,null,null,null,78036,"CENTRO ESCOLAR CANTON SAN JACINTO LA BURRERA"]
[null,null,null,null,null,null,null,null,null,null,null,null,null,null,null,null,null,null,78038,"COMPLEJO EDUCATIVO CASERIO SAN FRANCISCO DE LA CRUZ CANTON GUACHIPILIN"]
[null,null,null,null,null,null,null,null,null,null,null,null,null,null,null,null,null,null,78039,"CENTRO ESCOLAR CASERIO LA GUASITA, CANTON SAN FRANCISCO"]
[null,null,null,null,null,null,null,null,null,null,null,null,null,null,null,null,null,null,78041,"COMPLEJO EDUCATIVO CASERIO MARADIAGA CANTON CANDELARIA LEMPA"]
[null,null,null,null,null,null,null,null,null,null,null,null,null,null,null,null,null,null,78042,"CENTRO ESCOLAR CANTON SAN PABLO CAÑALES "]
[null,null,null,null,null,null,null,null,null,null,null,null,null,null,null,null,null,null,78044,"CENTRO ESCOLAR CASERIO LOS ALMENDROS CANTON SAN PABLO CAÑALES"]
[null,null,null,null,null,null,null,null,null,null,null,null,null,null,null,null,null,null,78046,"CENTRO ESCOLAR CASERIO LAS CANOAS CANTON LAJAS Y CANOAS"]
[null,null,null,null,null,null,null,null,null,null,null,null,null,null,null,null,null,null,78049,"CENTRO ESCOLAR CASERIO LOS CUBIAS CANTON LA CRUZ"]
[null,null,null,null,null,null,null,null,null,null,null,null,null,null,null,null,null,null,78050,"CENTRO ESCOLAR CASERIO LOS CHIRINOS CANTON LAS ANIMAS"]
[null,null,null,null,null,null,null,null,null,null,null,null,null,null,null,null,null,null,78052,"CENTRO ESCOLAR CASERIO LOS MARTINEZ"]
[null,null,null,null,null,null,null,null,null,null,null,null,null,null,null,null,null,null,78053,"CENTRO ESCOLAR CASERIO LOMA DE LA CRUZ CANTON SANTA LUCIA"]
[null,null,null,null,null,null,null,null,null,null,null,null,null,null,null,null,null,null,78055,"CENTRO ESCOLAR CANTON LA ESPERANZA"]
[null,null,null,null,null,null,null,null,null,null,null,null,null,null,null,null,null,null,78056,"CENTRO ESCOLAR CASERIO MARIA AUXILIADORA CANTON LA LABOR"]
[null,null,null,null,null,null,null,null,null,null,null,null,null,null,null,null,null,null,78060,"CENTRO ESCOLAR CASERIO HACIENDA MIRAMAR CANTON CHUCUYO"]
[null,null,null,null,null,null,null,null,null,null,null,null,null,null,null,null,null,null,78061,"CENTRO ESCOLAR CANTON EL MARQUEZADO"]
[null,null,null,null,null,null,null,null,null,null,null,null,null,null,null,null,null,null,78063,"CENTRO ESCOLAR CASERIO LAS FLORES CANTON PARRAS LEMPA"]
[null,null,null,null,null,null,null,null,null,null,null,null,null,null,null,null,null,null,78064,"CENTRO ESCOLAR CANTON SANTA GERTRUDIS"]
[null,null,null,null,null,null,null,null,null,null,null,null,null,null,null,null,null,null,78066,"CENTRO ESCOLAR CANTON LLANOS DE ACHICHILCO"]
[null,null,null,null,null,null,null,null,null,null,null,null,null,null,null,null,null,null,78067,"CENTRO ESCOLAR CASERIO EL COYOLAR CANTON SAN FRANCISCO CHAMOCO"]
[null,null,null,null,null,null,null,null,null,null,null,null,null,null,null,null,null,null,78070,"CENTRO ESCOLAR CASERIO EL DELIRIO CANTON SANTA CRUZ PORRILLO"]
[null,null,null,null,null,null,null,null,null,null,null,null,null,null,null,null,null,null,78071,"CENTRO ESCOLAR CASERIO SAN CRISTOBAL CANTON SANTA CRUZ PORRILLO"]
[null,null,null,null,null,null,null,null,null,null,null,null,null,null,null,null,null,null,78073,"CENTRO ESCOLAR GREGORIA HERMINIA SERAPIO CRISTIAN Y JULIA INES CONTRERAS"]
[null,null,null,null,null,null,null,null,null,null,null,null,null,null,null,null,null,null,78074,"CENTRO ESCOLAR CASERIO EL PORVENIR CANTON LAS ANONAS"]
[null,null,null,null,null,null,null,null,null,null,null,null,null,null,null,null,null,null,78076,"CENTRO ESCOLAR CASERIO SANTA MARTA CANTON LAS MESAS"]
[null,null,null,null,null,null,null,null,null,null,null,null,null,null,null,null,null,null,78077,"CENTRO ESCOLAR CASERIO RANCHO GRANDE CANTON SANTA CRUZ PORRILLO"]
[null,null,null,null,null,null,null,null,null,null,null,null,null,null,null,null,null,null,78080,"CENTRO ESCOLAR CASERIO SAN JOSE LA CEIBA CANTON SAN FERNANDO"]
[null,null,null,null,null,null,null,null,null,null,null,null,null,null,null,null,null,null,78081,"CENTRO ESCOLAR CASERIO EL GUAJOYO CANTON SAN NICOLAS LEMPA"]
[null,null,null,null,null,null,null,null,null,null,null,null,null,null,null,null,null,null,78083,"CENTRO ESCOLAR CASERIO LOS NARANJOS CANTON LAS MESAS"]
[null,null,null,null,null,null,null,null,null,null,null,null,null,null,null,null,null,null,78086,"CENTRO ESCOLAR CANTON SAN FRANCISCO ANGULO"]
[null,null,null,null,null,null,null,null,null,null,null,null,null,null,null,null,null,null,78088,"CENTRO ESCOLAR CASERIO SANTA TERESA EL CASINO"]
[null,null,null,null,null,null,null,null,null,null,null,null,null,null,null,null,null,null,78089,"CENTRO ESCOLAR CANTON COLONIA EL REFUGIO"]
[null,null,null,null,null,null,null,null,null,null,null,null,null,null,null,null,null,null,78092,"CENTRO ESCOLAR CASERIO LOS RIVERA"]
[null,null,null,null,null,null,null,null,null,null,null,null,null,null,null,null,null,null,78093,"CENTRO ESCOLAR SAN ANTONIO EL GUAYABO"]
[null,null,null,null,null,null,null,null,null,null,null,null,null,null,null,null,null,null,78095,"CENTRO ESCOLAR CANTON EL PACUN"]
[null,null,null,null,null,null,null,null,null,null,null,null,null,null,null,null,null,null,78096,"CENTRO ESCOLAR CASERIO EL CHILILLO CANTON SAN ILDEFONSO"]
[null,null,null,null,null,null,null,null,null,null,null,null,null,null,null,null,null,null,80001,"CENTRO ESCOLAR CANTON APASTEPEQUE"]
[null,null,null,null,null,null,null,null,null,null,null,null,null,null,null,null,null,null,80002,"CENTRO ESCOLAR CANTON EL QUEBRACHO"]
[null,null,null,null,null,null,null,null,null,null,null,null,null,null,null,null,null,null,80007,"CENTRO ESCOLAR CASERIO EL CENTRO CANTON EL ZAPOTILLO"]
[null,null,null,null,null,null,null,null,null,null,null,null,null,null,null,null,null,null,80008,"CENTRO ESCOLAR CANTON POTRERILLO"]
[null,null,null,null,null,null,null,null,null,null,null,null,null,null,null,null,null,null,80010,"CENTRO ESCOLAR CANTON COLON"]
[null,null,null,null,null,null,null,null,null,null,null,null,null,null,null,null,null,null,80011,"CENTRO ESCOLAR CASERIO EL COYOLAR CANTON CONCEPCION"]
[null,null,null,null,null,null,null,null,null,null,null,null,null,null,null,null,null,null,80013,"CENTRO ESCOLAR CASERIO RIO DE LOS BUEYES"]
[null,null,null,null,null,null,null,null,null,null,null,null,null,null,null,null,null,null,80014,"CENTRO ESCOLAR CANTON EL TABLON"]
[null,null,null,null,null,null,null,null,null,null,null,null,null,null,null,null,null,null,80016,"CENTRO ESCOLAR CANTON LAS DELICIAS"]
[null,null,null,null,null,null,null,null,null,null,null,null,null,null,null,null,null,null,80017,"CENTRO ESCOLAR CANTON LOS TALPETATES"]
[null,null,null,null,null,null,null,null,null,null,null,null,null,null,null,null,null,null,80020,"CENTRO ESCOLAR ALFREDO RAMIREZ"]
[null,null,null,null,null,null,null,null,null,null,null,null,null,null,null,null,null,null,80021,"CENTRO ESCOLAR CASERIO EL ZAPOTE CANTON SAN FRANCISCO"]
[null,null,null,null,null,null,null,null,null,null,null,null,null,null,null,null,null,null,80023,"CENTRO ESCOLAR CANTON SAN JOSE"]
[null,null,null,null,null,null,null,null,null,null,null,null,null,null,null,null,null,null,80024,"COMPLEJO EDUCATIVO CANTON LOMA ALTA"]
[null,null,null,null,null,null,null,null,null,null,null,null,null,null,null,null,null,null,80027,"CENTRO ESCOLAR CANTON SANTA CRUZ"]
[null,null,null,null,null,null,null,null,null,null,null,null,null,null,null,null,null,null,80028,"CENTRO ESCOLAR CANTON VIRGINIA"]
[null,null,null,null,null,null,null,null,null,null,null,null,null,null,null,null,null,null,80031,"CENTRO ESCOLAR CANTON SAN MARIANO"]
[null,null,null,null,null,null,null,null,null,null,null,null,null,null,null,null,null,null,80032,"CENTRO ESCOLAR CANTON EL CAÑAL"]
[null,null,null,null,null,null,null,null,null,null,null,null,null,null,null,null,null,null,80034,"CENTRO ESCOLAR CASERIO LA COCOSICA CANTON LA ANCHILA"]
[null,null,null,null,null,null,null,null,null,null,null,null,null,null,null,null,null,null,80035,"CENTRO ESCOLAR CASERIO MIRAMAR CANTON SAN ANTONIO"]
[null,null,null,null,null,null,null,null,null,null,null,null,null,null,null,null,null,null,80037,"CENTRO ESCOLAR CANTON SAN PEDRO"]
[null,null,null,null,null,null,null,null,null,null,null,null,null,null,null,null,null,null,80038,"CENTRO ESCOLAR CANTON EL JICARITO"]
[null,null,null,null,null,null,null,null,null,null,null,null,null,null,null,null,null,null,80041,"CENTRO ESCOLAR CASERIO LOS NARANJOS CANTON LOS ENCUENTROS"]
[null,null,null,null,null,null,null,null,null,null,null,null,null,null,null,null,null,null,80042,"CENTRO ESCOLAR CANTON LA CEIBA"]
[null,null,null,null,null,null,null,null,null,null,null,null,null,null,null,null,null,null,80044,"CENTRO ESCOLAR CASERIO POTRERO GRANDE CANTON CONDADILLO"]
[null,null,null,null,null,null,null,null,null,null,null,null,null,null,null,null,null,null,80045,"CENTRO ESCOLAR CANTON EL OJUSHTE"]
[null,null,null,null,null,null,null,null,null,null,null,null,null,null,null,null,null,null,80048,"CENTRO ESCOLAR CANTON LA CRUZ"]
[null,null,null,null,null,null,null,null,null,null,null,null,null,null,null,null,null,null,80049,"CENTRO ESCOLAR CANTON POTRERO DE JOCO"]
[null,null,null,null,null,null,null,null,null,null,null,null,null,null,null,null,null,null,80052,"COMPLEJO EDUCATIVO DOCTOR MICHAEL DE WITTE"]
[null,null,null,null,null,null,null,null,null,null,null,null,null,null,null,null,null,null,80053,"CENTRO ESCOLAR CANTON EL CARMEN"]
[null,null,null,null,null,null,null,null,null,null,null,null,null,null,null,null,null,null,80055,"CENTRO ESCOLAR CANTON EL COYOLITO"]
[null,null,null,null,null,null,null,null,null,null,null,null,null,null,null,null,null,null,80056,"CENTRO ESCOLAR CASERIO EL ESCONDIDO CANTON EL COYOLITO"]
[null,null,null,null,null,null,null,null,null,null,null,null,null,null,null,null,null,null,80058,"CENTRO ESCOLAR CANTON SISIGUAYO"]
[null,null,null,null,null,null,null,null,null,null,null,null,null,null,null,null,null,null,80060,"CENTRO ESCOLAR CASERIO LOS LLANOS CANTON ISLA DE MENDEZ"]
[null,null,null,null,null,null,null,null,null,null,null,null,null,null,null,null,null,null,80063,"CENTRO ESCOLAR CANTON SALINAS DEL POTRERO"]
[null,null,null,null,null,null,null,null,null,null,null,null,null,null,null,null,null,null,80064,"CENTRO ESCOLAR CANTON SAN JUAN DE LETRAN"]
[null,null,null,null,null,null,null,null,null,null,null,null,null,null,null,null,null,null,80066,"CENTRO ESCOLAR CASERIO NUEVO AMANECER CANTON ZAMORANO"]
[null,null,null,null,null,null,null,null,null,null,null,null,null,null,null,null,null,null,80067,"CENTRO ESCOLAR CASERIO CUIDAD ROMERO CANTON EL ZAMORANO"]
[null,null,null,null,null,null,null,null,null,null,null,null,null,null,null,null,null,null,80069,"CENTRO ESCOLAR CASERIO LA NUEVA PRUSIA CANTON LA CRUZADILLA DE SAN JUAN"]
[null,null,null,null,null,null,null,null,null,null,null,null,null,null,null,null,null,null,80070,"CENTRO ESCOLAR CANTON SAN JUDAS"]
[null,null,null,null,null,null,null,null,null,null,null,null,null,null,null,null,null,null,80074,"CENTRO ESCOLAR CASERIO LOTIFICACION EL ENCANTO CANTON EL JAGUAL"]
[null,null,null,null,null,null,null,null,null,null,null,null,null,null,null,null,null,null,80075,"CENTRO ESCOLAR OMEP - MONTE ZEL"]
[null,null,null,null,null,null,null,null,null,null,null,null,null,null,null,null,null,null,80078,"CENTRO ESCOLAR CASERIO LA BOCANITA CANTON EL JICARO"]
[null,null,null,null,null,null,null,null,null,null,null,null,null,null,null,null,null,null,80079,"CENTRO ESCOLAR CASERIO PUERTO CABALLO CANTON EL JICARO"]
[null,null,null,null,null,null,null,null,null,null,null,null,null,null,null,null,null,null,80082,"CENTRO ESCOLAR CASERIO EL CACAO, CANTON EL JUTAL"]
[null,null,null,null,null,null,null,null,null,null,null,null,null,null,null,null,null,null,80083,"CENTRO ESCOLAR CASERIO EL ENCANTADO CANTON EL JUTAL"]
[null,null,null,null,null,null,null,null,null,null,null,null,null,null,null,null,null,null,80085,"CENTRO ESCOLAR CASERIO EL TEMPISCAL CANTON EL ZAPOTE"]
[null,null,null,null,null,null,null,null,null,null,null,null,null,null,null,null,null,null,80086,"COMPLEJO EDUCATIVO ALICIA CISNEROS DE ZELAYANDIA"]
[null,null,null,null,null,null,null,null,null,null,null,null,null,null,null,null,null,null,80089,"CENTRO ESCOLAR CASERIO GUAICUME CANTON EL ZAPOTE"]
[null,null,null,null,null,null,null,null,null,null,null,null,null,null,null,null,null,null,80090,"CENTRO ESCOLAR CASERIO LAS FLORES CANTON SAMURIA"]
[null,null,null,null,null,null,null,null,null,null,null,null,null,null,null,null,null,null,80092,"CENTRO ESCOLAR CASERIO LOS CONVENTOS CANTON SAMURIA"]
[null,null,null,null,null,null,null,null,null,null,null,null,null,null,null,null,null,null,80093,"CENTRO ESCOLAR CANTON EL JICARO"]
[null,null,null,null,null,null,null,null,null,null,null,null,null,null,null,null,null,null,80095,"CENTRO ESCOLAR CASERIO LOS HERNANDEZ CANTON LA PUERTA"]
[null,null,null,null,null,null,null,null,null,null,null,null,null,null,null,null,null,null,80097,"CENTRO ESCOLAR CASERIO COLONIA LAS FLORES CANTON SANTA ANITA"]
[null,null,null,null,null,null,null,null,null,null,null,null,null,null,null,null,null,null,80100,"CENTRO ESCOLAR CASERIO CUATRO PUERTAS CANTON AZACUALPIA DE JOCO"]
[null,null,null,null,null,null,null,null,null,null,null,null,null,null,null,null,null,null,80101,"CENTRO ESCOLAR CANTON EL AMATILLO"]
[null,null,null,null,null,null,null,null,null,null,null,null,null,null,null,null,null,null,80103,"CENTRO ESCOLAR CANTON PALOMIA DE GUALCHO"]
[null,null,null,null,null,null,null,null,null,null,null,null,null,null,null,null,null,null,80104,"CENTRO ESCOLAR CASERIO EL JUGUETE CANTON EL PALMITAL"]
[null,null,null,null,null,null,null,null,null,null,null,null,null,null,null,null,null,null,80106,"CENTRO ESCOLAR CASERIO LA PUERTA DEL CANTON LA POZA "]
[null,null,null,null,null,null,null,null,null,null,null,null,null,null,null,null,null,null,80107,"CENTRO ESCOLAR CASERIO LOS MARTINEZ CANTON LA POZA"]
[null,null,null,null,null,null,null,null,null,null,null,null,null,null,null,null,null,null,80110,"CENTRO ESCOLAR CASERIO EL ICACO CANTON CORRAL DE MULAS"]
[null,null,null,null,null,null,null,null,null,null,null,null,null,null,null,null,null,null,80111,"CENTRO ESCOLAR CASERIO EL RETIRO CANTON CORRAL DE MULAS I"]
[null,null,null,null,null,null,null,null,null,null,null,null,null,null,null,null,null,null,80113,"CENTRO ESCOLAR CANTON ISLA MADRESAL"]
[null,null,null,null,null,null,null,null,null,null,null,null,null,null,null,null,null,null,80115,"CENTRO ESCOLAR CANTON CEIBA DOBLADA"]
[null,null,null,null,null,null,null,null,null,null,null,null,null,null,null,null,null,null,80118,"COMPLEJO EDUCATIVO CANTON BUENOS AIRES"]
[null,null,null,null,null,null,null,null,null,null,null,null,null,null,null,null,null,null,80119,"CENTRO ESCOLAR CANTON EL COROZO"]
[null,null,null,null,null,null,null,null,null,null,null,null,null,null,null,null,null,null,80122,"CENTRO ESCOLAR CANTON LINARES CAULOTAL"]
[null,null,null,null,null,null,null,null,null,null,null,null,null,null,null,null,null,null,80123,"CENTRO ESCOLAR CANTON LOS PLANES"]
[null,null,null,null,null,null,null,null,null,null,null,null,null,null,null,null,null,null,80127,"CENTRO ESCOLAR CANTON ISLA SAN SEBASTIAN"]
[null,null,null,null,null,null,null,null,null,null,null,null,null,null,null,null,null,null,80128,"COMPLEJO EDUCATIVO CASERIO LA PIRRAYA CANTON ISLA SAN SEBASTIAN"]
[null,null,null,null,null,null,null,null,null,null,null,null,null,null,null,null,null,null,80131,"CENTRO ESCOLAR CASERIO CHAVEZ SUR CANTON CERRO EL NANZAL"]
[null,null,null,null,null,null,null,null,null,null,null,null,null,null,null,null,null,null,80132,"CENTRO ESCOLAR CANTON EL NISPERAL"]
[null,null,null,null,null,null,null,null,null,null,null,null,null,null,null,null,null,null,80136,"CENTRO ESCOLAR CANTON JOYA ANCHA ARRIBA"]
[null,null,null,null,null,null,null,null,null,null,null,null,null,null,null,null,null,null,80138," CENTRO ESCOLAR CASERIO LOS GONZALEZ CANTON EL AMATE"]
[null,null,null,null,null,null,null,null,null,null,null,null,null,null,null,null,null,null,80140,"CENTRO ESCOLAR CANTON EL PALMO"]
[null,null,null,null,null,null,null,null,null,null,null,null,null,null,null,null,null,null,80141,"CENTRO ESCOLAR CANTON EL ZUNGANO"]
[null,null,null,null,null,null,null,null,null,null,null,null,null,null,null,null,null,null,80143,"CENTRO ESCOLAR CANTON LA CRUZ"]
[null,null,null,null,null,null,null,null,null,null,null,null,null,null,null,null,null,null,80144,"CENTRO ESCOLAR CANTON LA PEÑA SAN FRANCISCO JAVIER"]
[null,null,null,null,null,null,null,null,null,null,null,null,null,null,null,null,null,null,80148,"CENTRO ESCOLAR CASERIO FLOR DE LIZ CANTON LAS FLORES"]
[null,null,null,null,null,null,null,null,null,null,null,null,null,null,null,null,null,null,80149,"CENTRO ESCOLAR CASERIO LOS LUNA CANTON LAS PLAYITAS"]
[null,null,null,null,null,null,null,null,null,null,null,null,null,null,null,null,null,null,80151,"CENTRO ESCOLAR CANTON EL JICARO"]
[null,null,null,null,null,null,null,null,null,null,null,null,null,null,null,null,null,null,80153,"CENTRO ESCOLAR CASERIO HACIENDA LA VIOLETA CANTON LOS ARENALES"]
[null,null,null,null,null,null,null,null,null,null,null,null,null,null,null,null,null,null,80156,"CENTRO ESCOLAR PROFESORA SANDRA ESPERANZA RODRIGUEZ DE RODRIGUEZ"]
[null,null,null,null,null,null,null,null,null,null,null,null,null,null,null,null,null,null,80157,"CENTRO ESCOLAR CASERIO SAN JAIME"]
[null,null,null,null,null,null,null,null,null,null,null,null,null,null,null,null,null,null,80160,"CENTRO ESCOLAR LICENCIADA YESSICA YANIRA SANCHEZ CONTRERAS"]
[null,null,null,null,null,null,null,null,null,null,null,null,null,null,null,null,null,null,80162,"CENTRO ESCOLAR CANTON LA PEÑA"]
[null,null,null,null,null,null,null,null,null,null,null,null,null,null,null,null,null,null,80166,"CENTRO ESCOLAR CASERIO COMUNIDAD EL AMATE II"]
[null,null,null,null,null,null,null,null,null,null,null,null,null,null,null,null,null,null,80168,"CENTRO ESCOLAR CASERIO LOS NIETOS CANTON EL MARQUEZANO"]
[null,null,null,null,null,null,null,null,null,null,null,null,null,null,null,null,null,null,80170,"CENTRO ESCOLAR CANTON EL CARRIZAL"]
[null,null,null,null,null,null,null,null,null,null,null,null,null,null,null,null,null,null,80171,"CENTRO ESCOLAR CASERIO LA FLORIDA,  DEL CANTON PASO DE GUALACHE"]
[null,null,null,null,null,null,null,null,null,null,null,null,null,null,null,null,null,null,80174,"CENTRO ESCOLAR CANTON LAS LLAVES"]
[null,null,null,null,null,null,null,null,null,null,null,null,null,null,null,null,null,null,80176,"CENTRO ESCOLAR CASERIO LA JOYA"]
[null,null,null,null,null,null,null,null,null,null,null,null,null,null,null,null,null,null,80179,"CENTRO ESCOLAR CASERIO LOS LIMONES CANTON SAN ANTONIO"]
[null,null,null,null,null,null,null,null,null,null,null,null,null,null,null,null,null,null,80180,"CENTRO ESCOLAR CASERIO AGUA FRIA CANTON EL ZAPOTE"]
[null,null,null,null,null,null,null,null,null,null,null,null,null,null,null,null,null,null,82002,"CENTRO ESCOLAR CASERIO LOS BONETES CANTON CEIBITA"]
[null,null,null,null,null,null,null,null,null,null,null,null,null,null,null,null,null,null,82003,"CENTRO ESCOLAR CASERIO VALLE NUEVO CANTON LA CEIBITA"]
[null,null,null,null,null,null,null,null,null,null,null,null,null,null,null,null,null,null,82005,"CENTRO ESCOLAR CASERIO EL CERRITO"]
[null,null,null,null,null,null,null,null,null,null,null,null,null,null,null,null,null,null,82006,"CENTRO ESCOLAR CANTON CERRO MIRACAPA"]
[null,null,null,null,null,null,null,null,null,null,null,null,null,null,null,null,null,null,82009,"CENTRO ESCOLAR CASERIO LOS RIVERA CANTON CERRO MIRACAPA"]
[null,null,null,null,null,null,null,null,null,null,null,null,null,null,null,null,null,null,82011,"CENTRO ESCOLAR CACERIO LA LOMA CANTON ROSAS NACASPILO"]
[null,null,null,null,null,null,null,null,null,null,null,null,null,null,null,null,null,null,82013,"CENTRO ESCOLAR CASERIO LA PITAYA CANTON SOLEDAD TERRERO"]
[null,null,null,null,null,null,null,null,null,null,null,null,null,null,null,null,null,null,82014,"CENTRO ESCOLAR CANTON SANTA CLARA"]
[null,null,null,null,null,null,null,null,null,null,null,null,null,null,null,null,null,null,82016,"CENTRO ESCOLAR PROFESOR DAVID ANTONIO LOPEZ COREAS"]
[null,null,null,null,null,null,null,null,null,null,null,null,null,null,null,null,null,null,82017,"CENTRO ESCOLAR CASERIO LAS PALMERAS CANTON BELEN"]
[null,null,null,null,null,null,null,null,null,null,null,null,null,null,null,null,null,null,82020,"CENTRO ESCOLAR CANTON LA MONTAÑITA"]
[null,null,null,null,null,null,null,null,null,null,null,null,null,null,null,null,null,null,82021,"CENTRO ESCOLAR CASERIO EL BOSQUE CANTON SAN CRISTOBAL"]
[null,null,null,null,null,null,null,null,null,null,null,null,null,null,null,null,null,null,82023,"CENTRO ESCOLAR CASERIO LA ANGOSTURA CANTON SAN JUAN"]
[null,null,null,null,null,null,null,null,null,null,null,null,null,null,null,null,null,null,82024,"CENTRO ESCOLAR CASERIO JOYA GRANDE CANTON SAN JUAN"]
[null,null,null,null,null,null,null,null,null,null,null,null,null,null,null,null,null,null,82026,"CENTRO ESCOLAR CASERIO EL CAULOTE CANTON SAN LUISITO"]
[null,null,null,null,null,null,null,null,null,null,null,null,null,null,null,null,null,null,82027,"CENTRO ESCOLAR CASERIO LA ARENERA CANTON SAN MATIAS"]
[null,null,null,null,null,null,null,null,null,null,null,null,null,null,null,null,null,null,82030,"CENTRO ESCOLAR CASERIO LA CRUZ CANTON CERCA DE PIEDRA"]
[null,null,null,null,null,null,null,null,null,null,null,null,null,null,null,null,null,null,82031,"CENTRO ESCOLAR CASERIO EL PICACHO CANTON CERCA DE PIEDRA"]
[null,null,null,null,null,null,null,null,null,null,null,null,null,null,null,null,null,null,82033,"CENTRO ESCOLAR HACIENDA TAMERA CANTON HUALAMA"]
[null,null,null,null,null,null,null,null,null,null,null,null,null,null,null,null,null,null,82034,"CENTRO ESCOLAR CANTON SAN JERONIMO"]
[null,null,null,null,null,null,null,null,null,null,null,null,null,null,null,null,null,null,82038,"CENTRO ESCOLAR CANTON SINGALTIQUE"]
[null,null,null,null,null,null,null,null,null,null,null,null,null,null,null,null,null,null,82039,"CENTRO ESCOLAR JOSE ARLE CUADRA"]
[null,null,null,null,null,null,null,null,null,null,null,null,null,null,null,null,null,null,82042,"CENTRO ESCOLAR CASERIO LOS PAJARITOS CANTON TIERRA BLANCA"]
[null,null,null,null,null,null,null,null,null,null,null,null,null,null,null,null,null,null,82043,"CENTRO ESCOLAR CASERIO LOS RILLITOS CANTON LA ESTRECHURA"]
[null,null,null,null,null,null,null,null,null,null,null,null,null,null,null,null,null,null,82045,"CENTRO ESCOLAR CASERIO LLANO LAS ROSAS CANTON GUALOSO"]
[null,null,null,null,null,null,null,null,null,null,null,null,null,null,null,null,null,null,82046,"CENTRO ESCOLAR CANTON CALLE NUEVA"]
[null,null,null,null,null,null,null,null,null,null,null,null,null,null,null,null,null,null,82049,"CENTRO ESCOLAR CASERIO EL LLANITO"]
[null,null,null,null,null,null,null,null,null,null,null,null,null,null,null,null,null,null,82051,"CENTRO ESCOLAR CASERIO VADO MARIN CANTON MOROPALA"]
[null,null,null,null,null,null,null,null,null,null,null,null,null,null,null,null,null,null,82057,"CENTRO ESCOLAR CANTON PRIMAVERA DOS"]
[null,null,null,null,null,null,null,null,null,null,null,null,null,null,null,null,null,null,82059,"CENTRO ESCOLAR CASERIO CONACASTILLO"]
[null,null,null,null,null,null,null,null,null,null,null,null,null,null,null,null,null,null,82061,"CENTRO ESCOLAR CASERIO EL GUACHIPILIN CANTON AMAYA"]
[null,null,null,null,null,null,null,null,null,null,null,null,null,null,null,null,null,null,82062,"CENTRO ESCOLAR CASERIO LAS LAJAS"]
[null,null,null,null,null,null,null,null,null,null,null,null,null,null,null,null,null,null,82064,"CENTRO ESCOLAR CANTON EL JICARO"]
[null,null,null,null,null,null,null,null,null,null,null,null,null,null,null,null,null,null,82066,"CENTRO ESCOLAR CASERIO LAS ANONAS CANTON EL PALON"]
[null,null,null,null,null,null,null,null,null,null,null,null,null,null,null,null,null,null,82068,"CENTRO ESCOLAR CANTON LAS VENTAS"]
[null,null,null,null,null,null,null,null,null,null,null,null,null,null,null,null,null,null,82069,"CENTRO ESCOLAR CANTON SAN FRANCISCO"]
[null,null,null,null,null,null,null,null,null,null,null,null,null,null,null,null,null,null,82074,"CENTRO ESCOLAR CANTON SAN RAFAEL DE LABRA"]
[null,null,null,null,null,null,null,null,null,null,null,null,null,null,null,null,null,null,82075,"CENTRO ESCOLAR CANTON EL CERRO"]
[null,null,null,null,null,null,null,null,null,null,null,null,null,null,null,null,null,null,82079,"CENTRO ESCOLAR AMOR Y PAZ"]
[null,null,null,null,null,null,null,null,null,null,null,null,null,null,null,null,null,null,82080,"CENTRO ESCOLAR CASERIO AMERICA CANTON EL PAPALON"]
[null,null,null,null,null,null,null,null,null,null,null,null,null,null,null,null,null,null,82087,"CENTRO ESCOLAR CANTON SANTA BARBARA"]
[null,null,null,null,null,null,null,null,null,null,null,null,null,null,null,null,null,null,82088,"CENTRO ESCOLAR CASERIO OJO DE AGUA CANTON SANTA BARBARA"]
[null,null,null,null,null,null,null,null,null,null,null,null,null,null,null,null,null,null,82091,"CENTRO ESCOLAR CANTON EL JARDIN"]
[null,null,null,null,null,null,null,null,null,null,null,null,null,null,null,null,null,null,82092," CENTRO ESCOLAR CASERIO LA ADOBERA CANTON EL JARDIN"]
[null,null,null,null,null,null,null,null,null,null,null,null,null,null,null,null,null,null,82094,"CENTRO ESCOLAR CASERIO HACIENDA LAS PAMPAS CANTON MONTECILLOS"]
[null,null,null,null,null,null,null,null,null,null,null,null,null,null,null,null,null,null,82095,"CENTRO ESCOLAR CANTON QUESERAS"]
[null,null,null,null,null,null,null,null,null,null,null,null,null,null,null,null,null,null,82097,"CENTRO ESCOLAR CASERIO LA LAGUNA CANTON SAN DIEGO"]
[null,null,null,null,null,null,null,null,null,null,null,null,null,null,null,null,null,null,82098,"CENTRO ESCOLAR CASERIO LA FRAGUA"]
[null,null,null,null,null,null,null,null,null,null,null,null,null,null,null,null,null,null,82101,"CENTRO ESCOLAR CASERIO TALPETATE CANTON SAN MARCOS"]
[null,null,null,null,null,null,null,null,null,null,null,null,null,null,null,null,null,null,82102,"CENTRO ESCOLAR CANTON QUEBRACHO"]
[null,null,null,null,null,null,null,null,null,null,null,null,null,null,null,null,null,null,82105,"CENTRO ESCOLAR CANTON LA JOYA"]
[null,null,null,null,null,null,null,null,null,null,null,null,null,null,null,null,null,null,82106,"CENTRO ESCOLAR CASERIO EL HUISCOYOL CANTON LA LAGUNA"]
[null,null,null,null,null,null,null,null,null,null,null,null,null,null,null,null,null,null,82108,"CENTRO ESCOLAR CASERIO LA VEGA"]
[null,null,null,null,null,null,null,null,null,null,null,null,null,null,null,null,null,null,82109,"CENTRO ESCOLAR CASERIO BELENCITO"]
[null,null,null,null,null,null,null,null,null,null,null,null,null,null,null,null,null,null,82112,"CENTRO ESCOLAR CANTON SAN ANTONIO "]
[null,null,null,null,null,null,null,null,null,null,null,null,null,null,null,null,null,null,82113,"CENTRO ESCOLAR CASERIO LAS ARADAS CANTON SAN ANTONIO"]
[null,null,null,null,null,null,null,null,null,null,null,null,null,null,null,null,null,null,82115,"CENTRO ESCOLAR CANTON SAN JUAN"]
[null,null,null,null,null,null,null,null,null,null,null,null,null,null,null,null,null,null,82116,"CENTRO ESCOLAR CASERIO GUALUCA CANTON EL BRAZO"]
[null,null,null,null,null,null,null,null,null,null,null,null,null,null,null,null,null,null,82118,"CENTRO ESCOLAR CASERIO EL UNO"]
[null,null,null,null,null,null,null,null,null,null,null,null,null,null,null,null,null,null,82119,"CENTRO ESCOLAR CASERIO EL MORAL CANTON TECOMATAL"]
[null,null,null,null,null,null,null,null,null,null,null,null,null,null,null,null,null,null,82122,"CENTRO ESCOLAR FRANCISCO ANTONIO SILVA"]
[null,null,null,null,null,null,null,null,null,null,null,null,null,null,null,null,null,null,82123,"CENTRO ESCOLAR CASERIO EL MACHO CANTON LOS ZELAYA"]
[null,null,null,null,null,null,null,null,null,null,null,null,null,null,null,null,null,null,82126,"CENTRO ESCOLAR CASERIO EL MANGO CANTON SANTA CLARA"]
[null,null,null,null,null,null,null,null,null,null,null,null,null,null,null,null,null,null,82127,"CENTRO ESCOLAR CANTON CHARLACA "]
[null,null,null,null,null,null,null,null,null,null,null,null,null,null,null,null,null,null,82129,"CENTRO ESCOLAR CASERIO SAN NICOLAS CANTON CHARLACA"]
[null,null,null,null,null,null,null,null,null,null,null,null,null,null,null,null,null,null,82130,"CENTRO ESCOLAR CANTON EL ESPIRITU SANTO"]
[null,null,null,null,null,null,null,null,null,null,null,null,null,null,null,null,null,null,82133,"CENTRO ESCOLAR CASERIO SAN JOSE LAS FLORES CANTON EL TABLON"]
[null,null,null,null,null,null,null,null,null,null,null,null,null,null,null,null,null,null,82134,"CENTRO ESCOLAR CANTON LAS MESAS"]
[null,null,null,null,null,null,null,null,null,null,null,null,null,null,null,null,null,null,82136,"CENTRO ESCOLAR FE Y ESPERANZA CASERIO LA VEGA"]
[null,null,null,null,null,null,null,null,null,null,null,null,null,null,null,null,null,null,82137,"CENTRO ESCOLAR CASERIO LLANO EL AMATE CANTON LAS MESAS"]
[null,null,null,null,null,null,null,null,null,null,null,null,null,null,null,null,null,null,82139,"CENTRO ESCOLAR CASERIO CORDONCILIO CANTON MANAGUARA"]
[null,null,null,null,null,null,null,null,null,null,null,null,null,null,null,null,null,null,82140,"CENTRO ESCOLAR CASERIO LIMONES CANTON MANAGUARA"]
[null,null,null,null,null,null,null,null,null,null,null,null,null,null,null,null,null,null,82142,"CENTRO ESCOLAR CASERIO SAN JORGE CANTON MAZATEPEQUE"]
[null,null,null,null,null,null,null,null,null,null,null,null,null,null,null,null,null,null,82143,"CENTRO ESCOLAR CASERIO EL COYOL CANTON MAZATEPEQUE"]
[null,null,null,null,null,null,null,null,null,null,null,null,null,null,null,null,null,null,82146,"CENTRO ESCOLAR CANTON SANTA ROSA"]
[null,null,null,null,null,null,null,null,null,null,null,null,null,null,null,null,null,null,82147,"CENTRO ESCOLAR CASERIO LOS VILLACORTA CANTON SANTA ROSA"]
[null,null,null,null,null,null,null,null,null,null,null,null,null,null,null,null,null,null,82149,"CENTRO ESCOLAR CANTON EL JUNQUILLO"]
[null,null,null,null,null,null,null,null,null,null,null,null,null,null,null,null,null,null,82150,"CENTRO ESCOLAR CASERIO SANTA ANITA CANTON LA CEIBITA"]
[null,null,null,null,null,null,null,null,null,null,null,null,null,null,null,null,null,null,82152,"CENTRO ESCOLAR CASERIO LLANO EL HIGO CANTON EL CERRO"]
[null,null,null,null,null,null,null,null,null,null,null,null,null,null,null,null,null,null,82153,"CENTRO ESCOLAR CASERIO EL CHIRRION CANTON PIEDRA AZUL"]
[null,null,null,null,null,null,null,null,null,null,null,null,null,null,null,null,null,null,82156,"CENTRO ESCOLAR CASERIO CORRAL FALSO CANTON LA TRINIDAD"]
[null,null,null,null,null,null,null,null,null,null,null,null,null,null,null,null,null,null,82157,"CENTRO ESCOLAR CASERIO SICAHUITE CANTON SAN DIEGO"]
[null,null,null,null,null,null,null,null,null,null,null,null,null,null,null,null,null,null,82159,"CENTRO ESCOLAR CASERIO HACIENDA CANDELARIA CANTON LA JOYA SAN GERARDO"]
[null,null,null,null,null,null,null,null,null,null,null,null,null,null,null,null,null,null,82160,"CENTRO ESCOLAR CANTON MONTECILLOS"]
[null,null,null,null,null,null,null,null,null,null,null,null,null,null,null,null,null,null,84002,"CENTRO ESCOLAR CASERIO LAS QUEBRADAS CANTON PUEBLO VIEJO"]
[null,null,null,null,null,null,null,null,null,null,null,null,null,null,null,null,null,null,84003,"CENTRO ESCOLAR CASERIO CUMARO CANTON TIERRA COLORADA"]
[null,null,null,null,null,null,null,null,null,null,null,null,null,null,null,null,null,null,84006,"CENTRO ESCOLAR CASERIO EL LLANO CANTON AGUA BLANCA"]
[null,null,null,null,null,null,null,null,null,null,null,null,null,null,null,null,null,null,84007,"CENTRO ESCOLAR CANTON CALAVERA"]
[null,null,null,null,null,null,null,null,null,null,null,null,null,null,null,null,null,null,84009,"CENTRO ESCOLAR CASERIO TIERRA BLANCA CANTON ESTANCIA"]
[null,null,null,null,null,null,null,null,null,null,null,null,null,null,null,null,null,null,84010,"CENTRO ESCOLAR CASERIO LA GUARA CANTON SUNSULACA"]
[null,null,null,null,null,null,null,null,null,null,null,null,null,null,null,null,null,null,84012,"CENTRO ESCOLAR CANTON CORRALITO"]
[null,null,null,null,null,null,null,null,null,null,null,null,null,null,null,null,null,null,84013,"CENTRO ESCOLAR CASERIO CERRO DE LA NUBE CANTON CORRALITO"]
[null,null,null,null,null,null,null,null,null,null,null,null,null,null,null,null,null,null,84016,"CENTRO ESCOLAR CASERIO LAS MARIAS CANTON CORRALITO"]
[null,null,null,null,null,null,null,null,null,null,null,null,null,null,null,null,null,null,84017,"CENTRO ESCOLAR CASERIO HACIENDA VIEJA CANTON CORRALITO"]
[null,null,null,null,null,null,null,null,null,null,null,null,null,null,null,null,null,null,84019,"CENTRO ESCOLAR CASERIO MATAPALO II CANTON CORRALITO"]
[null,null,null,null,null,null,null,null,null,null,null,null,null,null,null,null,null,null,84020,"CENTRO ESCOLAR CASERIO PIEDRA PARADA CANTON HONDABLE "]
[null,null,null,null,null,null,null,null,null,null,null,null,null,null,null,null,null,null,84022,"CENTRO ESCOLAR CASERIO LA PATERNA CANTON HONDABLE"]
[null,null,null,null,null,null,null,null,null,null,null,null,null,null,null,null,null,null,84023,"CENTRO ESCOLAR CASERIO LLANO VERDE CANTON HONDABLE"]
[null,null,null,null,null,null,null,null,null,null,null,null,null,null,null,null,null,null,84026,"CENTRO ESCOLAR CASERIO LOS FUENTES CANTON LA LAGUNA CORINTO"]
[null,null,null,null,null,null,null,null,null,null,null,null,null,null,null,null,null,null,84027,"COMPLEJO EDUCATIVO CASERIO LA ERMITA"]
[null,null,null,null,null,null,null,null,null,null,null,null,null,null,null,null,null,null,84029,"CENTRO ESCOLAR CASERIO QUEBRADA HONDA CANTON SAN FELIPE"]
[null,null,null,null,null,null,null,null,null,null,null,null,null,null,null,null,null,null,84030,"CENTRO ESCOLAR CASERIO BABILONIA CANTON SAN FELIPE"]
[null,null,null,null,null,null,null,null,null,null,null,null,null,null,null,null,null,null,84032,"CENTRO ESCOLAR CASERIO LOS MENDEZ CANTON VARILLA NEGRA"]
[null,null,null,null,null,null,null,null,null,null,null,null,null,null,null,null,null,null,84033,"CENTRO ESCOLAR CASERIO COPALIO CANTON VARILLA NEGRA"]
[null,null,null,null,null,null,null,null,null,null,null,null,null,null,null,null,null,null,84036,"CENTRO ESCOLAR CASERIO LOS FERRUFINO"]
[null,null,null,null,null,null,null,null,null,null,null,null,null,null,null,null,null,null,84037,"CENTRO ESCOLAR CASERIO LOS MATA CANTON LAJITAS"]
[null,null,null,null,null,null,null,null,null,null,null,null,null,null,null,null,null,null,84039,"CENTRO ESCOLAR CANTON PIEDRA PARADA"]
[null,null,null,null,null,null,null,null,null,null,null,null,null,null,null,null,null,null,84040,"CENTRO ESCOLAR CASERIO LOS SANCHEZ CANTON PIEDRA PARADA"]
[null,null,null,null,null,null,null,null,null,null,null,null,null,null,null,null,null,null,84042,"CENTRO ESCOLAR CASERIO LA CUCHILLA CANTON LA CUCHILLA"]
[null,null,null,null,null,null,null,null,null,null,null,null,null,null,null,null,null,null,84043,"CENTRO ESCOLAR CASERIO LOS VENTURA CANTON EL VOLCAN"]
[null,null,null,null,null,null,null,null,null,null,null,null,null,null,null,null,null,null,84045,"CENTRO ESCOLAR CANTON OJOS DE AGUA"]
[null,null,null,null,null,null,null,null,null,null,null,null,null,null,null,null,null,null,84046,"CENTRO ESCOLAR CANTON LA JOYA"]
[null,null,null,null,null,null,null,null,null,null,null,null,null,null,null,null,null,null,84049,"CENTRO ESCOLAR CANTON SAN LUCAS"]
[null,null,null,null,null,null,null,null,null,null,null,null,null,null,null,null,null,null,84050,"CENTRO ESCOLAR CANTON LOS ABELINES"]
[null,null,null,null,null,null,null,null,null,null,null,null,null,null,null,null,null,null,84052,"CENTRO ESCOLAR CASERIO EL RETEN CANTON CIRIGUAL"]
[null,null,null,null,null,null,null,null,null,null,null,null,null,null,null,null,null,null,84053,"CENTRO ESCOLAR CASERIO EL VOLCAN CANTON MAIGUERA"]
[null,null,null,null,null,null,null,null,null,null,null,null,null,null,null,null,null,null,84055,"CENTRO ESCOLAR CASERIO EL GUALABO CANTON SAN BARTOLO"]
[null,null,null,null,null,null,null,null,null,null,null,null,null,null,null,null,null,null,84056,"CENTRO ESCOLAR CASERIO LOS AMATES CANTON SAN BARTOLO"]
[null,null,null,null,null,null,null,null,null,null,null,null,null,null,null,null,null,null,84059,"CENTRO ESCOLAR CASERIO EL CAPULIN CANTON VOLCANCILLO"]
[null,null,null,null,null,null,null,null,null,null,null,null,null,null,null,null,null,null,84061,"CENTRO ESCOLAR CASERIO LAS CAÑAS CANTON VOLCANCILLO"]
[null,null,null,null,null,null,null,null,null,null,null,null,null,null,null,null,null,null,84063,"CENTRO ESCOLAR CASERIO LOS PLANES CANTON VOLCANCILLO"]
[null,null,null,null,null,null,null,null,null,null,null,null,null,null,null,null,null,null,84064,"CENTRO ESCOLAR CANTON EL ZAPOTAL"]
[null,null,null,null,null,null,null,null,null,null,null,null,null,null,null,null,null,null,84066,"CENTRO ESCOLAR CANTON PATURLA"]
[null,null,null,null,null,null,null,null,null,null,null,null,null,null,null,null,null,null,84067,"CENTRO ESCOLAR CASERIO EL RINCON CANTON EL RODEO"]
[null,null,null,null,null,null,null,null,null,null,null,null,null,null,null,null,null,null,84070,"CENTRO ESCOLAR CASERIO LOS LAZOS CANTON GUACHIPILIN  "]
[null,null,null,null,null,null,null,null,null,null,null,null,null,null,null,null,null,null,84071,"CENTRO ESCOLAR CASERIO LAURELES ARRIBA CANTON LOS LAURELES"]
[null,null,null,null,null,null,null,null,null,null,null,null,null,null,null,null,null,null,84073,"CENTRO ESCOLAR CASERIO EL ACHIOTE CANTON LOS LAURELES"]
[null,null,null,null,null,null,null,null,null,null,null,null,null,null,null,null,null,null,84074,"CENTRO ESCOLAR CASERIO SAN JUAN ARRIBA CANTON SAN JUAN"]
[null,null,null,null,null,null,null,null,null,null,null,null,null,null,null,null,null,null,84076,"CENTRO ESCOLAR CASERIO GUAJINIQUIL CANTON CERRO PANDO"]
[null,null,null,null,null,null,null,null,null,null,null,null,null,null,null,null,null,null,84077,"CENTRO ESCOLAR CASERIO EL TABLON CANTON CERRO PANDO"]
[null,null,null,null,null,null,null,null,null,null,null,null,null,null,null,null,null,null,84080,"CENTRO ESCOLAR CASERIO LA LOMA CANTON AGUA ZARCA"]
[null,null,null,null,null,null,null,null,null,null,null,null,null,null,null,null,null,null,84081,"CENTRO ESCOLAR CASERIO EL TABLON CANTON AGUA ZARCA"]
[null,null,null,null,null,null,null,null,null,null,null,null,null,null,null,null,null,null,84083,"CENTRO ESCOLAR CASERIO EL VOLCANCILLO CANTON CASA BLANCA"]
[null,null,null,null,null,null,null,null,null,null,null,null,null,null,null,null,null,null,84084,"CENTRO ESCOLAR CASERIO JOYA DE TALCHIGA CANTON CASA BLANCA"]
[null,null,null,null,null,null,null,null,null,null,null,null,null,null,null,null,null,null,84086,"CENTRO ESCOLAR CASERIO LOS GRANADOS CANTON VALLE NUEVO"]
[null,null,null,null,null,null,null,null,null,null,null,null,null,null,null,null,null,null,84087,"CENTRO ESCOLAR CASERIO OCOTILLO CANTON AZACUALPA"]
[null,null,null,null,null,null,null,null,null,null,null,null,null,null,null,null,null,null,84090,"CENTRO ESCOLAR CASERIO SANTA CATARINA CANTON CAÑAVERALES"]
[null,null,null,null,null,null,null,null,null,null,null,null,null,null,null,null,null,null,84091,"CENTRO ESCOLAR CANTON EL ROSARIO"]
[null,null,null,null,null,null,null,null,null,null,null,null,null,null,null,null,null,null,84093,"CENTRO ESCOLAR CASERIO SEQUIA DE AGUA CANTON PIEDRA PARADA"]
[null,null,null,null,null,null,null,null,null,null,null,null,null,null,null,null,null,null,84094,"COMPLEJO EDUCATIVO CANTON EL CARRIZAL"]
[null,null,null,null,null,null,null,null,null,null,null,null,null,null,null,null,null,null,84096,"CENTRO ESCOLAR CANTON VALLE GRANDE"]
[null,null,null,null,null,null,null,null,null,null,null,null,null,null,null,null,null,null,84097,"CENTRO ESCOLAR CASERIO EL MATAZANO CANTON VALLE GRANDE"]
[null,null,null,null,null,null,null,null,null,null,null,null,null,null,null,null,null,null,84101,"CENTRO ESCOLAR CASERIO EL JICARO CANTON CALPULES"]
[null,null,null,null,null,null,null,null,null,null,null,null,null,null,null,null,null,null,84102,"CENTRO ESCOLAR CASERIO MARTIN BARO CANTON LA JOYA"]
[null,null,null,null,null,null,null,null,null,null,null,null,null,null,null,null,null,null,84104,"CENTRO ESCOLAR CASERIO SAN JOSE CUREÑAS CANTON TIJERETAS"]
[null,null,null,null,null,null,null,null,null,null,null,null,null,null,null,null,null,null,84105,"CENTRO ESCOLAR CASERIO LA JOYA CANTON TIJERETAS"]
[null,null,null,null,null,null,null,null,null,null,null,null,null,null,null,null,null,null,84107,"CENTRO ESCOLAR CASERIO LOS CIMIENTOS CANTON JOYA EL MATAZANO"]
[null,null,null,null,null,null,null,null,null,null,null,null,null,null,null,null,null,null,84108,"CENTRO ESCOLAR CASERIO LA GUARUMA CANTON SAN FRANCISQUITO"]
[null,null,null,null,null,null,null,null,null,null,null,null,null,null,null,null,null,null,84111,"CENTRO ESCOLAR CASERIO PUEBLO VIEJO CANTON EL VOLCAN"]
[null,null,null,null,null,null,null,null,null,null,null,null,null,null,null,null,null,null,84112,"CENTRO ESCOLAR CASERIO EL CHICHIPATE CANTON EL VOLCAN"]
[null,null,null,null,null,null,null,null,null,null,null,null,null,null,null,null,null,null,84115,"CENTRO ESCOLAR GEREMIAS VENTURA"]
[null,null,null,null,null,null,null,null,null,null,null,null,null,null,null,null,null,null,84116,"COMPLEJO EDUCATIVO CASERIO EL RODEO, CANTON ESTANCIA"]
[null,null,null,null,null,null,null,null,null,null,null,null,null,null,null,null,null,null,84118,"CENTRO ESCOLAR CASERIO TIQUISERA CANTON POTRERO ADENTRO"]
[null,null,null,null,null,null,null,null,null,null,null,null,null,null,null,null,null,null,84119,"CENTRO ESCOLAR CASERIO EL COPANTE CANTON ESTANCIA"]
[null,null,null,null,null,null,null,null,null,null,null,null,null,null,null,null,null,null,84121,"COMPLEJO EDUCATIVO CASERIO RANCHO QUEMADO CANTON CASA BLANCA"]
[null,null,null,null,null,null,null,null,null,null,null,null,null,null,null,null,null,null,84122,"CENTRO ESCOLAR ANA JULIA Y CARMELINA MEJIA RAMIREZ"]
[null,null,null,null,null,null,null,null,null,null,null,null,null,null,null,null,null,null,84125,"CENTRO ESCOLAR HENRY ORTIZ"]
[null,null,null,null,null,null,null,null,null,null,null,null,null,null,null,null,null,null,84126,"CENTRO ESCOLAR MARIA PAZ CRISTINA MONTES"]
[null,null,null,null,null,null,null,null,null,null,null,null,null,null,null,null,null,null,86002,"CENTRO ESCOLAR CASERIO LOS MEDRANO CANTON AGUA BLANCA"]
[null,null,null,null,null,null,null,null,null,null,null,null,null,null,null,null,null,null,86004,"CENTRO ESCOLAR CASERIO LA MONTAÑITA CANTON AGUA BLANCA"]
[null,null,null,null,null,null,null,null,null,null,null,null,null,null,null,null,null,null,86006,"CENTRO ESCOLAR CASERIO EL ALTO CANTON CEDROS"]
[null,null,null,null,null,null,null,null,null,null,null,null,null,null,null,null,null,null,86007,"CENTRO ESCOLAR CASERIO LOS CRUZ CANTON CEDROS"]
[null,null,null,null,null,null,null,null,null,null,null,null,null,null,null,null,null,null,86011,"CENTRO ESCOLAR CASERIO EL ESPINALITO CANTON CORDONCILLO"]
[null,null,null,null,null,null,null,null,null,null,null,null,null,null,null,null,null,null,86012,"CENTRO ESCOLAR CASERIO LOS ZAVALA CANTON CONDORCILLO"]
[null,null,null,null,null,null,null,null,null,null,null,null,null,null,null,null,null,null,86014,"CENTRO ESCOLAR CASERIO EL SALITRE HUERTAS VIEJAS"]
[null,null,null,null,null,null,null,null,null,null,null,null,null,null,null,null,null,null,86015,"CENTRO ESCOLAR CASERIO EL ALTO CANTON HUERTAS VIEJAS "]
[null,null,null,null,null,null,null,null,null,null,null,null,null,null,null,null,null,null,86017,"CENTRO ESCOLAR CASERIO EL TAPESCO CANTON HUERTAS VIEJAS"]
[null,null,null,null,null,null,null,null,null,null,null,null,null,null,null,null,null,null,86019,"CENTRO ESCOLAR CASERIO LOS RIOS CANTON CEDROS"]
[null,null,null,null,null,null,null,null,null,null,null,null,null,null,null,null,null,null,86022,"CENTRO ESCOLAR CANTON CANDELARIA"]
[null,null,null,null,null,null,null,null,null,null,null,null,null,null,null,null,null,null,86023,"CENTRO ESCOLAR CANTON EL ZAPOTE"]
[null,null,null,null,null,null,null,null,null,null,null,null,null,null,null,null,null,null,86026,"CENTRO ESCOLAR ISMAEL AVELAR VELASQUEZ CANTON EL CACAO"]
[null,null,null,null,null,null,null,null,null,null,null,null,null,null,null,null,null,null,86027,"CENTRO ESCOLAR CANTON PIEDRAS BLANCAS"]
[null,null,null,null,null,null,null,null,null,null,null,null,null,null,null,null,null,null,86029,"CENTRO ESCOLAR CASERIO COLONIA NUEVA ESPERANZA"]
[null,null,null,null,null,null,null,null,null,null,null,null,null,null,null,null,null,null,86030,"CENTRO ESCOLAR LUIS ANDRES CACERES"]
[null,null,null,null,null,null,null,null,null,null,null,null,null,null,null,null,null,null,86034,"CENTRO ESCOLAR CANTON EL TEJAR"]
[null,null,null,null,null,null,null,null,null,null,null,null,null,null,null,null,null,null,86036,"CENTRO ESCOLAR CASERIO GUANASTAL CANTON EL ZAPOTAL"]
[null,null,null,null,null,null,null,null,null,null,null,null,null,null,null,null,null,null,86038,"CENTRO ESCOLAR CASERIO EL ESPINO CANTON LOS CONEJOS"]
[null,null,null,null,null,null,null,null,null,null,null,null,null,null,null,null,null,null,86039,"CENTRO ESCOLAR CANTON LAS PITAS"]
[null,null,null,null,null,null,null,null,null,null,null,null,null,null,null,null,null,null,86041,"CENTRO ESCOLAR CASERIO PUNTA DE NAVARRO CANTON OLOMEGA"]
[null,null,null,null,null,null,null,null,null,null,null,null,null,null,null,null,null,null,86042,"CENTRO ESCOLAR CANTON SALALAGUA"]
[null,null,null,null,null,null,null,null,null,null,null,null,null,null,null,null,null,null,86045,"CENTRO ESCOLAR CASERIO EL ESTERON CANTON EL CARAO"]
[null,null,null,null,null,null,null,null,null,null,null,null,null,null,null,null,null,null,86046,"CENTRO ESCOLAR CASERIO EL CAULOTILLO"]
[null,null,null,null,null,null,null,null,null,null,null,null,null,null,null,null,null,null,86048,"CENTRO ESCOLAR CASERIO LOS CHORROS CANTON AGUA ESCONDIDA"]
[null,null,null,null,null,null,null,null,null,null,null,null,null,null,null,null,null,null,86049,"CENTRO ESCOLAR CASERIO LAS CHACHAS CANTON EL JICARO"]
[null,null,null,null,null,null,null,null,null,null,null,null,null,null,null,null,null,null,86051,"CENTRO ESCOLAR CANTON LAS MADERAS"]
[null,null,null,null,null,null,null,null,null,null,null,null,null,null,null,null,null,null,86052,"CENTRO ESCOLAR CASERIO LA CUEVONA CANTON AGUA FRIA"]
[null,null,null,null,null,null,null,null,null,null,null,null,null,null,null,null,null,null,86055,"CENTRO ESCOLAR CASERIO LOS BENITEZ CANTON AGUA FRIA"]
[null,null,null,null,null,null,null,null,null,null,null,null,null,null,null,null,null,null,86056,"CENTRO ESCOLAR CASERIO EL RELUMBRON CANTON AGUA FRIA"]
[null,null,null,null,null,null,null,null,null,null,null,null,null,null,null,null,null,null,86059,"CENTRO ESCOLAR CASERIO EL CORRALITO CANTON EL DERRUMBADO"]
[null,null,null,null,null,null,null,null,null,null,null,null,null,null,null,null,null,null,86060,"CENTRO ESCOLAR CASERIO EL CHIQUERITO CANTON DERRUMBADO"]
[null,null,null,null,null,null,null,null,null,null,null,null,null,null,null,null,null,null,86062,"CENTRO ESCOLAR CASERIO SAN FRANCISCO CANTON TERRERO"]
[null,null,null,null,null,null,null,null,null,null,null,null,null,null,null,null,null,null,86063,"CENTRO ESCOLAR CANTON GUAJINIQUIL"]
[null,null,null,null,null,null,null,null,null,null,null,null,null,null,null,null,null,null,86065,"COMPLEJO EDUCATIVO CASERIO EL PEDERNAL CANTON GUAJINIQUIL"]
[null,null,null,null,null,null,null,null,null,null,null,null,null,null,null,null,null,null,86066,"CENTRO ESCOLAR CASERIO EL ZAPOTE CANTON GUAJINIQUIL"]
[null,null,null,null,null,null,null,null,null,null,null,null,null,null,null,null,null,null,86069,"CENTRO ESCOLAR CANTON LAS PILAS"]
[null,null,null,null,null,null,null,null,null,null,null,null,null,null,null,null,null,null,86070,"CENTRO ESCOLAR CASERIO LA ERMITA CANTON LAS PILAS"]
[null,null,null,null,null,null,null,null,null,null,null,null,null,null,null,null,null,null,86073,"CENTRO ESCOLAR CANTON EL PORTILLO"]
[null,null,null,null,null,null,null,null,null,null,null,null,null,null,null,null,null,null,86074,"CENTRO ESCOLAR CASERIO LOS VELASQUEZ CANTON EL PORTILLO"]
[null,null,null,null,null,null,null,null,null,null,null,null,null,null,null,null,null,null,86076,"CENTRO ESCOLAR CASERIO EL TULARCILLO CANTON TALPETATE"]
[null,null,null,null,null,null,null,null,null,null,null,null,null,null,null,null,null,null,86077,"CENTRO ESCOLAR CANTON HONDURITAS"]
[null,null,null,null,null,null,null,null,null,null,null,null,null,null,null,null,null,null,86080,"CENTRO ESCOLAR CASERIO LA JOYA CANTON LAS MARIAS"]
[null,null,null,null,null,null,null,null,null,null,null,null,null,null,null,null,null,null,86081,"CENTRO ESCOLAR CASERIO LOS CHORROS CANTON MONTECA"]
[null,null,null,null,null,null,null,null,null,null,null,null,null,null,null,null,null,null,86084,"CENTRO ESCOLAR CASERIO MARCALITA CANTON MONTECA"]
[null,null,null,null,null,null,null,null,null,null,null,null,null,null,null,null,null,null,86085,"CENTRO ESCOLAR CANTON CERRO PELON"]
[null,null,null,null,null,null,null,null,null,null,null,null,null,null,null,null,null,null,86088,"CENTRO ESCOLAR CASERIO LOS CAMOTES CANTON EL REBALSE"]
[null,null,null,null,null,null,null,null,null,null,null,null,null,null,null,null,null,null,86089,"CENTRO ESCOLAR CASERIO LOMA ATRAVESADA CANTON EL REBALSE"]
[null,null,null,null,null,null,null,null,null,null,null,null,null,null,null,null,null,null,86092,"CENTRO ESCOLAR CASERIO LOS CHAGUITES CANTON PIEDRAS BLANCAS"]
[null,null,null,null,null,null,null,null,null,null,null,null,null,null,null,null,null,null,86094,"CENTRO ESCOLAR CASERIO EL CORTEZAL CANTON VALLE AFUERA"]
[null,null,null,null,null,null,null,null,null,null,null,null,null,null,null,null,null,null,86096,"CENTRO ESCOLAR CANTON BARRANCONES"]
[null,null,null,null,null,null,null,null,null,null,null,null,null,null,null,null,null,null,86097,"CENTRO ESCOLAR CASERIO LA PITAHAYA CANTON BOQUIN"]
[null,null,null,null,null,null,null,null,null,null,null,null,null,null,null,null,null,null,86100,"CENTRO ESCOLAR CASERIO TORERAS CANTON LAJITAS"]
[null,null,null,null,null,null,null,null,null,null,null,null,null,null,null,null,null,null,86101,"CENTRO ESCOLAR CANTON MALALAJA"]
[null,null,null,null,null,null,null,null,null,null,null,null,null,null,null,null,null,null,86105,"CENTRO ESCOLAR CASERIO QUEBRADA HONDA CANTON EL OCOTE"]
[null,null,null,null,null,null,null,null,null,null,null,null,null,null,null,null,null,null,86106,"CENTRO ESCOLAR CASERIO EL CARRIZAL CANTON EL OCOTE"]
[null,null,null,null,null,null,null,null,null,null,null,null,null,null,null,null,null,null,86108,"CENTRO ESCOLAR CASERIO LA BOLSA CANTON BOBADILLA"]
[null,null,null,null,null,null,null,null,null,null,null,null,null,null,null,null,null,null,86110,"CENTRO ESCOLAR CASERIO EL CRUCILLAL CANTON EL COPALIO"]
[null,null,null,null,null,null,null,null,null,null,null,null,null,null,null,null,null,null,86112,"CENTRO ESCOLAR CASERIO LA MALTEZ CANTON CERCOS DE PIEDRA"]
[null,null,null,null,null,null,null,null,null,null,null,null,null,null,null,null,null,null,86113,"CENTRO ESCOLAR CANTON EL PAPALON"]
[null,null,null,null,null,null,null,null,null,null,null,null,null,null,null,null,null,null,86117,"CENTRO ESCOLAR CANTON EL NARANJO"]
[null,null,null,null,null,null,null,null,null,null,null,null,null,null,null,null,null,null,86118,"CENTRO ESCOLAR CANTON EL CHAGUITILLO"]
[null,null,null,null,null,null,null,null,null,null,null,null,null,null,null,null,null,null,86121,"CENTRO ESCOLAR CANTON EL ZAPOTE"]
[null,null,null,null,null,null,null,null,null,null,null,null,null,null,null,null,null,null,86122,"CENTRO ESCOLAR CANTON LA JOYA"]
[null,null,null,null,null,null,null,null,null,null,null,null,null,null,null,null,null,null,86124,"CENTRO ESCOLAR CASERIO LOS UMAÑA CANTON EL ALGODÓN"]
[null,null,null,null,null,null,null,null,null,null,null,null,null,null,null,null,null,null,86125,"CENTRO ESCOLAR CASERIO LA FABULOSA CANTON EL ALGODON"]
[null,null,null,null,null,null,null,null,null,null,null,null,null,null,null,null,null,null,86127,"CENTRO ESCOLAR CASERIO LOS PICACHOS CANTON LOS MOJONES"]
[null,null,null,null,null,null,null,null,null,null,null,null,null,null,null,null,null,null,86128,"CENTRO ESCOLAR CASERIO LA CEIBA CANTON LOS MOJONES"]
[null,null,null,null,null,null,null,null,null,null,null,null,null,null,null,null,null,null,86133,"CENTRO ESCOLAR CASERIO PALO GALAN CANTON LA CAÑADA"]
[null,null,null,null,null,null,null,null,null,null,null,null,null,null,null,null,null,null,86134,"CENTRO ESCOLAR CANTON SAN LUCAS"]
[null,null,null,null,null,null,null,null,null,null,null,null,null,null,null,null,null,null,86136,"CENTRO ESCOLAR CASERIO LA HUERTA CANTON GUAJINIQUIL"]
[null,null,null,null,null,null,null,null,null,null,null,null,null,null,null,null,null,null,86137,"CENTRO ESCOLAR CANTON CIRICUARIO"]
[null,null,null,null,null,null,null,null,null,null,null,null,null,null,null,null,null,null,86139,"CENTRO ESCOLAR CANTON LA LEONA"]
[null,null,null,null,null,null,null,null,null,null,null,null,null,null,null,null,null,null,86140,"CENTRO ESCOLAR CASERIO CORRALITO CANTON EL OCOTILLO"]
[null,null,null,null,null,null,null,null,null,null,null,null,null,null,null,null,null,null,86143,"CENTRO ESCOLAR CASERIO LA CRIBA CANTON EL CIPRES"]
[null,null,null,null,null,null,null,null,null,null,null,null,null,null,null,null,null,null,86146,"CENTRO ESCOLAR CASERIO LOS VASQUEZ, CANTON DIAMANTE ARRIBA"]
[null,null,null,null,null,null,null,null,null,null,null,null,null,null,null,null,null,null,86148,"CENTRO ESCOLAR CASERIO LOS MANGOS, CANTON EL PINALON"]
[null,null,null,null,null,null,null,null,null,null,null,null,null,null,null,null,null,null,86150,"CENTRO ESCOLAR CASERIO SANTA ELENA, CANTON SANTO TOMAS"]
[null,null,null,null,null,null,null,null,null,null,null,null,null,null,null,null,null,null,86152,"CENTRO ESCOLAR CANTON EL PORVENIR JOCOTILLO"]
[null,null,null,null,null,null,null,null,null,null,null,null,null,null,null,null,null,null,86153,"CENTRO ESCOLAR CASERIO SAN ALBERTO"]
[null,null,null,null,null,null,null,null,null,null,null,null,null,null,null,null,null,null,86156,"CENTRO ESCOLAR CANTON SAN JOSE CAMULIAN"]
[null,null,null,null,null,null,null,null,null,null,null,null,null,null,null,null,null,null,86157,"CENTRO ESCOLAR CASERIO EL MIRADOR, CANTON EL PORTEZUELO"]
[null,null,null,null,null,null,null,null,null,null,null,null,null,null,null,null,null,null,86159,"CENTRO ESCOLAR CASERIO VENECIA, CANTON PILETAS"]
[null,null,null,null,null,null,null,null,null,null,null,null,null,null,null,null,null,null,86164,"CENTRO ESCOLAR CASERIO RIO ABAJO"]
[null,null,null,null,null,null,null,null,null,null,null,null,null,null,null,null,null,null,86172,"CENTRO ESCOLAR CASERIO SAN FRANCISCO CANTON SAN PEDRO"]
[null,null,null,null,null,null,null,null,null,null,null,null,null,null,null,null,null,null,86173,"CENTRO ESCOLAR CASERIO CHIQUILECA"]
[null,null,null,null,null,null,null,null,null,null,null,null,null,null,null,null,null,null,86193,"CENTRO ESCOLAR CASERIO COMUNIDAD LA SALVADOREÑA CANTON SALINAS DEL POTRERO"]
[null,null,null,null,null,null,null,null,null,null,null,null,null,null,null,null,null,null,86194,"CENTRO ESCOLAR CASERIO MATA DE PIÑA CANTON SAN MARCOS LEMPA"]
[null,null,null,null,null,null,null,null,null,null,null,null,null,null,null,null,null,null,86196,"CENTRO ESCOLAR CASERIO LA PAPALOTA CANTON SAN MARCOS LEMPA"]
[null,null,null,null,null,null,null,null,null,null,null,null,null,null,null,null,null,null,86197,"CENTRO ESCOLAR CASERIO LA LIMONERA CANTON SISIGUAYO"]
[null,null,null,null,null,null,null,null,null,null,null,null,null,null,null,null,null,null,86199,"CENTRO ESCOLAR CASERIO EL ALAMBRE"]
[null,null,null,null,null,null,null,null,null,null,null,null,null,null,null,null,null,null,86200,"CENTRO ESCOLAR CASERIO SANTA LUCIA CANTON EL LLANO"]
[null,null,null,null,null,null,null,null,null,null,null,null,null,null,null,null,null,null,86218,"CENTRO ESCOLAR CASERIO LOS SICAHUITES CANTON TEOSINTE"]
[null,null,null,null,null,null,null,null,null,null,null,null,null,null,null,null,null,null,86219,"CENTRO ESCOLAR CANTON GUARJILA"]
[null,null,null,null,null,null,null,null,null,null,null,null,null,null,null,null,null,null,86221,"CENTRO ESCOLAR CASERIO EL JICARO, CANTON LAS MINAS"]
[null,null,null,null,null,null,null,null,null,null,null,null,null,null,null,null,null,null,86222,"CENTRO ESCOLAR CANTON EL TEOSINTE"]
[null,null,null,null,null,null,null,null,null,null,null,null,null,null,null,null,null,null,86224,"CENTRO ESCOLAR CASERIO LOS POZOS CANTON JAGUATAYA"]
[null,null,null,null,null,null,null,null,null,null,null,null,null,null,null,null,null,null,86225,"CENTRO ESCOLAR CANTON CARASQUE"]
[null,null,null,null,null,null,null,null,null,null,null,null,null,null,null,null,null,null,86228,"CENTRO ESCOLAR CANTON LA CEIBA"]
[null,null,null,null,null,null,null,null,null,null,null,null,null,null,null,null,null,null,86229,"CENTRO ESCOLAR DE SAN JOSE LAS FLORES"]
[null,null,null,null,null,null,null,null,null,null,null,null,null,null,null,null,null,null,86240,"CENTRO ESCOLAR CASERIO LOS CARCAMOS CANTON LOS HORCONES"]
[null,null,null,null,null,null,null,null,null,null,null,null,null,null,null,null,null,null,86241,"CENTRO ESCOLAR CANTON SAN JERONIMO"]
[null,null,null,null,null,null,null,null,null,null,null,null,null,null,null,null,null,null,86243,"CENTRO ESCOLAR CASERIO EL RANCHON"]
[null,null,null,null,null,null,null,null,null,null,null,null,null,null,null,null,null,null,86244,"CENTRO ESCOLAR LOTIFICACION SAN ANTONIO"]
[null,null,null,null,null,null,null,null,null,null,null,null,null,null,null,null,null,null,86245,"CENTRO ESCOLAR CASERIO LOS NARANJOS CANTON CAMOTEPEQUE"]
[null,null,null,null,null,null,null,null,null,null,null,null,null,null,null,null,null,null,86246,"CENTRO ESCOLAR CASERIO PORTILLO DE LOS GUARDADO"]
[null,null,null,null,null,null,null,null,null,null,null,null,null,null,null,null,null,null,86247,"CENTRO ESCOLAR CANTON LOS AMATES"]
[null,null,null,null,null,null,null,null,null,null,null,null,null,null,null,null,null,null,86249,"CENTRO ESCOLAR SAN ANTONIO LOS RANCHOS"]
[null,null,null,null,null,null,null,null,null,null,null,null,null,null,null,null,null,null,86251,"CENTRO ESCOLAR CASERIO LOS SHULL CANTON CUYUAPA"]
[null,null,null,null,null,null,null,null,null,null,null,null,null,null,null,null,null,null,86252,"CENTRO ESCOLAR CASERIO EL PARAISO N°1 CANTON CUNTAN "]
[null,null,null,null,null,null,null,null,null,null,null,null,null,null,null,null,null,null,86253,"CENTRO ESCOLAR CASERIO VALLE NUEVO"]
[null,null,null,null,null,null,null,null,null,null,null,null,null,null,null,null,null,null,86254,"CENTRO ESCOLAR CASERIO PEÑAS BLANCAS, CANTON EL ZOPE"]
[null,null,null,null,null,null,null,null,null,null,null,null,null,null,null,null,null,null,86255,"CENTRO ESCOLAR CANTON EL CASTAÑO"]
[null,null,null,null,null,null,null,null,null,null,null,null,null,null,null,null,null,null,86256,"CENTRO ESCOLAR CASERIO SANTA ISABEL, CANTON LA GUACAMAYA"]
[null,null,null,null,null,null,null,null,null,null,null,null,null,null,null,null,null,null,86257,"CENTRO ESCOLAR HACIENDA LA AGUJA CANTON MIRAVALLE"]
[null,null,null,null,null,null,null,null,null,null,null,null,null,null,null,null,null,null,86258,"CENTRO ESCOLAR JOSE ANTONIO SALAVERRIA"]
[null,null,null,null,null,null,null,null,null,null,null,null,null,null,null,null,null,null,86259,"CENTRO ESCOLAR CANTON EL CHAGUITON"]
[null,null,null,null,null,null,null,null,null,null,null,null,null,null,null,null,null,null,86260,"CENTRO ESCOLAR LOTIFICACION PLAYA AMATECAMPO CANTON SAMBOMERA"]
[null,null,null,null,null,null,null,null,null,null,null,null,null,null,null,null,null,null,86261,"CENTRO ESCOLAR LOTIFICACION LA ESPERANZA"]
[null,null,null,null,null,null,null,null,null,null,null,null,null,null,null,null,null,null,86262,"CENTRO ESCOLAR CASERIO MINAS CANTON NIQUERESQUE"]
[null,null,null,null,null,null,null,null,null,null,null,null,null,null,null,null,null,null,86263,"CENTRO ESCOLAR CASERIO CATARINA CANTON PARATAO"]
[null,null,null,null,null,null,null,null,null,null,null,null,null,null,null,null,null,null,86264,"CENTRO ESCOLAR CASERIO SAN JUAN DE DIOS CANTON ROJITAS"]
[null,null,null,null,null,null,null,null,null,null,null,null,null,null,null,null,null,null,86265,"CENTRO ESCOLAR CASERIO LA PEÑA CANTON AZACUALPA"]
[null,null,null,null,null,null,null,null,null,null,null,null,null,null,null,null,null,null,86266,"CENTRO ESCOLAR CASERIO SAN JORGE CANTON SAN ANTONIO"]
[null,null,null,null,null,null,null,null,null,null,null,null,null,null,null,null,null,null,86267,"CENTRO ESCOLAR CASERIO LOS JOVELES CANTON CHUNTE"]
[null,null,null,null,null,null,null,null,null,null,null,null,null,null,null,null,null,null,86268,"CENTRO ESCOLAR CASERIO LAS ARADITAS CANTON COPINOLAPA"]
[null,null,null,null,null,null,null,null,null,null,null,null,null,null,null,null,null,null,86269,"CENTRO ESCOLAR CASERIO LOS ANGELES CANTON SAN MATIAS"]
[null,null,null,null,null,null,null,null,null,null,null,null,null,null,null,null,null,null,86270,"CENTRO ESCOLAR CASERI\u008dO EL JIOTE CANTON LAS MARI\u008dAS"]
[null,null,null,null,null,null,null,null,null,null,null,null,null,null,null,null,null,null,86271,"CENTRO ESCOLAR CANTON EL AGUACATE"]
[null,null,null,null,null,null,null,null,null,null,null,null,null,null,null,null,null,null,86272,"CENTRO ESCOLAR CASERIO LA CAÑADA CANTON SAN JERONIMO"]
[null,null,null,null,null,null,null,null,null,null,null,null,null,null,null,null,null,null,86273,"CENTRO ESCOLAR CASERIO EL LIMO, CANTON EL ROSARIO"]
[null,null,null,null,null,null,null,null,null,null,null,null,null,null,null,null,null,null,86274,"CENTRO ESCOLAR CASERIO EL GUAMICAR CANTON EL ROSARIO"]
[null,null,null,null,null,null,null,null,null,null,null,null,null,null,null,null,null,null,86275,"CENTRO ESCOLAR CASERIO PILETAS, CANTON MONTENEGRO"]
[null,null,null,null,null,null,null,null,null,null,null,null,null,null,null,null,null,null,86276,"CENTRO ESCOLAR CASERIO LAS PAVAS, CANTON LAS PAVAS"]
[null,null,null,null,null,null,null,null,null,null,null,null,null,null,null,null,null,null,86277,"CENTRO ESCOLAR CASERIO LA CUMBRE CANTON LAS PAVAS"]
[null,null,null,null,null,null,null,null,null,null,null,null,null,null,null,null,null,null,86278,"CENTRO ESCOLAR CASERIO MAJADITAS, CANTON SAN JOSE INGENIO"]
[null,null,null,null,null,null,null,null,null,null,null,null,null,null,null,null,null,null,86279,"CENTRO ESCOLAR CASERIO EL PINALITO, CANTON SAN MIGUEL INGENIO"]
[null,null,null,null,null,null,null,null,null,null,null,null,null,null,null,null,null,null,86280,"CENTRO ESCOLAR CASERIO AGUA FRIA , CANTON TECOMAPA"]
[null,null,null,null,null,null,null,null,null,null,null,null,null,null,null,null,null,null,86281,"CENTRO ESCOLAR CASERIO PIEDRA PARADA"]
[null,null,null,null,null,null,null,null,null,null,null,null,null,null,null,null,null,null,86282,"CENTRO ESCOLAR CASERIO ARENAL DE PACHECO CANTON LAS PIEDRAS"]
[null,null,null,null,null,null,null,null,null,null,null,null,null,null,null,null,null,null,86283,"CENTRO ESCOLAR FINCA SAN JOSE, CANTON POTRERO GRANDE ARRIBA"]
[null,null,null,null,null,null,null,null,null,null,null,null,null,null,null,null,null,null,86284,"CENTRO ESCOLAR CASERIO LAS COCINAS CANTON CUTUMAY CAMONES"]
[null,null,null,null,null,null,null,null,null,null,null,null,null,null,null,null,null,null,86285,"CENTRO ESCOLAR CASERIO LA FINQUITA, CANTON LOS APOYOS"]
[null,null,null,null,null,null,null,null,null,null,null,null,null,null,null,null,null,null,86286,"CENTRO ESCOLAR COLONIA JARDINES DE SANTA LUCIA"]
[null,null,null,null,null,null,null,null,null,null,null,null,null,null,null,null,null,null,86287,"COMPLEJO EDUCATIVO LOTIFICACION EL ROSARIO, CANTON LOS AMATES"]
[null,null,null,null,null,null,null,null,null,null,null,null,null,null,null,null,null,null,86288,"CENTRO ESCOLAR CANTON LA GUACAMAYA"]
[null,null,null,null,null,null,null,null,null,null,null,null,null,null,null,null,null,null,86289,"CENTRO ESCOLAR CANTON SOLIMAN"]
[null,null,null,null,null,null,null,null,null,null,null,null,null,null,null,null,null,null,86290,"CENTRO ESCOLAR CASERIO LAS MESITAS"]
[null,null,null,null,null,null,null,null,null,null,null,null,null,null,null,null,null,null,86291,"CENTRO ESCOLAR CASERIO LAS NEGRITAS, CANTON EL JUTE"]
[null,null,null,null,null,null,null,null,null,null,null,null,null,null,null,null,null,null,86292,"CENTRO ESCOLAR CASERIO COCOBANO EL CANTON PALACIOS"]
[null,null,null,null,null,null,null,null,null,null,null,null,null,null,null,null,null,null,86293,"CENTRO ESCOLAR CASERIO PALO VERDE, CANTON EL PASTE"]
[null,null,null,null,null,null,null,null,null,null,null,null,null,null,null,null,null,null,86294,"CENTRO ESCOLAR COMUNIDAD LAURA LOPEZ DEL CANTON CONSOLACION"]
[null,null,null,null,null,null,null,null,null,null,null,null,null,null,null,null,null,null,86295,"CENTRO ESCOLAR CANTON SANTA CRUZ"]
[null,null,null,null,null,null,null,null,null,null,null,null,null,null,null,null,null,null,86296,"CENTRO ESCOLAR CANTON EL TABLON"]
[null,null,null,null,null,null,null,null,null,null,null,null,null,null,null,null,null,null,86297,"CENTRO ESCOLAR CASERIO LOS NEGROS CANTON EL CERRO"]
[null,null,null,null,null,null,null,null,null,null,null,null,null,null,null,null,null,null,86298,"CENTRO ESCOLAR CASERIO LOS JOBOS CANTON ROSAS NACASPILO"]
[null,null,null,null,null,null,null,null,null,null,null,null,null,null,null,null,null,null,86299,"CENTRO ESCOLAR CASERIO EL TABLON CANTON CHILANGUERA"]
[null,null,null,null,null,null,null,null,null,null,null,null,null,null,null,null,null,null,86300,"CENTRO ESCOLAR COLONIA LAS FLORES CANTON EL CUCO"]
[null,null,null,null,null,null,null,null,null,null,null,null,null,null,null,null,null,null,86301,"CENTRO ESCOLAR CANTON PRADERAS DOS"]
[null,null,null,null,null,null,null,null,null,null,null,null,null,null,null,null,null,null,86302,"CENTRO ESCOLAR CASERIO LA PEÑONA"]
[null,null,null,null,null,null,null,null,null,null,null,null,null,null,null,null,null,null,86303,"CENTRO ESCOLAR CASERIO SANTA CATARINA CANTON EL MANCITO"]
[null,null,null,null,null,null,null,null,null,null,null,null,null,null,null,null,null,null,86304,"CENTRO ESCOLAR CANTON LA TRINIDAD"]
[null,null,null,null,null,null,null,null,null,null,null,null,null,null,null,null,null,null,86305,"CENTRO ESCOLAR CASERIO LA PAVAYA CANTON LA TRINIDAD"]
[null,null,null,null,null,null,null,null,null,null,null,null,null,null,null,null,null,null,86306,"CENTRO ESCOLAR CASERIO LOS GUTIERREZ CANTON GUANASTE"]
[null,null,null,null,null,null,null,null,null,null,null,null,null,null,null,null,null,null,86307,"CENTRO ESCOLAR CASERIO EL TABLON CANTON GUANACASTE"]
[null,null,null,null,null,null,null,null,null,null,null,null,null,null,null,null,null,null,86308,"CENTRO ESCOLAR CASERIO APAPUERTA CANTON TEPONAHUASTE"]
[null,null,null,null,null,null,null,null,null,null,null,null,null,null,null,null,null,null,86309,"CENTRO ESCOLAR CANDELARIA EMPERATRIZ MORENO"]
[null,null,null,null,null,null,null,null,null,null,null,null,null,null,null,null,null,null,86310,"CENTRO ESCOLAR CANTON LA CANOA"]
[null,null,null,null,null,null,null,null,null,null,null,null,null,null,null,null,null,null,86311,"CENTRO ESCOLAR CASERIO EL MARILLO CANTON LA CANOA"]
[null,null,null,null,null,null,null,null,null,null,null,null,null,null,null,null,null,null,86312,"CENTRO ESCOLAR CASERIO NUEVA ESPERANZA"]
[null,null,null,null,null,null,null,null,null,null,null,null,null,null,null,null,null,null,86313,"CENTRO ESCOLAR CASERIO LOS NARANJOS CANTON EL CHAGUITE"]
[null,null,null,null,null,null,null,null,null,null,null,null,null,null,null,null,null,null,86314,"CENTRO ESCOLAR CASERIO LOS RIVERA CANTON LAS PLAYITAS"]
[null,null,null,null,null,null,null,null,null,null,null,null,null,null,null,null,null,null,86315,"CENTRO ESCOLAR CASERIO LOS ALEMANES CANTON EL DELIRIO"]
[null,null,null,null,null,null,null,null,null,null,null,null,null,null,null,null,null,null,86316,"CENTRO ESCOLAR CASERIO HACIENDA EL JOCO"]
[null,null,null,null,null,null,null,null,null,null,null,null,null,null,null,null,null,null,86317,"CENTRO ESCOLAR CASERIO LOS PATIOS CANTON GALINGAGUA"]
[null,null,null,null,null,null,null,null,null,null,null,null,null,null,null,null,null,null,86318,"CENTRO ESCOLAR LOTIFICACION LA BENDICION CANTON LOS PLANES"]
[null,null,null,null,null,null,null,null,null,null,null,null,null,null,null,null,null,null,86319,"CENTRO ESCOLAR CASERIO EL CONGO CANTON LA ANCHILA"]
[null,null,null,null,null,null,null,null,null,null,null,null,null,null,null,null,null,null,86321,"CENTRO ESCOLAR CASERIO EL AMATILLO, CANTON SAN JOSE DE LA MONTAÑA"]
[null,null,null,null,null,null,null,null,null,null,null,null,null,null,null,null,null,null,86322,"CENTRO ESCOLAR CASERIO CERRO DE LA CRUZ CANTON SAN BENITO"]
[null,null,null,null,null,null,null,null,null,null,null,null,null,null,null,null,null,null,86323,"CENTRO ESCOLAR CASERIO VAINILLAS CANTON COPALIO"]
[null,null,null,null,null,null,null,null,null,null,null,null,null,null,null,null,null,null,86324,"CENTRO ESCOLAR CASERIO SIHUATENANGO"]
[null,null,null,null,null,null,null,null,null,null,null,null,null,null,null,null,null,null,86325,"CENTRO ESCOLAR CANTON TIERRA BLANCA"]
[null,null,null,null,null,null,null,null,null,null,null,null,null,null,null,null,null,null,86326,"CENTRO ESCOLAR CASERIO LA LOMA"]
[null,null,null,null,null,null,null,null,null,null,null,null,null,null,null,null,null,null,86327,"CENTRO ESCOLAR CASERIO MARTIRES JESUITAS, CANTON SAN LUCAS"]
[null,null,null,null,null,null,null,null,null,null,null,null,null,null,null,null,null,null,86329,"CENTRO ESCOLAR CANTON SAN RAMON"]
[null,null,null,null,null,null,null,null,null,null,null,null,null,null,null,null,null,null,86330,"CENTRO ESCOLAR CANTON EL JUTILLO"]
[null,null,null,null,null,null,null,null,null,null,null,null,null,null,null,null,null,null,86331,"CENTRO ESCOLAR COMUNIDAD SANTIAGO TORRES CANTON NATIVIDAD"]
[null,null,null,null,null,null,null,null,null,null,null,null,null,null,null,null,null,null,86332,"CENTRO ESCOLAR URBANIZACION MONTE CARMELO, CANTON SAN LUIS MARIONA"]
[null,null,null,null,null,null,null,null,null,null,null,null,null,null,null,null,null,null,86333,"CENTRO ESCOLAR SECTOR UNIDO, CANTON SAN LUIS MARIONA"]
[null,null,null,null,null,null,null,null,null,null,null,null,null,null,null,null,null,null,86334,"CENTRO ESCOLAR UNION EUROPEA"]
[null,null,null,null,null,null,null,null,null,null,null,null,null,null,null,null,null,null,86335,"CENTRO ESCOLAR CANTON EL TEMPISQUE"]
[null,null,null,null,null,null,null,null,null,null,null,null,null,null,null,null,null,null,86336,"CENTRO ESCOLAR CASERIO PASO FUENTES CANTON QUESERAS"]
[null,null,null,null,null,null,null,null,null,null,null,null,null,null,null,null,null,null,86338,"CENTRO ESCOLAR CASERIO EL CHAGUITE CANTON LAS MARIAS"]
[null,null,null,null,null,null,null,null,null,null,null,null,null,null,null,null,null,null,86339,"CENTRO ESCOLAR CASERIO MACHACAL CANTON LA CRUZ"]
[null,null,null,null,null,null,null,null,null,null,null,null,null,null,null,null,null,null,86340,"CENTRO ESCOLAR CASERIO NUEVO NANCE AMARILLO CANTON RIO FRIO"]
[null,null,null,null,null,null,null,null,null,null,null,null,null,null,null,null,null,null,86341,"CENTRO ESCOLAR CASERIO EL PARAISO CANTON SAN JOSE EL NARANJO"]
[null,null,null,null,null,null,null,null,null,null,null,null,null,null,null,null,null,null,86342,"CENTRO ESCOLAR CASERIO LOS ALTUVE CANTON GUACHIPILIN"]
[null,null,null,null,null,null,null,null,null,null,null,null,null,null,null,null,null,null,86343,"CENTRO ESCOLAR CASERIO LAS CUEVITAS CANTON EL ROSARIO "]
[null,null,null,null,null,null,null,null,null,null,null,null,null,null,null,null,null,null,86344,"CENTRO ESCOLAR CASERIO EL PALMAR, CANTON CARA SUCIA"]
[null,null,null,null,null,null,null,null,null,null,null,null,null,null,null,null,null,null,86345,"CENTRO ESCOLAR CASERIO BRISAS DEL MAR, CANTON GARITA PALMERA"]
[null,null,null,null,null,null,null,null,null,null,null,null,null,null,null,null,null,null,86346,"CENTRO ESCOLAR CASERIO EL DURAZNEÑO"]
[null,null,null,null,null,null,null,null,null,null,null,null,null,null,null,null,null,null,86347,"CENTRO ESCOLAR CASERIO CUESTA DEL GAVILAN, CANTON SAN JUAN"]
[null,null,null,null,null,null,null,null,null,null,null,null,null,null,null,null,null,null,86348,"CENTRO ESCOLAR CASERIO NUEVO AMANECER CANTON PALO PIQUE"]
[null,null,null,null,null,null,null,null,null,null,null,null,null,null,null,null,null,null,86349,"CENTRO ESCOLAR CANTON MONTENEGRO"]
[null,null,null,null,null,null,null,null,null,null,null,null,null,null,null,null,null,null,86350,"CENTRO ESCOLAR CASERIO QUEBRADA DE AGUA, CANTON MONTENEGRO"]
[null,null,null,null,null,null,null,null,null,null,null,null,null,null,null,null,null,null,86351,"COMPLEJO EDUCATIVO CASERIO SAN MIGUELITO, CANTON TECOMAPA"]
[null,null,null,null,null,null,null,null,null,null,null,null,null,null,null,null,null,null,86352,"CENTRO ESCOLAR COMUNIDAD HACIENDITA II"]
[null,null,null,null,null,null,null,null,null,null,null,null,null,null,null,null,null,null,86353,"CENTRO ESCOLAR CANTON LA GUACAMAYA"]
[null,null,null,null,null,null,null,null,null,null,null,null,null,null,null,null,null,null,86354,"CENTRO ESCOLAR CASERIO FLORES SEGOVIA CANTON LAGUNETAS"]
[null,null,null,null,null,null,null,null,null,null,null,null,null,null,null,null,null,null,86355,"CENTRO ESCOLAR CASERIO EL PORVENIR CANTON SAN MARCOS"]
[null,null,null,null,null,null,null,null,null,null,null,null,null,null,null,null,null,null,86356,"CENTRO ESCOLAR CASERIO LAS PILAS CANTON TIERRA COLORADA"]
[null,null,null,null,null,null,null,null,null,null,null,null,null,null,null,null,null,null,86357,"CENTRO ESCOLAR CASERIO LAS MARIAS CANTON PUEBLO VIEJO"]
[null,null,null,null,null,null,null,null,null,null,null,null,null,null,null,null,null,null,86358,"CENTRO ESCOLAR CASERIO ESTANZUELAS"]
[null,null,null,null,null,null,null,null,null,null,null,null,null,null,null,null,null,null,86359,"CENTRO ESCOLAR CASERIO YANCOLO CANTON AGUA BLANCA"]
[null,null,null,null,null,null,null,null,null,null,null,null,null,null,null,null,null,null,86360,"CENTRO ESCOLAR CASERIO LA CACALOTA CANTON LAGUNA"]
[null,null,null,null,null,null,null,null,null,null,null,null,null,null,null,null,null,null,86361,"CENTRO ESCOLAR CASERIO LAS CRUCES CANTON PIEDRA PARADA"]
[null,null,null,null,null,null,null,null,null,null,null,null,null,null,null,null,null,null,86362,"CENTRO ESCOLAR CANTON EL SITIO"]
[null,null,null,null,null,null,null,null,null,null,null,null,null,null,null,null,null,null,86363,"CENTRO ESCOLAR CASERIO TEMEPECHIN CANTON EL TABLON"]
[null,null,null,null,null,null,null,null,null,null,null,null,null,null,null,null,null,null,86364,"CENTRO ESCOLAR CASERIO LA CAIDA CANTON TIJERETA"]
[null,null,null,null,null,null,null,null,null,null,null,null,null,null,null,null,null,null,86365,"CENTRO ESCOLAR CASERIO EL RUCIO CANTON CALAVERA"]
[null,null,null,null,null,null,null,null,null,null,null,null,null,null,null,null,null,null,86366,"CENTRO ESCOLAR CASERIO PALO BLANCO, CANTON BUENA VISTA"]
[null,null,null,null,null,null,null,null,null,null,null,null,null,null,null,null,null,null,86367,"CENTRO ESCOLAR CASERIO MONTE RICO, CANTON EL COYOL"]
[null,null,null,null,null,null,null,null,null,null,null,null,null,null,null,null,null,null,86368,"CENTRO ESCOLAR HACIENDA BARRIO NUEVO"]
[null,null,null,null,null,null,null,null,null,null,null,null,null,null,null,null,null,null,86370,"CENTRO ESCOLAR CASERIO LINDA VISTA, CANTON LA DANTA"]
[null,null,null,null,null,null,null,null,null,null,null,null,null,null,null,null,null,null,86371,"CENTRO ESCOLAR FLAVIO PALMA QUINTEROS"]
[null,null,null,null,null,null,null,null,null,null,null,null,null,null,null,null,null,null,86372,"CENTRO ESCOLAR CANTON SAN FRANCISCO"]
[null,null,null,null,null,null,null,null,null,null,null,null,null,null,null,null,null,null,86373,"CENTRO ESCOLAR CASERIO LOMA DE TEPILO"]
[null,null,null,null,null,null,null,null,null,null,null,null,null,null,null,null,null,null,86374,"CENTRO ESCOLAR CASERIO LOMA EL ESPINO CANTON EL LAZARETO"]
[null,null,null,null,null,null,null,null,null,null,null,null,null,null,null,null,null,null,86375,"CENTRO ESCOLAR CASERIO EL VOLCANCITO CANTON EL ROBLE"]
[null,null,null,null,null,null,null,null,null,null,null,null,null,null,null,null,null,null,86376,"CENTRO ESCOLAR CANTON SANTA RITA ALMENDRO"]
[null,null,null,null,null,null,null,null,null,null,null,null,null,null,null,null,null,null,86377,"CENTRO ESCOLAR CASERIO EL CARRIZAL"]
[null,null,null,null,null,null,null,null,null,null,null,null,null,null,null,null,null,null,86378,"CENTRO ESCOLAR SUBURBIOS BARRIO SANTA RITA CANTON EL GOLFO"]
[null,null,null,null,null,null,null,null,null,null,null,null,null,null,null,null,null,null,86379,"CENTRO ESCOLAR CASERIO BORDO CHELE"]
[null,null,null,null,null,null,null,null,null,null,null,null,null,null,null,null,null,null,86380,"CENTRO ESCOLAR CASERIO CAPULATASTE CANTON LOS LAURELES"]
[null,null,null,null,null,null,null,null,null,null,null,null,null,null,null,null,null,null,86381,"CENTRO ESCOLAR \"CANTON CERCO DE PIEDRA\""]
[null,null,null,null,null,null,null,null,null,null,null,null,null,null,null,null,null,null,86383,"CENTRO ESCOLAR CASERIO LA SABANA, CANTON PISHISHAPA"]
[null,null,null,null,null,null,null,null,null,null,null,null,null,null,null,null,null,null,86384,"CENTRO ESCOLAR COMUNIDAD LOS LLANITOS, CABALA ABAJO"]
[null,null,null,null,null,null,null,null,null,null,null,null,null,null,null,null,null,null,86385,"CENTRO ESCOLAR CASERIO HUITIUPA, CANTON SAN RAFAEL"]
[null,null,null,null,null,null,null,null,null,null,null,null,null,null,null,null,null,null,86386,"CENTRO ESCOLAR CASERIO EL ROSARIO, CANTON SAN JERONIMO"]
[null,null,null,null,null,null,null,null,null,null,null,null,null,null,null,null,null,null,86387,"CENTRO ESCOLAR SECTOR LA BOMBA, CANTON EL ZACAMIL"]
[null,null,null,null,null,null,null,null,null,null,null,null,null,null,null,null,null,null,86388,"CENTRO ESCOLAR COMUNIDAD LA PAZ"]
[null,null,null,null,null,null,null,null,null,null,null,null,null,null,null,null,null,null,86389,"CENTRO ESCOLAR COMUNIDAD PLANES DE MARIONA, CANTON SAN LUIS MARIONA"]
[null,null,null,null,null,null,null,null,null,null,null,null,null,null,null,null,null,null,86390,"CENTRO ESCOLAR COOPERATIVA EL CEDRAL, CANTON ALDEA DE LAS MERCEDES"]
[null,null,null,null,null,null,null,null,null,null,null,null,null,null,null,null,null,null,86391,"CENTRO ESCOLAR CASERIO EL JABALI, CANTON GALERA QUEMADA"]
[null,null,null,null,null,null,null,null,null,null,null,null,null,null,null,null,null,null,86392,"CENTRO ESCOLAR CASERIO LA JUNTA, CANTON JOYA GALANA"]
[null,null,null,null,null,null,null,null,null,null,null,null,null,null,null,null,null,null,86393,"CENTRO ESCOLAR LOTIFICACION SANTA CARLOTA No.1, CANTON JOYA GALANA"]
[null,null,null,null,null,null,null,null,null,null,null,null,null,null,null,null,null,null,86394,"CENTRO ESCOLAR LOTIFICACION PETACONES, CANTON JOYA GALANA"]
[null,null,null,null,null,null,null,null,null,null,null,null,null,null,null,null,null,null,86395,"CENTRO ESCOLAR CANTON LAS DELICIAS"]
[null,null,null,null,null,null,null,null,null,null,null,null,null,null,null,null,null,null,86396,"CENTRO ESCOLAR CANTON SUCHINANGO"]
[null,null,null,null,null,null,null,null,null,null,null,null,null,null,null,null,null,null,86397,"CENTRO ESCOLAR CASERIO LOS LINDEROS, CANTON AZACUALPA"]
[null,null,null,null,null,null,null,null,null,null,null,null,null,null,null,null,null,null,86398,"CENTRO ESCOLAR CASERIO LAS JOYITAS, CANTON SANTA LUCIA LOS PALONES"]
[null,null,null,null,null,null,null,null,null,null,null,null,null,null,null,null,null,null,86399,"CENTRO ESCOLAR COMUNIDAD MONTELIZ"]
[null,null,null,null,null,null,null,null,null,null,null,null,null,null,null,null,null,null,86400,"CENTRO ESCOLAR CASERIO SAN LUIS CORDOVA, CANTON LOS TRONCONES"]
[null,null,null,null,null,null,null,null,null,null,null,null,null,null,null,null,null,null,86401,"CENTRO ESCOLAR CASERIO LOS OLIVOS CANTON EL CERRITO"]
[null,null,null,null,null,null,null,null,null,null,null,null,null,null,null,null,null,null,86402,"CENTRO ESCOLAR CASERIO SAN MARCELINO"]
[null,null,null,null,null,null,null,null,null,null,null,null,null,null,null,null,null,null,86403,"CENTRO ESCOLAR CASERIO SAN NICOLAS CANTON LAS MARIAS"]
[null,null,null,null,null,null,null,null,null,null,null,null,null,null,null,null,null,null,86404,"CENTRO ESCOLAR CASERIO CEGA CANTON TALCOMUNGA"]
[null,null,null,null,null,null,null,null,null,null,null,null,null,null,null,null,null,null,86405,"CENTRO ESCOLAR CASERIO LA MOSQUITA CANTON LA LOMA DEL MUERTO "]
[null,null,null,null,null,null,null,null,null,null,null,null,null,null,null,null,null,null,86406,"CENTRO ESCOLAR HACIENDA LAS VICTORIAS CANTON EL ZAPOTE"]
[null,null,null,null,null,null,null,null,null,null,null,null,null,null,null,null,null,null,86407,"CENTRO ESCOLAR COLONIA SAN DAMIAN"]
[null,null,null,null,null,null,null,null,null,null,null,null,null,null,null,null,null,null,86408,"CENTRO ESCOLAR CANTON NOMBRE DE DIOS"]
[null,null,null,null,null,null,null,null,null,null,null,null,null,null,null,null,null,null,86409,"CENTRO ESCOLAR CASERIO EL ZAPOTE, CANTON EL CASTILLO"]
[null,null,null,null,null,null,null,null,null,null,null,null,null,null,null,null,null,null,86410,"COMPLEJO EDUCATIVO COLONIA CIUDAD OBRERA 26 DE ENERO"]
[null,null,null,null,null,null,null,null,null,null,null,null,null,null,null,null,null,null,86411,"CENTRO ESCOLAR CASERIO LOMAS DEL ESPINO, CANTON GIRON"]
[null,null,null,null,null,null,null,null,null,null,null,null,null,null,null,null,null,null,86412,"COMPLEJO EDUCATIVO CASERIO LAS PAMPAS CANTON EL SITIO"]
[null,null,null,null,null,null,null,null,null,null,null,null,null,null,null,null,null,null,86413,"CENTRO ESCOLAR CASERIO BUENA VISTA CANTON APASTEPEQUE"]
[null,null,null,null,null,null,null,null,null,null,null,null,null,null,null,null,null,null,86414,"CENTRO ESCOLAR CASERIO EL PLANTEL CANTON EL ALMENDRO"]
[null,null,null,null,null,null,null,null,null,null,null,null,null,null,null,null,null,null,86415,"CENTRO ESCOLAR CASERIO EL REFUGIO CANTON SANTA BARBARA"]
[null,null,null,null,null,null,null,null,null,null,null,null,null,null,null,null,null,null,86416,"CENTRO ESCOLAR CASERIO NUEVO GUALCHO CANTON AZACUALPIA"]
[null,null,null,null,null,null,null,null,null,null,null,null,null,null,null,null,null,null,86417,"CENTRO ESCOLAR CASERIO LOS PALOMOS CANTON AGUACAYO"]
[null,null,null,null,null,null,null,null,null,null,null,null,null,null,null,null,null,null,86418,"CENTRO ESCOLAR CASERIO SANTA ELENA CANTON SANTA CATARINA"]
[null,null,null,null,null,null,null,null,null,null,null,null,null,null,null,null,null,null,86419,"CENTRO ESCOLAR CASERIO AYALITAS CANTON SANTA CATARINA"]
[null,null,null,null,null,null,null,null,null,null,null,null,null,null,null,null,null,null,86420,"CENTRO ESCOLAR CASERIO EL RINCON, CANTON LAS ROSAS"]
[null,null,null,null,null,null,null,null,null,null,null,null,null,null,null,null,null,null,86421,"CENTRO ESCOLAR CASERIO LA PERIGUERA CANTON EL ROSARIO"]
[null,null,null,null,null,null,null,null,null,null,null,null,null,null,null,null,null,null,86424,"CENTRO ESCOLAR CASERIO SANTA TERESA CANTON SAN ISIDRO"]
[null,null,null,null,null,null,null,null,null,null,null,null,null,null,null,null,null,null,86425,"CENTRO ESCOLAR CASERIO CERRO EL TORO CANTON LA TRINIDAD"]
[null,null,null,null,null,null,null,null,null,null,null,null,null,null,null,null,null,null,86426,"CENTRO ESCOLAR CASERIO LA HACIENDA CANTON SAN NICOLAS"]
[null,null,null,null,null,null,null,null,null,null,null,null,null,null,null,null,null,null,86427,"CENTRO ESCOLAR CASERIO SAN FRANCISCO CANTON SAN GREGORIO "]
[null,null,null,null,null,null,null,null,null,null,null,null,null,null,null,null,null,null,86428,"CENTRO ESCOLAR CASERIO BUENOS AIRES CANTON LA CONCEPCION"]
[null,null,null,null,null,null,null,null,null,null,null,null,null,null,null,null,null,null,86429,"CENTRO ESCOLAR CASERIO LOS FILOS CANTON PALACIOS"]
[null,null,null,null,null,null,null,null,null,null,null,null,null,null,null,null,null,null,86430,"CENTRO ESCOLAR CANTON PARATAO"]
[null,null,null,null,null,null,null,null,null,null,null,null,null,null,null,null,null,null,86431,"CENTRO ESCOLAR CASERIO SAN FELIPE CANTON SANTA MARTA"]
[null,null,null,null,null,null,null,null,null,null,null,null,null,null,null,null,null,null,86432,"CENTRO ESCOLAR CASERIO EL RODEO CANTON SANTA MARTA"]
[null,null,null,null,null,null,null,null,null,null,null,null,null,null,null,null,null,null,86433,"COMPLEJO EDUCATIVO 10 DE OCTUBRE 1987"]
[null,null,null,null,null,null,null,null,null,null,null,null,null,null,null,null,null,null,86434,"CENTRO ESCOLAR CASERI\u008dO LA MONTAÑA CANTON SAN FRANCISCO DEL MONTE"]
[null,null,null,null,null,null,null,null,null,null,null,null,null,null,null,null,null,null,86435,"CENTRO ESCOLAR CASERIO MUNDO NUEVO CANTON LAS HUERTAS"]
[null,null,null,null,null,null,null,null,null,null,null,null,null,null,null,null,null,null,86436,"CENTRO ESCOLAR CASERIO LAS VAINILLAS CANTON EL IZCATAL"]
[null,null,null,null,null,null,null,null,null,null,null,null,null,null,null,null,null,null,86437,"CENTRO ESCOLAR CASERIO EL CHAPARRAL, CANTON SAN ANTONIO GRANDE"]
[null,null,null,null,null,null,null,null,null,null,null,null,null,null,null,null,null,null,86438,"CENTRO ESCOLAR COMUNIDAD AARON JOAQUIN"]
[null,null,null,null,null,null,null,null,null,null,null,null,null,null,null,null,null,null,86439,"CENTRO ESCOLAR CANTON LAS BRISAS"]
[null,null,null,null,null,null,null,null,null,null,null,null,null,null,null,null,null,null,86440,"CENTRO ESCOLAR COOPERATIVA LOS PINOS CANTON CANGREJERA"]
[null,null,null,null,null,null,null,null,null,null,null,null,null,null,null,null,null,null,86441,"CENTRO ESCOLAR LOTIFICACION BOSQUE VERDE, CANTON CIMARRON"]
[null,null,null,null,null,null,null,null,null,null,null,null,null,null,null,null,null,null,86442,"CENTRO ESCOLAR COMUNIDAD TOLUCA CANTON MELARA"]
[null,null,null,null,null,null,null,null,null,null,null,null,null,null,null,null,null,null,86443,"CENTRO ESCOLAR CASERIO EL CHILAR"]
[null,null,null,null,null,null,null,null,null,null,null,null,null,null,null,null,null,null,86444,"CENTRO ESCOLAR CASERIO SAN JOSE GUADALUPE CANTON EL PEÑON"]
[null,null,null,null,null,null,null,null,null,null,null,null,null,null,null,null,null,null,86445,"CENTRO ESCOLAR COMUNIDAD NUEVO AMANECER, CANTON SAN JUAN BUENA VISTA"]
[null,null,null,null,null,null,null,null,null,null,null,null,null,null,null,null,null,null,86446,"CENTRO ESCOLAR LOTIFICACION MIRAFLORES III CANTON LA CUCHILLA"]
[null,null,null,null,null,null,null,null,null,null,null,null,null,null,null,null,null,null,86447,"CENTRO ESCOLAR CANTON VERACRUZ"]
[null,null,null,null,null,null,null,null,null,null,null,null,null,null,null,null,null,null,86448,"CENTRO ESCOLAR CANTON TEPECHAME"]
[null,null,null,null,null,null,null,null,null,null,null,null,null,null,null,null,null,null,86449,"CENTRO ESCOLAR CANTON LA ANONA"]
[null,null,null,null,null,null,null,null,null,null,null,null,null,null,null,null,null,null,86450,"CENTRO ESCOLAR CASERIO EL MELONAL CANTON PIEDRAS BLANCAS"]
[null,null,null,null,null,null,null,null,null,null,null,null,null,null,null,null,null,null,86451,"CENTRO ESCOLAR CASERIO EL ESCALON CANTON HONDURITAS"]
[null,null,null,null,null,null,null,null,null,null,null,null,null,null,null,null,null,null,86452,"CENTRO ESCOLAR CASERIO CARBONES CANTON GUERIPE"]
[null,null,null,null,null,null,null,null,null,null,null,null,null,null,null,null,null,null,86453,"CENTRO ESCOLAR CASERIO LOS GUTIERREZ CANTON TERRERITOS"]
[null,null,null,null,null,null,null,null,null,null,null,null,null,null,null,null,null,null,86454,"CENTRO ESCOLAR CASERIO LOS REYES Nº DOS CANTON TERRERITOS"]
[null,null,null,null,null,null,null,null,null,null,null,null,null,null,null,null,null,null,86455,"CENTRO ESCOLAR CASERIO EL COYOL CANTON QUESERAS"]
[null,null,null,null,null,null,null,null,null,null,null,null,null,null,null,null,null,null,86456,"CENTRO ESCOLAR CASERIO GUEVARA FUENTES CANTON TALPETATE"]
[null,null,null,null,null,null,null,null,null,null,null,null,null,null,null,null,null,null,86457,"CENTRO ESCOLAR CANTON EL TIHUILOTAL"]
[null,null,null,null,null,null,null,null,null,null,null,null,null,null,null,null,null,null,86458,"CENTRO ESCOLAR CANTON VOLCANCILLO"]
[null,null,null,null,null,null,null,null,null,null,null,null,null,null,null,null,null,null,86459,"CENTRO ESCOLAR CASERIO VIROLA CANTON CANAIRE"]
[null,null,null,null,null,null,null,null,null,null,null,null,null,null,null,null,null,null,86460,"CENTRO ESCOLAR CANTON FLOR AMARILLA ABAJO"]
[null,null,null,null,null,null,null,null,null,null,null,null,null,null,null,null,null,null,86462,"CENTRO ESCOLAR CANTON LA LIBERTAD"]
[null,null,null,null,null,null,null,null,null,null,null,null,null,null,null,null,null,null,86463,"CENTRO ESCOLAR CASERIO SANTO DOMINGO, CANTON EL FLOR "]
[null,null,null,null,null,null,null,null,null,null,null,null,null,null,null,null,null,null,86464,"CENTRO ESCOLAR CASERIO SAN LUIS CANTON SANTA CRUZ"]
[null,null,null,null,null,null,null,null,null,null,null,null,null,null,null,null,null,null,86465,"CENTRO ESCOLAR CANTON EL CHILAMATE"]
[null,null,null,null,null,null,null,null,null,null,null,null,null,null,null,null,null,null,86466,"CENTRO ESCOLAR CANTON SAN FELIPE"]
[null,null,null,null,null,null,null,null,null,null,null,null,null,null,null,null,null,null,86467,"CENTRO ESCOLAR CANTON EL JUNQUILLO"]
[null,null,null,null,null,null,null,null,null,null,null,null,null,null,null,null,null,null,86468,"CENTRO ESCOLAR GIL EFIGENIO DUARTE MAGAÑA"]
[null,null,null,null,null,null,null,null,null,null,null,null,null,null,null,null,null,null,86469,"CENTRO ESCOLAR CASERIO VALLE NUEVO, CANTON CUJUCUYO"]
[null,null,null,null,null,null,null,null,null,null,null,null,null,null,null,null,null,null,86470,"CENTRO ESCOLAR CASERIO PIEDRAS NEGRAS CANTON COSTA RICA"]
[null,null,null,null,null,null,null,null,null,null,null,null,null,null,null,null,null,null,86471,"CENTRO ESCOLAR CASERIO EL TAMARINDO, CANTON EL JUTE"]
[null,null,null,null,null,null,null,null,null,null,null,null,null,null,null,null,null,null,86472,"CENTRO ESCOLAR CASERIO PILETAS CANTON SANTIAGO TOMAS"]
[null,null,null,null,null,null,null,null,null,null,null,null,null,null,null,null,null,null,86473,"CENTRO ESCOLAR CASERIO PLAN GRANDE, CANTON EL ROSARIO"]
[null,null,null,null,null,null,null,null,null,null,null,null,null,null,null,null,null,null,86474,"CENTRO ESCOLAR CASERIO TONCONTIN CANTON SAN ANTONIO LA JUNTA"]
[null,null,null,null,null,null,null,null,null,null,null,null,null,null,null,null,null,null,86475,"CENTRO ESCOLAR PROFESORA MONICA DEL CARMEN MELARA DE BENAVIDES"]
[null,null,null,null,null,null,null,null,null,null,null,null,null,null,null,null,null,null,86476,"CENTRO ESCOLAR CASERIO SANTA CRUZ, CANTON LA JOYA"]
[null,null,null,null,null,null,null,null,null,null,null,null,null,null,null,null,null,null,86477,"CENTRO ESCOLAR CASERIO EL ZAPOTE BRUJO, CANTON EL BRUJO"]
[null,null,null,null,null,null,null,null,null,null,null,null,null,null,null,null,null,null,86478,"CENTRO ESCOLAR CANTON SAN ANTONIO MASAHUAT"]
[null,null,null,null,null,null,null,null,null,null,null,null,null,null,null,null,null,null,86479,"CENTRO ESCOLAR CASERIO LA BOLSA, CANTON SAN ANTONIO LA JUNTA"]
[null,null,null,null,null,null,null,null,null,null,null,null,null,null,null,null,null,null,86480,"CENTRO ESCOLAR CASERIO LA JUNTA, CANTON LA ISLA"]
[null,null,null,null,null,null,null,null,null,null,null,null,null,null,null,null,null,null,86481,"CENTRO ESCOLAR CASERIO LOS SITIOS CANTON SAN JOSE CAMULIAN"]
[null,null,null,null,null,null,null,null,null,null,null,null,null,null,null,null,null,null,86482,"CENTRO ESCOLAR COLONIA TRINIDAD, CANTON TECOMAPA"]
[null,null,null,null,null,null,null,null,null,null,null,null,null,null,null,null,null,null,86483,"CENTRO ESCOLAR CASERIO SALITRILLO CANTON LA ALDEA EL ZAPOTE"]
[null,null,null,null,null,null,null,null,null,null,null,null,null,null,null,null,null,null,86484,"CENTRO ESCOLAR CANTON LAS QUEBRADAS"]
[null,null,null,null,null,null,null,null,null,null,null,null,null,null,null,null,null,null,86485,"CENTRO ESCOLAR COMUNIDAD LOS CEDROS"]
[null,null,null,null,null,null,null,null,null,null,null,null,null,null,null,null,null,null,86486,"CENTRO ESCOLAR COLONIA SAN PEDRO CANTON TIZAPA "]
[null,null,null,null,null,null,null,null,null,null,null,null,null,null,null,null,null,null,86487,"CENTRO ESCOLAR CASERIO MONTE SAGRADO"]
[null,null,null,null,null,null,null,null,null,null,null,null,null,null,null,null,null,null,86488,"CENTRO ESCOLAR CANTON LOS TOLES"]
[null,null,null,null,null,null,null,null,null,null,null,null,null,null,null,null,null,null,86489,"CENTRO ESCOLAR CANTON EL TIGRE"]
[null,null,null,null,null,null,null,null,null,null,null,null,null,null,null,null,null,null,86490,"CENTRO ESCOLAR HACIENDA EL CARMEN CANTON RIO FRIO "]
[null,null,null,null,null,null,null,null,null,null,null,null,null,null,null,null,null,null,86491,"CENTRO ESCOLAR CASERIO LOS PIN CANTON LOS HAUTALES "]
[null,null,null,null,null,null,null,null,null,null,null,null,null,null,null,null,null,null,86492,"CENTRO ESCOLAR CASERIO LOS MENDOZA CANTON EL JICARO"]
[null,null,null,null,null,null,null,null,null,null,null,null,null,null,null,null,null,null,86493,"CENTRO ESCOLAR CASERIO LA JOYA, CANTON LA PANDEADURA"]
[null,null,null,null,null,null,null,null,null,null,null,null,null,null,null,null,null,null,86494,"CENTRO ESCOLAR CASERIO LOS COPINOLES CANTON EL CHAGUITE"]
[null,null,null,null,null,null,null,null,null,null,null,null,null,null,null,null,null,null,86495,"CENTRO ESCOLAR CASERIO LA CARRASPOSA CANTON EL RODEO"]
[null,null,null,null,null,null,null,null,null,null,null,null,null,null,null,null,null,null,86496,"CENTRO ESCOLAR COLONIA DIVINA PROVIDENCIA, CANTON GUASCOTA"]
[null,null,null,null,null,null,null,null,null,null,null,null,null,null,null,null,null,null,86498,"CENTRO ESCOLAR CASERIO EL MARTILLO"]
[null,null,null,null,null,null,null,null,null,null,null,null,null,null,null,null,null,null,86499,"CENTRO ESCOLAR CASERIO  GRACIAS A DIOS"]
[null,null,null,null,null,null,null,null,null,null,null,null,null,null,null,null,null,null,86500,"CENTRO ESCOLAR CANTON LOS NARANJOS"]
[null,null,null,null,null,null,null,null,null,null,null,null,null,null,null,null,null,null,86501,"CENTRO ESCOLAR CASERIO EL TABANCO CANTON EL ZAPOTE"]
[null,null,null,null,null,null,null,null,null,null,null,null,null,null,null,null,null,null,86502,"CENTRO ESCOLAR CASERIO EL CACAO CANTON  SUNAPA"]
[null,null,null,null,null,null,null,null,null,null,null,null,null,null,null,null,null,null,86503,"CENTRO ESCOLAR AMIGOS DE IOWA"]
[null,null,null,null,null,null,null,null,null,null,null,null,null,null,null,null,null,null,86504,"CENTRO ESCOLAR HERMANO ROBERTO COOK"]
[null,null,null,null,null,null,null,null,null,null,null,null,null,null,null,null,null,null,86505,"CENTRO ESCOLAR CASERIO EL ESCONDIDO CANTON SAMURIA"]
[null,null,null,null,null,null,null,null,null,null,null,null,null,null,null,null,null,null,86506,"CENTRO ESCOLAR CASERIO EL BAJIO CANTON EL ZAPOTE"]
[null,null,null,null,null,null,null,null,null,null,null,null,null,null,null,null,null,null,86507,"CENTRO ESCOLAR CASERIO EL TIANGUE CANTON EL PROGRESO"]
[null,null,null,null,null,null,null,null,null,null,null,null,null,null,null,null,null,null,86508,"CENTRO ESCOLAR CASERIO EL ZOPE CANTON LAS ISLETAS"]
[null,null,null,null,null,null,null,null,null,null,null,null,null,null,null,null,null,null,86509,"CENTRO ESCOLAR CASERIO SANTA MONICA CANTON LAS TRANCAS"]
[null,null,null,null,null,null,null,null,null,null,null,null,null,null,null,null,null,null,86510,"CENTRO ESCOLAR CASERIO EL CERRO CANTON LA ANCHILA"]
[null,null,null,null,null,null,null,null,null,null,null,null,null,null,null,null,null,null,86511,"CENTRO ESCOLAR LOTIFICACION LAS DELICIAS CANTON EL PAPALON"]
[null,null,null,null,null,null,null,null,null,null,null,null,null,null,null,null,null,null,86512,"CENTRO ESCOLAR LOTIFICACION EL CARMEN DE AGUA FRIA 2 CANTON HATO NUEVO"]
[null,null,null,null,null,null,null,null,null,null,null,null,null,null,null,null,null,null,86513,"CENTRO ESCOLAR CASERIO COLONIA EL CASTAÑO CANTON EL TAMBORAL"]
[null,null,null,null,null,null,null,null,null,null,null,null,null,null,null,null,null,null,86514,"CENTRO ESCOLAR CANTON MINITAS"]
[null,null,null,null,null,null,null,null,null,null,null,null,null,null,null,null,null,null,86515,"CENTRO ESCOLAR CASERIO LA LEONOR CANTON MANAHUARE"]
[null,null,null,null,null,null,null,null,null,null,null,null,null,null,null,null,null,null,86516,"CENTRO ESCOLAR CASERIO ALTO EL LLANO CANTON LA TRINIDAD"]
[null,null,null,null,null,null,null,null,null,null,null,null,null,null,null,null,null,null,86521,"CENTRO ESCOLAR CASERIO LOS MARTINEZ"]
[null,null,null,null,null,null,null,null,null,null,null,null,null,null,null,null,null,null,86522,"CENTRO ESCOLAR CASERIO LOS VASQUEZ CANTON JOYA DEL MATAZANO"]
[null,null,null,null,null,null,null,null,null,null,null,null,null,null,null,null,null,null,86523,"CENTRO ESCOLAR CASERIO LA CEIBA CANTON AGUA ZARCA"]
[null,null,null,null,null,null,null,null,null,null,null,null,null,null,null,null,null,null,86524,"CENTRO ESCOLAR CASERIO EL LLANO CANTON SAN JUAN"]
[null,null,null,null,null,null,null,null,null,null,null,null,null,null,null,null,null,null,86525,"CENTRO ESCOLAR CASERIO LOS VASQUEZ CANTON SAN MARCOS"]
[null,null,null,null,null,null,null,null,null,null,null,null,null,null,null,null,null,null,86526,"CENTRO ESCOLAR CASERIO LA PRESA CANTON ESTANCIA"]
[null,null,null,null,null,null,null,null,null,null,null,null,null,null,null,null,null,null,86527,"CENTRO ESCOLAR CASERIO LA NARANJERA CANTON ESTANCIA"]
[null,null,null,null,null,null,null,null,null,null,null,null,null,null,null,null,null,null,86528,"CENTRO ESCOLAR CASERIO LA LAGUNA CANTON LA GUACAMAYA"]
[null,null,null,null,null,null,null,null,null,null,null,null,null,null,null,null,null,null,86529,"CENTRO ESCOLAR CASERIO EL COPANTE CANTON EL ROSARIO"]
[null,null,null,null,null,null,null,null,null,null,null,null,null,null,null,null,null,null,86530,"CENTRO ESCOLAR CASERIO EL ALTO CANTON CALPULES"]
[null,null,null,null,null,null,null,null,null,null,null,null,null,null,null,null,null,null,86531,"CENTRO ESCOLAR CASERIO PRIMAVERA"]
[null,null,null,null,null,null,null,null,null,null,null,null,null,null,null,null,null,null,86532,"CENTRO ESCOLAR CASERIO SAN PABLO EL SERETAL CANTON PLATANARES"]
[null,null,null,null,null,null,null,null,null,null,null,null,null,null,null,null,null,null,86533,"CENTRO ESCOLAR CASERIO NUEVA CONSOLACION CANTON EL ZAPOTE"]
[null,null,null,null,null,null,null,null,null,null,null,null,null,null,null,null,null,null,86534,"CENTRO ESCOLAR CASERIO LA MORA CANTON EL ZAPOTE"]
[null,null,null,null,null,null,null,null,null,null,null,null,null,null,null,null,null,null,86535,"CENTRO ESCOLAR CASERIO LOS MARROQUINES, CANTON LA PALMA"]
[null,null,null,null,null,null,null,null,null,null,null,null,null,null,null,null,null,null,86536,"CENTRO ESCOLAR CASERIO IRIOMA"]
[null,null,null,null,null,null,null,null,null,null,null,null,null,null,null,null,null,null,86537,"CENTRO ESCOLAR CASERIO LOMA ABAJO, CANTON SAN PEDRO"]
[null,null,null,null,null,null,null,null,null,null,null,null,null,null,null,null,null,null,86538,"CENTRO ESCOLAR HACIENDA VIEJA"]
[null,null,null,null,null,null,null,null,null,null,null,null,null,null,null,null,null,null,86539,"CENTRO ESCOLAR CASERIO EL PEDERNAL CANTON EL MOLINO"]
[null,null,null,null,null,null,null,null,null,null,null,null,null,null,null,null,null,null,86540,"CENTRO ESCOLAR CASERIO EL MANGO CANTON PIEDRAS BLANCAS"]
[null,null,null,null,null,null,null,null,null,null,null,null,null,null,null,null,null,null,86542,"CENTRO ESCOLAR CASERIO LLANO DE LA CRUZ CANTON COPINOLAPA"]
[null,null,null,null,null,null,null,null,null,null,null,null,null,null,null,null,null,null,86543,"CENTRO ESCOLAR CASERIO ARENERA Y LOS REYES CANTON LAS HUERTAS"]
[null,null,null,null,null,null,null,null,null,null,null,null,null,null,null,null,null,null,86544,"CENTRO ESCOLAR CASERIO EL COLON CANTON AGUA BLANCA"]
[null,null,null,null,null,null,null,null,null,null,null,null,null,null,null,null,null,null,86545,"CENTRO ESCOLAR CASERIO GUISCOYOL UNO"]
[null,null,null,null,null,null,null,null,null,null,null,null,null,null,null,null,null,null,86546,"CENTRO ESCOLAR CASERIO EL BAÑADERO CANTON EL PEÑON"]
[null,null,null,null,null,null,null,null,null,null,null,null,null,null,null,null,null,null,86547,"CENTRO ESCOLAR CASERIO EL CORRALITO"]
[null,null,null,null,null,null,null,null,null,null,null,null,null,null,null,null,null,null,86548,"CENTRO ESCOLAR CANTON CARRIZALILLO"]
[null,null,null,null,null,null,null,null,null,null,null,null,null,null,null,null,null,null,86551,"CENTRO ESCOLAR CASERIO EL MOGOTE CANTON SAN JULIAN"]
[null,null,null,null,null,null,null,null,null,null,null,null,null,null,null,null,null,null,86552,"CENTRO ESCOLAR CASERIO OLOMEGUITA CANTON LA ESTRECHURA"]
[null,null,null,null,null,null,null,null,null,null,null,null,null,null,null,null,null,null,86553,"CENTRO ESCOLAR CANTON EL ROSARIO"]
[null,null,null,null,null,null,null,null,null,null,null,null,null,null,null,null,null,null,88000,"CENTRO ESCOLAR CATOLICO MARISTA"]
[null,null,null,null,null,null,null,null,null,null,null,null,null,null,null,null,null,null,88001,"CENTRO ESCOLAR CATOLICO SAN JOSE"]
[null,null,null,null,null,null,null,null,null,null,null,null,null,null,null,null,null,null,88002,"CENTRO ESCOLAR CATOLICO ALBERTO RICARDO MELENDEZ MAZZINI"]
[null,null,null,null,null,null,null,null,null,null,null,null,null,null,null,null,null,null,88003,"CENTRO ESCOLAR CATOLICO JOSEFINO"]
[null,null,null,null,null,null,null,null,null,null,null,null,null,null,null,null,null,null,88004,"CENTRO ESCOLAR CATOLICO SAN ANDRES"]
[null,null,null,null,null,null,null,null,null,null,null,null,null,null,null,null,null,null,88005,"COMPLEJO EDUCATIVO CATOLICO SANTA TERESITA"]
[null,null,null,null,null,null,null,null,null,null,null,null,null,null,null,null,null,null,88006,"COMPLEJO EDUCATIVO CATOLICO SAN FRANCISCO"]
[null,null,null,null,null,null,null,null,null,null,null,null,null,null,null,null,null,null,88007,"CENTRO ESCOLAR CATOLICO NUESTRA SEÑORA DEL REFUGIO"]
[null,null,null,null,null,null,null,null,null,null,null,null,null,null,null,null,null,null,88008,"CENTRO ESCOLAR CATOLICO JUAN PABLO II"]
[null,null,null,null,null,null,null,null,null,null,null,null,null,null,null,null,null,null,88009,"ESCUELA DE EDUCACION PARVULARIA CATOLICA MARIA AUXILIADORA"]
[null,null,null,null,null,null,null,null,null,null,null,null,null,null,null,null,null,null,88010,"COMPLEJO EDUCATIVO CATOLICO \"MARIA AUXILIADORA\""]
[null,null,null,null,null,null,null,null,null,null,null,null,null,null,null,null,null,null,88011,"CENTRO ESCOLAR CATOLICO MARIA CONSOLADORA DEL CARPINELLO"]
[null,null,null,null,null,null,null,null,null,null,null,null,null,null,null,null,null,null,88012,"COMPLEJO EDUCATIVO CATOLICO JUAN XXIII"]
[null,null,null,null,null,null,null,null,null,null,null,null,null,null,null,null,null,null,88013,"CENTRO ESCOLAR CATOLICO \"SANTA FAMILIA\""]
[null,null,null,null,null,null,null,null,null,null,null,null,null,null,null,null,null,null,88014,"CENTRO ESCOLAR CATOLICO MONSEÑOR BENJAMIN BARRERA Y REYES"]
[null,null,null,null,null,null,null,null,null,null,null,null,null,null,null,null,null,null,88015,"CENTRO ESCOLAR CATOLICO HOGAR SANTA MARIA GORETTI"]
[null,null,null,null,null,null,null,null,null,null,null,null,null,null,null,null,null,null,88016,"ESCUELA DE EDUCACION PARVULARIA CATOLICA SAN VICENTE DE PAUL"]
[null,null,null,null,null,null,null,null,null,null,null,null,null,null,null,null,null,null,88017,"CENTRO ESCOLAR CATOLICO CIUDAD DE LOS NIÑOS RAFAEL CAMPOS"]
[null,null,null,null,null,null,null,null,null,null,null,null,null,null,null,null,null,null,88018,"CENTRO ESCOLAR CATOLICO SAN VICENTE DE PAUL"]
[null,null,null,null,null,null,null,null,null,null,null,null,null,null,null,null,null,null,88019,"CENTRO ESCOLAR CATOLICO MADRE DEL SALVADOR"]
[null,null,null,null,null,null,null,null,null,null,null,null,null,null,null,null,null,null,88020,"CENTRO ESCOLAR CATOLICO SAN JOSE"]
[null,null,null,null,null,null,null,null,null,null,null,null,null,null,null,null,null,null,88021,"CENTRO ESCOLAR CATOLICO PRESBITERO SALVADOR CASTILLO SOLORZANO"]
[null,null,null,null,null,null,null,null,null,null,null,null,null,null,null,null,null,null,88022,"CENTRO ESCOLAR CATOLICO PABLO SEXTO"]
[null,null,null,null,null,null,null,null,null,null,null,null,null,null,null,null,null,null,88023,"CENTRO ESCOLAR CATOLICO SAN ANTONIO"]
[null,null,null,null,null,null,null,null,null,null,null,null,null,null,null,null,null,null,88024,"CENTRO ESCOLAR CATOLICO SAN VICENTE DE PAUL"]
[null,null,null,null,null,null,null,null,null,null,null,null,null,null,null,null,null,null,88025,"COMPLEJO EDUCATIVO CATOLICO SAN JOSE"]
[null,null,null,null,null,null,null,null,null,null,null,null,null,null,null,null,null,null,88026,"COMPLEJO EDUCATIVO CATOLICO SANTO DOMINGO"]
[null,null,null,null,null,null,null,null,null,null,null,null,null,null,null,null,null,null,88027,"CENTRO ESCOLAR CATOLICO SAN BONIFACIO"]
[null,null,null,null,null,null,null,null,null,null,null,null,null,null,null,null,null,null,88028,"CENTRO ESCOLAR CATOLICO INMACULADA CONCEPCION"]
[null,null,null,null,null,null,null,null,null,null,null,null,null,null,null,null,null,null,88029,"ESCUELA SALESIANA MARIA MAZZARELLO"]
[null,null,null,null,null,null,null,null,null,null,null,null,null,null,null,null,null,null,88030,"COMPLEJO EDUCATIVO CATOLICO LUISA DE MARILLAC"]
[null,null,null,null,null,null,null,null,null,null,null,null,null,null,null,null,null,null,88031,"CENTRO ESCOLAR CATOLICO ALBERTO MASFERRER"]
[null,null,null,null,null,null,null,null,null,null,null,null,null,null,null,null,null,null,88032,"COMPLEJO EDUCATIVO CATOLICO SAN JOSE"]
[null,null,null,null,null,null,null,null,null,null,null,null,null,null,null,null,null,null,88034,"CENTRO ESCOLAR CATOLICO SAN JUAN BOSCO"]
[null,null,null,null,null,null,null,null,null,null,null,null,null,null,null,null,null,null,88035,"COMPLEJO EDUCATIVO CATOLICO MONSEÑOR OSCAR ARNULFO ROMERO"]
[null,null,null,null,null,null,null,null,null,null,null,null,null,null,null,null,null,null,88036,"COMPLEJO EDUCATIVO CATOLICO SANTA CATALINA"]
[null,null,null,null,null,null,null,null,null,null,null,null,null,null,null,null,null,null,88037,"CENTRO ESCOLAR CATOLICO SAN LUIS"]
[null,null,null,null,null,null,null,null,null,null,null,null,null,null,null,null,null,null,88038,"CENTRO ESCOLAR CATOLICO NUESTRA SEÑORA DE LA PAZ"]
[null,null,null,null,null,null,null,null,null,null,null,null,null,null,null,null,null,null,88039,"COMPLEJO EDUCATIVO CATOLICO SAN JOSE"]
[null,null,null,null,null,null,null,null,null,null,null,null,null,null,null,null,null,null,88040,"CENTRO ESCOLAR CATOLICO JOSE MARIA VILASECA"]
[null,null,null,null,null,null,null,null,null,null,null,null,null,null,null,null,null,null,88041,"CENTRO ESCOLAR CATOLICO JESUS OBRERO"]
[null,null,null,null,null,null,null,null,null,null,null,null,null,null,null,null,null,null,88042,"CENTRO ESCOLAR CATOLICO SAN AGUSTIN"]
[null,null,null,null,null,null,null,null,null,null,null,null,null,null,null,null,null,null,88043,"COMPLEJO EDUCATIVO CATOLICO NUESTRA SEÑORA DEL ROSARIO"]
[null,null,null,null,null,null,null,null,null,null,null,null,null,null,null,null,null,null,88044,"COMPLEJO EDUCATIVO CATOLICO PADRE MARIO ZANCONATO"]
[null,null,null,null,null,null,null,null,null,null,null,null,null,null,null,null,null,null,88045,"COMPLEJO EDUCATIVO CATOLICO SAN ANTONIO"]
[null,null,null,null,null,null,null,null,null,null,null,null,null,null,null,null,null,null,88046,"CENTRO ESCOLAR CATOLICO CORAZON DE MARIA"]
[null,null,null,null,null,null,null,null,null,null,null,null,null,null,null,null,null,null,88047,"CENTRO ESCOLAR CATOLICO DE PANCHIMALCO"]
[null,null,null,null,null,null,null,null,null,null,null,null,null,null,null,null,null,null,88048,"CENTRO ESCOLAR CATOLICO MARIA MADRE DE LOS POBRES"]
[null,null,null,null,null,null,null,null,null,null,null,null,null,null,null,null,null,null,88050,"ESCUELA DE EDUCACION PARVULARIA CATOLICA MARGARITA NASEAU"]
[null,null,null,null,null,null,null,null,null,null,null,null,null,null,null,null,null,null,88051,"COMPLEJO EDUCATIVO CATOLICO FE Y ALEGRIA"]
[null,null,null,null,null,null,null,null,null,null,null,null,null,null,null,null,null,null,88052,"CENTRO ESCOLAR CATOLICO PABLO VI"]
[null,null,null,null,null,null,null,null,null,null,null,null,null,null,null,null,null,null,88053,"CENTRO ESCOLAR CATOLICO HOGAR DEL NIÑO"]
[null,null,null,null,null,null,null,null,null,null,null,null,null,null,null,null,null,null,88054,"CENTRO ESCOLAR CATOLICO SANTA ANA"]
[null,null,null,null,null,null,null,null,null,null,null,null,null,null,null,null,null,null,88056,"CENTRO ESCOLAR CATOLICO NUESTRA SEÑORA DE FATIMA"]
[null,null,null,null,null,null,null,null,null,null,null,null,null,null,null,null,null,null,88057,"CENTRO ESCOLAR CATOLICO SANTA CATALINA"]
[null,null,null,null,null,null,null,null,null,null,null,null,null,null,null,null,null,null,88058,"CENTRO ESCOLAR CATOLICO SANTA LUISA"]
[null,null,null,null,null,null,null,null,null,null,null,null,null,null,null,null,null,null,88059,"CENTRO ESCOLAR CATOLICO NUESTRA SEÑORA DE LOURDES"]
[null,null,null,null,null,null,null,null,null,null,null,null,null,null,null,null,null,null,88060,"CENTRO ESCOLAR CATOLICO JARDIN DE NIÑOS"]
[null,null,null,null,null,null,null,null,null,null,null,null,null,null,null,null,null,null,88061,"CENTRO ESCOLAR CATOLICO EMILIANI"]
[null,null,null,null,null,null,null,null,null,null,null,null,null,null,null,null,null,null,88063,"CENTRO ESCOLAR CATOLICO DE EX ALUMNOS SALESIANOS"]
[null,null,null,null,null,null,null,null,null,null,null,null,null,null,null,null,null,null,88064,"CENTRO ESCOLAR CATOLICO SAN MATEO APOSTOL"]
[null,null,null,null,null,null,null,null,null,null,null,null,null,null,null,null,null,null,88065,"CENTRO ESCOLAR CATOLICO SANTO TOMAS"]
[null,null,null,null,null,null,null,null,null,null,null,null,null,null,null,null,null,null,88066,"COMPLEJO EDUCATIVO CATOLICO FRAY MARTIN DE PORRES"]
[null,null,null,null,null,null,null,null,null,null,null,null,null,null,null,null,null,null,88067,"ESCUELA SALESIANA MARIA AUXILIADORA"]
[null,null,null,null,null,null,null,null,null,null,null,null,null,null,null,null,null,null,88068,"CENTRO ESCOLAR CATOLICO SAN JOSE OBRERO"]
[null,null,null,null,null,null,null,null,null,null,null,null,null,null,null,null,null,null,88069,"COMPLEJO EDUCATIVO CATOLICO EL CARMELO"]
[null,null,null,null,null,null,null,null,null,null,null,null,null,null,null,null,null,null,88070,"CENTRO ESCOLAR CATOLICO SAN JUAN BOSCO"]
[null,null,null,null,null,null,null,null,null,null,null,null,null,null,null,null,null,null,88071,"CENTRO ESCOLAR CATOLICO MONSEÑOR ESTEBAN ALLIET"]
[null,null,null,null,null,null,null,null,null,null,null,null,null,null,null,null,null,null,88072,"CENTRO ESCOLAR CATOLICO SAN SEBASTIAN"]
[null,null,null,null,null,null,null,null,null,null,null,null,null,null,null,null,null,null,88073,"CENTRO ESCOLAR CATOLICO \"ASUNCION PALECA\""]
[null,null,null,null,null,null,null,null,null,null,null,null,null,null,null,null,null,null,88074,"CENTRO ESCOLAR CATOLICO NUESTRA SEÑORA DE CANDELARIA"]
[null,null,null,null,null,null,null,null,null,null,null,null,null,null,null,null,null,null,88075,"CENTRO ESCOLAR CATOLICO SANTA ISABEL"]
[null,null,null,null,null,null,null,null,null,null,null,null,null,null,null,null,null,null,88076,"CENTRO ESCOLAR CATOLICO SAN SEBASTIAN"]
[null,null,null,null,null,null,null,null,null,null,null,null,null,null,null,null,null,null,88077,"CENTRO ESCOLAR CATOLICO LUIS PASTOR ARGUETA"]
[null,null,null,null,null,null,null,null,null,null,null,null,null,null,null,null,null,null,88078,"CENTRO ESCOLAR CATOLICO SANTA CLARA DE ASIS"]
[null,null,null,null,null,null,null,null,null,null,null,null,null,null,null,null,null,null,88079,"CENTRO ESCOLAR CATOLICO SAN FRANCISCO DE ASIS"]
[null,null,null,null,null,null,null,null,null,null,null,null,null,null,null,null,null,null,88080,"COMPLEJO EDUCATIVO CATOLICO JUAN XXIII"]
[null,null,null,null,null,null,null,null,null,null,null,null,null,null,null,null,null,null,88081,"CENTRO ESCOLAR CATOLICO SAN FRANCISCO DE ASIS"]
[null,null,null,null,null,null,null,null,null,null,null,null,null,null,null,null,null,null,88082,"COMPLEJO EDUCATIVO CATOLICO FRAY ENGELBERTO MALISSORI"]
[null,null,null,null,null,null,null,null,null,null,null,null,null,null,null,null,null,null,88083,"CENTRO ESCOLAR CATOLICO FRAY COSME SPESSOTTO"]
[null,null,null,null,null,null,null,null,null,null,null,null,null,null,null,null,null,null,88084,"COMPLEJO EDUCATIVO CATOLICO PIO XII"]
[null,null,null,null,null,null,null,null,null,null,null,null,null,null,null,null,null,null,88085,"COMPLEJO EDUCATIVO CATOLICO SANTA TERESITA"]
[null,null,null,null,null,null,null,null,null,null,null,null,null,null,null,null,null,null,88086,"COMPLEJO EDUCATIVO CATOLICO ANA GUERRA DE JESUS"]
[null,null,null,null,null,null,null,null,null,null,null,null,null,null,null,null,null,null,88087,"COMPLEJO EDUCATIVO CATOLICO PRESBITERO RENE VALLE"]
[null,null,null,null,null,null,null,null,null,null,null,null,null,null,null,null,null,null,88088,"COMPLEJO EDUCATIVO CATOLICO GUADALUPE CARCAMO"]
[null,null,null,null,null,null,null,null,null,null,null,null,null,null,null,null,null,null,88089,"CENTRO ESCOLAR CATOLICO VILLA LOS ANGELES"]
[null,null,null,null,null,null,null,null,null,null,null,null,null,null,null,null,null,null,88090,"COMPLEJO EDUCATIVO CATOLICO EL ESPIRITU SANTO"]
[null,null,null,null,null,null,null,null,null,null,null,null,null,null,null,null,null,null,88091,"COMPLEJO EDUCATIVO CATOLICO OBISPO CASTRO RAMIREZ"]
[null,null,null,null,null,null,null,null,null,null,null,null,null,null,null,null,null,null,88092,"CENTRO ESCOLAR CATOLICO SAN JOSE"]
[null,null,null,null,null,null,null,null,null,null,null,null,null,null,null,null,null,null,88093,"CENTRO ESCOLAR CATOLICO MARCELINO CHAMPAGNAT"]
[null,null,null,null,null,null,null,null,null,null,null,null,null,null,null,null,null,null,88094,"COMPLEJO EDUCATIVO CATOLICO SANTA SOFIA"]
[null,null,null,null,null,null,null,null,null,null,null,null,null,null,null,null,null,null,88095,"CENTRO ESCOLAR CATOLICO OBLANTAS AL DIVINO AMOR"]
[null,null,null,null,null,null,null,null,null,null,null,null,null,null,null,null,null,null,88096,"CENTRO ESCOLAR CATOLICO CORAZON DE MARIA"]
[null,null,null,null,null,null,null,null,null,null,null,null,null,null,null,null,null,null,88097,"CENTRO ESCOLAR CATOLICO COMUNIDAD SANTA MONICA"]
[null,null,null,null,null,null,null,null,null,null,null,null,null,null,null,null,null,null,88098,"CENTRO ESCOLAR CATOLICO SAN MARTIN OBISPO"]
[null,null,null,null,null,null,null,null,null,null,null,null,null,null,null,null,null,null,88099,"COMPLEJO EDUCATIVO CATOLICO FE Y ALEGRIA SAN JOSE"]
[null,null,null,null,null,null,null,null,null,null,null,null,null,null,null,null,null,null,88100,"COMPLEJO EDUCATIVO CATOLICO PADRE JOSE MARIA VILASECA"]
[null,null,null,null,null,null,null,null,null,null,null,null,null,null,null,null,null,null,88101,"INSTITUTO CATOLICO SAN FRANCISCO DE ASIS"]
[null,null,null,null,null,null,null,null,null,null,null,null,null,null,null,null,null,null,88102,"CENTRO ESCOLAR CATOLICO MONSEÑOR JOAQUIN RAMOS"]
[null,null,null,null,null,null,null,null,null,null,null,null,null,null,null,null,null,null,88103,"CENTRO ESCOLAR CATOLICO NUESTRA SEÑORA DE LOS DOLORES"]
[null,null,null,null,null,null,null,null,null,null,null,null,null,null,null,null,null,null,88104,"COMPLEJO EDUCATIVO CATOLICO EL ESPIRITU SANTO"]
[null,null,null,null,null,null,null,null,null,null,null,null,null,null,null,null,null,null,88105,"COMPLEJO EDUCATIVO CATOLICO LA SANTA FAMILIA DE SAN SEBASTIAN"]
[null,null,null,null,null,null,null,null,null,null,null,null,null,null,null,null,null,null,88106,"COMPLEJO EDUCATIVO CATOLICO LA SANTA FAMILIA"]
[null,null,null,null,null,null,null,null,null,null,null,null,null,null,null,null,null,null,88107,"CENTRO ESCOLAR CATOLICO SAN JOSE"]
[null,null,null,null,null,null,null,null,null,null,null,null,null,null,null,null,null,null,88108,"CENTRO ESCOLAR CATOLICO NUESTROS PEQUEÑOS HERMANOS"]
[null,null,null,null,null,null,null,null,null,null,null,null,null,null,null,null,null,null,88109,"COMPLEJO EDUCATIVO CATOLICO NUESTRA SEÑORA DE LAS GRACIAS"]
[null,null,null,null,null,null,null,null,null,null,null,null,null,null,null,null,null,null,88110,"CENTRO ESCOLAR CATOLICO SANTA MARIA DEL CAMINO"]
[null,null,null,null,null,null,null,null,null,null,null,null,null,null,null,null,null,null,88111,"CENTRO ESCOLAR CATOLICO SAN JACINTO"]
[null,null,null,null,null,null,null,null,null,null,null,null,null,null,null,null,null,null,88112,"CENTRO ESCOLAR CATOLICO PRESBITERO MARCIAL SERRANO"]
[null,null,null,null,null,null,null,null,null,null,null,null,null,null,null,null,null,null,88113,"CENTRO ESCOLAR DIOCESANO SAN JUAN BAUTISTA"]
[null,null,null,null,null,null,null,null,null,null,null,null,null,null,null,null,null,null,88114,"CENTRO ESCOLAR CATOLICO SAN FRANCISCO DE SALES"]
[null,null,null,null,null,null,null,null,null,null,null,null,null,null,null,null,null,null,88115,"CENTRO ESCOLAR CATOLICO EL ESPIRITU SANTO"]
[null,null,null,null,null,null,null,null,null,null,null,null,null,null,null,null,null,null,88116,"CENTRO ESCOLAR CATOLICO CLARA LUNA DE SAMAYOA"]
[null,null,null,null,null,null,null,null,null,null,null,null,null,null,null,null,null,null,88117,"CENTRO ESCOLAR CATOLICO SAN JORGE"]
[null,null,null,null,null,null,null,null,null,null,null,null,null,null,null,null,null,null,88118,"CENTRO ESCOLAR CATOLICO SAN PABLO APOSTOL"]
[null,null,null,null,null,null,null,null,null,null,null,null,null,null,null,null,null,null,88120,"CENTRO ESCOLAR CATOLICO SANTO DOMINGO DE GUZMAN"]
[null,null,null,null,null,null,null,null,null,null,null,null,null,null,null,null,null,null,88121,"CENTRO ESCOLAR CATOLICO SAN PATRICIO"]
[null,null,null,null,null,null,null,null,null,null,null,null,null,null,null,null,null,null,88122,"COMPLEJO EDUCATIVO CATOLICO EL PROGRESO"]
[null,null,null,null,null,null,null,null,null,null,null,null,null,null,null,null,null,null,88123,"COMPLEJO EDUCATIVO CATOLICO SAN JOSE VILLANUEVA"]
[null,null,null,null,null,null,null,null,null,null,null,null,null,null,null,null,null,null,88124,"CENTRO ESCOLAR CATOLICO VIRGEN DE LA PAZ"]
[null,null,null,null,null,null,null,null,null,null,null,null,null,null,null,null,null,null,88125,"ESCUELA PARROQUIAL DE SAN JOSE DE LA MONTAÑA"]
[null,null,null,null,null,null,null,null,null,null,null,null,null,null,null,null,null,null,88126,"ESCUELA DE EDUCACION PARVULARIA CATOLICA PEDRO RICALDONE"]
[null,null,null,null,null,null,null,null,null,null,null,null,null,null,null,null,null,null,88127,"CENTRO ESCOLAR CATOLICO SANTISIMA TRINIDAD"]
[null,null,null,null,null,null,null,null,null,null,null,null,null,null,null,null,null,null,88128,"CENTRO ESCOLAR CATOLICO MONSEÑOR OSCAR ARNULFO ROMERO"]
[null,null,null,null,null,null,null,null,null,null,null,null,null,null,null,null,null,null,88129,"CENTRO ESCOLAR CATOLICO NUESTRA SEÑORA DE GUADALUPE"]
[null,null,null,null,null,null,null,null,null,null,null,null,null,null,null,null,null,null,88130,"COMPLEJO EDUCATIVO CATOLICO SANTA TERESITA DE LISIEUX"]
[null,null,null,null,null,null,null,null,null,null,null,null,null,null,null,null,null,null,88131,"CENTRO ESCOLAR CATOLICO SAN RAFAEL ARCANGEL "]
[null,null,null,null,null,null,null,null,null,null,null,null,null,null,null,null,null,null,88132,"CENTRO ESCOLAR CATOLICO FLOS CARMELI"]
[null,null,null,null,null,null,null,null,null,null,null,null,null,null,null,null,null,null,88133,"CENTRO ESCOLAR CATOLICO NUESTRA SEÑORA DE CANDELARIA"]
[null,null,null,null,null,null,null,null,null,null,null,null,null,null,null,null,null,null,88134,"CENTRO ESCOLAR CATOLICO GESUINA MELZI"]
[null,null,null,null,null,null,null,null,null,null,null,null,null,null,null,null,null,null,88135,"CENTRO ESCOLAR CATOLICO SAN TARSICIO"]
[null,null,null,null,null,null,null,null,null,null,null,null,null,null,null,null,null,null,88136,"CENTRO ESCOLAR CATOLICO SAMMY GUIDO VELLARDITA"]
[null,null,null,null,null,null,null,null,null,null,null,null,null,null,null,null,null,null,88139,"COMPLEJO EDUCATIVO CATOLICO EL ESPIRITU SANTO"]
[null,null,null,null,null,null,null,null,null,null,null,null,null,null,null,null,null,null,88140,"CENTRO ESCOLAR CATOLICO MADRE MARIA CATARINA GIMAGGIO"]
[null,null,null,null,null,null,null,null,null,null,null,null,null,null,null,null,null,null,88141,"COMPLEJO EDUCATIVO CATOLICO PADRE RUTILIO GRANDE"]
[null,null,null,null,null,null,null,null,null,null,null,null,null,null,null,null,null,null,88144,"CENTRO ESCOLAR CATOLICO DON BOSCO"]
[null,null,null,null,null,null,null,null,null,null,null,null,null,null,null,null,null,null,88145,"ESCUELA DE EDUCACION PARVULARIA CATOLICA PADRE SEGUNDO MONTES"]
[null,null,null,null,null,null,null,null,null,null,null,null,null,null,null,null,null,null,88146,"CENTRO ESCOLAR CATOLICO JUAN PABLO II"]
[null,null,null,null,null,null,null,null,null,null,null,null,null,null,null,null,null,null,88148,"CENTRO ESCOLAR CATOLICO TEPEYAC"]
[null,null,null,null,null,null,null,null,null,null,null,null,null,null,null,null,null,null,88149,"CENTRO ESCOLAR CATOLICO MADRE MARIA AURORA"]
[null,null,null,null,null,null,null,null,null,null,null,null,null,null,null,null,null,null,88150,"INSTITUTO CATOLICO SAN PABLO APOSTOL"]
[null,null,null,null,null,null,null,null,null,null,null,null,null,null,null,null,null,null,88151,"CENTRO ESCOLAR CATOLICO SANTA MARIA MADRE DE AMERICA"]
[null,null,null,null,null,null,null,null,null,null,null,null,null,null,null,null,null,null,88152,"CENTRO ESCOLAR CATOLICO SAN LORENZO"]
[null,null,null,null,null,null,null,null,null,null,null,null,null,null,null,null,null,null,88153,"CENTRO ESCOLAR CATOLICO SAN FRANCISCO DE ASIS"]
[null,null,null,null,null,null,null,null,null,null,null,null,null,null,null,null,null,null,88154,"COLEGIO LA SANTISIMA TRINIDAD"]
[null,null,null,null,null,null,null,null,null,null,null,null,null,null,null,null,null,null,88155,"CENTRO ESCOLAR CATOLICO CRISTO REY"]
[null,null,null,null,null,null,null,null,null,null,null,null,null,null,null,null,null,null,88156,"COMPLEJO EDUCATIVO CATOLICO RICARDO POMA"]
[null,null,null,null,null,null,null,null,null,null,null,null,null,null,null,null,null,null,88157,"INSTITUTO CATOLICO SAGRADA FAMILIA"]
[null,null,null,null,null,null,null,null,null,null,null,null,null,null,null,null,null,null,88158,"CENTRO ESCOLAR CATOLICO JUAN PABLO II"]
[null,null,null,null,null,null,null,null,null,null,null,null,null,null,null,null,null,null,88159,"CENTRO ESCOLAR CATOLICO NUESTRA SEÑORA DE LA MERCED"]
[null,null,null,null,null,null,null,null,null,null,null,null,null,null,null,null,null,null,88160,"INSTITUTO CATOLICO TECNICO VOCACIONAL JESUS OBRERO"]
[null,null,null,null,null,null,null,null,null,null,null,null,null,null,null,null,null,null,88161,"CENTRO ESCOLAR CATOLICO EDUCANDO A UN SALVADOREÑO"]
[null,null,null,null,null,null,null,null,null,null,null,null,null,null,null,null,null,null,88162,"COMPLEJO EDUCATIVO CATOLICO NUESTRA SEÑORA DE LA PAZ"]
[null,null,null,null,null,null,null,null,null,null,null,null,null,null,null,null,null,null,88164,"CENTRO ESCOLAR CATOLICO SAN JOSE LA LABOR"]
[null,null,null,null,null,null,null,null,null,null,null,null,null,null,null,null,null,null,88165,"INSTITUTO CATOLICO KAROL WOJTYLA"]
[null,null,null,null,null,null,null,null,null,null,null,null,null,null,null,null,null,null,88166,"CENTRO ESCOLAR CATOLICO SANTA CLARA DE ASIS"]
[null,null,null,null,null,null,null,null,null,null,null,null,null,null,null,null,null,null,88167,"COMPLEJO EDUCATIVO CATOLICO EL ESPIRITU SANTO"]
[null,null,null,null,null,null,null,null,null,null,null,null,null,null,null,null,null,null,88168,"COMPLEJO EDUCATIVO CATOLICO MONSEÑOR JOSUE CALIACHURA"]
[null,null,null,null,null,null,null,null,null,null,null,null,null,null,null,null,null,null,88169,"CENTRO ESCOLAR CATOLICO FRANCISCANO ESPIRITU SANTO"]
[null,null,null,null,null,null,null,null,null,null,null,null,null,null,null,null,null,null,88170,"INSTITUTO CATOLICO PALESTINO"]
[null,null,null,null,null,null,null,null,null,null,null,null,null,null,null,null,null,null,88171,"CENTRO ESCOLAR CATOLICO ARCANGEL SAN MIGUEL"]
[null,null,null,null,null,null,null,null,null,null,null,null,null,null,null,null,null,null,88172,"CENTRO ESCOLAR CATOLICO NUESTRA SEÑORA DE LAS VICTORIAS"]
[null,null,null,null,null,null,null,null,null,null,null,null,null,null,null,null,null,null,88173,"CENTRO ESCOLAR CATOLICO SANTA GEMA"]
[null,null,null,null,null,null,null,null,null,null,null,null,null,null,null,null,null,null,88174,"CENTRO ESCOLAR CATOLICO SAN FRANCISCO DE ASIS"]
[null,null,null,null,null,null,null,null,null,null,null,null,null,null,null,null,null,null,88175,"INSTITUTO CATOLICO NUESTRA SEÑORA DE GUADALUPE"]
[null,null,null,null,null,null,null,null,null,null,null,null,null,null,null,null,null,null,88176,"COMPLEJO EDUCATIVO CATÓLICO MANO AMIGA SAN ANTONIO"]
[null,null,null,null,null,null,null,null,null,null,null,null,null,null,null,null,null,null,88177,"CENTRO ESCOLAR CATOLICO NUESTRA SEÑORA DE LOS DESAMPARADOS"]
[null,null,null,null,null,null,null,null,null,null,null,null,null,null,null,null,null,null,88178,"CENTRO ESCOLAR CATOLICO NUESTRA SEÑORA DE LOS POBRES"]
[null,null,null,null,null,null,null,null,null,null,null,null,null,null,null,null,null,null,88179,"CENTRO ESCOLAR CATOLICO SAN JOSE"]
[null,null,null,null,null,null,null,null,null,null,null,null,null,null,null,null,null,null,88180,"CENTRO ESCOLAR CATOLICO SANTA ELENA"]
[null,null,null,null,null,null,null,null,null,null,null,null,null,null,null,null,null,null,88181,"INSTITUTO CATOLICO LA MEDALLA MILAGROSA"]
[null,null,null,null,null,null,null,null,null,null,null,null,null,null,null,null,null,null,88182,"CENTRO ESCOLAR CATOLICO SANTA LUCIA"]
[null,null,null,null,null,null,null,null,null,null,null,null,null,null,null,null,null,null,88184,"COMPLEJO EDUCATIVO CATOLICO DOCTORA MARIA JULIA HERNANDEZ"]
[null,null,null,null,null,null,null,null,null,null,null,null,null,null,null,null,null,null,88185,"CENTRO ESCOLAR CATOLICO LA DIVINA PROVIDENCIA"]
[null,null,null,null,null,null,null,null,null,null,null,null,null,null,null,null,null,null,88186,"INSTITUTO CATOLICO MARIA GREGORIA BARAHONA"]
[null,null,null,null,null,null,null,null,null,null,null,null,null,null,null,null,null,null,88187,"ESCUELA DE EDUCACION CATOLICA PARVULARIA SAN MIGUEL ARCANGEL"]
[null,null,null,null,null,null,null,null,null,null,null,null,null,null,null,null,null,null,90000,"CENTRO ESCOLAR ARTESANOS DEL FUTURO"]
[null,null,null,null,null,null,null,null,null,null,null,null,null,null,null,null,null,null,90002,"CENTRO ESCOLAR MARCO RENE REVELO"]
[null,null,null,null,null,null,null,null,null,null,null,null,null,null,null,null,null,null,90003,"CENTRO ESCOLAR MIGUEL ANGEL GONZALEZ"]
[null,null,null,null,null,null,null,null,null,null,null,null,null,null,null,null,null,null,90004,"CENTRO ESCOLAR DOCTOR MANUEL ENRIQUE ARAUJO"]
[null,null,null,null,null,null,null,null,null,null,null,null,null,null,null,null,null,null,90005,"CENTRO ESCOLAR ANA ELEONORA ROOSEVELT"]
[null,null,null,null,null,null,null,null,null,null,null,null,null,null,null,null,null,null,90006,"CENTRO ESCOLAR GENERAL FRANCISCO MENENDEZ"]
[null,null,null,null,null,null,null,null,null,null,null,null,null,null,null,null,null,null,90008,"CENTRO ESCOLAR DOCTOR LUCIO ALVARENGA"]
[null,null,null,null,null,null,null,null,null,null,null,null,null,null,null,null,null,null,90009,"CENTRO ESCOLAR PROFESOR JUSTO CARDOZA"]
[null,null,null,null,null,null,null,null,null,null,null,null,null,null,null,null,null,null,90010,"CENTRO ESCOLAR RODOLFO JIMENEZ BARRIOS"]
[null,null,null,null,null,null,null,null,null,null,null,null,null,null,null,null,null,null,90011,"CENTRO ESCOLAR PROFESOR ABRAHAM MENA"]
[null,null,null,null,null,null,null,null,null,null,null,null,null,null,null,null,null,null,90012,"CENTRO ESCOLAR PROFESOR SAMUEL CORDOVA"]
[null,null,null,null,null,null,null,null,null,null,null,null,null,null,null,null,null,null,90013,"CENTRO ESCOLAR GENERAL FRANCISCO MORAZAN"]
[null,null,null,null,null,null,null,null,null,null,null,null,null,null,null,null,null,null,90014,"CENTRO ESCOLAR PROFESOR ALBERTO MASFERRER"]
[null,null,null,null,null,null,null,null,null,null,null,null,null,null,null,null,null,null,90015,"CENTRO ESCOLAR LICENCIADO MANUEL MENDEZ"]
[null,null,null,null,null,null,null,null,null,null,null,null,null,null,null,null,null,null,90016,"CENTRO ESCOLAR LICENCIADO CARLOS WILFREDO MEJIA"]
[null,null,null,null,null,null,null,null,null,null,null,null,null,null,null,null,null,null,90017,"CENTRO ESCOLAR ARTURO AMBROGI"]
[null,null,null,null,null,null,null,null,null,null,null,null,null,null,null,null,null,null,90020,"INSTITUTO NACIONAL NOCTURNO MAYOR VICTOR MANUEL BAIRES CRUZ"]
[null,null,null,null,null,null,null,null,null,null,null,null,null,null,null,null,null,null,90026,"CENTRO ESCOLAR  ROSA VIRGINIA PELETIER"]
[null,null,null,null,null,null,null,null,null,null,null,null,null,null,null,null,null,null,90031,"CENTRO ESCOLAR JON CORTINA"]
[null,null,null,null,null,null,null,null,null,null,null,null,null,null,null,null,null,null,90036,"CENTRO ESCOLAR SENDERO DE LIBERTAD"]
[null,null,null,null,null,null,null,null,null,null,null,null,null,null,null,null,null,null,90038,"CENTRO ESCOLAR EL ESPINO"]
[null,null,null,null,null,null,null,null,null,null,null,null,null,null,null,null,null,null,90039,"CIE CENTRO ESCOLAR NOCTURNO SOLDADOS PARA LA PAZ"]
[null,null,null,null,null,null,null,null,null,null,null,null,null,null,null,null,null,null,90042,"ESCUELA DE EDUCACION PARVULARIA ARMIN MATTLI"]
[null,null,null,null,null,null,null,null,null,null,null,null,null,null,null,null,null,null,90044,"ESCUELA DE EDUCACION PARVULARIA JOSE ROSALES"]
[null,null,null,null,null,null,null,null,null,null,null,null,null,null,null,null,null,null,90046,"CENTRO ESCOLAR NOCTURNO TENIENTE CORONEL MARIO ALBERTO AZENON PALMA"]
[null,null,null,null,null,null,null,null,null,null,null,null,null,null,null,null,null,null,90047,"CENTRO ESCOLAR TENIENTE NELSON RENE MEDINA"]
[null,null,null,null,null,null,null,null,null,null,null,null,null,null,null,null,null,null,90050,"ESCUELA DE EDUCACION PARVULARIA MUNICIPAL DE VILLA MARIONA II"]
[null,null,null,null,null,null,null,null,null,null,null,null,null,null,null,null,null,null,90051,"CENTRO ESCOLAR MUNICIPAL DE MAJUCLA"]
[null,null,null,null,null,null,null,null,null,null,null,null,null,null,null,null,null,null,90052,"INSTITUTO CAPITAN DE NAVIO DEM CESAR YANEZ URIAS"]
[null,null,null,null,null,null,null,null,null,null,null,null,null,null,null,null,null,null,90053,"ESCUELA MUNICIPAL DE CIUDAD FUTURA FASE UNO"]
[null,null,null,null,null,null,null,null,null,null,null,null,null,null,null,null,null,null,90054,"CENTRO ESCOLAR ROBERTO ARMIJO"]